{"text_format":"1","workbook":"xlsx","n_sheets":3,"sheets":["保有者数","65歳以上","menu"],"not_rendered":{"charts":0,"images":0,"macros":1,"external_links":0,"defined_names":2,"comments":0,"pivot_tables":0},"unopened":[],"bounds":{"document_bytes":16777216,"sheet_cells":100000,"rows_first":2000,"rows_last":500,"rows_between":2000,"halvings":0,"cell_chars":16384,"cell_head_chars":4096},"cells_cut":0,"cells_raw":0,"read":"whole","date_system":"1900"}

{"sheet":"保有者数","index":0,"n_rows":58,"n_cols":12,"rows_kept":58,"cut":false,"hidden":false,"merged":[[49,6,51,6],[52,6,53,6],[57,0,58,11],[6,0,7,0],[6,1,7,1],[6,2,7,2],[6,3,7,3],[6,4,7,4],[6,5,7,5],[25,1,28,1],[25,2,28,2],[25,3,28,3],[25,4,28,4],[25,5,28,5],[16,2,18,2],[16,3,18,3],[16,4,18,4],[16,5,18,5],[22,0,24,0],[22,1,24,1],[22,2,24,2],[22,3,24,3],[22,4,24,4],[22,5,24,5],[0,0,0,11],[2,0,5,0],[45,6,48,6],[8,4,9,4],[8,5,9,5],[16,0,18,0],[16,1,18,1],[10,4,12,4],[10,5,12,5],[13,0,15,0],[13,1,15,1],[13,2,15,2],[13,3,15,3],[13,4,15,4],[13,5,15,5],[8,0,9,0],[8,1,9,1],[10,0,12,0],[10,1,12,1],[10,2,12,2],[10,3,12,3],[8,2,9,2],[8,3,9,3],[25,0,28,0],[19,0,21,0],[19,1,21,1],[19,2,21,2],[19,3,21,3],[19,4,21,4],[19,5,21,5],[39,1,41,1],[39,2,41,2],[39,3,41,3],[29,0,32,0],[29,1,32,1],[29,2,32,2],[29,3,32,3],[29,4,32,4],[29,5,32,5],[2,6,4,6],[2,7,4,7],[5,6,8,6],[9,6,11,6],[9,7,11,7],[15,6,17,6],[18,6,20,6],[47,0,50,0],[47,1,48,1],[47,2,48,2],[47,3,48,3],[47,4,48,4],[47,5,48,5],[39,4,41,4],[39,5,41,5],[42,0,44,0],[45,0,46,0],[45,1,46,1],[45,2,46,2],[45,3,46,3],[45,4,46,4],[45,5,46,5],[33,0,38,0],[39,0,41,0],[9,8,11,8],[9,9,11,9],[9,10,11,10],[9,11,11,11],[12,6,14,6],[12,7,14,7],[12,8,14,8],[12,9,14,9],[12,10,14,10],[12,11,14,11],[23,8,24,8],[23,9,24,9],[23,10,24,10],[21,6,22,6],[21,7,22,7],[21,8,22,8],[21,9,22,9],[21,10,22,10],[21,11,22,11],[54,6,55,6],[2,8,4,8],[2,9,4,9],[2,10,4,10],[2,11,4,11],[34,10,35,10],[34,11,35,11],[40,6,41,6],[36,6,39,6],[42,6,44,6],[30,6,33,6],[34,6,35,6],[34,7,35,7],[34,8,35,8],[34,9,35,9],[23,11,24,11],[25,8,26,8],[25,9,26,9],[25,10,26,10],[25,11,26,11],[27,6,29,6],[23,6,26,6],[23,7,24,7],[25,7,26,7]]}
["市町村別　警察署別　年齢別　男女別　免許保有者数（2023年10月31日現在）"]
[null,"市町村名","男(人)","女(人)","合計(人)","比率（％）",null,"市町村名","男(人)","女(人)","合計(人)","比率（％）"]
["中央署","鹿児島市（中央）",53857,53882,{"$f":"SUM(C3:D3)","v":107739},{"$f":"E3/K55","v":9.9636094606154482E-2},"霧島署","霧島市",41407,39723,{"$f":"SUM(I3:J3)","v":81130},{"$f":"K3/K55","v":7.502832173490856E-2}]
[null,"鹿児島郡十島村",219,150,{"$f":"SUM(C4:D4)","v":369},{"$f":"E4/K55","v":3.4124800591866459E-4},null,null,null,null,0]
[null,"鹿児島郡三島村",124,96,220,{"$f":"E5/K55","v":2.0345409566966454E-4},null,null,null,null,0]
[null,"【中央署合計】",{"$f":"SUM(C3:C5)","v":54200},{"$f":"SUM(D3:D5)","v":54128},108328,{"$f":"E6/K55","v":0.10018079670774281},"横川幹部派出所","霧島市横川町",1287,1177,2464,{"$f":"K6/K55","v":2.2786858715002425E-3}]
["西署","鹿児島市(西)",68001,67254,135255,{"$f":"E7/K55","v":0.1250826532263658},null,"霧島市牧園町",2176,1977,4153,{"$f":"K7/K55","v":3.8406584514368946E-3}]
[null,null,null,null,0,null,null,"〈小計〉",{"$f":"SUM(I6:I7)","v":3463},{"$f":"SUM(J6:J7)","v":3154},6617,{"$f":"K8/K55","v":6.1193443229371376E-3}]
["南署","鹿児島市(南)",78698,76652,155350,{"$f":"E9/K55","v":0.14366633528310174},null,"【霧島署合計】",{"$f":"SUM(I8,I3)","v":44870},{"$f":"SUM(J8,J3)","v":42877},87747,{"$f":"K9/K55","v":8.1147666057845694E-2}]
[null,null,null,null,0,null,"姶良署","姶良市",26841,26586,{"$f":"SUM(I10:J10)","v":53427},{"$f":"K10/K55","v":4.9408827133378033E-2}]
["指宿署","指宿市",13266,12942,26208,{"$f":"E11/K55","v":2.4236931542320764E-2},null,null,null,null,0]
[null,null,null,null,0,null,null,null,null,null,0]
[null,null,null,null,0,null,"曽於署","曽於市",12080,11509,23589,{"$f":"K13/K55","v":2.1814903012507804E-2}]
["南九州署","南九州市",11567,11298,22865,{"$f":"E14/K55","v":2.1145354079485815E-2},null,null,null,null,0]
[null,null,null,null,0,null,null,null,null,null,0]
[null,null,null,null,0,null,"志布志署","志布志市",10641,10192,{"$f":"SUM(I16:J16)","v":20833},{"$f":"K16/K55","v":1.9266178068573277E-2}]
["枕崎署","枕崎市",6844,6843,13687,{"$f":"E17/K55","v":1.2657619124684993E-2},null,"曽於郡大崎町",4450,4211,{"$f":"SUM(I17:J17)","v":8661},{"$f":"K17/K55","v":8.0096178299771115E-3}]
[null,null,null,null,0,null,null,"【志布志署合計】",{"$f":"SUM(I16:I17)","v":15091},{"$f":"SUM(J16:J17)","v":14403},29494,{"$f":"K18/K55","v":2.7275795898550389E-2}]
[null,null,null,null,0,null,"肝付署","肝属郡肝付町",5142,4580,{"$f":"SUM(I19:J19)","v":9722},{"$f":"K19/K55","v":8.9908214459112658E-3}]
["南さつま署","南さつま市",11133,10685,21818,{"$f":"E20/K55","v":2.0177097542367003E-2},null,"肝属郡東串良町",2230,2141,4371,{"$f":"K20/K55","v":4.042262964418653E-3}]
[null,null,null,null,0,null,null,"【肝付署合計】",{"$f":"SUM(I19:I20)","v":7372},{"$f":"SUM(J19:J20)","v":6721},14093,{"$f":"K21/K55","v":1.303308441032992E-2}]
[null,null,null,null,0,null,"鹿屋署","鹿屋市",35406,34639,{"$f":"SUM(I22:J22)","v":70045},{"$f":"K22/K55","v":6.477700968718933E-2}]
["日置署","日置市",16404,15796,32200,{"$f":"E23/K55","v":2.9778281275287262E-2},null,null,null,null,0]
[null,null,null,null,0,null,"垂水幹部派出所","垂水市",4766,4135,8901,{"$f":"K24/K55","v":8.2315677525258372E-3}]
[null,null,null,null,0,null,null,null,null,null,0]
["いちき串木野署","いちき串木野市",9354,8793,18147,{"$f":"E26/K55","v":1.6782188518715466E-2},null,"【鹿屋署合計】",{"$f":"SUM(I22:I25)","v":40172},{"$f":"SUM(J22:J25)","v":38774},78946,{"$f":"K26/K55","v":7.3008577439715158E-2}]
[null,null,null,null,0,null,null,null,null,null,0]
[null,null,null,null,0,null,"錦江署","肝属郡錦江町",2398,2091,{"$f":"SUM(I28:J28)","v":4489},{"$f":"K28/K55","v":4.1513883430051093E-3}]
[null,null,null,null,0,null,null,"肝属郡南大隅町",2243,1864,4107,{"$f":"K29/K55","v":3.7981180496150556E-3}]
["薩摩川内署","薩摩川内市",32001,29541,61542,{"$f":"E30/K55","v":5.6913508889556791E-2},null,"【錦江署合計】",{"$f":"SUM(I28:I29)","v":4641},{"$f":"SUM(J28:J29)","v":3955},8596,{"$f":"K30/K55","v":7.9495063926201658E-3}]
[null,null,null,null,0,null,"種子島署","西之表市",5219,4647,9866,{"$f":"K31/K55","v":9.1239913994405012E-3}]
[null,null,null,null,0,null,null,"熊毛郡中種子町",2684,2471,5155,{"$f":"K32/K55","v":4.7672993780778208E-3}]
[null,null,null,null,0,null,null,"熊毛郡南種子町",2076,1759,3835,{"$f":"K33/K55","v":3.5465748040598342E-3}]
["甑島幹部派出所","薩摩川内市里町",361,267,628,{"$f":"E34/K55","v":5.8076896400249692E-4},null,"【種子島署合計】",{"$f":"SUM(I31:I33)","v":9979},{"$f":"SUM(J31:J33)","v":8877},18856,{"$f":"K34/K55","v":1.7437865581578157E-2}]
[null,"薩摩川内市上甑町",374,215,589,{"$f":"E35/K55","v":5.447021015883291E-4},"屋久島署","熊毛郡屋久島町",4316,3569,{"$f":"SUM(I35:J35)","v":7885},{"$f":"K35/K55","v":7.2919797470695673E-3}]
[null,"薩摩川内市下甑町",606,360,966,{"$f":"E36/K55","v":8.9334843825861795E-4},null,null,null,null,0]
[null,"薩摩川内市鹿島町",112,64,176,{"$f":"E37/K55","v":1.6276327653573164E-4},"奄美署","奄美市",14195,12563,{"$f":"SUM(I37:J37)","v":26758},{"$f":"K37/K55","v":2.4745566781494924E-2}]
[null,"〈小計〉",{"$f":"SUM(C34:C37)","v":1453},{"$f":"SUM(D34:D37)","v":906},2359,{"$f":"E38/K55","v":2.1815827803851758E-3},null,"大島郡大和村",512,374,886,{"$f":"K38/K55","v":8.193651307423763E-4}]
[null,"【薩摩川内署合計】",{"$f":"SUM(C38,C30)","v":33454},{"$f":"SUM(D38,D30)","v":30447},63901,{"$f":"E39/K55","v":5.9095091669941972E-2},null,"大島郡龍郷町",2017,1884,3901,{"$f":"K39/K55","v":3.6076110327607335E-3}]
["さつま署","さつま町",7044,6633,13677,{"$f":"E40/K55","v":1.2648371211245462E-2},null,"〈小計〉",{"$f":"SUM(I37:I39)","v":16724},{"$f":"SUM(J37:J39)","v":14821},31545,{"$f":"K40/K55","v":2.9172542944998034E-2}]
[null,null,null,null,0,null,"喜界","大島郡喜界町",2443,1995,4438,{"$f":"K41/K55","v":4.1042239844635052E-3}]
[null,null,null,null,0,null,null,"【奄美署合計】",{"$f":"SUM(I40,I41)","v":19167},{"$f":"SUM(J40,J41)","v":16816},35983,{"$f":"K42/K55","v":3.3276766929461542E-2}]
["阿久根署","阿久根市",6743,6169,12912,{"$f":"E43/K55","v":1.1940905833121402E-2},"瀬戸内署","大島郡瀬戸内町",2918,2236,5154,{"$f":"K43/K55","v":4.7663745867338684E-3}]
[null,"出水郡長島町",3570,3102,6672,{"$f":"E44/K55","v":6.1702078468545531E-3},null,"大島郡宇検村",573,454,1027,{"$f":"K44/K55","v":9.4976071023975212E-4}]
[null,"【阿久根署合計】",{"$f":"SUM(C43:C44)","v":10313},{"$f":"SUM(D43:D44)","v":9271},19584,{"$f":"E45/K55","v":1.8111113679975956E-2},null,"【瀬戸内署合計】",{"$f":"SUM(I43:I44)","v":3491},{"$f":"SUM(J43:J44)","v":2690},6181,{"$f":"K45/K55","v":5.71613529697362E-3}]
["出水署","出水市",18358,17996,36354,{"$f":"E46/K55","v":3.3619864518068109E-2},"徳之島署","大島郡徳之島町",3611,3217,6828,{"$f":"K46/K55","v":6.3144752965112244E-3}]
[null,null,null,null,0,null,null,"大島郡天城町",2058,1722,3780,{"$f":"K47/K55","v":3.4957112801424178E-3}]
["伊佐湧水署","伊佐市",8430,8137,16567,{"$f":"E48/K55","v":1.5321018195269692E-2},null,"大島郡伊仙町",2254,1825,4079,{"$f":"K48/K55","v":3.7722238919843708E-3}]
[null,null,null,null,0,null,null,"【徳之島署合計】",{"$f":"SUM(I46:I48)","v":7923},{"$f":"SUM(J46:J48)","v":6764},14687,{"$f":"K49/K55","v":1.3582410468638013E-2}]
[null,"姶良郡湧水町",3178,2977,6155,{"$f":"E50/K55","v":5.6920907220308417E-3},"沖永良部署","大島郡和泊町",2331,2024,4355,{"$f":"K50/K55","v":4.0274663029154049E-3}]
[null,"【伊佐湧水署合計】",{"$f":"SUM(C48:C50)","v":11608},{"$f":"SUM(D48:D50)","v":11114},22722,{"$f":"E51/K55","v":2.1013108917300533E-2},null,"大島郡知名町",2116,1718,3834,{"$f":"K51/K55","v":3.5456500127158809E-3}]
[null,null,null,null,null,null,null,"〈小計〉",{"$f":"SUM(I50:I51)","v":4447},{"$f":"SUM(J50:J51)","v":3742},8189,{"$f":"K52/K55","v":7.5731163156312854E-3}]
[null,null,null,null,null,null,"与論","大島郡与論町",1832,1724,3556,{"$f":"K53/K55","v":3.2885580190969411E-3}]
[null,null,null,null,null,null,null,"【沖永良部署合計】",{"$f":"SUM(I52,I53)","v":6279},{"$f":"SUM(J52,J53)","v":5466},11745,{"$f":"K54/K55","v":1.0861674334728228E-2}]
[null,null,null,null,null,null,null,"合計",{"$f":"SUM(C6,C7,C9,C11,C14,C17,C20,C23,C26,C39,C40,C45,C46,C51,I9,I10,I13,I18,I21,I26,I30,I34,I35,I42,I45,I49,I54)","v":552466},{"$f":"SUM(D6,D7,D9,D11,D14,D17,D20,D23,D26,D39,D40,D45,D46,D51,J9,J10,J13,J18,J21,J26,J30,J34,J35,J42,J45,J49,J54)","v":528859},1081325,{"$f":"K55/K55","v":1}]
[]
[]
["※　比率は県内全免許保有者に対する各市町村の免許保有者等の割合である。\n　　比率は小数点以下２桁で切り捨てているため，若干の誤差がある。"]

{"sheet":"65歳以上","index":1,"n_rows":58,"n_cols":14,"rows_kept":58,"cut":false,"hidden":false,"merged":[[2,12,4,12],[9,12,11,12],[12,12,14,12],[21,12,22,12],[23,12,24,12],[25,12,26,12],[34,12,35,12],[6,5,7,5],[8,5,9,5],[10,5,12,5],[13,5,15,5],[16,5,18,5],[19,5,21,5],[22,5,24,5],[25,5,28,5],[29,5,32,5],[9,10,11,10],[9,11,11,11],[12,10,14,10],[12,11,14,11],[8,6,9,6],[52,7,53,7],[54,7,55,7],[57,0,58,13],[47,1,48,1],[47,2,48,2],[47,3,48,3],[47,4,48,4],[47,6,48,6],[49,7,51,7],[47,5,48,5],[39,2,41,2],[39,3,41,3],[39,4,41,4],[39,6,41,6],[40,7,41,7],[42,0,44,0],[42,7,44,7],[45,0,46,0],[45,1,46,1],[45,2,46,2],[45,3,46,3],[45,4,46,4],[45,6,46,6],[45,7,48,7],[47,0,50,0],[39,5,41,5],[45,5,46,5],[25,13,26,13],[27,7,29,7],[23,8,24,8],[23,9,24,9],[23,10,24,10],[23,11,24,11],[23,13,24,13],[30,7,33,7],[33,0,38,0],[34,7,35,7],[34,8,35,8],[34,9,35,9],[34,10,35,10],[29,0,32,0],[29,1,32,1],[29,2,32,2],[29,3,32,3],[29,4,32,4],[29,6,32,6],[34,11,35,11],[34,13,35,13],[36,7,39,7],[39,0,41,0],[39,1,41,1],[25,2,28,2],[25,3,28,3],[25,4,28,4],[21,8,22,8],[21,9,22,9],[21,10,22,10],[21,11,22,11],[25,6,28,6],[25,8,26,8],[25,9,26,9],[25,10,26,10],[25,11,26,11],[21,13,22,13],[22,0,24,0],[22,1,24,1],[22,2,24,2],[22,3,24,3],[22,4,24,4],[18,7,20,7],[19,0,21,0],[19,1,21,1],[19,2,21,2],[19,3,21,3],[19,4,21,4],[19,6,21,6],[21,7,22,7],[22,6,24,6],[23,7,26,7],[16,0,18,0],[16,1,18,1],[16,2,18,2],[16,3,18,3],[16,4,18,4],[16,6,18,6],[25,0,28,0],[25,1,28,1],[12,13,14,13],[13,0,15,0],[13,1,15,1],[13,2,15,2],[13,3,15,3],[13,4,15,4],[13,6,15,6],[15,7,17,7],[10,3,12,3],[10,4,12,4],[10,6,12,6],[12,7,14,7],[12,8,14,8],[12,9,14,9],[9,7,11,7],[9,8,11,8],[9,9,11,9],[0,0,0,13],[2,0,5,0],[2,7,4,7],[2,8,4,8],[2,9,4,9],[2,10,4,10],[2,11,4,11],[2,13,4,13],[5,7,8,7],[6,0,7,0],[6,1,7,1],[6,2,7,2],[6,3,7,3],[6,4,7,4],[6,6,7,6],[8,0,9,0],[8,1,9,1],[8,2,9,2],[8,3,9,3],[8,4,9,4],[9,13,11,13],[10,0,12,0],[10,1,12,1],[10,2,12,2]]}
["市町村別　警察署別　年齢別　男女別　免許保有者数「65歳以上」（2023年10月31日現在）"]
[null,"市町村名","男(人)","女(人)","合計(人)","免許人口(人)","高齢化比率（％）",null,"市町村名","男(人)","女(人)","合計(人)","免許人口(人)","高齢化比率（％）"]
["中央署","鹿児島市（中央）",14008,9909,{"$f":"SUM(C3:D3)","v":23917},{"$f":"保有者数!E3","v":107739},{"$f":"E3/F3","v":0.22199017997196929},"霧島署","霧島市",11402,9678,{"$f":"SUM(J3:K3)","v":21080},{"$f":"保有者数!K3","v":81130},{"$f":"L3/M3","v":0.259829902625416}]
[null,"鹿児島郡十島村",73,32,{"$f":"SUM(C4:D4)","v":105},{"$f":"保有者数!E4","v":369},{"$f":"E4/F4","v":0.28455284552845528}]
[null,"鹿児島郡三島村",35,18,53,{"$f":"保有者数!E5","v":220},0.24090909090909091]
[null,"【中央署合計】",{"$f":"SUM(C3:C5)","v":14116},{"$f":"SUM(D3:D5)","v":9959},24075,{"$f":"保有者数!E6","v":108328},0.22224171036112547,"横川幹部派出所","霧島市横川町",604,516,{"$f":"SUM(J6:K6)","v":1120},{"$f":"保有者数!K6","v":2464},{"$f":"L6/M6","v":0.45454545454545453}]
["西署","鹿児島市(西)",22250,16823,39073,{"$f":"保有者数!E7","v":135255},{"$f":"E7/F7","v":0.28888395992754429},null,"霧島市牧園町",1104,959,{"$f":"SUM(J7:K7)","v":2063},{"$f":"保有者数!K7","v":4153},{"$f":"L7/M7","v":0.49674933782807607}]
[null,null,null,null,0,null,null,null,"〈小計〉",{"$f":"SUM(J6:J7)","v":1708},{"$f":"SUM(K6:K7)","v":1475},3183,{"$f":"保有者数!K8","v":6617},0.48103370107299381]
["南署","鹿児島市(南)",21405,16266,37671,{"$f":"保有者数!E9","v":155350},{"$f":"E9/F9","v":0.24249114901834568},null,"【霧島署合計】",{"$f":"SUM(J8,J3)","v":13110},{"$f":"SUM(K8,K3)","v":11153},24263,{"$f":"保有者数!K9","v":87747},0.2765108778647703]
[null,null,null,null,0,null,null,"姶良署","姶良市",8849,7342,16191,{"$f":"保有者数!K10","v":53427},{"$f":"L10/M10","v":0.30304902015834689}]
["指宿署","指宿市",5529,4835,10364,{"$f":"保有者数!E11","v":26208},{"$f":"E11/F11","v":0.39545177045177043},null,null,null,null,0]
[null,null,null,null,0,null,null,null,null,null,null,0]
[null,null,null,null,0,null,null,"曽於署","曽於市",5246,4777,10023,{"$f":"保有者数!K13","v":23589},{"$f":"L13/M13","v":0.42490143711051759}]
["南九州署","南九州市",4826,4472,9298,{"$f":"保有者数!E14","v":22865},{"$f":"E14/F14","v":0.40664771484802098},null,null,null,null,0]
[null,null,null,null,0,null,null,null,null,null,null,0]
[null,null,null,null,0,null,null,"志布志署","志布志市",4055,3653,7708,{"$f":"保有者数!K16","v":20833},{"$f":"L16/M16","v":0.36998991983871743}]
["枕崎署","枕崎市",2837,2775,5612,{"$f":"保有者数!E17","v":13687},{"$f":"E17/F17","v":0.41002411046978887},null,"曽於郡大崎町",1863,1774,3637,{"$f":"保有者数!K17","v":8661},{"$f":"L17/M17","v":0.41992841473270986}]
[null,null,null,null,0,null,null,null,"【志布志署合計】",{"$f":"SUM(J16:J17)","v":5918},{"$f":"SUM(K16:K17)","v":5427},11345,{"$f":"保有者数!K18","v":29494},0.38465450600122059]
[null,null,null,null,0,null,null,"肝付署","肝属郡肝付町",2177,1803,3980,{"$f":"保有者数!K19","v":9722},0.40938078584653365]
["南さつま署","南さつま市",4602,3891,8493,{"$f":"保有者数!E20","v":21818},{"$f":"E20/F20","v":0.389265743881199},null,"肝属郡東串良町",831,778,1609,{"$f":"保有者数!K20","v":4371},0.36810798444291926]
[null,null,null,null,0,null,null,null,"【肝付署合計】",{"$f":"SUM(J19:J20)","v":3008},{"$f":"SUM(K19:K20)","v":2581},5589,{"$f":"保有者数!K21","v":14093},0.39657986234300718]
[null,null,null,null,0,null,null,"鹿屋署","鹿屋市",11261,10001,21262,{"$f":"保有者数!K22","v":70045},{"$f":"L22/M22","v":0.30354771932329216}]
["日置署","日置市",6216,5090,11306,{"$f":"保有者数!E23","v":32200},{"$f":"E23/F23","v":0.35111801242236024},null,null,null,null,0]
[null,null,null,null,0,null,null,"垂水幹部派出所","垂水市",2116,1591,3707,{"$f":"保有者数!K24","v":8901},{"$f":"L24/M24","v":0.41647005954387145}]
[null,null,null,null,0,null,null,null,null,null,null,0]
["いちき串木野署","いちき串木野市",3646,3041,6687,{"$f":"保有者数!E26","v":18147},{"$f":"E26/F26","v":0.36849065961315919},null,"【鹿屋署合計】",{"$f":"SUM(J22:J25)","v":13377},{"$f":"SUM(K22:K25)","v":11592},24969,{"$f":"保有者数!K26","v":78946},{"$f":"L26/M26","v":0.31627948217769108}]
[null,null,null,null,0,null,null,null,null,null,null,0]
[null,null,null,null,0,null,null,"錦江署","肝属郡錦江町",1108,889,1997,{"$f":"保有者数!K28","v":4489},{"$f":"L28/M28","v":0.44486522610826462}]
[null,null,null,null,0,null,null,null,"肝属郡南大隅町",1103,819,1922,{"$f":"保有者数!K29","v":4107},{"$f":"L29/M29","v":0.46798149500852204}]
["薩摩川内署","薩摩川内市",10172,8732,18904,{"$f":"保有者数!E30","v":61542},{"$f":"E30/F30","v":0.30717233759058854},null,"【錦江署合計】",{"$f":"SUM(J28:J29)","v":2211},{"$f":"SUM(K28:K29)","v":1708},3919,{"$f":"保有者数!K30","v":8596},0.4559097254536994]
[null,null,null,null,0,null,null,"種子島署","西之表市",1979,1654,3633,{"$f":"保有者数!K31","v":9866},0.36823434015811879]
[null,null,null,null,0,null,null,null,"熊毛郡中種子町",1033,989,2022,{"$f":"保有者数!K32","v":5155},0.39224054316197865]
[null,null,null,null,0,null,null,null,"熊毛郡南種子町",772,650,1422,{"$f":"保有者数!K33","v":3835},0.3707953063885267]
["甑島幹部派出所","薩摩川内市里町",185,125,310,{"$f":"保有者数!E34","v":628},{"$f":"E34/F34","v":0.49363057324840764},null,"【種子島署合計】",{"$f":"SUM(J31:J33)","v":3784},{"$f":"SUM(K31:K33)","v":3293},7077,{"$f":"保有者数!K34","v":18856},0.37531820110309716]
[null,"薩摩川内市上甑町",199,97,296,{"$f":"保有者数!E35","v":589},{"$f":"E35/F35","v":0.50254668930390489},"屋久島署","熊毛郡屋久島町",1693,1095,2788,{"$f":"保有者数!K35","v":7885},{"$f":"L35/M35","v":0.35358275206087508}]
[null,"薩摩川内市下甑町",260,138,398,{"$f":"保有者数!E36","v":966},0.41200828157349895,null,null,null,null,0]
[null,"薩摩川内市鹿島町",56,32,88,{"$f":"保有者数!E37","v":176},0.5,"奄美署","奄美市",4633,3475,8108,{"$f":"保有者数!K37","v":26758},{"$f":"L37/M37","v":0.3030121832722924}]
[null,"〈小計〉",{"$f":"SUM(C34:C37)","v":700},{"$f":"SUM(D34:D37)","v":392},1092,{"$f":"保有者数!E38","v":2359},0.4629080118694362,null,"大島郡大和村",189,114,303,{"$f":"保有者数!K38","v":886},{"$f":"L38/M38","v":0.34198645598194133}]
[null,"【薩摩川内署合計】",{"$f":"SUM(C38,C30)","v":10872},{"$f":"SUM(D38,D30)","v":9124},19996,{"$f":"保有者数!E39","v":63901},0.31292155052346599,null,"大島郡龍郷町",699,524,1223,{"$f":"保有者数!K39","v":3901},0.3135093565752371]
["さつま署","さつま町",2921,2716,5637,{"$f":"保有者数!E40","v":13677},{"$f":"E40/F40","v":0.41215178767273525},null,"〈小計〉",{"$f":"SUM(J37:J39)","v":5521},{"$f":"SUM(K37:K39)","v":4113},9634,{"$f":"保有者数!K40","v":31545},0.3054049770169599]
[null,null,null,null,0,null,null,"喜界","大島郡喜界町",1019,776,1795,{"$f":"保有者数!K41","v":4438},0.40446146913023884]
[null,null,null,null,0,null,null,null,"【奄美署合計】",{"$f":"SUM(J40,J41)","v":6540},{"$f":"SUM(K40,K41)","v":4889},11429,{"$f":"保有者数!K42","v":35983},0.31762221048828615]
["阿久根署","阿久根市",2812,2315,5127,{"$f":"保有者数!E43","v":12912},{"$f":"E43/F43","v":0.39707249070631973},"瀬戸内署","大島郡瀬戸内町",1044,651,1695,{"$f":"保有者数!K43","v":5154},0.3288707799767171]
[null,"出水郡長島町",1389,1095,2484,{"$f":"保有者数!E44","v":6672},{"$f":"E44/F44","v":0.37230215827338131},null,"大島郡宇検村",258,166,424,{"$f":"保有者数!K44","v":1027},0.41285296981499514]
[null,"【阿久根署合計】",{"$f":"SUM(C43:C44)","v":4201},{"$f":"SUM(D43:D44)","v":3410},7611,{"$f":"保有者数!E45","v":19584},0.38863357843137253,null,"【瀬戸内署合計】",{"$f":"SUM(J43:J44)","v":1302},{"$f":"SUM(K43:K44)","v":817},2119,{"$f":"保有者数!K45","v":6181},0.34282478563339264]
["出水署","出水市",6421,5908,12329,{"$f":"保有者数!E46","v":36354},{"$f":"E46/F46","v":0.33913737140342193},"徳之島署","大島郡徳之島町",1255,988,2243,{"$f":"保有者数!K46","v":6828},0.3285002929115407]
[null,null,null,null,0,null,null,null,"大島郡天城町",746,618,1364,{"$f":"保有者数!K47","v":3780},0.36084656084656086]
["伊佐湧水署","伊佐市",3469,3233,6702,{"$f":"保有者数!E48","v":16567},{"$f":"E48/F48","v":0.40453914408160802},null,"大島郡伊仙町",860,650,1510,{"$f":"保有者数!K48","v":4079},0.37018877175778375]
[null,null,null,null,0,null,null,null,"【徳之島署合計】",{"$f":"SUM(J46:J48)","v":2861},{"$f":"SUM(K46:K48)","v":2256},5117,{"$f":"保有者数!K49","v":14687},0.34840334990127325]
[null,"姶良郡湧水町",1423,1324,2747,{"$f":"保有者数!E50","v":6155},{"$f":"E50/F50","v":0.44630381803411862},"沖永良部署","大島郡和泊町",864,742,1606,{"$f":"保有者数!K50","v":4355},0.36877152698048221]
[null,"【伊佐湧水署合計】",{"$f":"SUM(C48:C50)","v":4892},{"$f":"SUM(D48:D50)","v":4557},9449,{"$f":"保有者数!E51","v":22722},{"$f":"E51/F51","v":0.41585247777484374},null,"大島郡知名町",841,619,1460,{"$f":"保有者数!K51","v":3834},0.38080333854981741]
[null,null,null,null,null,null,null,null,"〈小計〉",{"$f":"SUM(J50:J51)","v":1705},{"$f":"SUM(K50:K51)","v":1361},3066,{"$f":"保有者数!K52","v":8189},0.37440468921724263]
[null,null,null,null,null,null,null,"与論","大島郡与論町",669,609,1278,{"$f":"保有者数!K53","v":3556},0.35939257592800899]
[null,null,null,null,null,null,null,null,"【沖永良部署合計】",{"$f":"SUM(J52,J53)","v":2374},{"$f":"SUM(K52,K53)","v":1970},4344,{"$f":"保有者数!K54","v":11745},0.36985951468710088]
[null,null,null,null,null,null,null,null,"合計",{"$f":"SUM(C6,C7,C9,C11,C14,C17,C20,C23,C26,C39,C40,C45,C46,C51,J9,J10,J13,J18,J21,J26,J30,J34,J35,J42,J45,J49,J54)","v":185007},{"$f":"SUM(D6,D7,D9,D11,D14,D17,D20,D23,D26,D39,D40,D45,D46,D51,K9,K10,K13,K18,K21,K26,K30,K34,K35,K42,K45,K49,K54)","v":151767},336774,{"$f":"SUM(F6,F7,F9,F11,F14,F17,F20,F23,F26,F39,F40,F45,F46,F51,M9,M10,M13,M18,M21,M26,M30,M34,M35,M42,M45,M49,M54)","v":1081325},{"$f":"L55/M55","v":0.31144568006843454}]
[]
[]
["※　比率は県内全免許保有者に対する各市町村の免許保有者等の割合である。\n　　比率は小数点以下２桁で切り捨てているため，若干の誤差がある。"]

{"sheet":"menu","index":2,"n_rows":12,"n_cols":3,"rows_kept":12,"cut":false,"hidden":false,"merged":[]}
["集計手順"]
[]
[1,"このファイルがあるフォルダに情報管理課から送付された月報用ファイルを保存する"]
[2,"保存したファイル名の＿以降の数字（西暦下二桁＋年月）を，下記のＣ８セルに入力"]
[3,"「集計開始」ボタンをクリック"]
[]
[]
[null,"ファイル名の年月日",231031]
[]
[]
[]
["※　マクロが有効になっていないと動作しません"]