{"text_format":"1","workbook":"xlsx","n_sheets":13,"sheets":["注意事項","入力シートその１","入力シートその２","計算過程","諸係数","取引基本表","投入係数","自給率を加味した投入係数","逆行列係数","13部門作業","42部門作業","フローチャート","分析結果"],"not_rendered":{"charts":1,"images":4,"macros":1,"external_links":0,"defined_names":19,"comments":2,"pivot_tables":0},"unopened":[],"bounds":{"document_bytes":16777216,"sheet_cells":100000,"rows_first":2000,"rows_last":500,"rows_between":2000,"halvings":0,"cell_chars":16384,"cell_head_chars":4096},"cells_cut":0,"cells_raw":0,"read":"whole","date_system":"1900"}

{"sheet":"注意事項","index":0,"n_rows":0,"n_cols":0,"rows_kept":0,"cut":false,"hidden":false,"merged":[]}

{"sheet":"入力シートその１","index":1,"n_rows":48,"n_cols":10,"rows_kept":48,"cut":false,"hidden":false,"merged":[[21,6,22,9],[7,1,7,9],[33,1,33,3],[39,1,41,3],[37,1,38,1],[15,1,15,3],[11,1,11,9],[25,1,25,3],[27,5,28,5],[27,6,28,9],[29,5,30,5],[29,6,30,9],[17,5,18,5],[19,5,20,5],[21,5,22,5],[17,6,18,9],[19,6,20,9]]}
[]
[]
[]
[]
[]
[null,"42部門別の経済波及効果分析　入力シートその１"]
[]
[null,"最初に「１　分析テーマ」を入力し、その後「２　県内産・県外産の区別」～「４　消費転換率」はリストから選択してください。\nすべて選択（入力）が終わりましたら、「次へ」ボタンを押してください。"]
[null,"１　分析テーマ"]
[null,"経済波及効果分析をするテーマを入力してください。（例：福岡県内で農業商品が○○億円売れた場合）"]
[]
[null,"農業に50億円の需要があった場合の経済波及効果"]
[null,{"$f":"IF(B12=\"\",\"エラー！入力されていません\",\"\")","v":""}]
[]
[null,"２　県内産・県外産の区別"]
[null,"需要増加額の県内産・県外産の区別を、次のリストから選択してください。需要増加した商品の自給率の計算方法をここで選択します。"]
[null,null,null,null,null,"＜参考＞県内産・県外産の区別"]
[null,"県外産商品もあり",{"$f":"IF(B18=\"\",\"　エラー！選択されていません\",\"\")","v":""},null,null,"県内産商品のみ","需要（消費）増加した商品がすべて県産品で賄われる（自給率100％）場合に選択してください。（例：福岡県産のあまおうへの需要が増えた場合）"]
[]
[null,null,null,null,null,"県外産商品もあり","需要（消費）増加した商品に県外産もある場合に選択してください。各商品ごとの自給率に応じて県生産増加額を計算します。（例：県内産・県外産問わずお米の需要が増えた場合）"]
[]
[null,null,null,null,null,"区別は不明","需要（消費）増加した商品が県内産か県外産か不明な場合に選択してください。各商品ごとの自給率に応じて県生産増加額を計算します。"]
[]
[]
[null,"３　価格区分"]
[null,"購入者価格か生産者価格かの価格区分を、次のリストから選択してください。需要増加した商品に商業マージン・運輸マージンが入っているか否かを選択します。"]
[null,null,null,null,null,"＜参考＞購入者価格と生産者価格の区分"]
[null,"購入者価格",{"$f":"IF(B28=\"\",\"　エラー！選択されていません\",\"\")","v":""},null,null,"購入者価格","消費者が通常、店で購入するときの価格で条件設定する（商品に商業マージン・運輸マージンが入っている）場合に選択してください。"]
[]
[null,null,null,null,null,"生産者価格","生産者が出荷するときの価格で条件設定する（商品に商業マージン・運輸マージンが入っていない）場合に選択してください。"]
[]
[]
[null,"４　消費転換率"]
[null,"第２次波及効果は、雇用者所得（賃金・俸給）が新たな消費に回ることにより発生します。新たな消費に回る割合は、家計調査から計算された消費転換率（消費支出÷実収入）を利用しますので、次のリストから対象とする年を選択してください。"]
[null,null,null,null,null,"＜参考＞過去の消費転換率"]
[null,"令和５年",{"$f":"IF(B36=\"\",\"　エラー！選択されていません\",\"\")","v":""},null,null,"２人以上の勤労者世帯","対象年",null,"福岡市","全国"]
[null,null,null,null,null,null,"平成27年","2015年",0.65782778300507461,0.59995738763366302]
[null,"消費転換率\n（消費支出÷実収入）","福岡市",{"$f":"IF($B$36=\"\",\"-\",VLOOKUP($B$36,$G$37:$J$48,3,0))","v":0.47309628504586998},null,null,"平成28年","2016年",0.60324011969868951,0.58748930210845718]
[null,null,"全国",{"$f":"IF($B$36=\"\",\"-\",VLOOKUP($B$36,$G$37:$J$48,4,0))","v":0.48340299449835739},null,null,"平成29年","2017年",0.57132464263945415,0.58644674234760785]
[null,"※消費転換率は家計調査を元に計算していますが、家計調査は抽出調査であるため、各年の抽出状況により変動幅が大きくなる可能性があります。ご利用の際はこの点に注意していただくとともに、推計内容に応じて「直近３か年平均」もご活用ください。",null,null,null,null,"平成30年","2018年",0.62052541351989987,0.56435267881113549]
[null,null,null,null,null,null,"令和元年","2019年",0.60496906225066183,0.55250968610370399]
[null,null,null,null,null,null,"令和２年","2020年",0.54927768358712703,0.50171196075697044]
[null,null,null,null,null,null,"令和３年","2021年",0.50677765066255442,0.51125197417547197]
[null,null,null,null,null,null,"令和４年","2022年",0.4940151794928434,0.47091899348178756]
[null,null,null,null,null,null,"令和５年","2023年",0.47309628504586998,0.48340299449835739]
[null,null,null,null,null,null,"令和６年","2024年",0.51369605271098773,0.47196516572219033]
[]
[null,null,null,null,null,null,"直近３か年平均",null,{"$f":"AVERAGE(I43:I45)","v":0.49129637173375595},{"$f":"AVERAGE(J43:J45)","v":0.48852465405187234}]

{"sheet":"入力シートその２","index":2,"n_rows":53,"n_cols":7,"rows_kept":53,"cut":false,"hidden":false,"merged":[]}
[]
[]
[]
[]
[]
[null,"42部門別の経済波及効果分析　入力シートその２"]
[]
[null,"該当する部門（商品）に需要増加額を入力してください。単位は百万円です。入力が終わりましたら、「分析結果へ」ボタンを押してください。"]
[null,"５　42部門別需要増加額の入力"]
[null,"13部門",null,"42部門",null,"金額\n（百万円）","備考"]
[null,null,null,null,"合計",{"$f":"SUM(F12:F53)","v":5000}]
[null,"01","農林漁業","01","農業",5000,"穀類、いも・豆類、野菜、果実、その他の食用作物、非食用作物、畜産、農業サービス"]
[null,null,null,"02","林業",null,"育林、素材、特用林産物"]
[null,null,null,"03","漁業",null,"海面漁業、内水面漁業"]
[null,"02","鉱業","04","鉱業",null,"石炭・原油・天然ガス、砂利・砕石、その他の鉱物"]
[null,"03","製造業","05","飲食料品",null,"畜産食料品、水産食料品、精穀・製粉、めん・パン・菓子類、農産保存食料品、砂糖・油脂・調味料類、その他の食料品、酒類、その他の飲料、飼料・有機質肥料（別掲を除く。）・たばこ"]
[null,null,null,"06","繊維製品",null,"紡績糸、織物、ニット生地、染色整理、その他の繊維工業製品、織物製・ニット製衣服、その他の衣服・身の回り品、その他の繊維既製品"]
[null,null,null,"07","パルプ・紙・木製品",null,"木材・その他の木製品、家具・装備品、パルプ・紙・板紙、加工紙、紙製容器、その他の紙加工品"]
[null,null,null,"08","化学製品",null,"ソーダ工業製品、その他の無機化学工業製品、石油化学系基礎製品、脂肪族中間物・環式中間物・合成染料・有機顔料、合成ゴム、その他の有機化学工業製品、合成樹脂、化学繊維、医薬品、油脂加工製品・界面活性剤、化粧品・歯磨、塗料・印刷インキ、農薬"]
[null,null,null,"09","石油・石炭製品",null,"石油製品、石炭製品"]
[null,null,null,"10","プラスチック・ゴム製品",null,"プラスチック製品、タイヤ・チューブ、その他のゴム製品"]
[null,null,null,"11","窯業・土石製品",null,"ガラス・ガラス製品、セメント・セメント製品、陶磁器、建設用土石製品、その他の窯業・土石製品"]
[null,null,null,"12","鉄鋼",null,"銑鉄・粗鋼、熱間圧延鋼材・鋼管、冷延・めっき鋼材、鋳鍛造品（鉄）、その他の鉄鋼製品"]
[null,null,null,"13","非鉄金属",null,"非鉄金属製錬・精製、電線・ケーブル、その他の非鉄金属製品"]
[null,null,null,"14","金属製品",null,"建設用金属製品、建築用金属製品、ガス・石油機器・暖房・調理装置、その他の金属製品"]
[null,null,null,"15","はん用機械",null,"ボイラ・原動機、ポンプ・圧縮機、運搬機械、冷凍機・温湿調整装置、その他のはん用機械"]
[null,null,null,"16","生産用機械",null,"農業用機械、建設・鉱山機械、繊維機械、生活関連産業用機械、基礎素材産業用機械、金属加工機械、半導体製造装置、その他の生産用機械"]
[null,null,null,"17","業務用機械",null,"事務用機械、サービス用・娯楽用機器、計測機器、医療用機械器具、光学機械・レンズ・武器"]
[null,null,null,"18","電子部品",null,"電子デバイス、その他の電子部品"]
[null,null,null,"19","電気機械",null,"産業用電気機器、民生用電気機器、電子応用装置、電気計測器、その他の電気機械"]
[null,null,null,"20","情報通信機器",null,"通信機器、映像・音響機器、電子計算機・同附属装置"]
[null,null,null,"21","輸送機械",null,"乗用車、トラック・バス・その他の自動車、二輪自動車、自動車部品・同附属品、船舶・同修理、鉄道車両・同修理、その他の輸送機械・同修理"]
[null,null,null,"22","その他の製造工業製品",null,"印刷・製版・製本、なめし革・革製品、毛皮、がん具・運動用品、その他の製造工業製品、再生資源回収・加工処理"]
[null,"04","建設","23","建設",null,"住宅建築、非住宅建築、建設補修、公共事業、その他の土木建設"]
[null,"05","電力・ガス・水道","24","電力・ガス・熱供給",null,"電力、都市ガス、熱供給業"]
[null,null,null,"25","水道",null,"水道"]
[null,"12","サービス","26","廃棄物処理",null,"廃棄物処理"]
[null,"06","商業","27","商業",null,"卸売（マージン）、小売（マージン）"]
[null,"07","金融・保険","28","金融・保険",null,"金融、保険"]
[null,"08","不動産","29","不動産",null,"不動産仲介及び賃貸、住宅賃貸料、住宅賃貸料（帰属家賃）"]
[null,"09","運輸・郵便","30","運輸・郵便",null,"鉄道旅客輸送・鉄道貨物輸送、道路旅客輸送、道路貨物貨物輸送、自家輸送（旅客自動車）、自家輸送（貨物自動車）、外洋輸送、沿海・内水面輸送、港湾輸送、航空輸送、貨物利用運送、倉庫、こん包、その他の運輸附帯サービス、郵便・信書便"]
[null,"10","情報通信","31","情報通信",null,"通信、放送、情報サービス、インターネット附随サービス、映像・音声・文字情報制作"]
[null,"11","公務","32","公務",null,"公務（中央）、公務（地方）"]
[null,"12","サービス","33","教育・研究",null,"学校教育、社会教育・その他の教育、学術研究機関、企業内研究開発"]
[null,null,null,"34","医療・福祉",null,"医療、保健衛生、社会保険・社会福祉、介護"]
[null,null,null,"35","他に分類されない会員制団体",null,"他に分類されない会員制団体"]
[null,null,null,"36","対事業所サービス",null,"物品賃貸業、貸自動車業、広告、自動車整備、機械修理、その他の対事業所サービス"]
[null,null,null,"37","宿泊業",null,"宿泊業"]
[null,null,null,"38","飲食サービス",null,"飲食店、持ち帰り・配達飲食サービス"]
[null,null,null,"39","娯楽サービス",null,"映画館、興行場・興行団、競輪・競馬等の競走場・競技団、スポーツ施設提供業・公園・遊園地、遊戯場、その他の娯楽"]
[null,null,null,"40","その他の対個人サービス",null,"洗濯業、理容業、美容業、浴場業、その他の洗濯・理容・美容・浴場業、写真業、冠婚葬祭業、個人教授業、各種修理業（別掲を除く。）、その他の対個人サービス"]
[null,"03","製造業","41","事務用品",null,"事務用品（仮設部門）"]
[null,"13","分類不明","42","分類不明",null,"分類不明"]

{"sheet":"計算過程","index":3,"n_rows":101,"n_cols":44,"rows_kept":101,"cut":false,"hidden":false,"merged":[[10,0,51,0],[52,0,93,0]]}
[]
[]
[]
[]
[]
["経済波及効果計算過程"]
[null,null,null,"需要増加額（価格変換）",null,null,null,null,null,"直接効果",null,null,null,null,null,"第１次間接波及効果",null,null,null,"第２次間接波及効果",null,null,null,null,"第２次間接波及効果（続き）",null,null,null,null,null,"総合波及効果",null,null,"就業者誘発数",null,null,null,null,"雇用者誘発数"]
[null,null,null,"購入者価格","商業\nマージン率","商業\nマージン額","貨物運賃率","貨物運賃額","生産者価格","自給率","生産増加額","粗付加価値率","②のうち\n粗付加価値額","賃金・俸給率","③のうち\n賃金・俸給額","原材料投入額","生産誘発額","うち粗付加\n価値額","うち賃金・\n俸給額","賃金・俸給\n額計","消費転換率","消費増加額\n域内計","民間消費支出比率","消費増加額","分割比率１","分割比率２","消費増加による\n域内需要増加額","生産誘発額","うち粗付加\n価値額","うち賃金・\n俸給額","生産誘発額","うち粗付加\n価値額","うち賃金・\n俸給額","就業係数","直接効果","第１次間接波及効果","第２次間接波及効果","総合波及効果","雇用係数","直接効果","第１次間接波及効果","第２次間接波及効果","総合波及効果"]
[null,null,null,"⓪","Ａ","⓪'","Ｂ","⓪\"","①","Ｃ","②","Ｄ","③","Ｅ","④","⑤","⑥","⑦","⑧","⑨","Ｆ","⑩","Ｇ","⑪","⑫","⑬","⑭","⑮","⑯","⑰","⑱","⑲","⑳","Ｈ","㉑","㉒","㉓","㉔","Ｉ","㉑'","㉒'","㉓'","㉔'"]
[null,null,null,"購入者価格の場合は需要増加額、生産者価格の場合は空欄","（※１）","購入者価格の場合は⓪×Ａ、生産者価格の場合は空欄","（※１）","購入者価格の場合は⓪×Ｂ、生産者価格の場合は空欄","購入者価格の場合は⓪－⓪'－⓪\"（※２）、生産者価格の場合は需要増加額","上段：県自給率\n下段：県移入率","県内産商品のみの場合は上段のみ①、それ以外の場合は①×Ｃ",null,"②×Ｄ",null,"②×Ｅ","自給率を加味した投入係数×②（※３）","逆行列係数×⑤","⑥×Ｄ","⑥×Ｅ","④＋⑧",null,"⑨×Ｆ","民間消費支出の部門別構成比（※４）","⑩×Ｇ","上段：県自給率\n下段：県移入率","上段：県外移入率\n下段：県外自給率","県の消費増加額×⑫＋県外の消費増加額×⑬","逆行列係数×⑭","⑮×Ｄ","⑯×Ｅ","②＋⑥＋⑮","③＋⑦＋⑯","④＋⑧＋⑰",null,"②×Ｈ","⑥×Ｈ","⑮×Ｈ","㉑＋㉒＋㉓",null,"②×Ｉ","⑥×Ｉ","⑮×Ｉ","㉑'＋㉒'＋㉓'"]
["福岡県","01","農業",{"$f":"IF(入力シートその１!$B$28=\"購入者価格\",入力シートその２!F12,\"\")","v":5000},{"$f":"諸係数!D10","v":0.26082787370824906},{"$f":"IFERROR(D11*E11,\"\")","v":1304.1393685412454},{"$f":"諸係数!E10","v":4.0829104752855346E-2},{"$f":"IFERROR(D11*G11,\"\")","v":204.14552376427673},{"$f":"IF(入力シートその１!$B$28=\"購入者価格\",D11-F11-H11,入力シートその２!F12)","v":3491.7151076944779},{"$f":"諸係数!Q10","v":0.25869181604032448},{"$f":"IF(入力シートその１!$B$18=\"県内産商品のみ\",I11,I11*J11)","v":903.27812230492168},{"$f":"諸係数!S10","v":0.51592536301092917},{"$f":"K11*L11","v":466.02409314999721},{"$f":"諸係数!T10","v":0.11471716572151941},{"$f":"K11*N11","v":103.62150604907657},{"$f":"MMULT(自給率を加味した投入係数!D5:CI88,計算過程!K11:K94)","v":25.75901059726321},{"$f":"MMULT(逆行列係数!D5:CI88,計算過程!P11:P94)","v":28.639382250564875},{"$f":"Q11*L11","v":14.775783684031445},{"$f":"Q11*N11","v":3.2854287597999923},{"$f":"O11+S11","v":106.90693480887657},null,null,{"$f":"諸係数!W10","v":1.1473882339373777E-2},{"$f":"$V$95*W11","v":2.9663390809016987},{"$f":"諸係数!Q10","v":0.25869181604032448},{"$f":"諸係数!P52","v":1.0376598133258589E-2},{"$f":"X11*Y11+X53*Z11","v":0.80441468270039618},{"$f":"MMULT(逆行列係数!D5:CI88,計算過程!AA11:AA94)","v":1.4945849723561409},{"$f":"AB11*L11","v":0.77109429441352151},{"$f":"AB11*N11","v":0.1714545519586719},{"$f":"SUM(K11,Q11,AB11)","v":933.41208952784268},{"$f":"SUM(M11,R11,AC11)","v":481.57097112844218},{"$f":"SUM(O11,S11,AD11)","v":107.07838936083525},{"$f":"諸係数!X10","v":0.27683455730214418},{"$f":"K11*AH11","v":250.05859910899503},{"$f":"Q11*AH11","v":7.9283707067420126},{"$f":"AB11*AH11","v":0.41375276917264964},{"$f":"SUM(AI11:AK11)","v":258.40072258490972},{"$f":"諸係数!Y10","v":6.1070991876963986E-2},{"$f":"K11*AM11","v":55.16409086992315},{"$f":"Q11*AM11","v":1.749035480785514},{"$f":"AB11*AM11","v":9.1275786706194323E-2},{"$f":"SUM(AN11:AP11)","v":57.004402137414857},"01"]
[null,"02","林業",{"$f":"IF(入力シートその１!$B$28=\"購入者価格\",入力シートその２!F13,\"\")","v":0},{"$f":"諸係数!D11","v":0.21797701872036809},{"$f":"IFERROR(D12*E12,\"\")","v":0},{"$f":"諸係数!E11","v":3.1804802074933601E-2},{"$f":"IFERROR(D12*G12,\"\")","v":0},{"$f":"IF(入力シートその１!$B$28=\"購入者価格\",D12-F12-H12,入力シートその２!F13)","v":0},{"$f":"諸係数!Q11","v":0.30811027910212968},{"$f":"IF(入力シートその１!$B$18=\"県内産商品のみ\",I12,I12*J12)","v":0},{"$f":"諸係数!S11","v":0.55134395356384869},{"$f":"K12*L12","v":0},{"$f":"諸係数!T11","v":0.13558080384924695},{"$f":"K12*N12","v":0},4.9567150716286659E-2,0.17703727436826455,{"$f":"Q12*L12","v":9.7608430778366798E-2},{"$f":"Q12*N12","v":2.4002855970128991E-2},2.4002855970128991E-2,null,null,{"$f":"諸係数!W11","v":6.5467317321029467E-4},{"$f":"$V$95*W12","v":0.16925244319854282},{"$f":"諸係数!Q11","v":0.30811027910212968},{"$f":"諸係数!P53","v":1.0826061782358638E-2},{"$f":"X12*Y12+X54*Z12","v":5.4170617038875962E-2},7.3200997398357157E-2,{"$f":"AB12*L12","v":4.0358927310427235E-2},{"$f":"AB12*N12","v":9.9246500698358976E-3},0.25023827176662172,0.13796735808879404,3.3927506039964889E-2,{"$f":"諸係数!X11","v":0.16165192695949232},{"$f":"K12*AH12","v":0},{"$f":"Q12*AH12","v":2.8618416545286303E-2},{"$f":"AB12*AH12","v":1.1833082284801219E-2},{"$f":"SUM(AI12:AK12)","v":4.0451498830087522E-2},{"$f":"諸係数!Y11","v":5.4008562880107844E-2},{"$f":"K12*AM12","v":0},{"$f":"Q12*AM12","v":9.5615287648413202E-3},{"$f":"AB12*AM12","v":3.9534806708757834E-3},{"$f":"SUM(AN12:AP12)","v":1.3515009435717103E-2},"01"]
[null,"03","漁業",{"$f":"IF(入力シートその１!$B$28=\"購入者価格\",入力シートその２!F14,\"\")","v":0},{"$f":"諸係数!D12","v":0.24930029364152415},0,{"$f":"諸係数!E12","v":3.3308393561263416E-2},0,{"$f":"IF(入力シートその１!$B$28=\"購入者価格\",D13-F13-H13,入力シートその２!F14)","v":0},{"$f":"諸係数!Q12","v":0.17112645470367094},{"$f":"IF(入力シートその１!$B$18=\"県内産商品のみ\",I13,I13*J13)","v":0},{"$f":"諸係数!S12","v":0.50276703790956068},0,{"$f":"諸係数!T12","v":0.10634980576926589},0,1.0524299220266625E-4,0.18456813369058389,9.279477386811065E-2,1.9628785169189499E-2,1.9628785169189499E-2,null,null,{"$f":"諸係数!W12","v":1.1746345743614845E-3},0.3036778956456489,{"$f":"諸係数!Q12","v":0.17112645470367094},{"$f":"諸係数!P54","v":1.1127508891598584E-2},5.5908512505199459E-2,0.12452687171705183,6.2608006433325994E-2,1.3243408620162753E-2,0.30909500540763574,0.15540278030143664,3.2872193789352251E-2,{"$f":"諸係数!X12","v":0.16794631979066388},0,3.0997538803964806E-2,2.0913829819922965E-2,5.1911368623887774E-2,{"$f":"諸係数!Y12","v":4.2231161966778584E-2},0,7.7945267477930917E-3,5.2589144886990751E-3,1.3053441236492167E-2,"01"]
[null,"04","鉱業",{"$f":"IF(入力シートその１!$B$28=\"購入者価格\",入力シートその２!F15,\"\")","v":0},{"$f":"諸係数!D13","v":2.2528180695691236E-2},0,{"$f":"諸係数!E13","v":6.6403067077407646E-2},0,{"$f":"IF(入力シートその１!$B$28=\"購入者価格\",D14-F14-H14,入力シートその２!F15)","v":0},{"$f":"諸係数!Q13","v":2.9109775911367299E-2},{"$f":"IF(入力シートその１!$B$18=\"県内産商品のみ\",I14,I14*J14)","v":0},{"$f":"諸係数!S13","v":0.47868864938244976},0,{"$f":"諸係数!T13","v":0.13364862308259787},0,2.4364831784696783E-4,0.40783172262209672,0.19522441647728936,5.4506148177847207E-2,5.4506148177847207E-2,null,null,{"$f":"諸係数!W13","v":0},0,{"$f":"諸係数!Q13","v":2.9109775911367299E-2},{"$f":"諸係数!P55","v":6.7428293329068834E-4},0,0.10207594786623997,4.8862597618523768E-2,1.3642309882174016E-2,0.50990767048833674,0.24408701409581313,6.8148458060021219E-2,{"$f":"諸係数!X13","v":3.3136022251883772E-2},0,1.3513921035829888E-2,3.3823908798778553E-3,1.6896311915707743E-2,{"$f":"諸係数!Y13","v":3.2949445550015055E-2},0,1.3437829138105619E-2,3.3633458861848493E-3,1.6801175024290467E-2,"02"]
[null,"05","飲食料品",{"$f":"IF(入力シートその１!$B$28=\"購入者価格\",入力シートその２!F16,\"\")","v":0},{"$f":"諸係数!D14","v":0.32257496101304423},0,{"$f":"諸係数!E14","v":3.2171338179978581E-2},0,{"$f":"IF(入力シートその１!$B$28=\"購入者価格\",D15-F15-H15,入力シートその２!F16)","v":0},{"$f":"諸係数!Q14","v":0.2920246826578915},{"$f":"IF(入力シートその１!$B$18=\"県内産商品のみ\",I15,I15*J15)","v":0},{"$f":"諸係数!S14","v":0.46528085880714504},0,{"$f":"諸係数!T14","v":0.10388388118711597},0,24.531087435358678,28.797449507319335,13.398902038220935,2.9915908231103332,2.9915908231103332,null,null,{"$f":"諸係数!W14","v":8.9356634928503709E-2},23.101341855031858,{"$f":"諸係数!Q14","v":0.2920246826578915},{"$f":"諸係数!P56","v":2.5665120327846784E-2},7.5155487584975251,9.5025937509972902,4.4213749813594285,0.98716632019803319,38.300043258316627,17.820277019580363,3.9787571433083664,{"$f":"諸係数!X14","v":3.6796716017342718E-2},0,1.0596515715445955,0.34966424368362281,1.4093158152282184,{"$f":"諸係数!Y14","v":3.5666680093979435E-2},0,1.0271094191000845,0.33892597137986841,1.3660353904799529,"03"]
[null,"06","繊維製品",{"$f":"IF(入力シートその１!$B$28=\"購入者価格\",入力シートその２!F17,\"\")","v":0},{"$f":"諸係数!D15","v":0.43944914757410253},0,{"$f":"諸係数!E15","v":2.4548546158944525E-2},0,{"$f":"IF(入力シートその１!$B$28=\"購入者価格\",D16-F16-H16,入力シートその２!F17)","v":0},{"$f":"諸係数!Q15","v":5.5912857980317088E-2},{"$f":"IF(入力シートその１!$B$18=\"県内産商品のみ\",I16,I16*J16)","v":0},{"$f":"諸係数!S15","v":0.41042846800513627},0,{"$f":"諸係数!T15","v":0.23849306800246114},0,0.44744021344745732,0.55709257844971316,0.22864665351014696,0.13286271819587386,0.13286271819587386,null,null,{"$f":"諸係数!W15","v":1.4182490634645705E-2},3.6665947052380172,{"$f":"諸係数!Q15","v":5.5912857980317088E-2},{"$f":"諸係数!P57","v":3.7427821572707798E-3},0.22275023066679903,0.26552605647564281,0.10897945257474337,6.3326123843470819E-2,0.82261863492535592,0.3376261060848903,0.19618884203934467,{"$f":"諸係数!X15","v":0.13043474626146973},0,7.2664229114236256E-2,3.4633823802209147E-2,0.1072980529164454,{"$f":"諸係数!Y15","v":9.9733153206174263E-2},0,5.5560599476547901E-2,2.6481750870716563E-2,8.2042350347264467E-2,"03"]
[null,"07","パルプ・紙・木製品",{"$f":"IF(入力シートその１!$B$28=\"購入者価格\",入力シートその２!F18,\"\")","v":0},{"$f":"諸係数!D16","v":0.23349686800485506},0,{"$f":"諸係数!E16","v":5.8003940153580597E-2},0,{"$f":"IF(入力シートその１!$B$28=\"購入者価格\",D17-F17-H17,入力シートその２!F18)","v":0},{"$f":"諸係数!Q16","v":0.17930974653991405},{"$f":"IF(入力シートその１!$B$18=\"県内産商品のみ\",I17,I17*J17)","v":0},{"$f":"諸係数!S16","v":0.40561289770656195},0,{"$f":"諸係数!T16","v":0.19236839511407677},0,6.6903177321656226,8.7671908074205724,3.556085668144191,1.6865304252823825,1.6865304252823825,null,null,{"$f":"諸係数!W16","v":1.1853002819600263E-3},0.30643529757284627,{"$f":"諸係数!Q16","v":0.17930974653991405},{"$f":"諸係数!P58","v":9.7257029915652129E-3},5.8553896411232757E-2,0.45264065298578982,0.18359688687735656,8.7073755978264125E-2,9.2198314604063629,3.7396825550215476,1.7736041812606467,{"$f":"諸係数!X16","v":6.297098053218475E-2},0,0.55207860165602995,2.8503225747243562E-2,0.58058182740327346,{"$f":"諸係数!Y16","v":5.7521926398714542E-2},0,0.50430570434793287,2.6036762326114692E-2,0.53034246667404761,"03"]
[null,"08","化学製品",{"$f":"IF(入力シートその１!$B$28=\"購入者価格\",入力シートその２!F19,\"\")","v":0},{"$f":"諸係数!D17","v":0.20029497135644653},0,{"$f":"諸係数!E17","v":2.6939157259421205E-2},0,{"$f":"IF(入力シートその１!$B$28=\"購入者価格\",D18-F18-H18,入力シートその２!F19)","v":0},{"$f":"諸係数!Q17","v":0.10536782321194971},{"$f":"IF(入力シートその１!$B$18=\"県内産商品のみ\",I18,I18*J18)","v":0},{"$f":"諸係数!S17","v":0.35179010260796162},0,{"$f":"諸係数!T17","v":8.4889976458028857E-2},0,7.7961600905600799,9.8641386825742767,3.4701063592819681,0.83736650054246209,0.83736650054246209,null,null,{"$f":"諸係数!W17","v":1.0041184894888191E-2},2.595944275117283,{"$f":"諸係数!Q17","v":0.10536782321194971},{"$f":"諸係数!P59","v":9.911789700165298E-3},0.3004737951550529,0.77450182065870232,0.27246207495957797,6.5747441322417721E-2,10.638640503232979,3.7425684342415462,0.90311394186487981,{"$f":"諸係数!X17","v":1.6046132380943504E-2},0,0.15828127512457249,1.2427758743571302E-2,0.17070903386814379,{"$f":"諸係数!Y17","v":1.6031338205647026E-2},0,0.15813534332775372,1.2416300627869036E-2,0.17055164395562275,"03"]
[null,"09","石油・石炭製品",{"$f":"IF(入力シートその１!$B$28=\"購入者価格\",入力シートその２!F20,\"\")","v":0},{"$f":"諸係数!D18","v":0.19636393192438267},0,{"$f":"諸係数!E18","v":2.1219492730162302E-2},0,{"$f":"IF(入力シートその１!$B$28=\"購入者価格\",D19-F19-H19,入力シートその２!F20)","v":0},{"$f":"諸係数!Q18","v":8.8175893334952904E-2},{"$f":"IF(入力シートその１!$B$18=\"県内産商品のみ\",I19,I19*J19)","v":0},{"$f":"諸係数!S18","v":0.1556913850291157},0,{"$f":"諸係数!T18","v":3.3870845444414273E-2},0,2.9086129523119948,4.7576082354642013,0.74071861560534868,0.16114421322848047,0.16114421322848047,null,null,{"$f":"諸係数!W18","v":1.7750025000501653E-2},4.5889082081038604,{"$f":"諸係数!Q18","v":8.8175893334952904E-2},{"$f":"諸係数!P60","v":3.574115440212299E-3},0.42418675348266027,0.73412882897021325,0.11429753417217529,2.4865564102338932E-2,5.4917370644344148,0.85501614977752394,0.18600977733081939,{"$f":"諸係数!X18","v":5.8085334121445705E-3},0,2.7634726397587985E-2,4.2642118318920504E-3,3.1898938229480034E-2,{"$f":"諸係数!Y18","v":5.8085334121445705E-3},0,2.7634726397587985E-2,4.2642118318920504E-3,3.1898938229480034E-2,"03"]
[null,"10","プラスチック・ゴム製品",{"$f":"IF(入力シートその１!$B$28=\"購入者価格\",入力シートその２!F21,\"\")","v":0},{"$f":"諸係数!D19","v":0.18202198670756728},0,{"$f":"諸係数!E19","v":3.0404336512004349E-2},0,{"$f":"IF(入力シートその１!$B$28=\"購入者価格\",D20-F20-H20,入力シートその２!F21)","v":0},{"$f":"諸係数!Q19","v":0.2964036866852473},{"$f":"IF(入力シートその１!$B$18=\"県内産商品のみ\",I20,I20*J20)","v":0},{"$f":"諸係数!S19","v":0.37350936115441019},0,{"$f":"諸係数!T19","v":0.148681890778497},0,4.4749146246139109,6.6183908006618299,2.4720309198254253,0.98403485815341152,0.98403485815341152,null,null,{"$f":"諸係数!W19","v":3.2231276053739043E-3},0.83327413474901779,{"$f":"諸係数!Q19","v":0.2964036866852473},{"$f":"諸係数!P61","v":1.9047270093019361E-2},0.26534284242112871,0.76956459969382063,0.28743958199868835,0.11442031975867441,7.3879554003556507,2.7594705018241137,1.0984551779120859,{"$f":"諸係数!X19","v":3.8926145968381967E-2},0,0.25762844638235877,2.9956183939781098E-2,0.28758463032213988,{"$f":"諸係数!Y19","v":3.789146068429191E-2},0,0.25078049481655701,2.9159926773321247E-2,0.27994042158987825,"03"]
[null,"11","窯業・土石製品",{"$f":"IF(入力シートその１!$B$28=\"購入者価格\",入力シートその２!F22,\"\")","v":0},{"$f":"諸係数!D20","v":0.17440420627094513},0,{"$f":"諸係数!E20","v":5.2555253025537728E-2},0,{"$f":"IF(入力シートその１!$B$28=\"購入者価格\",D21-F21-H21,入力シートその２!F22)","v":0},{"$f":"諸係数!Q20","v":0.44117680905576656},{"$f":"IF(入力シートその１!$B$18=\"県内産商品のみ\",I21,I21*J21)","v":0},{"$f":"諸係数!S20","v":0.45691698141835352},0,{"$f":"諸係数!T20","v":0.16225676315251666},0,1.1696103555511055,1.8526674516506481,0.84651521958024756,0.30060782390285584,0.30060782390285584,null,null,{"$f":"諸係数!W20","v":5.0723452010349062E-4},0.13113517601641383,{"$f":"諸係数!Q20","v":0.44117680905576656},{"$f":"諸係数!P62","v":2.9941494892002433E-2},6.2204992329661993E-2,0.21062516388131086,9.6238214091394575E-2,3.4175357329849866E-2,2.0632926155319589,0.9427534336716421,0.33478318123270573,{"$f":"諸係数!X20","v":3.8815293915168088E-2},0,7.1911831662885367E-2,8.1754776419835275E-3,8.0087309304868889E-2,{"$f":"諸係数!Y20","v":3.7844827906426057E-2},0,7.0113880875555687E-2,7.9710730798509943E-3,7.8084953955406683E-2,"03"]
[null,"12","鉄鋼",{"$f":"IF(入力シートその１!$B$28=\"購入者価格\",入力シートその２!F23,\"\")","v":0},{"$f":"諸係数!D21","v":5.915135091480242E-2},0,{"$f":"諸係数!E21","v":2.707816710740028E-2},0,{"$f":"IF(入力シートその１!$B$28=\"購入者価格\",D22-F22-H22,入力シートその２!F23)","v":0},{"$f":"諸係数!Q21","v":0.61026272051856112},{"$f":"IF(入力シートその１!$B$18=\"県内産商品のみ\",I22,I22*J22)","v":0},{"$f":"諸係数!S21","v":0.26097985548670016},0,{"$f":"諸係数!T21","v":4.0013648814243817E-2},0,4.806736401413448E-2,1.9463937273501311,0.50796955368405683,7.7882315060435178E-2,7.7882315060435178E-2,null,null,{"$f":"諸係数!W21","v":0},0,{"$f":"諸係数!Q21","v":0.61026272051856112},{"$f":"諸係数!P63","v":3.2417177785642744E-2},0,0.45857966781044984,0.11968005543431016,1.8349445781119932E-2,2.4049733951605807,0.62764960911836698,9.6231760841555103E-2,{"$f":"諸係数!X21","v":6.8350398835156263E-3},0,1.3303678755462785E-2,3.1344103192537717E-3,1.6438089074716555E-2,{"$f":"諸係数!Y21","v":6.7120650144611733E-3},0,1.3064321241713495E-2,3.0780165446537473E-3,1.6142337786367242E-2,"03"]
[null,"13","非鉄金属",{"$f":"IF(入力シートその１!$B$28=\"購入者価格\",入力シートその２!F24,\"\")","v":0},{"$f":"諸係数!D22","v":0.10162141323543349},0,{"$f":"諸係数!E22","v":2.9411655995861995E-2},0,{"$f":"IF(入力シートその１!$B$28=\"購入者価格\",D23-F23-H23,入力シートその２!F24)","v":0},{"$f":"諸係数!Q22","v":9.1633496590561192E-2},{"$f":"IF(入力シートその１!$B$18=\"県内産商品のみ\",I23,I23*J23)","v":0},{"$f":"諸係数!S22","v":0.25539594755212741},0,{"$f":"諸係数!T22","v":8.9230524367484229E-2},0,1.2401717126797472E-3,0.12357747663989205,3.156118674254612E-2,1.10268830405881E-2,1.10268830405881E-2,null,null,{"$f":"諸係数!W22","v":5.8389929811577255E-4},0.1509552962181081,{"$f":"諸係数!Q22","v":9.1633496590561192E-2},{"$f":"諸係数!P64","v":7.1108423140743334E-3},1.5125299194975435E-2,5.363012870166773E-2,1.3696917537104975E-2,4.785444505945478E-3,0.17720760534155977,4.5258104279651094E-2,1.5812327546533576E-2,{"$f":"諸係数!X22","v":2.0425679023332508E-2},0,2.5241538723598063E-3,1.0954317948402772E-3,3.6195856672000832E-3,{"$f":"諸係数!Y22","v":2.0040611760638767E-2},0,2.4765682316994831E-3,1.0747805879832129E-3,3.551348819682696E-3,"03"]
[null,"14","金属製品",{"$f":"IF(入力シートその１!$B$28=\"購入者価格\",入力シートその２!F25,\"\")","v":0},{"$f":"諸係数!D23","v":0.13281570784749258},0,{"$f":"諸係数!E23","v":4.3831298767209842E-2},0,{"$f":"IF(入力シートその１!$B$28=\"購入者価格\",D24-F24-H24,入力シートその２!F25)","v":0},{"$f":"諸係数!Q23","v":0.3851230593085061},{"$f":"IF(入力シートその１!$B$18=\"県内産商品のみ\",I24,I24*J24)","v":0},{"$f":"諸係数!S23","v":0.43942355356206375},0,{"$f":"諸係数!T23","v":0.23217576035670948},0,1.4767983436015129,2.5522896030799123,1.1215361671048842,0.5925797792456029,0.5925797792456029,null,null,{"$f":"諸係数!W23","v":9.5074368630789928E-4},0.24579545695163452,{"$f":"諸係数!Q23","v":0.3851230593085061},{"$f":"諸係数!P65","v":1.5890949955155782E-2},9.9441798874281742E-2,0.35772725641085051,0.15719378221806349,8.3055597757508787E-2,2.9100168594907627,1.2787299493229478,0.67563537700311171,{"$f":"諸係数!X23","v":6.3444178026182366E-2},0,0.16192791595217629,2.2695711740547787E-2,0.18462362769272408,{"$f":"諸係数!Y23","v":6.1913771542273899E-2},0,0.15802187539481061,2.2148243627865834E-2,0.18017011902267643,"03"]
[null,"15","はん用機械",{"$f":"IF(入力シートその１!$B$28=\"購入者価格\",入力シートその２!F26,\"\")","v":0},{"$f":"諸係数!D24","v":0.1028494212078634},0,{"$f":"諸係数!E24","v":1.3194883965273208E-2},0,{"$f":"IF(入力シートその１!$B$28=\"購入者価格\",D25-F25-H25,入力シートその２!F26)","v":0},{"$f":"諸係数!Q24","v":6.6402077401684911E-2},{"$f":"IF(入力シートその１!$B$18=\"県内産商品のみ\",I25,I25*J25)","v":0},{"$f":"諸係数!S24","v":0.44179311072087762},0,{"$f":"諸係数!T24","v":0.22076242011221595},0,1.1869672440971424E-3,0.11717300495043712,5.1766226349566409E-2,2.5867396144679158E-2,2.5867396144679158E-2,null,null,{"$f":"諸係数!W24","v":4.5164907132688447E-5},1.1676468796724796E-2,{"$f":"諸係数!Q24","v":6.6402077401684911E-2},{"$f":"諸係数!P66","v":1.2109032336684502E-2},9.4861962865029474E-4,2.3579466736532752E-2,1.0417245958672265E-2,5.205460141712465E-3,0.14075247168696986,6.2183472308238674E-2,3.1072856286391622E-2,{"$f":"諸係数!X24","v":5.1566691968105038E-2},0,6.0422242532564372E-3,1.2159150979749633E-3,7.2581393512314001E-3,{"$f":"諸係数!Y24","v":5.0847696113077483E-2},0,5.9579773483759502E-3,1.1989615591276362E-3,7.156938907503586E-3,"03"]
[null,"16","生産用機械",{"$f":"IF(入力シートその１!$B$28=\"購入者価格\",入力シートその２!F27,\"\")","v":0},{"$f":"諸係数!D25","v":0.12245219012281004},0,{"$f":"諸係数!E25","v":1.1635144444581075E-2},0,{"$f":"IF(入力シートその１!$B$28=\"購入者価格\",D26-F26-H26,入力シートその２!F27)","v":0},{"$f":"諸係数!Q25","v":0.16395645514940083},{"$f":"IF(入力シートその１!$B$18=\"県内産商品のみ\",I26,I26*J26)","v":0},{"$f":"諸係数!S25","v":0.457137866489296},0,{"$f":"諸係数!T25","v":0.19087524795601835},0,1.8466983578018874E-3,0.3178216383746732,0.14528830569073067,6.0664284030553739E-2,6.0664284030553739E-2,null,null,{"$f":"諸係数!W25","v":2.1095146394038541E-5},5.4537213573513351E-3,{"$f":"諸係数!Q25","v":0.16395645514940083},{"$f":"諸係数!P67","v":1.8616762332543356E-2},1.05175431229817E-3,4.8515441879391705E-2,2.2178245592530565E-2,9.260396998424689E-3,0.36633708025406492,0.16746655128326124,6.9924681028978433E-2,{"$f":"諸係数!X25","v":4.1347585776595308E-2},0,1.3141157454354855E-2,2.0059963945975728E-3,1.5147153848952427E-2,{"$f":"諸係数!Y25","v":4.0705990381955277E-2},0,1.2937244554856715E-2,1.9748691105188291E-3,1.4912113665375544E-2,"03"]
[null,"17","業務用機械",{"$f":"IF(入力シートその１!$B$28=\"購入者価格\",入力シートその２!F28,\"\")","v":0},{"$f":"諸係数!D26","v":0.17571592604245978},0,{"$f":"諸係数!E26","v":1.3860496878000344E-2},0,{"$f":"IF(入力シートその１!$B$28=\"購入者価格\",D27-F27-H27,入力シートその２!F28)","v":0},{"$f":"諸係数!Q26","v":3.1992258237183213E-2},{"$f":"IF(入力シートその１!$B$18=\"県内産商品のみ\",I27,I27*J27)","v":0},{"$f":"諸係数!S26","v":0.42244927122588261},0,{"$f":"諸係数!T26","v":0.21564410062221823},0,4.9326588382838654E-2,7.8736194559400882E-2,3.3262048010718206E-2,1.6978995862177996E-2,1.6978995862177996E-2,null,null,{"$f":"諸係数!W26","v":3.2634257705928266E-4},8.4369240633677109E-2,{"$f":"諸係数!Q26","v":3.1992258237183213E-2},{"$f":"諸係数!P68","v":2.4241598673749821E-3},2.9635453426355438E-3,1.5576861286096085E-2,6.580433698297956E-3,3.3590582425572398E-3,9.4313055845496971E-2,3.9842481709016164E-2,2.0338054104735236E-2,{"$f":"諸係数!X26","v":5.0344413880651979E-2},0,3.9639275662860162E-3,7.8420795154872619E-4,4.7481355178347426E-3,{"$f":"諸係数!Y26","v":4.964733738076603E-2},0,3.90904241536821E-3,7.7334968760420534E-4,4.6823921029724158E-3,"03"]
[null,"18","電子部品",{"$f":"IF(入力シートその１!$B$28=\"購入者価格\",入力シートその２!F29,\"\")","v":0},{"$f":"諸係数!D27","v":5.8936764006462181E-2},0,{"$f":"諸係数!E27","v":9.511640978592693E-3},0,{"$f":"IF(入力シートその１!$B$28=\"購入者価格\",D28-F28-H28,入力シートその２!F29)","v":0},{"$f":"諸係数!Q27","v":0.11555330939127439},{"$f":"IF(入力シートその１!$B$18=\"県内産商品のみ\",I28,I28*J28)","v":0},{"$f":"諸係数!S27","v":0.33992271078052816},0,{"$f":"諸係数!T27","v":0.1414854445280595},0,2.3646220164193583E-3,0.30166108874535802,0.10254145502332757,4.2680653237955384E-2,4.2680653237955384E-2,null,null,{"$f":"諸係数!W27","v":5.4830080607540851E-4},0.14175202961338335,{"$f":"諸係数!Q27","v":0.11555330939127439},{"$f":"諸係数!P69","v":1.3293451952888875E-2},1.8619949535309564E-2,0.11173707512769408,3.7981969472093299E-2,1.5809169744706978E-2,0.41339816387305212,0.14052342449542088,5.8489822982662365E-2,{"$f":"諸係数!X27","v":3.0113872500010901E-2},0,9.0841835646921845E-3,3.3648360339195186E-3,1.2449019598611704E-2,{"$f":"諸係数!Y27","v":2.9959987277356021E-2},0,9.0377623808842924E-3,3.3476413492346886E-3,1.2385403730118981E-2,"03"]
[null,"19","電気機械",{"$f":"IF(入力シートその１!$B$28=\"購入者価格\",入力シートその２!F30,\"\")","v":0},{"$f":"諸係数!D28","v":0.17344672221905641},0,{"$f":"諸係数!E28","v":9.1142445996991728E-3},0,{"$f":"IF(入力シートその１!$B$28=\"購入者価格\",D29-F29-H29,入力シートその２!F30)","v":0},{"$f":"諸係数!Q28","v":0.17296012280699746},{"$f":"IF(入力シートその１!$B$18=\"県内産商品のみ\",I29,I29*J29)","v":0},{"$f":"諸係数!S28","v":0.39986469689003873},0,{"$f":"諸係数!T28","v":0.20304395812292356},0,4.2522321482078879E-2,0.28108678934219744,0.11239668382011195,5.7072974284104169E-2,5.7072974284104169E-2,null,null,{"$f":"諸係数!W28","v":1.0761320343700287E-2},2.7821206592016425,{"$f":"諸係数!Q28","v":0.17296012280699746},{"$f":"諸係数!P70","v":9.5155770453079283E-3},0.51332404574928514,0.57822203544352713,0.2312105789377672,0.11740449075034715,0.85930882478572457,0.34360726275787912,0.17447746503445133,{"$f":"諸係数!X28","v":4.7720498234750934E-2},0,1.341360163461614E-2,2.759304362167693E-2,4.1006645256293071E-2,{"$f":"諸係数!Y28","v":4.7497539411809772E-2},0,1.3350930854920093E-2,2.7464123917255796E-2,4.0815054772175889E-2,"03"]
[null,"20","情報通信機器",{"$f":"IF(入力シートその１!$B$28=\"購入者価格\",入力シートその２!F31,\"\")","v":0},{"$f":"諸係数!D29","v":0.17793432092939027},0,{"$f":"諸係数!E29","v":7.9091600037316089E-3},0,{"$f":"IF(入力シートその１!$B$28=\"購入者価格\",D30-F30-H30,入力シートその２!F31)","v":0},{"$f":"諸係数!Q29","v":9.0992279415760269E-3},{"$f":"IF(入力シートその１!$B$18=\"県内産商品のみ\",I30,I30*J30)","v":0},{"$f":"諸係数!S29","v":0.39776241486853553},0,{"$f":"諸係数!T29","v":0.14979966494180222},0,2.4545987896812515E-3,5.5838229812204179E-3,2.2210349132086586E-3,8.3645481168115375E-4,8.3645481168115375E-4,null,null,{"$f":"諸係数!W29","v":1.3449388081693275E-2},3.4770659399247168,{"$f":"諸係数!Q29","v":9.0992279415760269E-3},{"$f":"諸係数!P71","v":5.5858820899397756E-4},3.3702989037371824E-2,3.4647467506550678E-2,1.3781460344484716E-2,5.1901790235632708E-3,4.0231290487771097E-2,1.6002495257693376E-2,6.0266338352444248E-3,{"$f":"諸係数!X29","v":4.4616104664132586E-2},0,2.4912843055611901E-4,1.545835036619398E-3,1.7949634671755171E-3,{"$f":"諸係数!Y29","v":4.4616104664132586E-2},0,2.4912843055611901E-4,1.545835036619398E-3,1.7949634671755171E-3,"03"]
[null,"21","輸送機械",{"$f":"IF(入力シートその１!$B$28=\"購入者価格\",入力シートその２!F32,\"\")","v":0},{"$f":"諸係数!D30","v":8.6643705768600074E-2},0,{"$f":"諸係数!E30","v":1.5744121851926307E-2},0,{"$f":"IF(入力シートその１!$B$28=\"購入者価格\",D31-F31-H31,入力シートその２!F32)","v":0},{"$f":"諸係数!Q30","v":0.19082327791038278},{"$f":"IF(入力シートその１!$B$18=\"県内産商品のみ\",I31,I31*J31)","v":0},{"$f":"諸係数!S30","v":0.16638660189212359},0,{"$f":"諸係数!T30","v":5.4350843273067349E-2},0,0.66164680869004633,2.6585233916423125,0.44234267318608761,0.14449298819693479,0.14449298819693479,null,null,{"$f":"諸係数!W30","v":1.967880092558294E-2},5.0875540226279794,{"$f":"諸係数!Q30","v":0.19082327791038278},{"$f":"諸係数!P72","v":2.3683304895747864E-2},1.1213547315987347,1.7146457588639221,0.28529408126610956,9.3192442908842668E-2,4.3731691505062349,0.72763675445219711,0.23768543110577744,{"$f":"諸係数!X30","v":9.6069516078534454E-3},0,2.5540305571854108E-2,1.6472518830016849E-2,4.2012824401870957E-2,{"$f":"諸係数!Y30","v":9.5618231838792752E-3},0,2.5420330601090828E-2,1.6395139569245324E-2,4.1815470170336155E-2,"03"]
[null,"22","その他の製造工業製品",{"$f":"IF(入力シートその１!$B$28=\"購入者価格\",入力シートその２!F33,\"\")","v":0},{"$f":"諸係数!D31","v":0.31630659187034799},0,{"$f":"諸係数!E31","v":3.5669638098325747E-2},0,{"$f":"IF(入力シートその１!$B$28=\"購入者価格\",D32-F32-H32,入力シートその２!F33)","v":0},{"$f":"諸係数!Q31","v":0.22713969529433176},{"$f":"IF(入力シートその１!$B$18=\"県内産商品のみ\",I32,I32*J32)","v":0},{"$f":"諸係数!S31","v":0.47060147359841342},0,{"$f":"諸係数!T31","v":0.20662486840333408},0,1.3878645129050919,2.7939549377408133,1.3148393108683902,0.57730057133554102,0.57730057133554102,null,null,{"$f":"諸係数!W31","v":1.0578246621374405E-2},2.7347906691286359,{"$f":"諸係数!Q31","v":0.22713969529433176},{"$f":"諸係数!P73","v":1.5285832583656891E-2},0.67174789867840012,1.1910781983135625,0.56052315529730579,0.2461063759846201,3.9850331360543758,1.875362466165696,0.82340694732016106,{"$f":"諸係数!X31","v":6.80980546610713E-2},0,0.19026289607084396,8.1110108254367305E-2,0.27137300432521128,{"$f":"諸係数!Y31","v":5.9918897725362963E-2},0,0.16741070016376464,7.1368092747659942E-2,0.23877879291142456,"03"]
[null,"23","建設",{"$f":"IF(入力シートその１!$B$28=\"購入者価格\",入力シートその２!F34,\"\")","v":0},{"$f":"諸係数!D32","v":0},0,{"$f":"諸係数!E32","v":0},0,{"$f":"IF(入力シートその１!$B$28=\"購入者価格\",D33-F33-H33,入力シートその２!F34)","v":0},{"$f":"諸係数!Q32","v":1},{"$f":"IF(入力シートその１!$B$18=\"県内産商品のみ\",I33,I33*J33)","v":0},{"$f":"諸係数!S32","v":0.49997655275011599},0,{"$f":"諸係数!T32","v":0.32395045844553849},0,6.0433139479546405,8.4410145631748019,4.2203093630096635,2.7344705374859437,2.7344705374859437,null,null,{"$f":"諸係数!W32","v":0},0,{"$f":"諸係数!Q32","v":1},{"$f":"諸係数!P74","v":0},0,1.1674083498644536,0.58367680241693087,0.37818247013173933,9.6084229130392558,4.8039861654265943,3.1126530076176833,{"$f":"諸係数!X32","v":9.7445402510318302E-2},0,0.82253806170402721,0.11375857654644818,0.93629663825047538,{"$f":"諸係数!Y32","v":7.635897182310486E-2},0,0.64454719318788245,8.9142101293357159E-2,0.73368929448123965,"04"]
[null,"24","電力・ガス・熱供給",{"$f":"IF(入力シートその１!$B$28=\"購入者価格\",入力シートその２!F35,\"\")","v":0},{"$f":"諸係数!D33","v":0},0,{"$f":"諸係数!E33","v":0},0,{"$f":"IF(入力シートその１!$B$28=\"購入者価格\",D34-F34-H34,入力シートその２!F35)","v":0},{"$f":"諸係数!Q33","v":0.79639311881146257},{"$f":"IF(入力シートその１!$B$18=\"県内産商品のみ\",I34,I34*J34)","v":0},{"$f":"諸係数!S33","v":0.38983171724511795},0,{"$f":"諸係数!T33","v":9.0507164297473505E-2},0,21.795151159331553,28.793285347475006,11.224535872134874,2.6059986076079569,2.6059986076079569,null,null,{"$f":"諸係数!W33","v":2.5994229453794516E-2},6.7202797123092237,{"$f":"諸係数!Q33","v":0.79639311881146257},{"$f":"諸係数!P75","v":7.5927568273473776E-5},5.3525459849603152,8.574860561199122,3.3427526177096896,0.77608631364037484,37.36814590867413,14.567288489844564,3.3820849212483317,{"$f":"諸係数!X33","v":1.3910754405910913E-2},0,0.4005363210080381,0.11928277933177241,0.51981910033981049,{"$f":"諸係数!Y33","v":1.3910754405910913E-2},0,0.4005363210080381,0.11928277933177241,0.51981910033981049,"05"]
[null,"25","水道",{"$f":"IF(入力シートその１!$B$28=\"購入者価格\",入力シートその２!F36,\"\")","v":0},{"$f":"諸係数!D34","v":0},0,{"$f":"諸係数!E34","v":0},0,{"$f":"IF(入力シートその１!$B$28=\"購入者価格\",D35-F35-H35,入力シートその２!F36)","v":0},{"$f":"諸係数!Q34","v":0.94198749925344649},{"$f":"IF(入力シートその１!$B$18=\"県内産商品のみ\",I35,I35*J35)","v":0},{"$f":"諸係数!S34","v":0.52799822784765515},0,{"$f":"諸係数!T34","v":0.16458654581894316},0,2.4682092077081057,3.7285822132277651,1.9686848009685478,0.61367446727710806,0.61367446727710806,null,null,{"$f":"諸係数!W34","v":7.0980259353985225E-3},1.8350503436115611,{"$f":"諸係数!Q34","v":0.94198749925344649},{"$f":"諸係数!P76","v":1.7113789053412429E-3},1.7320876727694137,2.5755838119066441,1.3599036883598166,0.42390644306890118,6.3041660251344087,3.3285884893283644,1.0375809103460092,{"$f":"諸係数!X34","v":2.7847621046344091E-2},0,0.10383214451410575,7.1723881967074604E-2,0.17555602648118035,{"$f":"諸係数!Y34","v":2.7847621046344091E-2},0,0.10383214451410575,7.1723881967074604E-2,0.17555602648118035,"05"]
[null,"26","廃棄物処理",{"$f":"IF(入力シートその１!$B$28=\"購入者価格\",入力シートその２!F37,\"\")","v":0},{"$f":"諸係数!D35","v":0},0,{"$f":"諸係数!E35","v":0},0,{"$f":"IF(入力シートその１!$B$28=\"購入者価格\",D36-F36-H36,入力シートその２!F37)","v":0},{"$f":"諸係数!Q35","v":0.99543165681253887},{"$f":"IF(入力シートその１!$B$18=\"県内産商品のみ\",I36,I36*J36)","v":0},{"$f":"諸係数!S35","v":0.65261905485351723},0,{"$f":"諸係数!T35","v":0.4052540898466469},0,2.011653958297082,3.5947579739278823,2.3460075513719589,1.4567903709431205,1.4567903709431205,null,null,{"$f":"諸係数!W35","v":1.7249678852865175E-3},0.44595538807878543,{"$f":"諸係数!Q35","v":0.99543165681253887},{"$f":"諸係数!P77","v":2.5634144722481494E-3},0.44470528688530853,1.3900905916721247,0.90719960809782851,0.56333989753247382,4.9848485656000072,3.2532071594697873,2.0201302684755942,{"$f":"諸係数!X35","v":8.4109551734576626E-2},0,0.30235348178136906,0.1169198965359948,0.41927337831736389,{"$f":"諸係数!Y35","v":8.1611248217708016E-2},0,0.29337268529281357,0.11344702832205436,0.40681971361486791,"12"]
[null,"27","商業",{"$f":"IF(入力シートその１!$B$28=\"購入者価格\",入力シートその２!F38,\"\")","v":0},{"$f":"諸係数!D36","v":0},0,{"$f":"諸係数!E36","v":0},0,{"$f":"IF(入力シートその１!$B$28=\"購入者価格\",D37-F37-H37+F95,入力シートその２!F38)","v":1304.1393685412454},{"$f":"諸係数!Q36","v":0.60983050567528152},{"$f":"IF(入力シートその１!$B$18=\"県内産商品のみ\",I37,I37*J37)","v":795.30397058854999},{"$f":"諸係数!S36","v":0.71885803143656046},571.71064669096518,{"$f":"諸係数!T36","v":0.34817581351789995},276.90560695368436,49.998118145577124,61.513981560916335,44.219819690705194,21.41768057269714,298.32328752638148,null,null,{"$f":"諸係数!W36","v":0.15721174211030403},40.643900713373206,{"$f":"諸係数!Q36","v":0.60983050567528152},{"$f":"諸係数!P78","v":2.4915865690818141E-2},26.079482539125113,30.24891178313786,21.74467317752466,10.531939468125215,887.06686393260418,637.67513955919503,308.85522699450667,{"$f":"諸係数!X36","v":0.11431437626797923},90.914677341277397,7.0319324338961264,3.457885483274532,101.40449525844807,{"$f":"諸係数!Y36","v":0.10523691887355509},83.695339432643479,6.4735418871155161,3.1833022753354037,93.352183595094402,"06"]
[null,"28","金融・保険",{"$f":"IF(入力シートその１!$B$28=\"購入者価格\",入力シートその２!F39,\"\")","v":0},{"$f":"諸係数!D37","v":0},0,{"$f":"諸係数!E37","v":0},0,{"$f":"IF(入力シートその１!$B$28=\"購入者価格\",D38-F38-H38,入力シートその２!F39)","v":0},{"$f":"諸係数!Q37","v":0.84557096673095233},{"$f":"IF(入力シートその１!$B$18=\"県内産商品のみ\",I38,I38*J38)","v":0},{"$f":"諸係数!S37","v":0.70816478198468857},0,{"$f":"諸係数!T37","v":0.29505438903862169},0,18.604035005728672,27.739916481011953,19.644431907049299,8.1847841092873743,8.1847841092873743,null,null,{"$f":"諸係数!W37","v":5.0215314923646497E-2},12.982149085374761,{"$f":"諸係数!Q37","v":0.84557096673095233},{"$f":"諸係数!P79","v":2.3857568975816718E-4},10.981921399323717,16.727059445311383,11.845514405333862,4.9353923050490565,44.466975926323336,31.489946312383161,13.120176414336431,{"$f":"諸係数!X37","v":5.1478705747000142E-2},0,1.428014997972374,0.86108737119776413,2.2891023691701382,{"$f":"諸係数!Y37","v":4.9549845791456153E-2},0,1.3745085839020152,0.82882321605969911,2.2033317999617141,"07"]
[null,"29","不動産",{"$f":"IF(入力シートその１!$B$28=\"購入者価格\",入力シートその２!F40,\"\")","v":0},{"$f":"諸係数!D38","v":0},0,{"$f":"諸係数!E38","v":0},0,{"$f":"IF(入力シートその１!$B$28=\"購入者価格\",D39-F39-H39,入力シートその２!F40)","v":0},{"$f":"諸係数!Q38","v":0.99024963372486874},{"$f":"IF(入力シートその１!$B$18=\"県内産商品のみ\",I39,I39*J39)","v":0},{"$f":"諸係数!S38","v":0.83280938294980089},0,{"$f":"諸係数!T38","v":7.873055303759538E-2},0,27.831643586549774,36.769027790576345,30.621591345933968,2.8948458926067895,2.8948458926067895,null,null,{"$f":"諸係数!W38","v":0.20219908681178367},52.274464352330511,{"$f":"諸係数!Q38","v":0.99024963372486874},{"$f":"諸係数!P80","v":1.1765889947148382E-3},51.848556862286983,56.608230275956267,47.143865325999379,4.4567972761055872,93.377258066532619,77.76545667193335,7.3516431687123767,{"$f":"諸係数!X38","v":1.5937630940284227E-2},0,0.58601119495926013,0.90220108232081486,1.488212277280075,{"$f":"諸係数!Y38","v":1.3649780058703589E-2},0,0.50188914231372705,0.7726898927792486,1.2745790350929758,"08"]
[null,"30","運輸・郵便",{"$f":"IF(入力シートその１!$B$28=\"購入者価格\",入力シートその２!F41,\"\")","v":0},{"$f":"諸係数!D39","v":0},0,{"$f":"諸係数!E39","v":0},0,{"$f":"IF(入力シートその１!$B$28=\"購入者価格\",D40-F40-H40+H95,入力シートその２!F41)","v":204.14552376427673},{"$f":"諸係数!Q39","v":0.83875443423308971},{"$f":"IF(入力シートその１!$B$18=\"県内産商品のみ\",I40,I40*J40)","v":171.2279632861237},{"$f":"諸係数!S39","v":0.50192510873455909},85.943614090784735,{"$f":"諸係数!T39","v":0.22784256578589823},39.013018489404004,96.642184369851037,122.58977215765805,61.530884719977337,27.931168227509477,66.944186716913478,null,null,{"$f":"諸係数!W39","v":4.2155760965653807E-2},10.898515213848194,{"$f":"諸係数!Q39","v":0.83875443423308971},{"$f":"諸係数!P81","v":1.1781392505622558E-2},9.3333426293005157,16.386026743954659,8.2245582551868353,3.7334343763789772,310.2037621877364,155.69905706594892,70.677621093292458,{"$f":"諸係数!X39","v":6.1156175901505579E-2},10.47164744198272,7.4971216697992267,1.0021067338800658,18.970875845662011,{"$f":"諸係数!Y39","v":5.8345266011818948E-2},9.9903410665908563,7.1525328668668351,0.95604708925281412,18.098921022710506,"09"]
[null,"31","情報通信",{"$f":"IF(入力シートその１!$B$28=\"購入者価格\",入力シートその２!F42,\"\")","v":0},{"$f":"諸係数!D40","v":4.1768910156901172E-2},0,{"$f":"諸係数!E40","v":4.1083551813920855E-3},0,{"$f":"IF(入力シートその１!$B$28=\"購入者価格\",D41-F41-H41,入力シートその２!F42)","v":0},{"$f":"諸係数!Q40","v":0.81913321022072805},{"$f":"IF(入力シートその１!$B$18=\"県内産商品のみ\",I41,I41*J41)","v":0},{"$f":"諸係数!S40","v":0.50337802821251332},0,{"$f":"諸係数!T40","v":0.13644612788091035},0,27.118625482495943,48.975109138431606,24.652993869596344,6.6824640044839798,6.6824640044839798,null,null,{"$f":"諸係数!W40","v":5.0246039753766313E-2},12.990092365743404,{"$f":"諸係数!Q40","v":0.81913321022072805},{"$f":"諸係数!P82","v":4.5348788143822431E-3},10.705100433552815,18.013598519256966,9.0676497036354213,2.4578857671539134,66.988707657688565,33.720643573231769,9.1403497716378936,{"$f":"諸係数!X40","v":2.6981341448797023E-2},0,1.3214141421561225,0.48603105236961663,1.807445194525739,{"$f":"諸係数!Y40","v":2.5195105414242479E-2},0,1.2339330374168145,0.45385451358252149,1.6877875509993361,"10"]
[null,"32","公務",{"$f":"IF(入力シートその１!$B$28=\"購入者価格\",入力シートその２!F43,\"\")","v":0},{"$f":"諸係数!D41","v":0},0,{"$f":"諸係数!E41","v":0},0,{"$f":"IF(入力シートその１!$B$28=\"購入者価格\",D42-F42-H42,入力シートその２!F43)","v":0},{"$f":"諸係数!Q41","v":1},{"$f":"IF(入力シートその１!$B$18=\"県内産商品のみ\",I42,I42*J42)","v":0},{"$f":"諸係数!S41","v":0.68871674381730719},0,{"$f":"諸係数!T41","v":0.28377128081747383},0,0,3.0632588375194971,2.1097176520460179,0.86926488379835365,0.86926488379835365,null,null,{"$f":"諸係数!W41","v":3.3485972140871226E-3},0.86571175200732553,{"$f":"諸係数!Q41","v":1},{"$f":"諸係数!P83","v":0},0.86571175200732553,1.123529954469257,0.77379389182327407,0.31882553421653909,4.1867887919887536,2.8835115438692922,1.1880904180148928,{"$f":"諸係数!X41","v":5.417229854251019E-2},0,0.16594377225908891,6.0864200114961471E-2,0.22680797237405037,{"$f":"諸係数!Y41","v":5.417229854251019E-2},0,0.16594377225908891,6.0864200114961471E-2,0.22680797237405037,"11"]
[null,"33","教育・研究",{"$f":"IF(入力シートその１!$B$28=\"購入者価格\",入力シートその２!F44,\"\")","v":0},{"$f":"諸係数!D42","v":0},0,{"$f":"諸係数!E42","v":1.3798717042961616E-5},0,{"$f":"IF(入力シートその１!$B$28=\"購入者価格\",D43-F43-H43,入力シートその２!F44)","v":0},{"$f":"諸係数!Q42","v":0.94546833112513695},{"$f":"IF(入力シートその１!$B$18=\"県内産商品のみ\",I43,I43*J43)","v":0},{"$f":"諸係数!S42","v":0.75077867297960288},0,{"$f":"諸係数!T42","v":0.42179136214366508},0,0.36514442023648891,0.78973469810403807,0.59291596864849705,0.33310327404541834,{"$f":"O43+S43","v":0.33310327404541834},null,null,{"$f":"諸係数!W42","v":3.1580756861743782E-2},8.1645628317082686,{"$f":"諸係数!Q42","v":0.94546833112513695},{"$f":"諸係数!P84","v":1.0763850464487401E-3},7.7299772124130772,7.8576064122268816,5.8993233149677167,3.3142705118019737,{"$f":"SUM(K43,Q43,AB43)","v":8.6473411103309203},{"$f":"SUM(M43,R43,AC43)","v":6.4922392836162137},{"$f":"SUM(O43,S43,AD43)","v":3.647373785847392},{"$f":"諸係数!X42","v":7.2591454414320092E-2},0,5.7327990336826118E-2,0.5703950776788369,0.62772306801566302,{"$f":"諸係数!Y42","v":7.2475533305411635E-2},0,5.7236443414878414E-2,0.56948421523016535,0.62672065864504378,"12"]
[null,"34","医療・福祉",{"$f":"IF(入力シートその１!$B$28=\"購入者価格\",入力シートその２!F45,\"\")","v":0},{"$f":"諸係数!D43","v":0},0,{"$f":"諸係数!E43","v":0},0,{"$f":"IF(入力シートその１!$B$28=\"購入者価格\",D44-F44-H44,入力シートその２!F45)","v":0},{"$f":"諸係数!Q43","v":0.98883474963125384},{"$f":"IF(入力シートその１!$B$18=\"県内産商品のみ\",I44,I44*J44)","v":0},{"$f":"諸係数!S43","v":0.62437067269830049},0,{"$f":"諸係数!T43","v":0.43339365401998431},0,0.95852006227302877,1.234387231823258,0.77071518630368063,0.53497559287549523,0.53497559287549523,null,null,{"$f":"諸係数!W43","v":6.0954175891043953E-2},15.758463329303071,{"$f":"諸係数!Q43","v":0.98883474963125384},{"$f":"諸係数!P85","v":1.8717196042422428E-3},15.613970307025491,15.917682873745132,9.9385343636784658,6.8986227441837276,17.152070105568392,10.709249549982147,7.4335983370592231,{"$f":"諸係数!X43","v":0.11137460487555262},0,0.13747939020774252,1.772825640597715,1.9103050308054574,{"$f":"諸係数!Y43","v":0.10719708794090134},0,0.13232271664288356,1.7063292508322361,1.8386519674751196,"12"]
[null,"35","他に分類されない会員制団体",{"$f":"IF(入力シートその１!$B$28=\"購入者価格\",入力シートその２!F46,\"\")","v":0},{"$f":"諸係数!D44","v":0},0,{"$f":"諸係数!E44","v":0},0,{"$f":"IF(入力シートその１!$B$28=\"購入者価格\",D45-F45-H45,入力シートその２!F46)","v":0},{"$f":"諸係数!Q44","v":0.97413568091432101},{"$f":"IF(入力シートその１!$B$18=\"県内産商品のみ\",I45,I45*J45)","v":0},{"$f":"諸係数!S44","v":0.63420217381664112},0,{"$f":"諸係数!T44","v":0.49200352140356257},0,0.78539224031697608,1.6325666362308406,1.0353773095981207,0.80322853395154259,0.80322853395154259,null,null,{"$f":"諸係数!W44","v":1.1173537239228615E-2},2.8886909595451957,{"$f":"諸係数!Q44","v":0.97413568091432101},{"$f":"諸係数!P86","v":1.3775011343960082E-3},2.8188766616245009,3.1776031074528408,2.0152427982731056,1.5633919184897007,4.8101697436836819,3.0506201078712261,2.3666204524412433,{"$f":"諸係数!X44","v":0.12907319762390926},0,0.21072059607242408,0.41014339385860871,0.62086398993103276,{"$f":"諸係数!Y44","v":0.11896957120310254},0,0.19422575267287462,0.37803807914731063,0.57226383182018525,"12"]
[null,"36","対事業所サービス",{"$f":"IF(入力シートその１!$B$28=\"購入者価格\",入力シートその２!F47,\"\")","v":0},{"$f":"諸係数!D45","v":0},0,{"$f":"諸係数!E45","v":0},0,{"$f":"IF(入力シートその１!$B$28=\"購入者価格\",D46-F46-H46,入力シートその２!F47)","v":0},{"$f":"諸係数!Q45","v":0.84026974486514217},{"$f":"IF(入力シートその１!$B$18=\"県内産商品のみ\",I46,I46*J46)","v":0},{"$f":"諸係数!S45","v":0.61419115557601678},0,{"$f":"諸係数!T45","v":0.28419751362983336},0,84.103587810699892,131.29806111877994,80.642107883433937,37.314582514375154,37.314582514375154,null,null,{"$f":"諸係数!W45","v":1.352401738913874E-2},3.4963598305807535,{"$f":"諸係数!Q45","v":0.84026974486514217},{"$f":"諸係数!P87","v":5.4055347821486731E-3},2.9615850142156352,17.789688058936832,10.92626906625528,5.0557851146001846,149.08774917771677,91.568376949689224,42.370367628975337,{"$f":"諸係数!X45","v":0.1089337642081764},0,14.302792030903907,1.9378976843492361,16.240689715253144,{"$f":"諸係数!Y45","v":9.6741943387567392E-2},0,12.702029595650373,1.7210089950801506,14.423038590730524,"12"]
[null,"37","宿泊業",{"$f":"IF(入力シートその１!$B$28=\"購入者価格\",入力シートその２!F48,\"\")","v":0},{"$f":"諸係数!D46","v":0},0,{"$f":"諸係数!E46","v":0},0,{"$f":"IF(入力シートその１!$B$28=\"購入者価格\",D47-F47-H47,入力シートその２!F48)","v":0},{"$f":"諸係数!Q46","v":6.4469419198775801E-2},{"$f":"IF(入力シートその１!$B$18=\"県内産商品のみ\",I47,I47*J47)","v":0},{"$f":"諸係数!S46","v":0.52381734435390281},0,{"$f":"諸係数!T46","v":0.26700286191853168},0,0,0,0,0,0,null,null,{"$f":"諸係数!W46","v":1.140259045234287E-2},2.9479080124633108,{"$f":"諸係数!Q46","v":6.4469419198775801E-2},{"$f":"諸係数!P88","v":2.1245120624605315E-2},0.25944972382785914,0.25944972382785914,0.13590426532886268,6.9273818786011049E-2,0.25944972382785914,0.13590426532886268,6.9273818786011049E-2,{"$f":"諸係数!X46","v":0.11583154539393244},0,0,3.00524624630099E-2,3.00524624630099E-2,{"$f":"諸係数!Y46","v":0.11220611198984821},0,0,2.9111844767563955E-2,2.9111844767563955E-2,"12"]
[null,"38","飲食サービス",{"$f":"IF(入力シートその１!$B$28=\"購入者価格\",入力シートその２!F49,\"\")","v":0},{"$f":"諸係数!D47","v":0},0,{"$f":"諸係数!E47","v":0},0,{"$f":"IF(入力シートその１!$B$28=\"購入者価格\",D48-F48-H48,入力シートその２!F49)","v":0},{"$f":"諸係数!Q47","v":0.93441852383986357},{"$f":"IF(入力シートその１!$B$18=\"県内産商品のみ\",I48,I48*J48)","v":0},{"$f":"諸係数!S47","v":0.40469100258275331},0,{"$f":"諸係数!T47","v":0.24939420368500204},0,0,4.1506696422815093E-3,1.679738658924702E-3,1.0351529501963093E-3,1.0351529501963093E-3,null,null,{"$f":"諸係数!W47","v":5.6016781696588379E-2},14.482000409113313,{"$f":"諸係数!Q47","v":0.93441852383986357},{"$f":"諸係数!P89","v":1.0957251317867196E-2},13.763606431733461,13.90976927623325,5.6291584740936127,3.4690158320882984,13.913919945875532,5.6308382127525372,3.4700509850384949,{"$f":"諸係数!X47","v":0.17847857697515354},0,7.408056112483734E-4,2.4825958264748218,2.4833366320860701,{"$f":"諸係数!Y47","v":0.1576825467577716},0,6.5448815994511721E-4,2.1933278442894641,2.1939823324494094,"12"]
[null,"39","娯楽サービス",{"$f":"IF(入力シートその１!$B$28=\"購入者価格\",入力シートその２!F50,\"\")","v":0},{"$f":"諸係数!D48","v":0},0,{"$f":"諸係数!E48","v":0},0,{"$f":"IF(入力シートその１!$B$28=\"購入者価格\",D49-F49-H49,入力シートその２!F50)","v":0},{"$f":"諸係数!Q48","v":0.85396190545870188},{"$f":"IF(入力シートその１!$B$18=\"県内産商品のみ\",I49,I49*J49)","v":0},{"$f":"諸係数!S48","v":0.68551559091055059},0,{"$f":"諸係数!T48","v":0.12499310798876855},0,9.1610614762252327E-3,0.38903259191090128,0.26668790712726459,4.8626392771869809E-2,4.8626392771869809E-2,null,null,{"$f":"諸係数!W48","v":3.1991143909764014E-2},8.2706600621688651,{"$f":"諸係数!Q48","v":0.85396190545870188},{"$f":"諸係数!P90","v":1.0230451230692512E-2},7.153524299878927,7.3785531690464108,5.0581132357437664,0.92226829305948843,7.7675857609573118,5.3248011428710313,0.9708946858313583,{"$f":"諸係数!X48","v":7.1065359481669907E-2},0,2.7646740994233986E-2,0.52435953341289787,0.5520062744071319,{"$f":"諸係数!Y48","v":6.5961853644163376E-2},0,2.5661310890436408E-2,0.4867030442423172,0.51236435513275358,"12"]
[null,"40","その他の対個人サービス",{"$f":"IF(入力シートその１!$B$28=\"購入者価格\",入力シートその２!F51,\"\")","v":0},{"$f":"諸係数!D49","v":7.8840719686758658E-5},0,{"$f":"諸係数!E49","v":2.7952618798032613E-5},0,{"$f":"IF(入力シートその１!$B$28=\"購入者価格\",D50-F50-H50,入力シートその２!F51)","v":0},{"$f":"諸係数!Q49","v":0.97841231744755763},{"$f":"IF(入力シートその１!$B$18=\"県内産商品のみ\",I50,I50*J50)","v":0},{"$f":"諸係数!S49","v":0.68637687573868911},0,{"$f":"諸係数!T49","v":0.21377006578174584},0,0.86158369278431823,1.3066807013087274,0.89687541735232346,0.27932921947450445,0.27932921947450445,null,null,{"$f":"諸係数!W49","v":3.6636613663757832E-2},9.4716518514197503,{"$f":"諸係数!Q49","v":0.97841231744755763},{"$f":"諸係数!P91","v":4.03641352531698E-3},9.314384391941509,9.8540661544994403,6.7636031404476844,2.1065043700650206,11.160746855808167,7.6604785578000083,2.3858335895395251,{"$f":"諸係数!X49","v":0.19892408977310927},0,0.25993026913192668,1.9602111403478044,2.2201414094797309,{"$f":"諸係数!Y49","v":0.13338312200736027},0,0.17428915140732507,1.3143661081541984,1.4886552595615234,"12"]
[null,"41","事務用品",{"$f":"IF(入力シートその１!$B$28=\"購入者価格\",入力シートその２!F52,\"\")","v":0},{"$f":"諸係数!D50","v":0},0,{"$f":"諸係数!E50","v":0},0,{"$f":"IF(入力シートその１!$B$28=\"購入者価格\",D51-F51-H51,入力シートその２!F52)","v":0},{"$f":"諸係数!Q50","v":1},{"$f":"IF(入力シートその１!$B$18=\"県内産商品のみ\",I51,I51*J51)","v":0},{"$f":"諸係数!S50","v":0},0,{"$f":"諸係数!T50","v":0},0,2.5101261541395425,3.4105582089513722,0,0,0,null,null,{"$f":"諸係数!W50","v":0},0,{"$f":"諸係数!Q50","v":1},{"$f":"諸係数!P92","v":0},0,0.39467650185974057,0,0,3.8052347108111126,0,0,{"$f":"諸係数!X50","v":0},0,0,0,0,{"$f":"諸係数!Y50","v":0},0,0,0,0,"03"]
[null,"42","分類不明",{"$f":"IF(入力シートその１!$B$28=\"購入者価格\",入力シートその２!F53,\"\")","v":0},{"$f":"諸係数!D51","v":2.3505125679551809E-2},0,{"$f":"諸係数!E51","v":3.0097892967934352E-2},0,{"$f":"IF(入力シートその１!$B$28=\"購入者価格\",D52-F52-H52,入力シートその２!F53)","v":0},{"$f":"諸係数!Q51","v":0.99059020955588906},{"$f":"IF(入力シートその１!$B$18=\"県内産商品のみ\",I52,I52*J52)","v":0},{"$f":"諸係数!S51","v":0.42137607654174197},0,{"$f":"諸係数!T51","v":1.0433866852345781E-2},0,9.7401382001584889,12.640272669298922,5.3263085038069917,0.13188692200881033,0.13188692200881033,null,null,{"$f":"諸係数!W51","v":3.4127496312620017E-5},8.8229705561873942E-3,{"$f":"諸係数!Q51","v":0.99059020955588906},{"$f":"諸係数!P93","v":1.2550287994163611E-3},8.7535186687999252E-3,1.0638645152383666,0.44828705540312519,1.1100220700932506E-2,13.704137184537288,5.774595559210117,0.14298714270974283,{"$f":"諸係数!X51","v":2.2670124246160538E-3},0,2.8655655191835386E-2,2.411794074153512E-3,3.1067449265988898E-2,{"$f":"諸係数!Y51","v":2.2554460346945432E-3},0,2.8509452869428062E-2,2.3994890023466063E-3,3.0908941871774669E-2,"13"]
["県外","01","農業",null,null,null,null,null,null,{"$f":"諸係数!P10","v":0.48138781067968245},{"$f":"IF(入力シートその１!$B$18=\"県内産商品のみ\",0,I11*J53)","v":1680.8690912102163},{"$f":"諸係数!S52","v":0.44936071013776657},755.31652847484509,{"$f":"諸係数!T52","v":8.423660158549659E-2},141.59069995365073,224.79807454257863,300.08852014557647,134.8479905168077,25.278437111884191,166.86913706553491,null,null,{"$f":"諸係数!W52","v":1.0834598652583577E-2},{"$f":"$V$96*W53","v":3.570248977052251},{"$f":"諸係数!P10","v":0.48138781067968245},{"$f":"諸係数!Q52","v":0.80488001811199783},{"$f":"X11*Y53+X53*Z53","v":4.301581537203008},15.227490971555257,6.8426361565944998,1.2827120901176465,1996.185102327348,897.00715514824731,168.15184915565257,{"$f":"諸係数!X52","v":0.3341021202439669},561.58192722588308,100.26021084151148,5.0875370195924745,666.929675086987,{"$f":"諸係数!Y52","v":3.974369079894069E-2},66.80394143455527,11.926625356977475,0.60519669281715305,79.335763484349897,"01"]
[null,"02","林業",null,null,null,null,null,null,{"$f":"諸係数!P11","v":0.44805012144154172},{"$f":"IF(入力シートその１!$B$18=\"県内産商品のみ\",0,I12*J54)","v":0},{"$f":"諸係数!S53","v":0.66734677888877558},0,{"$f":"諸係数!T53","v":0.2300424591990376},0,0.30480393054405819,3.7315253306294069,2.490221409737408,0.85840926362149061,0.85840926362149061,null,null,{"$f":"諸係数!W53","v":5.6684957850724311E-4},{"$f":"$V$96*W54","v":0.18678994882061445},{"$f":"諸係数!P11","v":0.44805012144154172},{"$f":"諸係数!Q53","v":0.83167746580586366},{"$f":"X12*Y54+X54*Z54","v":0.23118256900252032},0.57045681118587344,0.38069251544005506,0.13122928771203937,4.3019821418152802,2.8709139251774629,0.98963855133352996,{"$f":"諸係数!X53","v":0.23548369706815445},0,0.87871338056008008,0.13433327891575961,1.0130466594758396,{"$f":"諸係数!Y53","v":6.3986655596494024E-2},0,0.23876782618057735,3.65016235100247E-2,0.27526944969060207,"01"]
[null,"03","漁業",null,null,null,null,null,null,{"$f":"諸係数!P12","v":0.57568910683207497},{"$f":"IF(入力シートその１!$B$18=\"県内産商品のみ\",0,I13*J55)","v":0},{"$f":"諸係数!S54","v":0.55155303920298238},0,{"$f":"諸係数!T54","v":0.15874892872193375},0,4.2041438091809771E-4,7.5889634849669205,4.1857158745339618,1.2047398233483715,1.2047398233483715,null,null,{"$f":"諸係数!W54","v":1.0748400512307593E-3},0.35418447110510592,{"$f":"諸係数!P12","v":0.57568910683207497},{"$f":"諸係数!Q54","v":0.85311134804793221},0.47698284811100855,2.2377640010216635,1.2342455357825242,0.35524263789469734,9.8267274859885845,5.4199614103164855,1.5599824612430688,{"$f":"諸係数!X54","v":0.13994391419605157},0,1.0620292547771792,0.31316145334998874,1.3751907081271679,{"$f":"諸係数!Y54","v":6.1614124644945291E-2},0,0.46758734208869024,0.13787787008492025,0.60546521217361049,"01"]
[null,"04","鉱業",null,null,null,null,null,null,{"$f":"諸係数!P13","v":3.1289499179152157E-2},{"$f":"IF(入力シートその１!$B$18=\"県内産商品のみ\",0,I14*J56)","v":0},{"$f":"諸係数!S55","v":0.52149709303688585},0,{"$f":"諸係数!T55","v":0.17204431084475882},0,8.7424932693846915E-4,3.3154769827519455,1.7290116085358449,0.57040895261921876,0.57040895261921876,null,null,{"$f":"諸係数!W55","v":0},0,{"$f":"諸係数!P13","v":3.1289499179152157E-2},{"$f":"諸係数!Q55","v":3.6923145377743723E-2},0,0.72504763737485256,0.37811023520424775,0.12474032110177712,4.0405246201267984,2.1071218437400927,0.69514927372099589,{"$f":"諸係数!X55","v":4.5199439879636059E-2},0,0.14985770255421371,3.2771747095396812E-2,0.18262944964961053,{"$f":"諸係数!Y55","v":4.4264127872642459E-2},0,0.14675669712333492,3.2093601334517774E-2,0.17885029845785269,"02"]
[null,"05","飲食料品",null,null,null,null,null,null,{"$f":"諸係数!P14","v":0.57375752159349291},{"$f":"IF(入力シートその１!$B$18=\"県内産商品のみ\",0,I15*J57)","v":0},{"$f":"諸係数!S56","v":0.36760607265258466},0,{"$f":"諸係数!T56","v":0.11082875528161219},0,207.13229748507379,285.23616385673245,104.85454597386253,31.612369001543637,31.612369001543637,null,null,{"$f":"諸係数!W56","v":9.0973669807896326E-2},29.977912609885266,{"$f":"諸係数!P14","v":0.57375752159349291},{"$f":"諸係数!Q56","v":0.80131245657912509},37.276243444768596,54.980997583995901,20.21134859237398,6.0934755263755926,340.21716144072832,125.06589456623651,37.705844527919233,{"$f":"諸係数!X56","v":4.0999465545601348E-2},0,11.694530272403602,2.2541915161078308,13.948721788511433,{"$f":"諸係数!Y56","v":3.8671797241335813E-2},0,11.030595094563996,2.1262139906946635,13.15680908525866,"03"]
[null,"06","繊維製品",null,null,null,null,null,null,{"$f":"諸係数!P15","v":0.5208195308655611},{"$f":"IF(入力シートその１!$B$18=\"県内産商品のみ\",0,I16*J58)","v":0},{"$f":"諸係数!S57","v":0.40265591222483038},0,{"$f":"諸係数!T57","v":0.2140588056989022},0,6.9763494554823833,10.469108457774983,4.2154484162460726,2.2410048532035889,2.2410048532035889,null,null,{"$f":"諸係数!W57","v":1.4384149948198931E-2},4.739907613105494,{"$f":"諸係数!P15","v":0.5208195308655611},{"$f":"諸係数!Q57","v":0.35222817815589491},3.5791631574476188,4.7739873934137744,1.9222742488448636,1.0219140398557678,15.243095851188757,6.1377226650909362,3.2629188930593567,{"$f":"諸係数!X57","v":0.13010632623074861},0,1.3620972403523612,0.62112596122897379,1.9832232015813349,{"$f":"諸係数!Y57","v":8.8315869905793098E-2},0,0.9245884205864936,0.42161884956862722,1.3462072701551209,"03"]
[null,"07","パルプ・紙・木製品",null,null,null,null,null,null,{"$f":"諸係数!P16","v":0.61901996585418628},{"$f":"IF(入力シートその１!$B$18=\"県内産商品のみ\",0,I17*J59)","v":0},{"$f":"諸係数!S58","v":0.35575611759337344},0,{"$f":"諸係数!T58","v":0.13820057591801532},0,58.112064043343857,109.33358281017753,38.896090943122353,15.109964111546555,15.109964111546555,null,null,{"$f":"諸係数!W58","v":1.1255033544660211E-3},0.37087919255716911,{"$f":"諸係数!P16","v":0.61901996585418628},{"$f":"諸係数!Q58","v":0.80653661708752167},0.48881721675327144,7.5578073634633895,2.6887362051443455,1.0444933303080575,116.89139017364093,41.584827148266697,16.154457441854611,{"$f":"諸係数!X58","v":4.8492633559431182E-2},0,5.3018733669536635,0.36649798298920089,5.6683713499428645,{"$f":"諸係数!Y58","v":3.8801484251993118E-2},0,4.2423052916230892,0.29325414339302236,4.5355594350161113,"03"]
[null,"08","化学製品",null,null,null,null,null,null,{"$f":"諸係数!P17","v":0.65768892079125307},{"$f":"IF(入力シートその１!$B$18=\"県内産商品のみ\",0,I18*J60)","v":0},{"$f":"諸係数!S59","v":0.33437823442336717},0,{"$f":"諸係数!T59","v":7.2883217073549181E-2},0,118.46936841227425,205.17888261361799,68.607352509300895,14.954097040436585,14.954097040436585,null,null,{"$f":"諸係数!W59","v":8.2496813389104327E-3},2.718459382362878,{"$f":"諸係数!P17","v":0.65768892079125307},{"$f":"諸係数!Q59","v":0.726289030725076},3.6817110186179409,15.090563973711459,5.0459561379825093,1.0998488498582932,220.26944658732944,73.65330864728341,16.053945890294877,{"$f":"諸係数!X59","v":1.387579266104999E-2},0,2.847019633572478,0.20939353683753084,3.0564131704100088,{"$f":"諸係数!Y59","v":1.3809310897280321E-2},0,2.8333789795680349,0.20839028952827948,3.0417692690963145,"03"]
[null,"09","石油・石炭製品",null,null,null,null,null,null,{"$f":"諸係数!P18","v":0.77095724936114818},{"$f":"IF(入力シートその１!$B$18=\"県内産商品のみ\",0,I19*J61)","v":0},{"$f":"諸係数!S60","v":0.30209231658211938},0,{"$f":"諸係数!T60","v":8.9490900397596346E-3},0,32.571722970844803,89.020505848876851,26.892410835199314,0.79665252222654814,0.79665252222654814,null,null,{"$f":"諸係数!W60","v":1.6604221241409787E-2},5.4714720685806473,{"$f":"諸係数!P18","v":0.77095724936114818},{"$f":"諸係数!Q60","v":0.81630355231867946},8.0042341356853637,17.018822856531308,5.1412556222302657,0.15230297811381793,106.03932870540817,32.033666457429582,0.94895550034036602,{"$f":"諸係数!X60","v":1.3620798283713123E-3},0,0.12125303532816559,2.318099531550593E-2,0.14443403064367152,{"$f":"諸係数!Y60","v":1.3617806674162559E-3},0,0.12122640386861623,2.3175903948206237E-2,0.14440230781682248,"03"]
[null,"10","プラスチック・ゴム製品",null,null,null,null,null,null,{"$f":"諸係数!P19","v":0.52015257828607486},{"$f":"IF(入力シートその１!$B$18=\"県内産商品のみ\",0,I20*J62)","v":0},{"$f":"諸係数!S61","v":0.38297292416592321},0,{"$f":"諸係数!T61","v":0.19208468793705491},0,20.634320072828078,50.970035457364283,19.520143523947588,9.7905633549684428,9.7905633549684428,null,null,{"$f":"諸係数!W61","v":2.9247637339929406E-3},0.9637767917612553,{"$f":"諸係数!P19","v":0.52015257828607486},{"$f":"諸係数!Q61","v":0.83746757870150357},1.2405615058138015,7.5588278860464566,2.8948264187861352,1.4519350956611421,58.528863343410741,22.414969942733723,11.242498450629585,{"$f":"諸係数!X61","v":5.2651599501979722E-2},0,2.68365389350285,0.39798437856051405,3.0816382720633642,{"$f":"諸係数!Y61","v":4.9720344978425944E-2},0,2.5342477465027544,0.37582753012677594,2.9100752766295304,"03"]
[null,"11","窯業・土石製品",null,null,null,null,null,null,{"$f":"諸係数!P20","v":0.4318622309497418},{"$f":"IF(入力シートその１!$B$18=\"県内産商品のみ\",0,I21*J63)","v":0},{"$f":"諸係数!S62","v":0.4867998279827519},0,{"$f":"諸係数!T62","v":0.18905801254627136},0,4.7265529465858922,10.332717751998016,5.0299652242669612,1.9534830823943219,1.9534830823943219,null,null,{"$f":"諸係数!W62","v":4.4101084991964679E-4},0.14532319897415943,{"$f":"諸係数!P20","v":0.4318622309497418},{"$f":"諸係数!Q62","v":0.84930887589103121},0.18005661243206755,1.2446347524913108,0.60588798341412509,0.23530817265202758,11.577352504489328,5.6358532076810866,2.1887912550463495,{"$f":"諸係数!X62","v":5.3842510455646149E-2},0,0.55633946359719377,6.7014259674473955E-2,0.62335372327166771,{"$f":"諸係数!Y62","v":4.7445915752158639E-2},0,0.49024525595213186,5.9052835608911551E-2,0.54929809156104337,"03"]
[null,"12","鉄鋼",null,null,null,null,null,null,{"$f":"諸係数!P21","v":0.35504251255668934},{"$f":"IF(入力シートその１!$B$18=\"県内産商品のみ\",0,I22*J64)","v":0},{"$f":"諸係数!S63","v":0.26418101694167673},0,{"$f":"諸係数!T63","v":5.0585983143801416E-2},0,8.4415385497173284E-2,16.095046892136384,4.2520058556885632,0.81418377078430448,0.81418377078430448,null,null,{"$f":"諸係数!W63","v":0},0,{"$f":"諸係数!P21","v":0.35504251255668934},{"$f":"諸係数!Q63","v":0.92502060896628824},0,4.5829171893481337,1.2107197236414808,0.23183137168980245,20.677964081484518,5.4627255793300442,1.0460151424741069,{"$f":"諸係数!X63","v":9.926393704774595E-3},0,0.15976577214815452,4.5491840337848595E-2,0.2052576124860031,{"$f":"諸係数!Y63","v":9.4862541191222532E-3},0,0.1526817048779946,4.3474717065049913E-2,0.1961564219430445,"03"]
[null,"13","非鉄金属",null,null,null,null,null,null,{"$f":"諸係数!P22","v":0.55771472543956679},{"$f":"IF(入力シートその１!$B$18=\"県内産商品のみ\",0,I23*J65)","v":0},{"$f":"諸係数!S64","v":0.24560065169946974},0,{"$f":"諸係数!T64","v":8.1647050751836148E-2},0,1.0868626036277935E-2,4.8813706152999332,1.1988678043043051,0.39854951436591529,0.39854951436591529,null,null,{"$f":"諸係数!W64","v":5.5170084443339172E-4},0.1817980931861736,{"$f":"諸係数!P22","v":0.55771472543956679},{"$f":"諸係数!Q64","v":0.62964314814931521},0.19865791530521554,1.9190788728315755,0.47132702183011876,0.15668713012685614,6.800449488131509,1.6701948261344239,0.55523664449277144,{"$f":"諸係数!X64","v":1.7028179207871762E-2},0,8.3120853617366514E-2,3.2678418960616615E-2,0.11579927257798313,{"$f":"諸係数!Y64","v":1.5995585983305912E-2},0,7.8080383393412972E-2,3.0696791119123257E-2,0.10877717451253623,"03"]
[null,"14","金属製品",null,null,null,null,null,null,{"$f":"諸係数!P23","v":0.49013438665221631},{"$f":"IF(入力シートその１!$B$18=\"県内産商品のみ\",0,I24*J66)","v":0},{"$f":"諸係数!S65","v":0.44896839342483119},0,{"$f":"諸係数!T65","v":0.24339257486147223},0,5.0944648747848573,17.333727023564556,7.78229557383436,4.2189004522112601,4.2189004522112601,null,null,{"$f":"諸係数!W65","v":9.1289255610517927E-4},0.30081905376494422,{"$f":"諸係数!P23","v":0.49013438665221631},{"$f":"諸係数!Q65","v":0.88202079885788431},0.38580146764831957,3.031118270182183,1.3608763000443482,0.73775168048929318,20.36484529374674,9.1431718738787087,4.9566521327005528,{"$f":"諸係数!X65","v":7.7354729355931975E-2},0,1.3408457626374406,0.23447133343576346,1.5753170960732041,{"$f":"諸係数!Y65","v":6.7461045213382836E-2},0,1.1693513424531243,0.20448240667187104,1.3738337491249955,"03"]
[null,"15","はん用機械",null,null,null,null,null,null,{"$f":"諸係数!P24","v":0.76600887904499193},{"$f":"IF(入力シートその１!$B$18=\"県内産商品のみ\",0,I25*J67)","v":0},{"$f":"諸係数!S66","v":0.44178053740085599},0,{"$f":"諸係数!T66","v":0.19058590645840756},0,1.6774286618107297E-2,3.2748232996964299,1.4467531972327332,0.62413516706375738,0.62413516706375738,null,null,{"$f":"諸係数!W66","v":4.3425809330911783E-5},1.4309801065347579E-2,{"$f":"諸係数!P24","v":0.76600887904499193},{"$f":"諸係数!Q66","v":0.80920079436786085},2.0523781163508309E-2,0.81009079037173848,0.35788234471391078,0.1543918875966056,4.0849140900681684,1.804635541946644,0.77852705466036298,{"$f":"諸係数!X66","v":4.0089412676860295E-2},0,0.13128574270532753,3.2476064000936548E-2,0.16376180670626408,{"$f":"諸係数!Y66","v":3.8272526555644143E-2},0,0.1253357617026738,3.1004221286985115E-2,0.1563399829896589,"03"]
[null,"16","生産用機械",null,null,null,null,null,null,{"$f":"諸係数!P25","v":0.66820686776470328},{"$f":"IF(入力シートその１!$B$18=\"県内産商品のみ\",0,I26*J68)","v":0},{"$f":"諸係数!S67","v":0.46227922881221034},0,{"$f":"諸係数!T67","v":0.20018519787022968},0,9.8361171473365493E-3,3.5353222774171704,1.6343060560070366,0.7077191896397873,0.7077191896397873,null,null,{"$f":"諸係数!W67","v":2.5687117737987945E-5},8.4644949728344132E-3,{"$f":"諸係数!P25","v":0.66820686776470328},{"$f":"諸係数!Q67","v":0.81653389275353228},1.0555761096218389E-2,0.66192780116986438,0.305995473454167,0.13250814785299533,4.197250078587035,1.9403015294612036,0.84022733749278267,{"$f":"諸係数!X67","v":4.7424388845928346E-2},0,0.16766049837990485,3.1391521430609991E-2,0.19905201981051485,{"$f":"諸係数!Y67","v":4.4062121050562029E-2},0,0.15577379814030401,2.9165942901878919E-2,0.18493974104218291,"03"]
[null,"17","業務用機械",null,null,null,null,null,null,{"$f":"諸係数!P26","v":0.80975598276565086},{"$f":"IF(入力シートその１!$B$18=\"県内産商品のみ\",0,I27*J69)","v":0},{"$f":"諸係数!S68","v":0.41494462271530363},0,{"$f":"諸係数!T68","v":0.16916689984202016},0,1.9976325582840755,3.8207864380904111,1.5854147870291744,0.64635059669018957,0.64635059669018957,null,null,{"$f":"諸係数!W68","v":3.3096820944089996E-4},0.10906162277745464,{"$f":"諸係数!P26","v":0.80975598276565086},{"$f":"諸係数!Q68","v":0.69073166684094722},0.14365081385396478,0.84692779881919955,0.35142813594813532,0.14327215011627012,4.6677142369096103,1.9368429229773096,0.78962274680645972,{"$f":"諸係数!X68","v":3.7472312506328716E-2},0,0.14317370342806646,3.1736343147650142E-2,0.1749100465757166,{"$f":"諸係数!Y68","v":3.6053769228631481E-2},0,0.13775375251079655,3.053493941194025E-2,0.16828869192273679,"03"]
[null,"18","電子部品",null,null,null,null,null,null,{"$f":"諸係数!P27","v":0.29339720021151305},{"$f":"IF(入力シートその１!$B$18=\"県内産商品のみ\",0,I28*J70)","v":0},{"$f":"諸係数!S69","v":0.37766981523340321},0,{"$f":"諸係数!T69","v":0.17148804864414249},0,1.2969016556395414E-2,3.7626763984127183,1.4210493001716182,0.6452540332431671,0.6452540332431671,null,null,{"$f":"諸係数!W69","v":5.1136505771057802E-4},0.16850652550531783,{"$f":"諸係数!P27","v":0.29339720021151305},{"$f":"諸係数!Q69","v":0.6092343476552573},0.14424961175475245,2.3321638424667195,0.88078788747842962,0.39993822646304306,6.0948402408794378,2.3018371876500479,1.0451922597062102,{"$f":"諸係数!X69","v":3.5306536014096633E-2},0,0.13284706976995006,8.2340626694825211E-2,0.21518769646477526,{"$f":"諸係数!Y69","v":3.46651349987298E-2},0,0.13043368530751132,8.0844774438265252E-2,0.21127845974577658,"03"]
[null,"19","電気機械",null,null,null,null,null,null,{"$f":"諸係数!P28","v":0.58000562441167625},{"$f":"IF(入力シートその１!$B$18=\"県内産商品のみ\",0,I29*J71)","v":0},{"$f":"諸係数!S70","v":0.36200864262650256},0,{"$f":"諸係数!T70","v":0.15680886960411175},0,0.25939800177247502,3.018526323393929,1.0927326170642035,0.47333170064165747,0.47333170064165747,null,null,{"$f":"諸係数!W70","v":1.024623798538107E-2},3.3763706306940655,{"$f":"諸係数!P28","v":0.58000562441167625},{"$f":"諸係数!Q70","v":0.66460536447070062},3.8575996637294718,5.1603473234667119,1.86809033004949,0.80918823055741873,8.1788736468606409,2.9608229471136935,1.2825199311990763,{"$f":"諸係数!X70","v":3.406643981978047E-2},0,0.10283044534032248,0.17579466154404397,0.27862510688436648,{"$f":"諸係数!Y70","v":3.3046053428163615E-2},0,9.9750382157194062E-2,0.17052911335916207,0.27027949551635611,"03"]
[null,"20","情報通信機器",null,null,null,null,null,null,{"$f":"諸係数!P29","v":0.52966484832027261},{"$f":"IF(入力シートその１!$B$18=\"県内産商品のみ\",0,I30*J72)","v":0},{"$f":"諸係数!S71","v":0.35305053535986602},0,{"$f":"諸係数!T71","v":0.15979708881622076},0,0.19868705382589644,0.60040959975523978,0.21197493062879028,9.5943706138199608E-2,9.5943706138199608E-2,null,null,{"$f":"諸係数!W71","v":1.1215298384190546E-2},3.6956982780293335,{"$f":"諸係数!P29","v":0.52966484832027261},{"$f":"諸係数!Q71","v":0.36627680318510497},3.1953281544830929,3.36091379120418,1.1865724132829927,0.53706423959671556,3.9613233909594197,1.398547343911783,0.63300794573491515,{"$f":"諸係数!X71","v":2.9222835589403699E-2},0,1.754567101994705E-2,9.8215431150519228E-2,0.11576110217046628,{"$f":"諸係数!Y71","v":2.8895885542384939E-2},0,1.734936707307656E-2,9.7116580228459023E-2,0.11446594730153559,"03"]
[null,"21","輸送機械",null,null,null,null,null,null,{"$f":"諸係数!P30","v":0.71966646574543836},{"$f":"IF(入力シートその１!$B$18=\"県内産商品のみ\",0,I31*J73)","v":0},{"$f":"諸係数!S72","v":0.24704709919551465},0,{"$f":"諸係数!T72","v":0.11014944823903973},0,2.7561837432544882,26.296206414962562,6.4964015146629848,2.8965126273880233,2.8965126273880233,null,null,{"$f":"諸係数!W72","v":1.9288477792786699E-2},6.3559962225431006,{"$f":"諸係数!P30","v":0.71966646574543836},{"$f":"諸係数!Q72","v":0.86446966443778084},9.1559079444233014,19.388511884952816,4.7898756188953531,2.1356338863036171,45.684718299915374,11.286277133558338,5.0321465136916403,{"$f":"諸係数!X72","v":2.0163106787105031E-2},0,0.53021321804064647,0.3909326355793587,0.92114585362000523,{"$f":"諸係数!Y72","v":1.9802421553050863E-2},0,0.52072856467512896,0.38393948563217245,0.90466805030730146,"03"]
[null,"22","その他の製造工業製品",null,null,null,null,null,null,{"$f":"諸係数!P31","v":0.62192255059065504},{"$f":"IF(入力シートその１!$B$18=\"県内産商品のみ\",0,I32*J74)","v":0},{"$f":"諸係数!S73","v":0.46480088202718489},0,{"$f":"諸係数!T73","v":0.21600321268976178},0,7.4235951675420875,21.897070323381946,10.177777600119223,4.7298375383441416,4.7298375383441416,null,null,{"$f":"諸係数!W73","v":1.0039319178995738E-2},3.3081861339241789,{"$f":"諸係数!P31","v":0.62192255059065504},{"$f":"諸係数!Q73","v":0.70773116928634794},4.0421344290550474,8.7928080744912904,4.0869049485193054,1.899274792654597,30.689878397873237,14.264682548638529,6.6291123309987388,{"$f":"諸係数!X73","v":7.9596359232148944E-2},0,1.7429270755915374,0.69987551015654859,2.442802585748086,{"$f":"諸係数!Y73","v":6.3372667731627572E-2},0,1.3876757618997668,0.55722370453270853,1.9448994664324752,"03"]
[null,"23","建設",null,null,null,null,null,null,{"$f":"諸係数!P32","v":0},{"$f":"IF(入力シートその１!$B$18=\"県内産商品のみ\",0,I33*J75)","v":0},{"$f":"諸係数!S74","v":0.46748951700643293},0,{"$f":"諸係数!T74","v":0.29853052235848571},0,6.0631571654142675,13.068783220057005,6.1095191554062245,3.9014306812734305,{"$f":"O75+S75","v":3.9014306812734305},null,null,{"$f":"諸係数!W74","v":0},0,{"$f":"諸係数!P32","v":0},{"$f":"諸係数!Q74","v":1},0,2.3899484747821211,1.1172758581461548,0.71347256658657288,{"$f":"SUM(K75,Q75,AB75)","v":15.458731694839127},{"$f":"SUM(M75,R75,AC75)","v":7.2267950135523797},{"$f":"SUM(O75,S75,AD75)","v":4.6149032478600036},{"$f":"諸係数!X74","v":8.1671942100723011E-2},0,1.0673529064753962,0.19519173345611668,1.2625446399315128,{"$f":"諸係数!Y74","v":7.0561387244931925E-2},0,0.92215147361051075,0.16863807982453566,1.0907895534350465,"04"]
[null,"24","電力・ガス・熱供給",null,null,null,null,null,null,{"$f":"諸係数!P33","v":0.20357513625818932},{"$f":"IF(入力シートその１!$B$18=\"県内産商品のみ\",0,I34*J76)","v":0},{"$f":"諸係数!S75","v":0.35693739521585643},{"$f":"K76*L76","v":0},{"$f":"諸係数!T75","v":6.1300991265600159E-2},{"$f":"K76*N76","v":0},33.697923422495201,76.418912741570011,{"$f":"Q76*L76","v":27.276767659203824},{"$f":"Q76*N76","v":4.6845551024976437},4.6845551024976437,null,null,{"$f":"諸係数!W75","v":2.2440781563833556E-2},7.3947526799642791,{"$f":"諸係数!P33","v":0.20357513625818932},{"$f":"諸係数!Q75","v":0.99985124795490798},8.7617345535066811,20.469026640178186,{"$f":"AB76*L76","v":7.3061610515491751},{"$f":"AB76*N76","v":1.2547716232849},96.887939381748197,34.582928710752995,5.9393267257825437,{"$f":"諸係数!X75","v":9.2172020547170146E-3},{"$f":"K76*AH76","v":0},{"$f":"Q76*AH76","v":0.70436855954083932},{"$f":"AB76*AH76","v":0.18866715440590767},{"$f":"SUM(AI76:AK76)","v":0.89303571394674697},{"$f":"諸係数!Y75","v":9.2172020547170146E-3},{"$f":"K76*AM76","v":0},{"$f":"Q76*AM76","v":0.70436855954083932},{"$f":"AB76*AM76","v":0.18866715440590767},{"$f":"SUM(AN76:AP76)","v":0.89303571394674697},"05"]
[null,"25","水道",null,null,null,null,null,null,{"$f":"諸係数!P34","v":5.7742645893405255E-2},{"$f":"IF(入力シートその１!$B$18=\"県内産商品のみ\",0,I35*J77)","v":0},{"$f":"諸係数!S76","v":0.49786631517637403},0,{"$f":"諸係数!T76","v":0.11300987230763118},0,2.454165306086145,6.6993006780008821,3.3353561428148835,0.7570871141713067,0.7570871141713067,null,null,{"$f":"諸係数!W76","v":6.1942707297573301E-3},2.0411544022654988,{"$f":"諸係数!P34","v":5.7742645893405255E-2},{"$f":"諸係数!Q76","v":0.99794688299851608},2.142924335647288,3.9116676945658551,1.9474875812879644,0.44205706667277334,10.610968372566738,5.2828437241028476,1.1991441808440801,{"$f":"諸係数!X76","v":2.1423365100115048E-2},0,0.14352156434026117,8.3801085171009634E-2,0.22732264951127079,{"$f":"諸係数!Y76","v":2.1423365100115048E-2},0,0.14352156434026117,8.3801085171009634E-2,0.22732264951127079,"05"]
[null,"26","廃棄物処理",null,null,null,null,null,null,{"$f":"諸係数!P35","v":4.510641096730026E-3},{"$f":"IF(入力シートその１!$B$18=\"県内産商品のみ\",0,I36*J78)","v":0},{"$f":"諸係数!S77","v":0.66208708818994988},0,{"$f":"諸係数!T77","v":0.42201768175557841},0,1.5599888609063608,5.725065998914137,3.7904922769163476,2.4160790807594288,2.4160790807594288,null,null,{"$f":"諸係数!W77","v":9.318958415567702E-4},0.3070810725641358,{"$f":"諸係数!P35","v":4.510641096730026E-3},{"$f":"諸係数!Q77","v":0.997373887664457},0.30828618787223971,2.2497865535095523,1.4895546282620422,0.94944970575697385,7.9748525524236893,5.2800469051783896,3.3655287865164025,{"$f":"諸係数!X77","v":0.10170821695353985},0,0.58228625469089335,0.22882177888350622,0.81110803357439953,{"$f":"諸係数!Y77","v":9.8449293449043032E-2},0,0.56362870254223651,0.22148989660417306,0.78511859914640958,"12"]
[null,"27","商業",null,null,null,null,null,null,{"$f":"諸係数!P36","v":0.3881668526205968},{"$f":"IF(入力シートその１!$B$18=\"県内産商品のみ\",0,I37*J79)","v":506.2236740652678},{"$f":"諸係数!S78","v":0.69796526637171952},353.32654151263517,{"$f":"諸係数!T78","v":0.33386238019076458},169.00904073234412,149.04607319638166,238.61170808582713,166.54268439353532,79.66347280291815,248.67251353526228,null,null,{"$f":"諸係数!W78","v":0.15755626238322551},51.918405345614879,{"$f":"諸係数!P36","v":0.3881668526205968},{"$f":"諸係数!Q78","v":0.97297491788738322},66.291921196127618,86.847036938205122,60.616215270168901,28.994958464704414,831.68241908930008,580.48544117633946,277.66747199996672,{"$f":"諸係数!X78","v":0.11454957698127488},57.987707722083201,27.332870224010946,9.9482913433485507,95.268869289442705,{"$f":"諸係数!Y78","v":0.10451227972524822},52.906590227452149,24.937853581185237,9.0765818177946578,86.921025626432041,"06"]
[null,"28","金融・保険",null,null,null,null,null,null,{"$f":"諸係数!P37","v":0.11418318895890929},{"$f":"IF(入力シートその１!$B$18=\"県内産商品のみ\",0,I38*J80)","v":0},{"$f":"諸係数!S79","v":0.67446060903022131},0,{"$f":"諸係数!T79","v":0.23914761102573123},0,20.284906893603228,46.74729760019526,31.529210809944697,11.179504542995595,11.179504542995595,null,null,{"$f":"諸係数!W79","v":5.842369526353728E-2},19.251948774357004,{"$f":"諸係数!P37","v":0.11418318895890929},{"$f":"諸係数!Q79","v":0.95990758769759055},19.962434888578695,33.260084171180637,22.432616626490915,7.9540696720525874,80.00738177137589,53.961827436435613,19.133574215048181,{"$f":"諸係数!X79","v":5.1174309050327722E-2},0,2.3922606546600358,1.7020618264159111,4.0943224810759471,{"$f":"諸係数!Y79","v":4.9369558455626482E-2},0,2.3078934415154073,1.6420356697281595,3.9499291112435668,"07"]
[null,"29","不動産",null,null,null,null,null,null,{"$f":"諸係数!P38","v":9.7288073084989338E-3},{"$f":"IF(入力シートその１!$B$18=\"県内産商品のみ\",0,I39*J81)","v":0},{"$f":"諸係数!S80","v":0.84126297311400955},0,{"$f":"諸係数!T80","v":5.1211283556904422E-2},0,18.156219826661623,38.480778081923447,32.372453776939331,1.9706500378436942,1.9706500378436942,null,null,{"$f":"諸係数!W80","v":0.21610744578822644},71.212364389225215,{"$f":"諸係数!P38","v":9.7288073084989338E-3},{"$f":"諸係数!Q80","v":0.99880124041200868},71.635566075468915,80.523768796308119,67.741665143927278,4.1237255568983473,119.00454687823157,100.11411892086662,6.0943755947420417,{"$f":"諸係数!X80","v":1.1767491137183776E-2},0,0.45282221503096987,0.94756273564319127,1.400384950674161,{"$f":"諸係数!Y80","v":8.950370337023365E-3},0,0.34441721469002645,0.72071755165980378,1.0651347663498303,"08"]
[null,"30","運輸・郵便",null,null,null,null,null,null,{"$f":"諸係数!P39","v":0.10278685971983996},{"$f":"IF(入力シートその１!$B$18=\"県内産商品のみ\",0,I40*J82)","v":20.983477313591969},{"$f":"諸係数!S81","v":0.51577737910883503},10.822802933394165,{"$f":"諸係数!T81","v":0.23806905403628723},4.9955165944387332,129.02156281563896,222.73102827504593,114.87962600991902,53.025365205969727,58.020881800408461,null,null,{"$f":"諸係数!W81","v":4.9498408766731353E-2},16.310861983152133,{"$f":"諸係数!P39","v":0.10278685971983996},{"$f":"諸係数!Q81","v":0.91746247665483149},16.084827985878249,37.356582178296684,19.267680048385678,8.8934461812159178,281.07108776693457,144.97010899169885,66.914327981624382,{"$f":"諸係数!X81","v":6.5044633005157934E-2},1.3648625810346469,14.487457993011818,2.4298451781143311,18.282165752160797,{"$f":"諸係数!Y81","v":6.1217909214195898E-2},1.2845646091816123,13.635127868126261,2.2868918563436149,17.206584333651488,"09"]
[null,"31","情報通信",null,null,null,null,null,null,{"$f":"諸係数!P40","v":0.13854987934994073},{"$f":"IF(入力シートその１!$B$18=\"県内産商品のみ\",0,I41*J83)","v":0},{"$f":"諸係数!S82","v":0.51678008822424248},0,{"$f":"諸係数!T82","v":0.18086903629151094},0,28.757125964049528,85.253652121454053,44.057389864763906,15.419745899539121,15.419745899539121,null,null,{"$f":"諸係数!W82","v":4.3152217694480022E-2},14.219646340523726,{"$f":"諸係数!P40","v":0.13854987934994073},{"$f":"諸係数!Q82","v":0.95031981007314736},15.312987339652166,34.143033635063404,17.644439934171345,6.1754175896425609,119.39668575651746,61.70182979893525,21.595163489181683,{"$f":"諸係数!X82","v":3.51853061512062E-2},0,2.9996758504017906,1.2013330913806366,4.201008941782427,{"$f":"諸係数!Y82","v":3.321380455083485E-2},0,2.8315981388068416,1.1340200459275762,3.9656181847344181,"10"]
[null,"32","公務",null,null,null,null,null,null,{"$f":"諸係数!P41","v":0},{"$f":"IF(入力シートその１!$B$18=\"県内産商品のみ\",0,I42*J84)","v":0},{"$f":"諸係数!S83","v":0.70898070738442498},0,{"$f":"諸係数!T83","v":0.26816459764023548},0,0,4.4924998045707314,3.1850956893689482,1.2047294024915467,1.2047294024915467,null,null,{"$f":"諸係数!W83","v":3.8365841565024188E-3},1.2642425528943213,{"$f":"諸係数!P41","v":0},{"$f":"諸係数!Q83","v":1},1.2642425528943213,1.8858801993592083,1.337052677783972,0.50572630485884917,6.3783800039299399,4.5221483671529201,1.7104557073503959,{"$f":"諸係数!X83","v":5.0938728229762281E-2},0,0.22884222661728865,9.6064338949048617E-2,0.32490656556633724,{"$f":"諸係数!Y83","v":5.0938728229762281E-2},0,0.22884222661728865,9.6064338949048617E-2,0.32490656556633724,"11"]
[null,"33","教育・研究",null,null,null,null,null,null,{"$f":"諸係数!P42","v":1.4345363757155737E-2},{"$f":"IF(入力シートその１!$B$18=\"県内産商品のみ\",0,I43*J85)","v":0},{"$f":"諸係数!S84","v":0.73094752116402517},0,{"$f":"諸係数!T84","v":0.40691700097194161},0,0.19066435332937609,1.2031301842676392,0.87942502582804771,0.48957412636100722,0.48957412636100722,null,null,{"$f":"諸係数!W84","v":3.0002283877351855E-2},9.8864412754970239,{"$f":"諸係数!P42","v":1.4345363757155737E-2},{"$f":"諸係数!Q84","v":0.95322540346489548},9.5411305974066547,9.8419076800242564,7.1939180222389121,4.0048395569981903,11.045037864291896,8.0733430480669597,4.4944136833591974,{"$f":"諸係数!X84","v":7.9943779867622411E-2},0,9.618277460318414E-2,0.7867993010493215,0.88298207565250564,{"$f":"諸係数!Y84","v":7.973034131625803E-2},0,9.5925980239551289E-2,0.78469865853143517,0.8806246387709864,"12"]
[null,"34","医療・福祉",null,null,null,null,null,null,{"$f":"諸係数!P43","v":1.1126929108232859E-2},{"$f":"IF(入力シートその１!$B$18=\"県内産商品のみ\",0,I44*J86)","v":0},{"$f":"諸係数!S85","v":0.62010398402906075},0,{"$f":"諸係数!T85","v":0.43194053220037054},0,0.82423009100815547,1.3643777321854367,0.84605606744872419,0.58933004376251219,0.58933004376251219,null,null,{"$f":"諸係数!W85","v":5.0997831925731228E-2},16.80495633507455,{"$f":"諸係数!P43","v":1.1126929108232859E-2},{"$f":"諸係数!Q85","v":0.99807482376558609},16.947947136837744,17.315351239304373,10.737318288355176,7.4792020295414767,18.679728971489808,11.583374355803901,8.068532073303988,{"$f":"諸係数!X85","v":0.11395565734796849},0,0.15547856134212193,1.9731822326858908,2.1286607940280127,{"$f":"諸係数!Y85","v":0.10951379428962116},0,0.14941818229589574,1.8962698136737159,2.0456879959696117,"12"]
[null,"35","他に分類されない会員制団体",null,null,null,null,null,null,{"$f":"諸係数!P44","v":1.2870509800893215E-7},{"$f":"IF(入力シートその１!$B$18=\"県内産商品のみ\",0,I45*J87)","v":0},{"$f":"諸係数!S86","v":0.59913467610253845},0,{"$f":"諸係数!T86","v":0.44705008154713116},0,0.49560260997530758,2.816157495617881,1.6872576089907549,1.2589634380655383,1.2589634380655383,null,null,{"$f":"諸係数!W86","v":1.0794293555287363E-2},3.5569675222419721,{"$f":"諸係数!P44","v":1.2870509800893215E-7},{"$f":"諸係数!Q86","v":0.97017396131543709},3.4508776431131025,4.1989480123713943,2.5157353573635328,1.877140051342796,7.0151055079892757,4.2029929663542873,3.1361034894083346,{"$f":"諸係数!X86","v":0.12990382589893676},0,0.36582963301473098,0.54545941155778011,0.91128904457251103,{"$f":"諸係数!Y86","v":0.12109019050829342},0,0.3410090476457277,0.50845141475247213,0.84946046239819983,"12"]
[null,"36","対事業所サービス",null,null,null,null,null,null,{"$f":"諸係数!P45","v":0.11301730172690011},{"$f":"IF(入力シートその１!$B$18=\"県内産商品のみ\",0,I46*J88)","v":0},{"$f":"諸係数!S87","v":0.62579556657895319},0,{"$f":"諸係数!T87","v":0.30164557020055588},0,86.358653346792082,225.77849036779466,141.29117830105477,68.105081466014127,68.105081466014127,null,null,{"$f":"諸係数!W87","v":1.3305072658253207E-2},4.3843268745729809,{"$f":"諸係数!P45","v":0.11301730172690011},{"$f":"諸係数!Q87","v":0.94433009601908424},4.5354009723631137,45.210687080205069,28.292647536780692,13.637603483467363,270.98917744799974,169.58382583783546,81.742684949481486,{"$f":"諸係数!X87","v":9.8742527480721015E-2},0,22.29393878969767,4.4642175114394274,26.758156301137099,{"$f":"諸係数!Y87","v":8.5607550061144524E-2},0,19.328343416890618,3.8703761575173954,23.198719574408013,"12"]
[null,"37","宿泊業",null,null,null,null,null,null,{"$f":"諸係数!P46","v":0.83048525367478598},{"$f":"IF(入力シートその１!$B$18=\"県内産商品のみ\",0,I47*J89)","v":0},{"$f":"諸係数!S88","v":0.48393543108480297},0,{"$f":"諸係数!T88","v":0.2106050879840351},0,0,0,0,0,0,null,null,{"$f":"諸係数!W88","v":9.9131889177735237E-3},3.2666233173821406,{"$f":"諸係数!P46","v":0.83048525367478598},{"$f":"諸係数!Q88","v":0.8556229913103548},5.2431921478431889,5.2431921478431889,2.5373664523269475,1.1042429436137167,5.2431921478431889,2.5373664523269475,1.1042429436137167,{"$f":"諸係数!X88","v":9.7100395767839562E-2},0,0,0.50911603264240235,0.50911603264240235,{"$f":"諸係数!Y88","v":9.1647257844331392E-2},0,0,0.48052418270075847,0.48052418270075847,"12"]
[null,"38","飲食サービス",null,null,null,null,null,null,{"$f":"諸係数!P47","v":4.8969205588953936E-2},{"$f":"IF(入力シートその１!$B$18=\"県内産商品のみ\",0,I48*J90)","v":0},{"$f":"諸係数!S89","v":0.40262380344306781},0,{"$f":"諸係数!T89","v":0.25616615104349011},0,0,4.8372735589359743E-3,1.9476014785933869E-3,1.2391457491370739E-3,1.2391457491370739E-3,null,null,{"$f":"諸係数!W89","v":6.4075989602914663E-2},21.114509514283281,{"$f":"諸係数!P47","v":4.8969205588953936E-2},{"$f":"諸係数!Q89","v":0.97278253804726267},21.248998210300748,21.530172448609527,8.6685599200443164,5.5153014074628972,21.535009722168464,8.670507521522909,5.5165405532120344,{"$f":"諸係数!X89","v":0.18282850144633195},0,8.8439147586622912E-4,3.9363291646603833,3.9372135561362493,{"$f":"諸係数!Y89","v":0.1614938090489085},0,7.8118973244414034E-4,3.4769895582058177,3.477770747938262,"12"]
[null,"39","娯楽サービス",null,null,null,null,null,null,{"$f":"諸係数!P48","v":0.12815539989027602},{"$f":"IF(入力シートその１!$B$18=\"県内産商品のみ\",0,I49*J91)","v":0},{"$f":"諸係数!S90","v":0.70473677256650158},0,{"$f":"諸係数!T90","v":0.20594369297166207},0,9.1913884983834768E-3,0.8805858786203109,0.62058125006651499,0.18135110782176259,0.18135110782176259,null,null,{"$f":"諸係数!W90","v":2.6903334232749185E-2},8.865266227546277,{"$f":"諸係数!P48","v":0.12815539989027602},{"$f":"諸係数!Q90","v":0.96786759470267281},9.6403336476778385,10.19998371290667,7.1883036020647282,2.100622314086805,11.080569591526981,7.8088848521312428,2.2819734219085674,{"$f":"諸係数!X90","v":8.4623240220823223E-2},0,7.4518030341551245E-2,0.86315567198578558,0.93767370232733682,{"$f":"諸係数!Y90","v":7.7825509112839988E-2},0,6.8532044321203217E-2,0.7938189253996375,0.86235096972084069,"12"]
[null,"40","その他の対個人サービス",null,null,null,null,null,null,{"$f":"諸係数!P49","v":1.9054859215600361E-2},{"$f":"IF(入力シートその１!$B$18=\"県内産商品のみ\",0,I50*J92)","v":0},{"$f":"諸係数!S91","v":0.70388046516114311},0,{"$f":"諸係数!T91","v":0.25105283539900736},0,0.63674798442749514,1.6565728161310584,1.1660292443916342,0.4158873025346207,0.4158873025346207,null,null,{"$f":"諸係数!W91","v":3.5488967953765022E-2},11.694429631997142,{"$f":"諸係数!P49","v":1.9054859215600361E-2},{"$f":"諸係数!Q91","v":0.99449306565911544},11.810510168427623,12.669237384575164,8.9176287034917099,3.1806479677406991,14.325810200706222,10.083657947883344,3.5965352702753197,{"$f":"諸係数!X91","v":0.18243321336719925},0,0.30221390202353954,2.3112896869798982,2.6135035890034377,{"$f":"諸係数!Y91","v":0.12385819279400828},0,0.20518011523767388,1.5691888465317678,1.7743689617694418,"12"]
[null,"41","事務用品",null,null,null,null,null,null,{"$f":"諸係数!P50","v":0},{"$f":"IF(入力シートその１!$B$18=\"県内産商品のみ\",0,I51*J93)","v":0},{"$f":"諸係数!S92","v":0},0,{"$f":"諸係数!T92","v":0},0,2.1056187768471943,4.4301698344181286,0,0,0,null,null,{"$f":"諸係数!W92","v":0},0,{"$f":"諸係数!P50","v":0},{"$f":"諸係数!Q92","v":1},0,0.84001100758220537,0,0,5.2701808420003342,0,0,{"$f":"諸係数!X92","v":0},0,0,0,0,{"$f":"諸係数!Y92","v":0},0,0,0,0,"03"]
[null,"42","分類不明",null,null,null,null,null,null,{"$f":"諸係数!P51","v":0},{"$f":"IF(入力シートその１!$B$18=\"県内産商品のみ\",0,I52*J94)","v":0},{"$f":"諸係数!S93","v":0.41138799256613812},0,{"$f":"諸係数!T93","v":1.0613949791786557E-2},0,9.0555592172543111,18.205762930140999,7.4896322649657181,0.19323505366168547,0.19323505366168547,null,null,{"$f":"諸係数!W93","v":3.2813595094730207E-5},1.0812832858597075E-2,{"$f":"諸係数!P51","v":0},{"$f":"諸係数!Q93","v":0.98800881506953109},1.0683174180167386E-2,2.5191737590007381,1.0363578356406058,2.6738383794820044E-2,20.724936689141735,8.5259901006063235,0.21997343745650552,{"$f":"諸係数!X93","v":2.3061573427616169E-3},0,4.1985353861921912E-2,5.8096110620119365E-3,4.7794964923933848E-2,{"$f":"諸係数!Y93","v":2.2959805164217252E-3},0,4.1800076974196632E-2,5.7839738681465733E-3,4.7584050842343205E-2,"13"]
[null,null,"福岡県計",{"$f":"SUM(D11:D52)","v":5000},null,1304.1393685412454,null,204.14552376427673,5000,null,{"$f":"SUM(K11:K52)","v":1869.8100561795954},null,{"$f":"SUM(M11:M52)","v":1123.6783539317471},null,419.54013149216496,{"$f":"SUM(P11:P52)","v":429.34897754607363},{"$f":"SUM(Q11:Q52)","v":599.71430971016218},{"$f":"SUM(R11:R52)","v":335.81178611244007},126.92299648293343,{"$f":"SUM(T11:T52)","v":546.46312797509813},{"$f":"諸係数!U94","v":0.47309628504586998},{"$f":"T95*入力シートその１!D38","v":258.52967575956473},null,{"$f":"SUM(X11:X52)","v":258.52967575956473},null,null,{"$f":"SUM(AA11:AA52)","v":189.20941783470124},249.51016885087628,159.67387366784521,54.172780540081348,{"$f":"SUM(AE11:AE52)","v":2719.0345347406342},{"$f":"SUM(AF11:AF52)","v":1619.164013712033},600.63590851517984,null,351.44492389225513,45.325796136635702,17.961278623419048,414.73199865230981,null,148.84977136915748,35.944871960981288,15.749422427164017,200.5440657573028]
[null,null,"県外計",null,null,null,null,null,null,null,{"$f":"SUM(K53:K94)","v":2208.0762425890762},null,{"$f":"SUM(M53:M94)","v":1119.4658729208743},null,315.5952572804336,{"$f":"SUM(P53:P94)","v":1180.3090645739524},{"$f":"SUM(Q53:Q94)","v":2174.3505594668713},{"$f":"SUM(R53:R94)","v":1035.6291792153409},366.07812896873327,{"$f":"SUM(T53:T94)","v":681.67338624916704},{"$f":"諸係数!U95","v":0.48340299449835739},{"$f":"T96*入力シートその１!D39","v":329.52295618268272},null,{"$f":"SUM(X53:X94)","v":329.52295618268278},null,null,{"$f":"SUM(AA53:AA94)","v":364.8089424021245},610.47868662396706,342.20441438813532,119.26417694282074,{"$f":"SUM(AE53:AE94)","v":4992.905488679914},{"$f":"SUM(AF53:AF94)","v":2497.2994665243496},800.93756319198781,null,620.93449752900096,205.19228378293278,43.779595405937478,869.90637671787158,null,120.99509627118903,105.7816317435384,34.983225034852346,261.75995304957974]
[null,null,"合計",{"$f":"SUM(D95:D96)","v":5000},null,1304.1393685412454,null,204.14552376427673,5000,null,{"$f":"SUM(K95:K96)","v":4077.8862987686716},null,{"$f":"SUM(M95:M96)","v":2243.1442268526216},null,735.13538877259862,{"$f":"SUM(P95:P96)","v":1609.658042120026},{"$f":"SUM(Q95:Q96)","v":2774.0648691770334},{"$f":"SUM(R95:R96)","v":1371.440965327781},493.00112545166667,{"$f":"SUM(T95:T96)","v":1228.1365142242653},null,{"$f":"SUM(V95:V96)","v":588.05263194224744},null,{"$f":"SUM(X95:X96)","v":588.05263194224744},null,null,{"$f":"SUM(AA95:AA96)","v":554.01836023682574},859.98885547484338,{"$f":"SUM(AC95:AC96)","v":501.87828805598053},173.43695748290207,7711.9400234205477,{"$f":"SUM(AF95:AF96)","v":4116.4634802363826},1401.5734717071678,null,972.3794214212561,250.51807991956849,61.740874029356526,1284.6383753701814,null,269.84486764034648,141.7265037045197,50.732647462016359,462.30401880688254]
[null,null,null,"※１　商業マージン率及び貨物運賃率は、「平成27年産業連関表（全国表）」中の需要合計のマージン額より求めた。"]
[null,null,null,"※２　商業部門及び運輸部門は、他部門からの商業マージン、貨物運賃が加算された額。"]
[null,null,null,"※３　自給率を加味した投入係数　Ａ－ＭＡ※　（Ａ：投入係数　Ａ※：投入係数（自地域）　Ｍ：輸入係数）"]
[null,null,null,"※４　民間消費支出におけるマイナス値は屑・副産物発生額であるため、民間消費支出比率算出の際はゼロに置き換えた。"]

{"sheet":"諸係数","index":4,"n_rows":97,"n_cols":25,"rows_kept":97,"cut":false,"hidden":false,"merged":[[9,0,50,0],[51,0,92,0]]}
[]
[]
[]
[]
[]
["諸係数"]
[null,null,null,"係数Ａ","係数Ｂ","基礎データ（百万円・人）",null,null,null,null,null,null,null,null,null,"係数Ｃ",null,null,"係数Ｄ","係数Ｅ","係数Ｆ",null,"係数Ｇ","係数Ｈ","係数Ｉ"]
[null,null,null,"商業マージン率","貨物運賃率","域内需要合計","輸入","移入","域内生産額","粗付加価値額","賃金・俸給","民間消費支出","従業者総数","有給役員・雇用者数","輸入率","移入率","自給率","輸入/(自給+輸入)","粗付加価値率","賃金・俸給率","消費転換率","民間消費支出'","民間消費支出比率","就業係数","雇用係数"]
[null,null,null,null,null,"a","b","c","d","e","f","g","h","i","j=b/a","k=c/a","l=1-j-k","m=j/(j+l)","n=e/d","o=f/d","p","q","qの構成比","r=h/d","s=i/d"]
["福岡県","01","農業",0.26082787370824906,4.0829104752855346E-2,{"$f":"取引基本表!CU7+取引基本表!CU50","v":455990.15},{"$f":"-取引基本表!DF7","v":118521.13},{"$f":"取引基本表!CU50","v":219508.1},{"$f":"取引基本表!DG7","v":249119.91},{"$f":"TRANSPOSE(取引基本表!E102:AT102)","v":128527.28},{"$f":"TRANSPOSE(取引基本表!E95:AT95)","v":28578.33},{"$f":"取引基本表!CO7+取引基本表!CO50","v":116065.17},68965,15214,{"$f":"G10/F10","v":0.25992037327999301},{"$f":"H10/F10","v":0.48138781067968245},{"$f":"1-O10-P10","v":0.25869181604032448},{"$f":"O10/(O10+Q10)","v":0.50118446622058632},{"$f":"J10/I10","v":0.51592536301092917},{"$f":"K10/I10","v":0.11471716572151941},null,{"$f":"IF(L10<0,0,L10)","v":116065.17},{"$f":"V10/$V$94","v":1.1473882339373777E-2},{"$f":"M10/$I10","v":0.27683455730214418},{"$f":"N10/$I10","v":6.1070991876963986E-2}]
[null,"02","林業",0.21797701872036809,3.1804802074933601E-2,{"$f":"取引基本表!CU8+取引基本表!CU51","v":19445.57},{"$f":"-取引基本表!DF8","v":4741.6000000000004},{"$f":"取引基本表!CU51","v":8712.59},{"$f":"取引基本表!DG8","v":16053.01},8850.73,2176.48,{"$f":"取引基本表!CO8+取引基本表!CO51","v":6622.41},2595,867,{"$f":"G11/F11","v":0.24383959945632863},{"$f":"H11/F11","v":0.44805012144154172},{"$f":"1-O11-P11","v":0.30811027910212968},{"$f":"O11/(O11+Q11)","v":0.44177851817482189},{"$f":"J11/I11","v":0.55134395356384869},{"$f":"K11/I11","v":0.13558080384924695},null,6622.41,{"$f":"V11/$V$94","v":6.5467317321029467E-4},0.16165192695949232,5.4008562880107844E-2]
[null,"03","漁業",0.24930029364152415,3.3308393561263416E-2,{"$f":"取引基本表!CU9+取引基本表!CU52","v":51666.880000000005},{"$f":"-取引基本表!DF9","v":13081.25},{"$f":"取引基本表!CU52","v":29744.06},{"$f":"取引基本表!DG9","v":30664.560000000001},15417.13,3261.17,{"$f":"取引基本表!CO9+取引基本表!CO52","v":11882.130000000001},5150,1295,0.25318443846425404,0.57568910683207497,0.17112645470367094,0.59669558934480138,0.50276703790956068,0.10634980576926589,null,11882.130000000001,1.1746345743614845E-3,0.16794631979066388,4.2231161966778584E-2]
[null,"04","鉱業",2.2528180695691236E-2,6.6403067077407646E-2,{"$f":"取引基本表!CU10+取引基本表!CU53","v":424439.2},{"$f":"-取引基本表!DF10","v":398803.38},{"$f":"取引基本表!CU53","v":13280.49},{"$f":"取引基本表!DG10","v":26798.63},12828.2,3581.6,{"$f":"取引基本表!CO10+取引基本表!CO53","v":-210.47},888,883,0.93960072490948054,3.1289499179152157E-2,2.9109775911367299E-2,0.9699499738191123,0.47868864938244976,0.13364862308259787,null,0,0,3.3136022251883772E-2,3.2949445550015055E-2]
[null,"05","飲食料品",0.32257496101304423,3.2171338179978581E-2,{"$f":"取引基本表!CU11+取引基本表!CU54","v":1510662.27},{"$f":"-取引基本表!DF11","v":202757.76000000001},{"$f":"取引基本表!CU54","v":866753.84},{"$f":"取引基本表!DG11","v":1587560.15},738661.35,164921.91,{"$f":"取引基本表!CO11+取引基本表!CO54","v":903895.71},58417,56623,0.13421779574861561,0.57375752159349291,0.2920246826578915,0.31488601570257441,0.46528085880714504,0.10388388118711597,null,903895.71,8.9356634928503709E-2,3.6796716017342718E-2,3.5666680093979435E-2]
[null,"06","繊維製品",0.43944914757410253,2.4548546158944525E-2,{"$f":"取引基本表!CU12+取引基本表!CU55","v":260038.04},{"$f":"-取引基本表!DF12","v":110065.68},{"$f":"取引基本表!CU55","v":135432.89000000001},{"$f":"取引基本表!DG12","v":47847.68},19638.05,11411.34,{"$f":"取引基本表!CO12+取引基本表!CO55","v":143464.35999999999},6241,4772,0.42326761115412187,0.5208195308655611,5.5912857980317088E-2,0.88331565749890739,0.41042846800513627,0.23849306800246114,null,143464.35999999999,1.4182490634645705E-2,0.13043474626146973,9.9733153206174263E-2]
[null,"07","パルプ・紙・木製品",0.23349686800485506,5.8003940153580597E-2,{"$f":"取引基本表!CU13+取引基本表!CU56","v":400453.19},{"$f":"-取引基本表!DF13","v":80759.509999999995},{"$f":"取引基本表!CU56","v":247888.52},{"$f":"取引基本表!DG13","v":215083.2},87240.52,41375.21,{"$f":"取引基本表!CO13+取引基本表!CO56","v":11990.02},13544,12372,0.2016702876058997,0.61901996585418628,0.17930974653991405,0.52934607992794125,0.40561289770656195,0.19236839511407677,null,11990.02,1.1853002819600263E-3,6.297098053218475E-2,5.7521926398714542E-2]
[null,"08","化学製品",0.20029497135644653,2.6939157259421205E-2,{"$f":"取引基本表!CU14+取引基本表!CU57","v":940592.08000000007},{"$f":"-取引基本表!DF14","v":222866.95},{"$f":"取引基本表!CU57","v":618616.99},{"$f":"取引基本表!DG14","v":540753.36},190231.67999999999,45904.54,{"$f":"取引基本表!CO14+取引基本表!CO57","v":101572.58},8677,8669,0.23694325599679725,0.65768892079125307,0.10536782321194971,0.69218693284626454,0.35179010260796162,8.4889976458028857E-2,null,101572.58,1.0041184894888191E-2,1.6046132380943504E-2,1.6031338205647026E-2]
[null,"09","石油・石炭製品",0.19636393192438267,2.1219492730162302E-2,{"$f":"取引基本表!CU15+取引基本表!CU58","v":615811.85},{"$f":"-取引基本表!DF15","v":86747.48},{"$f":"取引基本表!CU58","v":474764.61},{"$f":"取引基本表!DG15","v":121200.99},18869.95,4105.18,{"$f":"取引基本表!CO15+取引基本表!CO58","v":179552.1},704,704,0.14086685730389892,0.77095724936114818,8.8175893334952904E-2,0.61502429966017058,0.1556913850291157,3.3870845444414273E-2,null,179552.1,1.7750025000501653E-2,5.8085334121445705E-3,5.8085334121445705E-3]
[null,"10","プラスチック・ゴム製品",0.18202198670756728,3.0404336512004349E-2,{"$f":"取引基本表!CU16+取引基本表!CU59","v":441176.8},{"$f":"-取引基本表!DF16","v":80931.12},{"$f":"取引基本表!CU59","v":229479.25},{"$f":"取引基本表!DG16","v":482272.25},180133.2,71705.149999999994,{"$f":"取引基本表!CO16+取引基本表!CO59","v":32603.86},18773,18274,0.18344373502867783,0.52015257828607486,0.2964036866852473,0.38229596894248419,0.37350936115441019,0.148681890778497,null,32603.86,3.2231276053739043E-3,3.8926145968381967E-2,3.789146068429191E-2]
[null,"11","窯業・土石製品",0.17440420627094513,5.2555253025537728E-2,{"$f":"取引基本表!CU17+取引基本表!CU60","v":206814.52000000002},{"$f":"-取引基本表!DF17","v":26257.37},{"$f":"取引基本表!CU60","v":89315.38},{"$f":"取引基本表!DG17","v":298825.51},136538.45000000001,48486.46,{"$f":"取引基本表!CO17+取引基本表!CO60","v":5130.9799999999996},11599,11309,0.12696095999449167,0.4318622309497418,0.44117680905576656,0.22346861432347498,0.45691698141835352,0.16225676315251666,null,5130.9799999999996,5.0723452010349062E-4,3.8815293915168088E-2,3.7844827906426057E-2]
[null,"12","鉄鋼",5.915135091480242E-2,2.707816710740028E-2,{"$f":"取引基本表!CU18+取引基本表!CU61","v":1336528.6499999999},{"$f":"-取引基本表!DF18","v":46370.55},{"$f":"取引基本表!CU61","v":474524.49},{"$f":"取引基本表!DG18","v":1862169.09},485988.62,74512.179999999993,{"$f":"取引基本表!CO18+取引基本表!CO61","v":-1188.8799999999999},12728,12499,3.4694766924749432E-2,0.35504251255668934,0.61026272051856112,5.3793881922797236E-2,0.26097985548670016,4.0013648814243817E-2,null,0,0,6.8350398835156263E-3,6.7120650144611733E-3]
[null,"13","非鉄金属",0.10162141323543349,2.9411655995861995E-2,{"$f":"取引基本表!CU19+取引基本表!CU62","v":223698.11},{"$f":"-取引基本表!DF19","v":78440.14},{"$f":"取引基本表!CU62","v":124759.73},{"$f":"取引基本表!DG19","v":116862.7},29846.26,10427.719999999999,{"$f":"取引基本表!CO19+取引基本表!CO62","v":5906.49},2387,2342,0.35065177796987201,0.55771472543956679,9.1633496590561192E-2,0.79281811567967875,0.25539594755212741,8.9230524367484229E-2,null,5906.49,5.8389929811577255E-4,2.0425679023332508E-2,2.0040611760638767E-2]
[null,"14","金属製品",0.13281570784749258,4.3831298767209842E-2,{"$f":"取引基本表!CU20+取引基本表!CU63","v":341037.58999999997},{"$f":"-取引基本表!DF20","v":42541.9},{"$f":"取引基本表!CU63","v":167154.25},{"$f":"取引基本表!DG20","v":339779.01},149306.9,78888.45,{"$f":"取引基本表!CO20+取引基本表!CO63","v":9617.34},21557,21037,0.12474255403927763,0.49013438665221631,0.3851230593085061,0.24465771131380393,0.43942355356206375,0.23217576035670948,null,9617.34,9.5074368630789928E-4,6.3444178026182366E-2,6.1913771542273899E-2]
[null,"15","はん用機械",0.1028494212078634,1.3194883965273208E-2,{"$f":"取引基本表!CU21+取引基本表!CU64","v":225204.40000000002},{"$f":"-取引基本表!DF21","v":37741.79},{"$f":"取引基本表!CU64","v":172508.57},{"$f":"取引基本表!DG21","v":129347.06},57144.639999999999,28554.97,{"$f":"取引基本表!CO21+取引基本表!CO64","v":456.87},6670,6577,0.1675890435533231,0.76600887904499193,6.6402077401684911E-2,0.71621967051282787,0.44179311072087762,0.22076242011221595,null,456.87,4.5164907132688447E-5,5.1566691968105038E-2,5.0847696113077483E-2]
[null,"16","生産用機械",0.12245219012281004,1.1635144444581075E-2,{"$f":"取引基本表!CU22+取引基本表!CU65","v":322631.02999999997},{"$f":"-取引基本表!DF22","v":54149.32},{"$f":"取引基本表!CU65","v":215584.27},{"$f":"取引基本表!DG22","v":339778},155325.39000000001,64855.21,{"$f":"取引基本表!CO22+取引基本表!CO65","v":213.39},14049,13831,0.16783667708589595,0.66820686776470328,0.16395645514940083,0.50584735119493585,0.457137866489296,0.19087524795601835,null,213.39,2.1095146394038541E-5,4.1347585776595308E-2,4.0705990381955277E-2]
[null,"17","業務用機械",0.17571592604245978,1.3860496878000344E-2,{"$f":"取引基本表!CU23+取引基本表!CU66","v":230314.46999999997},{"$f":"-取引基本表!DF23","v":36447.67},{"$f":"取引基本表!CU66","v":186498.52},{"$f":"取引基本表!DG23","v":25822.13},10908.54,5568.39,{"$f":"取引基本表!CO23+取引基本表!CO66","v":3301.15},1300,1282,0.15825175899716593,0.80975598276565086,3.1992258237183213E-2,0.83183566714860713,0.42244927122588261,0.21564410062221823,null,3301.15,3.2634257705928266E-4,5.0344413880651979E-2,4.964733738076603E-2]
[null,"18","電子部品",5.8936764006462181E-2,9.511640978592693E-3,{"$f":"取引基本表!CU24+取引基本表!CU67","v":195335.47},{"$f":"-取引基本表!DF24","v":115452.93},{"$f":"取引基本表!CU67","v":57310.879999999997},{"$f":"取引基本表!DG24","v":272930.69},92775.34,38615.72,{"$f":"取引基本表!CO24+取引基本表!CO67","v":5546.39},8219,8177,0.59104949039721255,0.29339720021151305,0.11555330939127439,0.83646638617075408,0.33992271078052816,0.1414854445280595,null,5546.39,5.4830080607540851E-4,3.0113872500010901E-2,2.9959987277356021E-2]
[null,"19","電気機械",0.17344672221905641,9.1142445996991728E-3,{"$f":"取引基本表!CU25+取引基本表!CU68","v":490291.28},{"$f":"-取引基本表!DF25","v":121118.74},{"$f":"取引基本表!CU68","v":284371.7},{"$f":"取引基本表!DG25","v":273593.12},109400.23,55551.43,{"$f":"取引基本表!CO25+取引基本表!CO68","v":108857.18},13056,12995,0.24703425278132624,0.58000562441167625,0.17296012280699746,0.58818466898582455,0.39986469689003873,0.20304395812292356,null,108857.18,1.0761320343700287E-2,4.7720498234750934E-2,4.7497539411809772E-2]
[null,"20","情報通信機器",0.17793432092939027,7.9091600037316089E-3,{"$f":"取引基本表!CU26+取引基本表!CU69","v":401104.36},{"$f":"-取引基本表!DF26","v":185003.74},{"$f":"取引基本表!CU69","v":212450.88},{"$f":"取引基本表!DG26","v":9144.68},3637.41,1369.87,{"$f":"取引基本表!CO26+取引基本表!CO69","v":136048.59},408,408,0.46123592373815131,0.52966484832027261,9.0992279415760269E-3,0.98065373615159412,0.39776241486853553,0.14979966494180222,null,136048.59,1.3449388081693275E-2,4.4616104664132586E-2,4.4616104664132586E-2]
[null,"21","輸送機械",8.6643705768600074E-2,1.5744121851926307E-2,{"$f":"取引基本表!CU27+取引基本表!CU70","v":2352713.0699999998},{"$f":"-取引基本表!DF27","v":210591.95},{"$f":"取引基本表!CU70","v":1693168.7},{"$f":"取引基本表!DG27","v":3146575.65},523548.03,171019.04,{"$f":"取引基本表!CO27+取引基本表!CO70","v":199062.82},30229,30087,8.9510256344178862E-2,0.71966646574543836,0.19082327791038278,0.3192991397985856,0.16638660189212359,5.4350843273067349E-2,null,199062.82,1.967880092558294E-2,9.6069516078534454E-3,9.5618231838792752E-3]
[null,"22","その他の製造工業製品",0.31630659187034799,3.5669638098325747E-2,{"$f":"取引基本表!CU28+取引基本表!CU71","v":410591.64},{"$f":"-取引基本表!DF28","v":61973.78},{"$f":"取引基本表!CU71","v":255356.2},{"$f":"取引基本表!DG28","v":281447.09999999998},132449.42000000001,58153.97,{"$f":"取引基本表!CO28+取引基本表!CO71","v":107005.28},19166,16864,0.15093775411501315,0.62192255059065504,0.22713969529433176,0.39922442967920219,0.47060147359841342,0.20662486840333408,null,107005.28,1.0578246621374405E-2,6.80980546610713E-2,5.9918897725362963E-2]
[null,"23","建設",0,0,{"$f":"取引基本表!CU29+取引基本表!CU72","v":1988292.88},{"$f":"-取引基本表!DF29","v":0},{"$f":"取引基本表!CU72","v":0},{"$f":"取引基本表!DG29","v":1988292.88},994099.82,644108.39,{"$f":"取引基本表!CO29+取引基本表!CO72","v":0},193750,151824,0,0,1,0,0.49997655275011599,0.32395045844553849,null,0,0,9.7445402510318302E-2,7.635897182310486E-2]
[null,"24","電力・ガス・熱供給",0,0,{"$f":"取引基本表!CU30+取引基本表!CU73","v":891795.94},{"$f":"-取引基本表!DF30","v":28.31},{"$f":"取引基本表!CU73","v":181547.48},{"$f":"取引基本表!DG30","v":714411.29},278500.18,64659.34,{"$f":"取引基本表!CO30+取引基本表!CO73","v":262947.15000000002},9938,9938,3.1744930348079405E-5,0.20357513625818932,0.79639311881146257,3.9859290930387941E-5,0.38983171724511795,9.0507164297473505E-2,null,262947.15000000002,2.5994229453794516E-2,1.3910754405910913E-2,1.3910754405910913E-2]
[null,"25","水道",0,0,{"$f":"取引基本表!CU31+取引基本表!CU74","v":177984.56999999998},{"$f":"-取引基本表!DF31","v":48.03},{"$f":"取引基本表!CU74","v":10277.299999999999},{"$f":"取引基本表!DG31","v":175921.67},92886.33,28954.34,{"$f":"取引基本表!CO31+取引基本表!CO74","v":71800.77},4899,4899,2.6985485314822517E-4,5.7742645893405255E-2,0.94198749925344649,2.8639187794303732E-4,0.52799822784765515,0.16458654581894316,null,71800.77,7.0980259353985225E-3,2.7847621046344091E-2,2.7847621046344091E-2]
[null,"26","廃棄物処理",0,0,{"$f":"取引基本表!CU32+取引基本表!CU75","v":166025.18},{"$f":"-取引基本表!DF32","v":9.58},{"$f":"取引基本表!CU75","v":748.88},{"$f":"取引基本表!DG32","v":177720.6},115983.85,72022,{"$f":"取引基本表!CO32+取引基本表!CO75","v":17449.079999999998},14948,14504,5.7702090731056583E-5,4.510641096730026E-3,0.99543165681253887,5.7963543472355085E-5,0.65261905485351723,0.4052540898466469,null,17449.079999999998,1.7249678852865175E-3,8.4109551734576626E-2,8.1611248217708016E-2]
[null,"27","商業",null,0,{"$f":"取引基本表!CU33+取引基本表!CU76","v":2963216.0300000003},{"$f":"-取引基本表!DF33","v":5934.26},{"$f":"取引基本表!CU76","v":1150222.24},{"$f":"取引基本表!DG33","v":4159975.46},2990431.77,1448402.84,{"$f":"取引基本表!CO33+取引基本表!CO76","v":1590290.63},475545,437783,2.0026417041217204E-3,0.3881668526205968,0.60983050567528152,3.2731827503943074E-3,0.71885803143656046,0.34817581351789995,null,1590290.63,0.15721174211030403,0.11431437626797923,0.10523691887355509]
[null,"28","金融・保険",0,0,{"$f":"取引基本表!CU34+取引基本表!CU77","v":1088879.3800000001},{"$f":"-取引基本表!DF34","v":43822.87},{"$f":"取引基本表!CU77","v":124331.72},{"$f":"取引基本表!DG34","v":997480.4},706380.49,294310.96999999997,{"$f":"取引基本表!CO34+取引基本表!CO77","v":507957.89},51349,49425,4.0245844310138369E-2,0.11418318895890929,0.84557096673095233,4.543359734033256E-2,0.70816478198468857,0.29505438903862169,null,507957.89,5.0215314923646497E-2,5.1478705747000142E-2,4.9549845791456153E-2]
[null,"29","不動産",0,0,{"$f":"取引基本表!CU35+取引基本表!CU78","v":2595671.7200000002},{"$f":"-取引基本表!DF35","v":55.96},{"$f":"取引基本表!CU78","v":25252.79},{"$f":"取引基本表!DG35","v":2664072.23},2218664.35,209743.88,{"$f":"取引基本表!CO35+取引基本表!CO78","v":2045364.48},42459,36364,2.1558966632344398E-5,9.7288073084989338E-3,0.99024963372486874,2.1770770261172949E-5,0.83280938294980089,7.873055303759538E-2,null,2045364.48,0.20219908681178367,1.5937630940284227E-2,1.3649780058703589E-2]
[null,"30","運輸・郵便",0,null,{"$f":"取引基本表!CU36+取引基本表!CU79","v":1746463.22},{"$f":"-取引基本表!DF36","v":102095.98},{"$f":"取引基本表!CU79","v":179513.47},{"$f":"取引基本表!DG36","v":2276842.8199999998},1142804.58,518761.71,{"$f":"取引基本表!CO36+取引基本表!CO79","v":426430.68999999994},139243,132843,5.8458706047070375E-2,0.10278685971983996,0.83875443423308971,6.5155873696651725E-2,0.50192510873455909,0.22784256578589823,null,426430.68999999994,4.2155760965653807E-2,6.1156175901505579E-2,5.8345266011818948E-2]
[null,"31","情報通信",4.1768910156901172E-2,4.1083551813920855E-3,{"$f":"取引基本表!CU37+取引基本表!CU80","v":1700475.75},{"$f":"-取引基本表!DF37","v":71958.880000000005},{"$f":"取引基本表!CU80","v":235600.71},{"$f":"取引基本表!DG37","v":1645359.26},828237.7,224502.9,{"$f":"取引基本表!CO37+取引基本表!CO80","v":508268.69},44394,41455,4.2316910429331327E-2,0.13854987934994073,0.81913321022072805,4.912287945052296E-2,0.50337802821251332,0.13644612788091035,null,508268.69,5.0246039753766313E-2,2.6981341448797023E-2,2.5195105414242479E-2]
[null,"32","公務",0,0,{"$f":"取引基本表!CU38+取引基本表!CU81","v":1339725.32},{"$f":"-取引基本表!DF38","v":0},{"$f":"取引基本表!CU81","v":0},{"$f":"取引基本表!DG38","v":1339725.32},922691.26,380175.57,{"$f":"取引基本表!CO38+取引基本表!CO81","v":33873.06},72576,72576,0,0,1,0,0.68871674381730719,0.28377128081747383,null,33873.06,3.3485972140871226E-3,5.417229854251019E-2,5.417229854251019E-2]
[null,"33","教育・研究",0,1.3798717042961616E-5,{"$f":"取引基本表!CU39+取引基本表!CU82","v":1580890.55},{"$f":"-取引基本表!DF39","v":63530.15},{"$f":"取引基本表!CU82","v":22678.45},{"$f":"取引基本表!DG39","v":1570033.29},1178747.51,662226.48,{"$f":"取引基本表!CO39+取引基本表!CO82","v":319458.20999999996},113971,113789,4.0186305117707231E-2,1.4345363757155737E-2,0.94546833112513695,4.0771182562373894E-2,0.75077867297960288,0.42179136214366508,null,{"$f":"IF(L42<0,0,L42)","v":319458.20999999996},3.1580756861743782E-2,{"$f":"M42/$I42","v":7.2591454414320092E-2},{"$f":"N42/$I42","v":7.2475533305411635E-2}]
[null,"34","医療・福祉",0,0,{"$f":"取引基本表!CU40+取引基本表!CU83","v":2916396.7600000002},{"$f":"-取引基本表!DF40","v":111.76},{"$f":"取引基本表!CU83","v":32450.54},{"$f":"取引基本表!DG40","v":3004895.06},1876168.35,1302302.45,{"$f":"取引基本表!CO40+取引基本表!CO83","v":616587.88},334669,322116,3.8321260513264316E-5,1.1126929108232859E-2,0.98883474963125384,3.8752456347816358E-5,0.62437067269830049,0.43339365401998431,null,616587.88,6.0954175891043953E-2,0.11137460487555262,0.10719708794090134]
[null,"35","他に分類されない会員制団体",0,0,{"$f":"取引基本表!CU41+取引基本表!CU84","v":155394},{"$f":"-取引基本表!DF41","v":4019.14},{"$f":"取引基本表!CU84","v":0.02},{"$f":"取引基本表!DG41","v":158754.88},100682.69,78107.960000000006,{"$f":"取引基本表!CO41+取引基本表!CO84","v":113027},20491,18887,2.5864190380580975E-2,1.2870509800893215E-7,0.97413568091432101,2.586419370943456E-2,0.63420217381664112,0.49200352140356257,null,113027,1.1173537239228615E-2,0.12907319762390926,0.11896957120310254]
[null,"36","対事業所サービス",0,0,{"$f":"取引基本表!CU42+取引基本表!CU85","v":2536241.0500000003},{"$f":"-取引基本表!DF42","v":118475.31},{"$f":"取引基本表!CU85","v":286639.12},{"$f":"取引基本表!DG42","v":2648168.84},1626481.88,752603,{"$f":"取引基本表!CO42+取引基本表!CO85","v":136803.51},288475,256189,4.6712953407957808E-2,0.11301730172690011,0.84026974486514217,5.2665010827048844E-2,0.61419115557601678,0.28419751362983336,null,136803.51,1.352401738913874E-2,0.1089337642081764,9.6741943387567392E-2]
[null,"37","宿泊業",0,0,{"$f":"取引基本表!CU43+取引基本表!CU86","v":178141.66999999998},{"$f":"-取引基本表!DF43","v":18712.95},{"$f":"取引基本表!CU86","v":147944.03},{"$f":"取引基本表!DG43","v":142603.64000000001},74698.259999999995,38075.58,{"$f":"取引基本表!CO43+取引基本表!CO86","v":115344.01},16518,16001,0.1050453271264382,0.83048525367478598,6.4469419198775801E-2,0.619682531482593,0.52381734435390281,0.26700286191853168,null,115344.01,1.140259045234287E-2,0.11583154539393244,0.11220611198984821]
[null,"38","飲食サービス",0,0,{"$f":"取引基本表!CU44+取引基本表!CU87","v":842790.27},{"$f":"-取引基本表!DF44","v":14000.66},{"$f":"取引基本表!CU87","v":41270.769999999997},{"$f":"取引基本表!DG44","v":1099969.55},445147.78,274326.03000000003,{"$f":"取引基本表!CO44+取引基本表!CO87","v":566643.18999999994},196321,173446,1.6612270571182555E-2,4.8969205588953936E-2,0.93441852383986357,1.7467647387243851E-2,0.40469100258275331,0.24939420368500204,null,566643.18999999994,5.6016781696588379E-2,0.17847857697515354,0.1576825467577716]
[null,"39","娯楽サービス",0,0,{"$f":"取引基本表!CU45+取引基本表!CU88","v":370675.68000000005},{"$f":"-取引基本表!DF45","v":6628.68},{"$f":"取引基本表!CU88","v":47504.09},{"$f":"取引基本表!DG45","v":416968.27},285838.25,52118.16,{"$f":"取引基本表!CO45+取引基本表!CO88","v":323609.52},29632,27504,1.7882694651022154E-2,0.12815539989027602,0.85396190545870188,2.0511332694807732E-2,0.68551559091055059,0.12499310798876855,null,323609.52,3.1991143909764014E-2,7.1065359481669907E-2,6.5961853644163376E-2]
[null,"40","その他の対個人サービス",7.8840719686758658E-5,2.7952618798032613E-5,{"$f":"取引基本表!CU46+取引基本表!CU89","v":437085.36},{"$f":"-取引基本表!DF46","v":1107.06},{"$f":"取引基本表!CU89","v":8328.6},{"$f":"取引基本表!DG46","v":478448.84},328396.21999999997,102278.04,{"$f":"取引基本表!CO46+取引基本表!CO89","v":370601.22},95175,63817,2.53282333684203E-3,1.9054859215600361E-2,0.97841231744755763,2.5820234297880221E-3,0.68637687573868911,0.21377006578174584,null,370601.22,3.6636613663757832E-2,0.19892408977310927,0.13338312200736027]
[null,"41","事務用品",0,0,{"$f":"取引基本表!CU47+取引基本表!CU90","v":52012.17},{"$f":"-取引基本表!DF47","v":0},{"$f":"取引基本表!CU90","v":0},{"$f":"取引基本表!DG47","v":52012.17},0,0,{"$f":"取引基本表!CO47+取引基本表!CO90","v":0},0,0,0,0,1,0,0,0,null,0,0,0,0]
[null,"42","分類不明",2.3505125679551809E-2,3.0097892967934352E-2,{"$f":"取引基本表!CU48+取引基本表!CU91","v":168557.42},{"$f":"-取引基本表!DF48","v":1586.09},{"$f":"取引基本表!CU91","v":0},{"$f":"取引基本表!DG48","v":172914.8},72862.16,1804.17,{"$f":"取引基本表!CO48+取引基本表!CO91","v":345.22},392,390,9.4097904441109732E-3,0,0.99059020955588906,9.4097904441109732E-3,0.42137607654174197,1.0433866852345781E-2,null,345.22,3.4127496312620017E-5,2.2670124246160538E-3,2.2554460346945432E-3]
["県外","01","農業",null,null,{"$f":"取引基本表!DC7+取引基本表!DC50","v":12403490.85},{"$f":"-取引基本表!DF50","v":2291462.87},{"$f":"取引基本表!DC7","v":128706.04},{"$f":"取引基本表!DG50","v":10240770.09},{"$f":"TRANSPOSE(取引基本表!AV102:CK102)","v":4601799.72},{"$f":"TRANSPOSE(取引基本表!AV95:CK95)","v":862647.67},{"$f":"取引基本表!CW7+取引基本表!CW50","v":3202073.83},3421463,407006,0.18474338375474356,1.0376598133258589E-2,0.80488001811199783,0.18668049220163888,0.44936071013776657,8.423660158549659E-2,null,3202073.83,{"$f":"V52/$V$95","v":1.0834598652583577E-2},0.3341021202439669,3.974369079894069E-2]
[null,"02","林業",null,null,{"$f":"取引基本表!DC8+取引基本表!DC51","v":920664.43},{"$f":"-取引基本表!DF51","v":145001.4},{"$f":"取引基本表!DC8","v":9967.17},{"$f":"取引基本表!DG51","v":784100.99},523267.27,180376.52,{"$f":"取引基本表!CW8+取引基本表!CW51","v":167527.59},184643,50172,0.15749647241177764,1.0826061782358638E-2,0.83167746580586366,0.15922020013544347,0.66734677888877558,0.2300424591990376,null,167527.59,{"$f":"V53/$V$95","v":5.6684957850724311E-4},0.23548369706815445,6.3986655596494024E-2]
[null,"03","漁業",null,null,{"$f":"取引基本表!DC9+取引基本表!DC52","v":1731657.12},{"$f":"-取引基本表!DF52","v":235091.75},{"$f":"取引基本表!DC9","v":19269.03},{"$f":"取引基本表!DG52","v":1566913.44},864235.87,248745.83,{"$f":"取引基本表!CW9+取引基本表!CW52","v":317659.87},219280,96544,0.13576114306046916,1.1127508891598584E-2,0.85311134804793221,0.13728882568904111,0.55155303920298238,0.15874892872193375,null,317659.87,1.0748400512307593E-3,0.13994391419605157,6.1614124644945291E-2]
[null,"04","鉱業",null,null,{"$f":"取引基本表!DC10+取引基本表!DC53","v":20671737.800000001},{"$f":"-取引基本表!DF53","v":19894533.620000001},{"$f":"取引基本表!DC10","v":13938.6},{"$f":"取引基本表!DG53","v":821116.37},428209.8,141268.4,{"$f":"取引基本表!CW10+取引基本表!CW53","v":-5909.53},37114,36346,0.96240257168896559,6.7428293329068834E-4,3.6923145377743723E-2,0.96305194117677351,0.52149709303688585,0.17204431084475882,null,0,0,4.5199439879636059E-2,4.4264127872642459E-2]
[null,"05","飲食料品",null,null,{"$f":"取引基本表!DC11+取引基本表!DC54","v":43945351.730000004},{"$f":"-取引基本表!DF54","v":7603531.2400000002},{"$f":"取引基本表!DC11","v":1127862.74},{"$f":"取引基本表!DG54","v":36753088.850000001},13510658.65,4073299.09,{"$f":"取引基本表!CW11+取引基本表!CW54","v":26886497.289999999},1506857,1421308,0.1730224230930282,2.5665120327846784E-2,0.80131245657912509,0.17758003608702508,0.36760607265258466,0.11082875528161219,null,26886497.289999999,9.0973669807896326E-2,4.0999465545601348E-2,3.8671797241335813E-2]
[null,"06","繊維製品",null,null,{"$f":"取引基本表!DC12+取引基本表!DC55","v":7832651.96},{"$f":"-取引基本表!DF55","v":5044455.32},{"$f":"取引基本表!DC12","v":29315.91},{"$f":"取引基本表!DG55","v":3538152.32},1424657.95,757372.66,{"$f":"取引基本表!CW12+取引基本表!CW55","v":4251113.6399999997},460336,312475,0.64402903968683434,3.7427821572707798E-3,0.35222817815589491,0.64644855580710259,0.40265591222483038,0.2140588056989022,null,4251113.6399999997,1.4384149948198931E-2,0.13010632623074861,8.8315869905793098E-2]
[null,"07","パルプ・紙・木製品",null,null,{"$f":"取引基本表!DC13+取引基本表!DC56","v":13528430.810000001},{"$f":"-取引基本表!DF56","v":2485682.4900000002},{"$f":"取引基本表!DC13","v":131573.5},{"$f":"取引基本表!DG56","v":11738545.800000001},4176059.48,1622273.79,{"$f":"取引基本表!CW13+取引基本表!CW56","v":332632.98000000004},569233,455473,0.18373767992091317,9.7257029915652129E-3,0.80653661708752167,0.18554220833154489,0.35575611759337344,0.13820057591801532,null,332632.98000000004,1.1255033544660211E-3,4.8492633559431182E-2,3.8801484251993118E-2]
[null,"08","化学製品",null,null,{"$f":"取引基本表!DC14+取引基本表!DC57","v":28442927.920000002},{"$f":"-取引基本表!DF57","v":7503221.0499999998},{"$f":"取引基本表!DC14","v":281920.32},{"$f":"取引基本表!DG57","v":27466178.640000001},9184092.3200000003,2001823.46,{"$f":"取引基本表!CW14+取引基本表!CW57","v":2438123.42},381115,379289,0.26379917957475874,9.911789700165298E-3,0.726289030725076,0.26644007759154181,0.33437823442336717,7.2883217073549181E-2,null,2438123.42,8.2496813389104327E-3,1.387579266104999E-2,1.3809310897280321E-2]
[null,"09","石油・石炭製品",null,null,{"$f":"取引基本表!DC15+取引基本表!DC58","v":18126317.150000002},{"$f":"-取引基本表!DF58","v":3264954.52},{"$f":"取引基本表!DC15","v":64785.55},{"$f":"取引基本表!DG58","v":16713411.01},5048993.05,149569.82,{"$f":"取引基本表!CW15+取引基本表!CW58","v":4907236.8999999994},22765,22760,0.18012233224110832,3.574115440212299E-3,0.81630355231867946,0.18076841944013206,0.30209231658211938,8.9490900397596346E-3,null,4907236.8999999994,1.6604221241409787E-2,1.3620798283713123E-3,1.3617806674162559E-3]
[null,"10","プラスチック・ゴム製品",null,null,{"$f":"取引基本表!DC16+取引基本表!DC59","v":13047133.199999999},{"$f":"-取引基本表!DF59","v":1872069.88},{"$f":"取引基本表!DC16","v":248512.27},{"$f":"取引基本表!DG59","v":13515714.75},5176152.8,2596161.85,{"$f":"取引基本表!CW16+取引基本表!CW59","v":864389.14},711624,672006,0.14348515120547709,1.9047270093019361E-2,0.83746757870150357,0.14627121861323852,0.38297292416592321,0.19208468793705491,null,864389.14,2.9247637339929406E-3,5.2651599501979722E-2,4.9720344978425944E-2]
[null,"11","窯業・土石製品",null,null,{"$f":"取引基本表!DC17+取引基本表!DC60","v":5912379.4800000004},{"$f":"-取引基本表!DF60","v":713917.63},{"$f":"取引基本表!DC17","v":177025.48},{"$f":"取引基本表!DG60","v":6011792.4900000002},2926539.55,1136577.54,{"$f":"取引基本表!CW17+取引基本表!CW60","v":130337.02},323690,285235,0.12074962921696629,2.9941494892002433E-2,0.84930887589103121,0.12447664607973631,0.4867998279827519,0.18905801254627136,null,130337.02,4.4101084991964679E-4,5.3842510455646149E-2,4.7445915752158639E-2]
[null,"12","鉄鋼",null,null,{"$f":"取引基本表!DC18+取引基本表!DC61","v":23466788.350000001},{"$f":"-取引基本表!DF61","v":998798.45},{"$f":"取引基本表!DC18","v":760727.05},{"$f":"取引基本表!DG61","v":25480552.91},6731478.3799999999,1288958.82,{"$f":"取引基本表!CW18+取引基本表!CW61","v":-33401.120000000003},252930,241715,4.2562213248068942E-2,3.2417177785642744E-2,0.92502060896628824,4.3988186097251483E-2,0.26418101694167673,5.0585983143801416E-2,null,0,0,9.926393704774595E-3,9.4862541191222532E-3]
[null,"13","非鉄金属",null,null,{"$f":"取引基本表!DC19+取引基本表!DC62","v":9842601.8899999987},{"$f":"-取引基本表!DF62","v":3575285.86},{"$f":"取引基本表!DC19","v":69989.19},{"$f":"取引基本表!DG62","v":8689772.3000000007},2134213.7400000002,709494.28,{"$f":"取引基本表!CW19+取引基本表!CW62","v":163050.51},147971,138998,0.36324600953661046,7.1108423140743334E-3,0.62964314814931521,0.36584749337298511,0.24560065169946974,8.1647050751836148E-2,null,163050.51,5.5170084443339172E-4,1.7028179207871762E-2,1.5995585983305912E-2]
[null,"14","金属製品",null,null,{"$f":"取引基本表!DC20+取引基本表!DC63","v":11777203.41},{"$f":"-取引基本表!DF63","v":1202314.1000000001},{"$f":"取引基本表!DC20","v":187150.95},{"$f":"取引基本表!DG63","v":11397169.99},5116969.0999999996,2773986.55,{"$f":"取引基本表!CW20+取引基本表!CW63","v":269797.65999999997},881625,768865,0.10208825118695986,1.5890949955155782E-2,0.88202079885788431,0.10373672631331646,0.44896839342483119,0.24339257486147223,null,269797.65999999997,9.1289255610517927E-4,7.7354729355931975E-2,6.7461045213382836E-2]
[null,"15","はん用機械",null,null,{"$f":"取引基本表!DC21+取引基本表!DC64","v":8399735.5999999996},{"$f":"-取引基本表!DF64","v":1500950.21},{"$f":"取引基本表!DC21","v":101712.67},{"$f":"取引基本表!DG64","v":10329210.939999999},4563244.3600000003,1968602.03,{"$f":"取引基本表!CW21+取引基本表!CW64","v":12834.13},414092,395325,0.1786901732954547,1.2109032336684502E-2,0.80920079436786085,0.18088046064244848,0.44178053740085599,0.19058590645840756,null,12834.13,4.3425809330911783E-5,4.0089412676860295E-2,3.8272526555644143E-2]
[null,"16","生産用機械",null,null,{"$f":"取引基本表!DC22+取引基本表!DC65","v":11962556.970000001},{"$f":"-取引基本表!DF65","v":1972019.68},{"$f":"取引基本表!DC22","v":222704.08},{"$f":"取引基本表!DG65","v":16365145},7565266.6100000003,3276059.79,{"$f":"取引基本表!CW22+取引基本表!CW65","v":7591.61},776107,721083,0.16484934491392436,1.8616762332543356E-2,0.81653389275353228,0.16797652393751589,0.46227922881221034,0.20018519787022968,null,7591.61,2.5687117737987945E-5,4.7424388845928346E-2,4.4062121050562029E-2]
[null,"17","業務用機械",null,null,{"$f":"取引基本表!DC23+取引基本表!DC66","v":6754719.5299999993},{"$f":"-取引基本表!DF66","v":2072646.33},{"$f":"取引基本表!DC23","v":16374.52},{"$f":"取引基本表!DG66","v":6877477.8700000001},2853772.46,1163441.6100000001,{"$f":"取引基本表!CW23+取引基本表!CW66","v":97814.85},257715,247959,0.30684417329167779,2.4241598673749821E-3,0.69073166684094722,0.30758982018939401,0.41494462271530363,0.16916689984202016,null,97814.85,3.3096820944089996E-4,3.7472312506328716E-2,3.6053769228631481E-2]
[null,"18","電子部品",null,null,{"$f":"取引基本表!DC24+取引基本表!DC67","v":10752312.529999999},{"$f":"-取引基本表!DF67","v":4058699.07},{"$f":"取引基本表!DC24","v":142935.35},{"$f":"取引基本表!DG67","v":13263153.310000001},5009092.66,2274472.2799999998,{"$f":"取引基本表!CW24+取引基本表!CW67","v":151129.61000000002},468276,459769,0.37747220039185375,1.3293451952888875E-2,0.6092343476552573,0.38255771296840629,0.37766981523340321,0.17148804864414249,null,151129.61000000002,5.1136505771057802E-4,3.5306536014096633E-2,3.46651349987298E-2]
[null,"19","電気機械",null,null,{"$f":"取引基本表!DC25+取引基本表!DC68","v":14121558.719999999},{"$f":"-取引基本表!DF68","v":4601920.26},{"$f":"取引基本表!DC25","v":134374.78},{"$f":"取引基本表!DG68","v":15789116.880000001},5715796.7699999996,2475873.5699999998,{"$f":"取引基本表!CW25+取引基本表!CW68","v":3028188.82},537879,521768,0.32587905848399151,9.5155770453079283E-3,0.66460536447070062,0.32900977635960083,0.36200864262650256,0.15680886960411175,null,3028188.82,1.024623798538107E-2,3.406643981978047E-2,3.3046053428163615E-2]
[null,"20","情報通信機器",null,null,{"$f":"取引基本表!DC26+取引基本表!DC69","v":9835420.6399999987},{"$f":"-取引基本表!DF69","v":6227440.2599999998},{"$f":"取引基本表!DC26","v":5493.95},{"$f":"取引基本表!DG69","v":5447315.3200000003},1923177.59,870465.13,{"$f":"取引基本表!CW26+取引基本表!CW69","v":3314586.41},159186,157405,0.63316460860590107,5.5858820899397756E-4,0.36627680318510497,0.6335184845615569,0.35305053535986602,0.15979708881622076,null,3314586.41,1.1215298384190546E-2,2.9222835589403699E-2,2.8895885542384939E-2]
[null,"21","輸送機械",null,null,{"$f":"取引基本表!DC27+取引基本表!DC70","v":39141584.930000007},{"$f":"-取引基本表!DF70","v":4377870.05},{"$f":"取引基本表!DC27","v":927002.09},{"$f":"取引基本表!DG70","v":52231137.350000001},12903550.970000001,5753230.96,{"$f":"取引基本表!CW27+取引基本表!CW70","v":5700546.1800000006},1053142,1034303,0.11184703066647125,2.3683304895747864E-2,0.86446966443778084,0.11456019468613933,0.24704709919551465,0.11014944823903973,null,5700546.1800000006,1.9288477792786699E-2,2.0163106787105031E-2,1.9802421553050863E-2]
[null,"22","その他の製造工業製品",null,null,{"$f":"取引基本表!DC28+取引基本表!DC71","v":12191348.359999999},{"$f":"-取引基本表!DF71","v":3376796.22},{"$f":"取引基本表!DC28","v":186354.91},{"$f":"取引基本表!DG71","v":9647865.9000000004},4484336.58,2083970.03,{"$f":"取引基本表!CW28+取引基本表!CW71","v":2967035.7199999997},767935,611411,0.27698299812999522,1.5285832583656891E-2,0.70773116928634794,0.2812826374345086,0.46480088202718489,0.21600321268976178,null,2967035.7199999997,1.0039319178995738E-2,7.9596359232148944E-2,6.3372667731627572E-2]
[null,"23","建設",null,null,{"$f":"取引基本表!DC29+取引基本表!DC72","v":58848276.119999997},{"$f":"-取引基本表!DF72","v":0},{"$f":"取引基本表!DC29","v":0},{"$f":"取引基本表!DG72","v":58848276.119999997},27510952.18,17568006.609999999,{"$f":"取引基本表!CW29+取引基本表!CW72","v":0},4806253,4152416,0,0,1,0,0.46748951700643293,0.29853052235848571,null,0,0,8.1671942100723011E-2,7.0561387244931925E-2]
[null,"24","電力・ガス・熱供給",null,null,{"$f":"取引基本表!DC30+取引基本表!DC73","v":23682834.059999999},{"$f":"-取引基本表!DF73","v":1724.69},{"$f":"取引基本表!DC30","v":1798.18},{"$f":"取引基本表!DG73","v":23919297.710000001},8537691.8200000003,1466276.66,{"$f":"取引基本表!CW30+取引基本表!CW73","v":6632182.8500000006},220469,220469,{"$f":"G75/F75","v":7.2824476818548464E-5},{"$f":"H75/F75","v":7.5927568273473776E-5},{"$f":"1-O75-P75","v":0.99985124795490798},{"$f":"O75/(O75+Q75)","v":7.2830006623848746E-5},{"$f":"J75/I75","v":0.35693739521585643},{"$f":"K75/I75","v":6.1300991265600159E-2},null,{"$f":"IF(L75<0,0,L75)","v":6632182.8500000006},2.2440781563833556E-2,{"$f":"M75/$I75","v":9.2172020547170146E-3},{"$f":"N75/$I75","v":9.2172020547170146E-3}]
[null,"25","水道",null,null,{"$f":"取引基本表!DC31+取引基本表!DC74","v":4348271.43},{"$f":"-取引基本表!DF74","v":1485.97},{"$f":"取引基本表!DC31","v":7441.54},{"$f":"取引基本表!DG74","v":4369668.33},2175510.67,493815.66,{"$f":"取引基本表!CW31+取引基本表!CW74","v":1830664.23},93613,93613,3.4173809614272406E-4,1.7113789053412429E-3,0.99794688299851608,3.4232394211605472E-4,0.49786631517637403,0.11300987230763118,null,1830664.23,6.1942707297573301E-3,2.1423365100115048E-2,2.1423365100115048E-2]
[null,"26","廃棄物処理",null,null,{"$f":"取引基本表!DC32+取引基本表!DC75","v":4727752.82},{"$f":"-取引基本表!DF75","v":296.42},{"$f":"取引基本表!DC32","v":12119.19},{"$f":"取引基本表!DG75","v":4724259.4000000004},3127871.15,1993721,{"$f":"取引基本表!CW32+取引基本表!CW75","v":275413.92},480496,465100,6.2697863294807358E-5,2.5634144722481494E-3,0.997373887664457,6.2858996957318756E-5,0.66208708818994988,0.42201768175557841,null,275413.92,9.318958415567702E-4,0.10170821695353985,9.8449293449043032E-2]
[null,"27","商業",null,null,{"$f":"取引基本表!DC33+取引基本表!DC76","v":87030300.970000014},{"$f":"-取引基本表!DF76","v":183565.74},{"$f":"取引基本表!DC33","v":2168435.29},{"$f":"取引基本表!DG76","v":91318905.540000007},63737424.229999997,30487947.16,{"$f":"取引基本表!CW33+取引基本表!CW76","v":46564418.369999997},10460542,9543947,2.1092164217986153E-3,2.4915865690818141E-2,0.97297491788738322,2.1631122357384396E-3,0.69796526637171952,0.33386238019076458,null,46564418.369999997,0.15755626238322551,0.11454957698127488,0.10451227972524822]
[null,"28","金融・保険",null,null,{"$f":"取引基本表!DC34+取引基本表!DC77","v":34013817.619999997},{"$f":"-取引基本表!DF77","v":1355581.13},{"$f":"取引基本表!DC34","v":8114.87},{"$f":"取引基本表!DG77","v":34450743.600000001},23235669.510000002,8238813.0300000003,{"$f":"取引基本表!CW34+取引基本表!CW77","v":17266628.109999999},1762993,1700818,3.9853836612651301E-2,2.3857568975816718E-4,0.95990758769759055,3.9863347038166998E-2,0.67446060903022131,0.23914761102573123,null,17266628.109999999,5.842369526353728E-2,5.1174309050327722E-2,4.9369558455626482E-2]
[null,"29","不動産",null,null,{"$f":"取引基本表!DC35+取引基本表!DC78","v":78078199.280000001},{"$f":"-取引基本表!DF78","v":1731.04},{"$f":"取引基本表!DC35","v":91865.95},{"$f":"取引基本表!DG78","v":78054870.769999996},65664672.649999999,3997290.12,{"$f":"取引基本表!CW35+取引基本表!CW78","v":63868724.520000003},918510,698620,2.2170593276520555E-5,1.1765889947148382E-3,0.99880124041200868,2.2196709680849923E-5,0.84126297311400955,5.1211283556904422E-2,null,63868724.520000003,0.21610744578822644,1.1767491137183776E-2,8.950370337023365E-3]
[null,"30","運輸・郵便",null,null,{"$f":"取引基本表!DC36+取引基本表!DC79","v":49568425.780000001},{"$f":"-取引基本表!DF79","v":3507270.02},{"$f":"取引基本表!DC36","v":583985.07999999996},{"$f":"取引基本表!DG79","v":52732575.18},27198269.420000002,12553994.289999999,{"$f":"取引基本表!CW36+取引基本表!CW79","v":14628835.310000001},3429971,3228178,7.0756130839545892E-2,1.1781392505622558E-2,0.91746247665483149,7.1599674710586203E-2,0.51577737910883503,0.23806905403628723,null,14628835.310000001,4.9498408766731353E-2,6.5044633005157934E-2,6.1217909214195898E-2]
[null,"31","情報通信",null,null,{"$f":"取引基本表!DC37+取引基本表!DC80","v":49832553.25},{"$f":"-取引基本表!DF80","v":2249706.12},{"$f":"取引基本表!DC37","v":225984.59},{"$f":"取引基本表!DG80","v":48329151.740000002},24975543.300000001,8741247.0999999996,{"$f":"取引基本表!CW37+取引基本表!CW80","v":12753272.309999999},1700476,1605195,4.5145311112470443E-2,4.5348788143822431E-3,0.95031981007314736,4.5350972275855855E-2,0.51678008822424248,0.18086903629151094,null,12753272.309999999,4.3152217694480022E-2,3.51853061512062E-2,3.321380455083485E-2]
[null,"32","公務",null,null,{"$f":"取引基本表!DC38+取引基本表!DC81","v":38399309.68},{"$f":"-取引基本表!DF81","v":0},{"$f":"取引基本表!DC38","v":0},{"$f":"取引基本表!DG81","v":38399309.68},27224369.739999998,10297335.43,{"$f":"取引基本表!CW38+取引基本表!CW81","v":1133869.94},1956012,1956012,0,0,1,0,0.70898070738442498,0.26816459764023548,null,1133869.94,3.8365841565024188E-3,5.0938728229762281E-2,5.0938728229762281E-2]
[null,"33","教育・研究",null,null,{"$f":"取引基本表!DC39+取引基本表!DC82","v":43419945.449999996},{"$f":"-取引基本表!DF82","v":1984213.85},{"$f":"取引基本表!DC39","v":46736.58},{"$f":"取引基本表!DG82","v":42110480.710000001},30780551.489999998,17135470.52,{"$f":"取引基本表!CW39+取引基本表!CW82","v":8866920.790000001},3366471,3357483,4.5698211488655847E-2,1.0763850464487401E-3,0.95322540346489548,4.5747453363369286E-2,0.73094752116402517,0.40691700097194161,null,8866920.790000001,3.0002283877351855E-2,7.9943779867622411E-2,7.973034131625803E-2]
[null,"34","医療・福祉",null,null,{"$f":"取引基本表!DC40+取引基本表!DC83","v":64673736.240000002},{"$f":"-取引基本表!DF83","v":3457.24},{"$f":"取引基本表!DC40","v":121051.1},{"$f":"取引基本表!DG83","v":64581909.939999998},40047499.649999999,27895544.550000001,{"$f":"取引基本表!CW40+取引基本表!CW83","v":15071977.119999999},7359474,7072610,5.3456630171641985E-5,1.8717196042422428E-3,0.99807482376558609,5.3556873621942102E-5,0.62010398402906075,0.43194053220037054,null,15071977.119999999,5.0997831925731228E-2,0.11395565734796849,0.10951379428962116]
[null,"35","他に分類されない会員制団体",null,null,{"$f":"取引基本表!DC41+取引基本表!DC84","v":4370167},{"$f":"-取引基本表!DF84","v":124324.86},{"$f":"取引基本表!DC41","v":6019.91},{"$f":"取引基本表!DG84","v":4273038.12},2560125.31,1910262.04,{"$f":"取引基本表!CW41+取引基本表!CW84","v":3190162},555084,517423,2.8448537550166849E-2,1.3775011343960082E-3,0.97017396131543709,2.8487779498742791E-2,0.59913467610253845,0.44705008154713116,null,3190162,1.0794293555287363E-2,0.12990382589893676,0.12109019050829342]
[null,"36","対事業所サービス",null,null,{"$f":"取引基本表!DC42+取引基本表!DC85","v":72910885.950000003},{"$f":"-取引基本表!DF85","v":3664819.69},{"$f":"取引基本表!DC42","v":394122.33},{"$f":"取引基本表!DG85","v":72140436.159999996},45145165.119999997,21760843,{"$f":"取引基本表!CW42+取引基本表!CW85","v":3932201.4899999998},7123329,6175766,5.0264369198767082E-2,5.4055347821486731E-3,0.94433009601908424,5.0537551692244144E-2,0.62579556657895319,0.30164557020055588,null,3932201.4899999998,1.3305072658253207E-2,9.8742527480721015E-2,8.5607550061144524E-2]
[null,"37","宿泊業",null,null,{"$f":"取引基本表!DC43+取引基本表!DC86","v":4701065.33},{"$f":"-取引基本表!DF86","v":578851.05000000005},{"$f":"取引基本表!DC43","v":99874.7},{"$f":"取引基本表!DG86","v":4933306.3600000003},2387401.7400000002,1038979.42,{"$f":"取引基本表!CW43+取引基本表!CW86","v":2929758.99},479026,452124,0.12313188806503994,2.1245120624605315E-2,0.8556229913103548,0.12580462244399554,0.48393543108480297,0.2106050879840351,null,2929758.99,9.9131889177735237E-3,9.7100395767839562E-2,9.1647257844331392E-2]
[null,"38","飲食サービス",null,null,{"$f":"取引基本表!DC44+取引基本表!DC87","v":26634669.73},{"$f":"-取引基本表!DF87","v":433085.34},{"$f":"取引基本表!DC44","v":291842.77},{"$f":"取引基本表!DG87","v":26454283.449999999},10651124.220000001,6776691.9699999997,{"$f":"取引基本表!CW44+取引基本表!CW87","v":18937115.809999999},4836597,4272203,1.6260210634870147E-2,1.0957251317867196E-2,0.97278253804726267,1.6440351700203401E-2,0.40262380344306781,0.25616615104349011,null,18937115.809999999,6.4075989602914663E-2,0.18282850144633195,0.1614938090489085]
[null,"39","娯楽サービス",null,null,{"$f":"取引基本表!DC45+取引基本表!DC88","v":9362010.3200000003},{"$f":"-取引基本表!DF88","v":205046.32},{"$f":"取引基本表!DC45","v":95777.59},{"$f":"取引基本表!DG88","v":9222194.7300000004},6499219.75,1899252.84,{"$f":"取引基本表!CW45+取引基本表!CW88","v":7951052.4799999995},780412,717722,2.1901954066634696E-2,1.0230451230692512E-2,0.96786759470267281,2.2128336938500356E-2,0.70473677256650158,0.20594369297166207,null,7951052.4799999995,2.6903334232749185E-2,8.4623240220823223E-2,7.7825509112839988E-2]
[null,"40","その他の対個人サービス",null,null,{"$f":"取引基本表!DC46+取引基本表!DC89","v":12071872.640000001},{"$f":"-取引基本表!DF89","v":17751.939999999999},{"$f":"取引基本表!DC46","v":48727.07},{"$f":"取引基本表!DG89","v":12058314.16},8487611.7799999993,3027273.96,{"$f":"取引基本表!CW46+取引基本表!CW89","v":10488463.779999999},2199837,1493521,1.4705208155675173E-3,4.03641352531698E-3,0.99449306565911544,1.4764805014333697E-3,0.70388046516114311,0.25105283539900736,null,10488463.779999999,3.5488967953765022E-2,0.18243321336719925,0.12385819279400828]
[null,"41","事務用品",null,null,{"$f":"取引基本表!DC47+取引基本表!DC90","v":1411390.83},{"$f":"-取引基本表!DF90","v":0},{"$f":"取引基本表!DC47","v":0},{"$f":"取引基本表!DG90","v":1411390.83},0,0,{"$f":"取引基本表!CW47+取引基本表!CW90","v":0},0,0,0,0,1,0,0,0,null,0,0,0,0]
[null,"42","分類不明",null,null,{"$f":"取引基本表!DC48+取引基本表!DC91","v":4569783.58},{"$f":"-取引基本表!DF91","v":49061.91},{"$f":"取引基本表!DC48","v":5735.21},{"$f":"取引基本表!DG91","v":4520073.2},1859503.84,47975.83,{"$f":"取引基本表!CW48+取引基本表!CW91","v":9697.7800000000007},10424,10378,1.0736156131052492E-2,1.2550287994163611E-3,0.98800881506953109,1.0749647247932214E-2,0.41138799256613812,1.0613949791786557E-2,null,9697.7800000000007,3.2813595094730207E-5,2.3061573427616169E-3,2.2959805164217252E-3]
[null,null,"福岡県",null,null,{"$f":"SUM(F10:F51)","v":35753255.540000007},{"$f":"SUM(G10:G51)","v":2787491.4099999997},9271495.1199999973,36298199.75,19566970.75,8162508.1300000008,10114197.67,2470067,2200831,null,null,null,null,null,null,{"$f":"入力シートその１!D38","v":0.47309628504586998},{"$f":"SUM(V10:V51)","v":10115597.02},0.99999999999999989]
[null,null,"県外",null,null,{"$f":"SUM(F52:F93)","v":997463841.46000016},{"$f":"SUM(G52:G93)","v":99380635.589999989},9197328.0999999996,981520188.25000012,528671743.24999994,215739412.87000003,295502216.32999998,66094967,57170813,null,null,null,null,null,null,{"$f":"入力シートその１!D39","v":0.48340299449835739},{"$f":"SUM(V52:V93)","v":295541526.97999996},1.0000000000000002]
[null,null,"合計",null,null,{"$f":"SUM(F94:F95)","v":1033217097.0000001},{"$f":"SUM(G94:G95)","v":102168126.99999999},18468823.219999999,1017818388.0000001,548238714,223901921.00000003,305616414,68565034,59371644,null,null,null,null,null,null,null,{"$f":"SUM(V94:V95)","v":305657123.99999994},2]
[null,null,null,null,null,null,null,null,null,null,null,null,null,null,"（注）民間消費支出におけるマイナス値は屑・副産物発生額であるため、民間消費の構成比算出の際はゼロに置き換えた"]

{"sheet":"取引基本表","index":5,"n_rows":103,"n_cols":111,"rows_kept":103,"cut":false,"hidden":false,"merged":[[6,0,91,0],[6,1,47,1],[49,1,90,1],[93,0,100,0]]}
["平成27年（2015年）福岡県地域間産業連関表（42部門表）"]
["取引基本表",null,null,null,null,null,null,null,null,null,null,null,null,null,null,null,null,null,null,null,null,null,null,null,null,null,null,null,null,null,null,null,null,null,null,null,null,null,null,null,null,null,null,null,null,null,null,null,null,null,null,null,null,null,null,null,null,null,null,null,null,null,null,null,null,null,null,null,null,null,null,null,null,null,null,null,null,null,null,null,null,null,null,null,null,null,null,null,null,null,null,null,null,null,null,null,null,null,null,null,null,null,null,null,null,null,null,null,null,null,"（単位：百万円）"]
[null,null,null,null,"内生部門",null,null,null,null,null,null,null,null,null,null,null,null,null,null,null,null,null,null,null,null,null,null,null,null,null,null,null,null,null,null,null,null,null,null,null,null,null,null,null,null,null,null,null,null,null,null,null,null,null,null,null,null,null,null,null,null,null,null,null,null,null,null,null,null,null,null,null,null,null,null,null,null,null,null,null,null,null,null,null,null,null,null,null,null,null,null,"最終需要部門"]
[null,null,null,null,"福岡県",null,null,null,null,null,null,null,null,null,null,null,null,null,null,null,null,null,null,null,null,null,null,null,null,null,null,null,null,null,null,null,null,null,null,null,null,null,null,null,null,null,null,"県外",null,null,null,null,null,null,null,null,null,null,null,null,null,null,null,null,null,null,null,null,null,null,null,null,null,null,null,null,null,null,null,null,null,null,null,null,null,null,null,null,null,null,null,"福岡県",null,null,null,null,null,null,null,"県外"]
[null,null,null,null,"01","02","03","04","05","06","07","08","09","10","11","12","13","14","15","16","17","18","19","20","21","22","23","24","25","26","27","28","29","30","31","32","33","34","35","36","37","38","39","40","41","42","a","01","02","03","04","05","06","07","08","09","10","11","12","13","14","15","16","17","18","19","20","21","22","23","24","25","26","27","28","29","30","31","32","33","34","35","36","37","38","39","40","41","42","b","c","71","72","73","74","75","76","d","e","71","72","73","74","75","76","f","g","h","80","84","i"]
[null,null,null,null,"農業","林業","漁業","鉱業","飲食料品","繊維製品","パルプ・紙・木製品","化学製品","石油・石炭製品","プラスチック・ゴム製品","窯業・土石製品","鉄鋼","非鉄金属","金属製品","はん用機械","生産用機械","業務用機械","電子部品","電気機械","情報通信機器","輸送機械","その他の製造工業製品","建設","電力・ガス・熱供給","水道","廃棄物処理","商業","金融・保険","不動産","運輸・郵便","情報通信","公務","教育・研究","医療・福祉","他に分類されない会員制団体","対事業所サービス","宿泊業","飲食サービス","娯楽サービス","その他の対個人サービス","事務用品","分類不明","域内内生部門計","農業","林業","漁業","鉱業","飲食料品","繊維製品","パルプ・紙・木製品","化学製品","石油・石炭製品","プラスチック・ゴム製品","窯業・土石製品","鉄鋼","非鉄金属","金属製品","はん用機械","生産用機械","業務用機械","電子部品","電気機械","情報通信機器","輸送機械","その他の製造工業製品","建設","電力・ガス・熱供給","水道","廃棄物処理","商業","金融・保険","不動産","運輸・郵便","情報通信","公務","教育・研究","医療・福祉","他に分類されない会員制団体","対事業所サービス","宿泊業","飲食サービス","娯楽サービス","その他の対個人サービス","事務用品","分類不明","域内内生部門計","内生部門総計\n(a+b)","家計外消費支出（列）","民間消費支出","一般政府消費支出","域内総固定資本形成（公的）","域内総固定資本形成（民間）","在庫純増","域内最終需要計","域内需要合計\n(a+d)","家計外消費支出（列）","民間消費支出","一般政府消費支出","域内総固定資本形成（公的）","域内総固定資本形成（民間）","在庫純増","域内最終需要計","域内需要合計\n(b+f)","最終需要総計\n(d+f)","輸出","（控除）輸入","域内生産額"]
["内生部門","福岡県","01","農業",12939.65,45.73,0,0,123851.02,140.54,3.82,327.83,0,11776.12,16.489999999999998,0,0.36,0,0,0,0,0,0,0,0,361.58,954.1,0,0,0,216.22,0,2.58,40.880000000000003,0,29.13,1836.83,3679.48,145.44,17.72,875.31,16937.05,949.44,1026.7,0,0,176174.02,14213.94,18.18,0,0,63808.99,301.39999999999998,34.39,352.99,0,1381.12,9.2100000000000009,0,1.19,0,0,0,0,0,0,0,0,194.46,613.48,0,0,0,113.17,0,1.82,20.49,0,13.13,879.53,1522.13,92.51,8.6199999999999992,659.63,8008.91,400.4,435.64,0,0,93085.33,269259.34999999998,895.81,60290.68,0,0,972.37,-1850.83,60308.03,236482.05,503.8,33164.839999999997,0,0,1983.96,-31.89,35620.71,128706.04,95928.74,2452.9499999999998,-118521.13,249119.91]
[null,null,"02","林業",22.62,796.84,3.55,0.71,211.33,7.0000000000000007E-2,2646.36,30.68,0,0,0.01,0.04,0,0,0,0,0,0,0,0,0.03,23.13,29.84,0,0,0,0,0,0,0,0,3.16,43.99,83.72,0,0,64.3,965.87,0,20.18,0,0,4946.43,23.05,1464.18,3.57,0.9,196.19,0.45,5178.9799999999996,84.18,0,0,0.02,0.03,0,0,0,0,0,0,0,0,0.2,40.89,34.32,0,0,0,0,0,0,0,0,2.2000000000000002,27.76,57.65,0,0,75.02,726.23,0,12.75,0,0,7928.57,12875,50.49,3142.14,0,0,0,2593.92,5786.55,10732.98,43.97,2454.08,0,0,0,-459.45,2038.6,9967.17,7825.15,94.46,-4741.6000000000004,16053.01]
[null,null,"03","漁業",0,0,608.5,0,11907.98,0,0,7.55,0,0,0,0,0,0,0,0,0,0,0,0,0,23.58,0,0,0,0,0,0,0,3.44,0,4.43,42.56,694.05,0,0,214.89,3055.47,3.87,63.68,0,0,16630,0,0,700.26,0,11690.55,0.03,0,11.24,0,0,0,0,0,0,0,0,0,0,0,0,0,534.51,0,0,0,0,0,0,0,2.2799999999999998,0,2.64,22.94,387.18,0,0,214.06,1958.01,3.04,34.36,0,0,15561.1,32191.1,210.55,5036.17,0,0,0,46.1,5292.82,21922.82,156.53,3548.54,0,0,0,2.86,3707.93,19269.03,9000.75,2553.96,-13081.25,30664.560000000001]
[null,null,"04","鉱業",1.3,6.22,0,99.33,372.87,7.79,242.53,6337.33,74458.539999999994,135.75,30601.84,73039,7562.59,78.12,5.46,15.79,4.74,44.01,25.86,0.16,220,85.67,11327.05,208290.26,0,0.38,9.98,0.99,2.88,14.94,0.46,18.07,36.090000000000003,28.14,10,25.48,4.79,-28.89,13.85,48.82,0,36.31,413184.5,0.06,0.21,0,0.94,7.15,0.89,35.64,95.69,6565.22,1.01,257.81,896.94,843.31,1.96,0.42,0.62,0.25,1.49,0.48,0.11,3.84,2.96,247.48,4969.42,0,0.01,0.17,0.03,0.05,0.28999999999999998,0.01,0.28000000000000003,1.1399999999999999,0.39,0.18,0.42,0.28999999999999998,0.01,0.28000000000000003,0.81,0,0.67,13938.93,427123.43,-183.66,-210.54,0,0,-217.37,-1414.22,-2025.79,411158.71,0,0.04,0,0,0,-0.37,-0.33,13938.6,-2026.12,504.7,-398803.38,26798.63]
[null,null,"05","飲食料品",7673.57,469.01,1639.57,0,98044.66,117.31,92.79,1405.57,0.01,2.2200000000000002,55.75,0.37,0,0,0,0,0,0,0,0,0,233.46,14.02,0,0,0,231.78,0,0,147.1,0.15,212.55,4114.87,11238.14,80.78,6.42,4027.86,114445.47,197.03,1075.33,0,221.03,245746.82,33076.51,555,3868.32,0,173145.17,202.63,503.68,5022.03,1.8,5.67,73.81,0.52,0,0,0,0,0,0,0,0,0,782.48,37.979999999999997,0,0,0,330.67,0,0,222.75,0.38,316.64,6030.89,14141.8,155.22,9.83,9170.24,167038.10999999999,288.5,1326.01,0,354.39,416661.03,662407.85,12729.54,385095.74,0,0,0,336.33,398161.61,643908.43000000005,21628.68,690004.52,0,0,0,-431.49,711201.71,1127862.74,1109363.32,18546.740000000002,-202757.76000000001,1587560.15]
[null,null,"06","繊維製品",530.03,36.409999999999997,278.70999999999998,44.27,627.51,5623.13,646.16,259.89,10.55,2724.43,302.82,302.82,36.119999999999997,199.26,75.650000000000006,164.19,17.059999999999999,533.9,341.01,10.27,3725.72,325.69,2812.95,46.88,75.36,166.53,7719.27,638.28,41.04,2024.01,684.8,2048.17,305.44,4324.67,1876.56,2474.67,625.19000000000005,357.47,1275.29,1381.95,486.84,41.47,46222.44,153.12,5.93,118.3,12.03,137.22999999999999,3119.75,286.70999999999998,99.53,1.58,263.85000000000002,72.11,31.65,28.77,52.72,41.57,81.430000000000007,28.84,179.01,146.16999999999999,34.229999999999997,320.07,160.9,692.51,13.62,15.47,33.71,1438.3,194.65,7.95,321.08,192.21,474.37,79.91,707.45,403.76,534.29,184.17,66.78,206.42,247.56,102.96,8.6,11301.27,57523.71,1818.05,68851.44,0,20.32,6259.18,1433.72,78382.710000000006,124605.15,399.68,15901.39,0,2.96,1143.28,567.33000000000004,18014.64,29315.91,96397.35,3992.3,-110065.68,47847.68]
[null,null,"07","パルプ・紙・木製品",2987.95,148.94,50.86,18.62,8939.67,102.66,22234.63,1958.79,5.83,994.12,2454.13,238.42,91.77,458.97,66.28,117.61,98.04,523.86,856.04,13.94,860.33,10616.36,36433.43,735.15,198.03,249.42,11366.07,1572.98,497.92,3474.13,7844.62,679.31,3739.86,6234.99,1043.6400000000001,4097.91,257.12,2844.3,1266.4000000000001,831.8,8995.5400000000009,82.5,146282.94,2458.77,78.73,48.64,19.61,5895.6,203.06,32366.58,3582.79,2.36,847.53,1108.03,80.2,191.5,379.86,157.46,178.04,331.72,758.07,1072.3599999999999,301.37,706.94,8000.27,26304.97,576.04999999999995,118.18,152.58000000000001,7418.56,1432.47,317.5,2275.39,6796.09,455.8,2655.42,3347.23,739.35,2336.6999999999998,230.05,1608.37,539.80999999999995,502.76,5778.62,51.99,122407.38,268690.32,-28.39,1939.6,38.54,257.47000000000003,5974.18,-1899.67,6281.73,152564.67000000001,1112.74,4423.7,18.760000000000002,128.38,4081.1,-598.55999999999995,9166.1200000000008,131573.5,15447.85,11704.54,-80759.509999999995,215083.2]
[null,null,"08","化学製品",6027.38,4.0999999999999996,158.31,193.84,5013.66,1700.15,2004.29,71851.12,-191.08,36459.21,2064.1999999999998,2027.99,263.49,1098.46,222.98,515.67999999999995,134.36000000000001,1238.19,972.95,18.059999999999999,8087.52,3122.03,3495.72,180.17,507.73,903.38,11.72,6.92,28.97,331.52,683.78,452.64,2631.58,133859.20000000001,122.69,3809.77,144.85,980.51,400.32,2895.5,170.72,436.44,295041.02,6461.44,5.72,161.58000000000001,117.68,3747.42,3824.26,4065.86,93158.07,341.71,25748.55,1982.85,1070.77,727.37,979.94,439.2,640.17999999999995,1117.99,2266.71,2079.5100000000002,543.41,5069.96,3186.37,3146.18,177.59,378.93,658.55,8.0399999999999991,7.77,26.91,227.64,613.76,342.81,3329.75,82947.86,99.93,2942.21,153.63999999999999,663.36,356.13,2037.74,130,326.01,256311.36,551352.38,2084.2800000000002,35703.440000000002,0,0,0,-10853.65,26934.07,321975.09000000003,1649.83,24050.36,0,0,0,-91.23,25608.959999999999,281920.32,52543.03,159724.9,-222866.95,540753.36]
[null,null,"09","石油・石炭製品",647.87,58.98,359.14,163.57,1190.6300000000001,48.05,117.67,1439.25,2899.62,455.8,1542.51,-9806.58,68.3,277.66000000000003,27.59,130.93,11.91,123.72,78.62,1.64,892.55,171.64,5368.21,9328.2199999999993,524.17999999999995,541.02,1522.08,104.25,335.68,63679.91,330.66,4348.75,1084.8,1757.62,131.94999999999999,1538.64,84.13,1223.06,979.39,686.69,0,858.85,95329.16,235.88,26.35,270.76,62.96,517.27,72.23,156.47,8253.7199999999993,3535.26,86.78,442.12,3483.42,80.86,115.6,45.71,60.33,21.4,61.44,56.95,8.3000000000000007,358.16,62.82,2483.7399999999998,4093.63,172.41,186.78,497.53,52.35,106.74,17901.900000000001,130.21,1411.24,507.94,498.79,51.49,509.94,41.9,391.08,241.58,219,0,301.24,47814.28,143143.44,142.03,46817.46,0,0,0,-1241.4100000000001,45718.080000000002,141047.24,52.79,16887.599999999999,0,0,0,30.88,16971.27,64785.55,62689.35,2115.6799999999998,-86747.48,121200.99]
[null,null,"10","プラスチック・ゴム製品",1364.56,250.2,225,55.83,12306.46,237.69,1862.63,3938.64,5.88,34564.58,939.65,564.95000000000005,147.62,751.55,992.33,3228.73,693.18,2854.9,3809.42,128.62,56673.73,6750.43,11823.73,0,2976.82,1177.18,8393.5300000000007,1209.5999999999999,766.85,2889.56,2068.3200000000002,1312.17,1678.92,3148.78,559.76,13543.31,187.92,661.36,1458.85,626.52,1164.45,316.05,188310.26,1473.93,206.04,468.81,72.87,12920.28,688.95,4681.41,9462.25,42.53,55189.69,843.46,335.25,887.08,1035.53,2522.4,6298.71,5094.55,4894.55,11692.51,4181.62,36689.800000000003,10296.43,15039.71,0,3130.99,1208.24,9055.0499999999993,1823.53,854.95,2811.24,3682.62,1372.82,3052.68,2535.37,630.16999999999996,12169.76,288.61,662.46,1223.79,565.98,1259.6400000000001,335.36,231681.62,419991.88,411.25,15427.31,85.57,0,-18.760000000000002,7481.92,23387.29,211697.55,462.42,16411.63,70.12,0,0,-113.52,16830.650000000001,248512.27,40217.94,102993.55,-80931.12,482272.25]
[null,null,"11","窯業・土石製品",345.73,15.95,0.78,2.2799999999999998,2659,13.04,720.42,2210.48,99.09,566.66,11864.45,3878.99,630.49,674.12,669.85,630.15,195.56,4980.5200000000004,1319.27,13.27,18123.09,513.83000000000004,56777.47,16.68,428.27,50.13,429.14,4.8099999999999996,90.44,43.48,8.19,130.15,1721.83,1387.2,40.65,1190.26,132.96,1003.94,313.85000000000002,155.19999999999999,147.34,454.06,114653.07,772.86,18.329999999999998,2.25,12.62,3057.07,66.75,1078.05,5324.06,149.19,1224.53,14700.47,3777.39,2305.8200000000002,1199.03,1938.15,2130.4699999999998,3754.84,13665.78,4201.22,444.78,8334.48,1317.74,94089.94,30.79,580.70000000000005,68.08,550.37,10.07,165.03,45.28,16.62,203.57,2273.98,1576.83,58.52,1332.69,284.81,1430.89,318.01,199.97,209.43,633.04,173554.5,288207.57,223.52,2831.91,0,0,0,-209.36,2846.07,117499.14,348.81,4018.58,0,0,0,-896.41,3470.98,177025.48,6317.05,30558.26,-26257.37,298825.51]
[null,null,"12","鉄鋼",8,0.05,6.8,23.43,0,3.9,1099.08,56.1,-0.59,474.3,1631.33,662107.31000000006,41.15,52109.49,7915.45,18631.79,323.98,734.95,9965.25,59.92,91904.73,286.31,28447.65,0,2.74,0,0,0,0,261.68,0,37.61,0,4.91,0.4,233.46,1.81,17.48,0.56999999999999995,17.309999999999999,0.79,543.32000000000005,876952.46,11.17,0.25,11.23,71.010000000000005,0,17.34,3608.12,27.05,0,870.41,1506.87,423729.32,328.3,82052.289999999994,37608,48092.94,4929.6899999999996,2389.08,22313.99,1564.8,89040.51,1022.34,43889.11,0,3.55,0,0,0,0,418.62,0,41.67,0,5.54,0.62,247.56,3.34,20.58,0.92,18.37,1.04,705.93,764551.56,1641504.02,0,-1189.3699999999999,0,-906.59,-5439.91,-7412.43,-14948.3,862004.16,0,1.1299999999999999,0,0,0,-3825.64,-3824.51,760727.05,-18772.810000000001,285808.43,-46370.55,1862169.09]
[null,null,"13","非鉄金属",0,0,0,6.99,883.24,0.08,270.27999999999997,3209.53,0.1,608.32000000000005,1183.5999999999999,8916.84,26847,10597.77,2316.62,3125.82,760.1,2636.24,8409.91,98.41,20409.64,1045.1400000000001,7691.19,74.48,18.47,0.35,24.65,0,0,13.89,57.51,157.41999999999999,39.31,1872.04,15.29,520.5,39.840000000000003,171.29,0,105.75,23.08,304.64,102455.33,0,0,0,3.85,363.08,0.2,201.3,887,1.32,216.32,397.62,1467.68,23737.96,5279.09,2675.94,2156.39,1730.25,5056.25,6958.6,1506.88,8691.73,846.59,3599.76,43.76,7.61,0.12,8.2100000000000009,0,0,4.72,22.83,52.55,26.58,540.21,6.36,167.51,21.67,59.81,0,39.03,9.02,116.72,66904.52,169359.85,21.15,2660.52,0,0,-6633.01,434.39,-3516.95,98938.38,8.59,1148.8399999999999,0,0,2283.11,-355.87,3084.67,69989.19,-432.28,26375.27,-78440.14,116862.7]
[null,null,"14","金属製品",178.23,3.95,29.26,196.48,8793.8700000000008,58.31,1805.76,2584.67,82.88,2171.46,1234.8399999999999,508.55,102.4,11014.03,1570.81,5398.32,386.99,2554.96,3707.2,109.28,9640.25,1200.8900000000001,88486.04,160.13999999999999,65.069999999999993,14.02,5878.36,52.15,385.65,1422.66,353.7,3545.3,137.97,488.54,184.03,1616.41,62.24,1458.77,38.119999999999997,1037.69,9.76,500.8,159230.81,214.13,8.15,37.61,269.33999999999997,7120.19,135.38999999999999,2266.7399999999998,3820.21,125.57,1459.14,1003.98,354.58,234.04,12791.06,5870.57,8438.68,4256.9799999999996,4335.26,6851.6,2324.96,8444.08,1744.19,90082.45,183.52,55.69,11.42,4222.25,63.02,391.51,1074.26,285.89999999999998,2686.36,120.14,347.04,165.75,1160.17,73.930000000000007,1107,22.69,833.69,8.32,418.88,175420.44,334651.25,523.54999999999995,4873.09,15,274.97000000000003,6993.2,1972.72,14652.53,173883.34,464.05,4295.79,9.69,285.08,6881.64,-205.74,11730.51,187150.95,26383.040000000001,21286.62,-42541.9,339779.01]
[null,null,"15","はん用機械",0,0.05,0,10.94,0,0,192.77,4.4800000000000004,0,28.01,105.88,30.7,0.08,71.2,4953.22,3298.54,58.97,131.81,726.26,6.58,2038.47,5.41,2973.77,0,411.63,0,3.73,0.01,0,43.86,1.68,124.39,0,0.08,0,4897.1499999999996,0,0,0,4.0999999999999996,0,0,20123.77,0,0.28999999999999998,0,22.25,0,0,152.46,6.96,0,63.29,156.08000000000001,38.24,1.63,144.66999999999999,19705.349999999999,7859.05,1254.21,357.17,2551.87,144.9,5147.25,61.95,4620,0,549.9,0,4.76,0.01,0,55.74,3.4,154.96,0,0.12,0,5779.95,0,0,0,4.49,0,0,48840.95,68964.72,0,104.31,0,986.75,29720.35,1760.65,32572.06,52695.83,0,156.71,0,1865.09,50648.02,201.9,52871.72,101712.67,85443.78,12680.35,-37741.79,129347.06]
[null,null,"16","生産用機械",0,0.36,0,14.85,0,0,8.8800000000000008,0,0.52,262.24,180.24,51.05,6.05,45.45,291.55,15372.95,8.8699999999999992,272.05,330.3,2.06,496.89,2.79,35.299999999999997,1.17,13.92,0,4.22,0,0,37.64,1.87,8.26,0,0,0,10141.11,0,0,0.47,5.17,0,0,27596.23,0,2.2799999999999998,0,32.32,0,0,21.37,0,4.43,650.29,148.75,68.77,20.81,105.9,935.37,45169.13,244.98,749.53,689.37,92.82,904.55,22.67,78.489999999999995,2.44,20.38,0,5.74,0,0,43.77,2.62,11.66,0,0,0,13091.1,0,0,0.95,7.36,0,0,63127.85,90724.08,0,68.459999999999994,0,1121.1199999999999,72868.259999999995,5392.69,79450.53,107046.76,0,142.91999999999999,0,1809.03,157149.21,475.07,159576.23000000001,222704.08,239026.76,64176.480000000003,-54149.32,339778]
[null,null,"17","業務用機械",30.56,7.0000000000000007E-2,0.09,0,0.2,0,0,0.01,0,0,0,0,0,1.1200000000000001,85.6,322.27999999999997,334.71,0,89.36,0.79,134.56,8.3699999999999992,73.739999999999995,0,3.19,0.97,856.16,1.92,0,20.32,47.57,1009.3,0,6396.29,0,2173.12,0.93,0,376.41,25.36,244.9,0,12237.9,9.5299999999999994,0.08,0.04,0,0.02,0,0,0.05,0,0,0,0,0,0.51,66.03,223,1429.19,3.92,35.21,16.690000000000001,50.01,4.0999999999999996,28.2,0,1.04,0.32,242.64,0.98,0,3.36,23.33,297.77,0,1633.85,0,624.08000000000004,0.45,0,75.459999999999994,9.24,85.02,0,4864.12,17102.02,15.26,629,1.79,1328.59,29690.3,-86.89,31578.05,43815.95,5.51,238.44,0.47,1067.42,10110.299999999999,88.26,11510.4,16374.52,43088.45,2079.33,-36447.67,25822.13]
[null,null,"18","電子部品",0,0,0.14000000000000001,1.1499999999999999,2.5499999999999998,0.02,2.29,1.83,0,0.11,0.06,1.5,5.15,320.38,1394.27,4965.03,2218.5700000000002,60575.519999999997,28857.48,1920.35,10567.43,421.71,431.83,2.5299999999999998,2.58,0,65,28.03,0,13.34,1344.16,2631.59,988.9,7.77,0,22906.26,7.0000000000000007E-2,0,0.02,18.89,1341.78,0,141038.29,0,0,0.16,0.26,0.88,0.04,1.6,1.93,0.13,0.09,0.03,0.37,15.92,410.55,1021.74,2028.34,12442.13,49161.68,30697.200000000001,22778.9,7732.71,928.31,245.29,1.72,1.22,0,30.1,20.66,0,3.82,901.78,1129.1400000000001,850.1,3.68,0,9414.68,0.05,0,0.03,8.61,679.51,0,140513.35999999999,281551.65000000002,13.26,3976.23,0,0,0,-7003.19,-3013.7,138024.59,6.98,2022.01,0,0,0,393,2421.9899999999998,142935.35,-591.71,107423.67999999999,-115452.93,272930.69]
[null,null,"19","電気機械",3.67,0,16.32,9.49,0.72,0,32.01,0.27,0,2.95,6.09,0,0.56000000000000005,130.72,1056.74,4113.7700000000004,165.73,4908.95,8966.2099999999991,93.28,48142.53,53.68,6454.1,0.86,13.59,0,360.29,0.92,16.399999999999999,223.27,135.32,1223.42,396.07,95.98,0,7761.29,5.33,19.399999999999999,119.21,15.72,0,82.71,84627.57,4.09,0,22.78,2.57,0.13,0,15.62,0.77,0,2.82,2.39,0,1.83,87.55,2299.5700000000002,3527.42,1259.73,2507.36,17410.82,972.53,15573.42,121.86,4475.66,0.71,7.65,0,189.41,0.83,9.06,101.41,110.82,669.31,183.96,44.4,0,3860.01,4.5599999999999996,10.71,64.150000000000006,8.65,0,49.88,53604.44,138232.01,953.32,45751.44,0,3022.57,71420.100000000006,144.58000000000001,121292.01,205919.58,609.29,28837.94,0,2791,48197.69,334.42,80770.34,134374.78,202062.35,54417.5,-121118.74,273593.12]
[null,null,"20","情報通信機器",0.87,0.33,0.56000000000000005,0.17,13.57,0.16,0.85,7.45,0.28999999999999998,8.32,2.09,0.68,0.1,9.32,129.16,21.16,0.4,9.49,6.38,128.63,20469.82,3.86,1595.89,4.68,0.8,1.73,576.23,61.35,98.66,115.67,148.4,1328.36,61.82,35.340000000000003,5.34,1856.19,0.78,90.14,69.11,5.04,0,0,26869.19,0.03,0.04,0.04,0.01,0.38,0.01,0.04,0.5,0.03,0.06,0.04,0.01,0.02,0.33,4.24,2.2200000000000002,0.13,0.44,0.4,78.819999999999993,168.53,0.21,55.36,0.2,0.03,0.05,15.85,2.84,2.89,3.11,6.56,35.69,2.88,0.95,0.18,54.98,0.03,2.5099999999999998,1.52,0.18,0,0,442.34,27311.53,600.94000000000005,64006.09,0,7987.92,88972.58,216.76,161784.29,188653.48,20.07,1846.35,0,549.16,2615.69,20.34,5051.6099999999997,5493.95,166835.9,0.99,-185003.74,9144.68]
[null,null,"21","輸送機械",0,0,369.52,0.23,0,0,0,0,0,0,0,0,0,0,0,64.31,0,0,0,0,489729.34,0,0,0,0,0,0,0,0,12783.01,0,2498.4499999999998,27.38,0,0,22318.99,0,0,1.36,17.739999999999998,0,0,527810.32999999996,0,0,1678.92,0.72,0,0,0,0,0,0,0,0,0,0,0,195.94,0,0,0,0,547312.42000000004,0,0,0,0,0,0,0,0,18257.89,0,4913.6400000000003,67.290000000000006,0,0,40435.440000000002,0,0,3.51,30.94,0,0,612896.71,1140707.04,0,55427.15,0,4620.32,64251.1,7435.47,131734.04,659544.37,0,135126.85999999999,0,19942.47,157281.26,1754.79,314105.38,927002.09,445839.42,1770621.14,-210591.95,3146575.65]
[null,null,"22","その他の製造工業製品",89.41,91.21,70.010000000000005,44.68,4740.6000000000004,305.92,816.68,735.72,771.99,342.59,1265.54,4971.71,1303.67,262.57,65.7,295.04000000000002,55,572.1,316.22000000000003,21.41,2250.1799999999998,4440.24,2327.65,2422.4699999999998,231.63,271.89,8793.1299999999992,5459.44,82.51,2188.88,14112.22,4778.42,8721.25,4570.83,2493.4499999999998,10030.83,156.97999999999999,1137.8599999999999,2332.89,2028.45,2912.39,107.76,98989.119999999995,218.86,73.95,165.39,53.29,4758.1099999999997,878.08,2591.83,1525.89,299.58,429.74,887.67,3116.12,4312.5600000000004,510.92,213.79,770.19,730.29,1099.53,976.61,632.69000000000005,1331.14,7694.22,3128.25,3306.07,243.46,279.99,8584.7999999999993,8413.57,84.55,1874.22,17388.75,5183.49,11300.77,4125.4399999999996,3103.9,10957.6,237.75,1077.81,1774.82,2002.72,3166.67,114.92,119620,218609.12,2870.12,40802.78,0.18,1020.82,13253.99,-1701.57,56246.32,155235.44,3243.85,45333.34,0.15,1660.99,15795.65,700.93,66734.91,186354.91,122981.23,1830.53,-61973.78,281447.09999999998]
[null,null,"23","建設",792.85,35.950000000000003,34.46,70.91,657.98,89.5,558.37,1534.02,188.89,1095.3900000000001,1912.3,6187.57,303.76,1374.8,212.66,533.57000000000005,41.13,792.62,467.05,16.350000000000001,1353.95,366.57,1135,9780.02,4722.8,511.94,11054.7,2199.58,22191.16,14029.82,6408.63,10354.120000000001,8753.9699999999993,6768.11,260.83,3174.49,229.02,1368.94,1805.13,1331.15,0,0,124700.06,0,0,0,0,0,0,0,0,0,0,0,0,0,0,0,0,0,0,0,0,0,0,0,0,0,0,0,0,0,0,0,0,0,0,0,0,0,0,0,0,0,0,0,124700.06,0,0,0,698698.12,1164894.7,0,1863592.82,1988292.88,0,0,0,0,0,0,0,0,1863592.82,0,0,1988292.88]
[null,null,"24","電力・ガス・熱供給",2170.19,221.65,161.72999999999999,829.84,13669.88,1057.73,3413.26,17242.419999999998,1014.29,13479.28,18837.09,57428.84,3357.54,6156.96,1141.17,2726.15,219.87,6081.91,2139.8200000000002,51.19,23178.28,4706.63,4860.8500000000004,45193.18,5636.08,10690.27,64525.62,3601.4,10133.17,21129.64,8545.74,13343.56,30396.32,29196.89,517.89,11476.71,5900.37,31641.73,12016.9,11940.79,0,613.80999999999995,500646.64,7.58,0.43,0.82,2.36,37.369999999999997,8.26,38.340000000000003,59.91,9.69,33.22,24.32,83.78,23.48,20.149999999999999,10.64,13.37,5.09,28.45,10.98,2.2999999999999998,49.22,13.01,14.53,156.88,14.04,26.43,157.27000000000001,13.12,23.67,50.85,20.91,34.94,61.19,61.6,1.5,29.42,21.26,72.66,22.77,26.75,0,1.56,1294.1199999999999,501940.76,184.17,209417.65,0,0,0,0,209601.82,710248.46,0.49,503.57,0,0,0,0,504.06,1798.18,210105.88,2392.96,-28.31,714411.29]
[null,null,"25","水道",126.07,5.84,6.65,59.45,2413.46,45.49,152.19,1397.01,216.56,304.31,306.58999999999997,1569.01,88.86,198.51,74.36,144.72,13.99,249.27,143.63999999999999,3.61,1147.8499999999999,219.6,1263.74,471.56,13021.14,1549.67,7638,1055.4000000000001,1181.83,7281.76,3715.38,5124.32,14172.12,13686.28,298.17,1816.36,1423.21,9571.25,2194.58,4261.16,0,221.57,98834.54,11.33,0.27,0.48,3.61,115.97,9.83,40.01,113.29,13.42,21.79,12.78,41.87,11.61,13.04,10.9,15.88,7.54,39.270000000000003,15.69,2.36,33.619999999999997,13.26,74.510000000000005,31.43,674.43,73.010000000000005,353.7,73.5,53.05,325.52,145.04,262.17,636.21,525.77,16.53,90.04,97.7,417.51,72.25,188.78,0,10.72,4669.6899999999996,103504.23,86.66,67654.8,1131.27,0,0,0,68872.73,167707.26999999999,4.4400000000000004,3132.96,-365.55,0,0,0,2771.85,7441.54,71644.58,820.89,-48.03,175921.67]
[null,null,"26","廃棄物処理",80.930000000000007,5.12,0.28999999999999998,54.12,967.87,8.57,74.91,1118.32,19.649999999999999,80.569999999999993,645.87,208.2,8.8699999999999992,29.65,33.159999999999997,10.11,4.4000000000000004,168.84,78.86,2.29,538.66,109.37,3456.55,5912.23,301.11,0,5027.5200000000004,2821.06,38.520000000000003,10015.15,7684.35,34258.879999999997,9392.33,10657.67,5.05,886.42,6112.6,17388.5,4832.1400000000003,6911.52,0,2428.15,132378.38,12.15,0.33,0.17,4.8499999999999996,74.95,2.09,22.91,160.47,0.47,2.4300000000000002,36.869999999999997,8.94,3.83,2.44,7.31,1.02,8.77,25.42,9.43,2.54,49.86,8.3000000000000007,287.02999999999997,627.24,22.2,0,311.14999999999998,277.92,2.5299999999999998,671.91,434.85,2690.42,505.71,602.1,0.39,53.96,594.91,1072.69,268.51,408.85,0,166.43,9444.35,141822.73000000001,0,17370.37,15527.55,0,0,0,32897.919999999998,165276.29999999999,0,706,1968.84,0,0,0,2674.84,12119.19,35572.76,334.69,-9.58,177720.6]
[null,null,"27","商業",10859.57,533.48,1307.02,329.25,55474.720000000001,2104.9499999999998,10600.67,13194.81,1679.22,17337.04,5746.03,24007.9,2811.06,9374.42,3165.83,7980.37,767.27,6874.04,7973.14,205.67,52191.53,10695.8,63008.46,7586.18,1844.34,1641.39,25782.81,2921.44,2185.7199999999998,37180.519999999997,10931.73,8588.0300000000007,14660.52,90920.1,3394.59,33732.400000000001,4179.7,82601.539999999994,5540.96,9467.25,7217.82,1045.78,659645.06999999995,17672.57,474.82,2348.61,421.85,66142.460000000006,6475.65,22761.64,26235.360000000001,4362.68,18997.89,5447.02,14369.4,8251,12574.27,11137.73,16274.21,8141.33,13639.12,19815.77,5756.53,51147.28,16890.55,81547.31,10599.33,1942.9,1730.81,24655.09,4571.91,2413.89,35625.18,14601.22,9406.67,19963.03,80796.13,4077.35,33095.74,6433.22,81221.990000000005,4696.18,9248.18,7976.12,1133.57,785073.56,1444718.63,34848.800000000003,972992.52,287.33999999999997,6450.11,134987.48000000001,3782.47,1153348.72,1812993.79,40029.58,1160192.79,244.41,12107.61,166416.18,4371.16,1383361.73,2168435.29,2536710.4500000002,184480.64000000001,-5934.26,4159975.46]
[null,null,"28","金融・保険",1263.6400000000001,121.48,266.32,899.79,8663.32,735.82,2251.65,3242.8,582.61,2097.15,2773.35,6526.78,778.41,3524.73,741.12,2032.94,330.01,1216.24,1458.2,88.88,10657.36,3218.06,20766.73,9715.02,3564.75,4613.3599999999997,59627.14,35683.519999999997,170605.04,46587.44,9082.11,27076.27,13436.24,20981.94,3113.64,22804.49,2299.91,5537.13,3548.04,1638.26,0,429.77,514581.46,13.6,1.57,3.73,7.94,50.13,15.34,26.56,42.55,13.4,12.78,15.47,25.91,16.72,30.92,16.5,27.21,17.77,19.79,22.79,8.14,54.62,33.68,176.23,93.75,24.68,30.35,373.76,380.71,1418.48,286.68,64.19,192.3,73.17,134.58000000000001,26.42,150.06,23.41,35.79,19.38,11.26,0,3.08,3995.4,518576.86,8.56,449957.64,0,0,0,0,449966.2,964547.66,7.0000000000000007E-2,4119.3999999999996,0,0,0,0,4119.47,8114.87,454085.67,68640.740000000005,-43822.87,997480.4]
[null,null,"29","不動産",887.38,31.32,25.94,119.82,3232.55,182.84,643.46,1201.6400000000001,90.97,1285.31,840.17,2031,115.74,1410.01,411.95,1052.97,42.26,384.08,665.85,19.22,2757.87,916.56,8686.9699999999993,3627.27,209.36,339.44,109470.15,13480.69,91474.04,48736.05,32073.919999999998,2504.5300000000002,7706.23,47577.18,2651.03,22941.68,1375.52,11156.85,3184.33,12281.18,0,5300.79,443126.12,24.3,0.89,1.28,8.11,99.53,15.52,32.5,77.819999999999993,7.09,50.38,22.92,36.64,10.039999999999999,54.64,32.4,48.63,15.47,25.22,47.78,15.77,47.15,33.94,314.69,159.19999999999999,7.15,10.18,2995.41,620.91999999999996,2725.47,1189.99,1322.14,71.78,392.23,1224.3699999999999,92.56,653.08000000000004,61.77,311.08999999999997,82.33,346.2,0,167.64,13456.22,456582.34,0,2025465.52,884.01,0,100943.28,0,2127292.81,2570418.9300000002,0,75147.240000000005,24.84,0,3237.65,0,78409.73,91865.95,2205702.54,1843.31,-55.96,2664072.23]
[null,null,"30","運輸・郵便",12602.28,901.9,1307.55,6386.08,42667.5,1071.56,7779.83,12627.95,4292.66,7808.61,16299.89,31861.65,2551.77,9154.73,2469.88,5788.51,566.64,4378.41,4788.5600000000004,154.03,51926.66,29872.240000000002,76271.17,24050.89,3096.95,10272.040000000001,201327.72,29578.38,7746.47,233784.86,40287.17,46586.239999999998,39180.639999999999,41653.61,5091.22,41139.31,13113.63,25929.37,14963.74,17275.349999999999,2368.69,14501.04,1145477.3799999999,7046.57,536.04999999999995,788.83,1991.4,14262.09,1086.08,5477.98,8162.78,3855.27,3063.95,4208.8599999999997,6170.52,3164.3,3855.6,2554.63,3627.98,1925.31,3003.12,3891.07,1369.41,9626.0400000000009,10299.299999999999,30449.53,10897.1,1016.91,3438.55,57830.09,14494.81,2409.85,75199.08,15548.7,15593.28,13047.42,11710.16,1929.4,13421.3,6267.43,8150.53,3899.15,5090.37,844.02,5038.08,396242.9,1541720.28,12772.55,382599.22,1028.0999999999999,948.52,22549.42,1574.56,421472.37,1566949.75,4734.8,172348.05,604.91,688.82,8792.36,573.24,187742.18,583985.07999999996,609214.55000000005,228003.97,-102095.98,2276842.8199999998]
[null,null,"31","情報通信",863.29,16.510000000000002,136,176.74,5616.85,231.33,1206.4000000000001,5433.52,98.31,2937.45,1519,3844.17,357.81,1896.36,787.2,2781.1,196.89,2022.4,2999.32,182.45,7285.2,1641.29,13542.94,6239.62,5729.88,1507.15,123111.01,44600.17,9474,23026.03,282784.3,37380.6,28218.44,31556,8747.61,159506.54999999999,2865.78,15346.72,13020.45,7206.63,0,11056.09,867149.56,173.39,5.41,36.69,30.03,769.92,89.95,332.88,1549.83,54.3,384.28,174.55,303.54000000000002,140.07,321.44,319.41000000000003,783.38,243.42,556,901.62,475.71,679.7,301.37,2359.8200000000002,1211.98,781.64,207.6,15513.58,9045.75,1204.6099999999999,2446.96,36847.43,5278.02,5598.66,3696.51,1353.77,25047.95,570.19000000000005,1975.01,1357.57,929.81,0,1549.18,125602.93,992752.49,5327.81,437848.13,1312.2,17301.21,136782.59,-846.46,597725.48,1464875.04,791.11,57834.54,157.46,4694.1400000000003,37022.410000000003,-118,100381.66,225984.59,698107.14,26458.51,-71958.880000000005,1645359.26]
[null,null,"32","公務",0,0,0,0,0,0,0,0,0,0,0,0,0,0,0,0,0,0,0,0,0,0,0,0,0,0,0,0,0,0,0,0,0,0,0,0,0,0,0,0,0,41904.379999999997,41904.379999999997,0,0,0,0,0,0,0,0,0,0,0,0,0,0,0,0,0,0,0,0,0,0,0,0,0,0,0,0,0,0,0,0,0,0,0,0,0,0,0,0,0,0,0,41904.379999999997,0,33873.06,1263947.8799999999,0,0,0,1297820.94,1339725.32,0,0,0,0,0,0,0,0,1297820.94,0,0,1339725.32]
[null,null,"33","教育・研究",15.96,1.01,0.01,19.760000000000002,293.88,0.75,35.39,168.89,0.59,38.31,150.87,104.49,1.8,135.18,102.73,144.69999999999999,8.9,277.60000000000002,321.31,10.68,457.41,9.67,291.70999999999998,351.53,15.97,25.74,785.95,197.39,3.41,2291.36,6798.58,213.4,1.85,266.8,0,1267.45,29.25,470.08,77.34,313.14,0,26.31,15727.15,0.41,0.12,0,0.25,10.7,0.08,1.97,9.18,0.12,1.79,2.44,1.67,0.16,4.78,6.95,6.93,2.35,16.05,18.52,8.76,10.68,0.51,9.9,14.3,0.5,0.74,20.66,8.1999999999999993,0.09,68.48,213.43,5.28,0.05,6.4,0,40.200000000000003,1.21,12.09,2.2000000000000002,9.0299999999999994,0,0.76,517.94000000000005,16245.09,0,314875.46999999997,810556.74,90321.18,326731.56,0,1542484.95,1558212.1,0,9544.2199999999993,17966.599999999999,2942.1,15765.72,0,46218.64,46736.58,1588703.59,28614.76,-63530.15,1570033.29]
[null,null,"34","医療・福祉",199.25,0,0,0,0,0,0.26,7.51,0,0.32,0,4.2,0,0,0,0,0,0,0,0,0,3.97,2.16,11.39,44.59,0,97.59,144.13999999999999,21.39,2871.1,1175.8499999999999,41.12,29.39,48697.38,1.86,97.3,0.51,108.06,41.73,21.64,0,409.95,54032.66,8.8699999999999992,0,0,0,0,0,7.0000000000000007E-2,0.84,0,0.03,0,0.09,0,0,0,0,0,0,0,0,0,0.2,0.14000000000000001,1.24,2.42,0,4.46,10.39,0.97,112.52,50.49,1.98,1.92,1910.03,0.11,5.5,0.04,4.92,1.66,1.1599999999999999,0,20.65,2140.6999999999998,56173.36,27118.77,609727.15,2193067.64,0,0,0,2829913.56,2883946.22,1447.84,28210.51,89252.05,0,0,0,118910.39999999999,121051.1,2948823.96,9.5,-111.76,3004895.06]
[null,null,"35","他に分類されない会員制団体",50.03,4.0999999999999996,318.13,69.66,1742.76,31.86,390.95,1117.76,46.12,531.51,299.3,1204.03,42.2,270.08999999999997,246.13,457.53,23.88,183.51,191.07,5.61,675.99,249.9,1934.75,953.24,1400.8,349.3,2138.4899999999998,2676.27,1050.99,2862.66,2170.2800000000002,4.74,2264.12,2932.78,0,5632.31,194.87,1694.16,4134.1099999999997,1002.25,0,818.76,42367,1.63,0.13,17.100000000000001,3.32,46.17,3.29,16.18,65.760000000000005,3.55,10.41,7.82,23.85,4.3600000000000003,12.96,30.88,40.22,13.71,12.92,13.39,5.93,15.49,10.58,89.23,49.11,55.23,12.55,72.22,140.32,34.76,89.6,86.3,0.15,119.52,87.84,0,198.92,10.15,55.67,99.46,34.76,0,30.02,1625.46,43992.46,0,113026.98,0,0,0,0,113026.98,155393.98000000001,0,4394.45,0,0,0,0,4394.45,6019.91,117421.43,1360.13,-4019.14,158754.88]
[null,null,"36","対事業所サービス",4280.24,348.6,353.55,911.27,47438.11,1402.32,5184.21,18959.849999999999,1304.03,16139.29,12941.02,15444.44,1585.68,8763.4,5428.61,11199.66,742.78,11141.85,10106.83,292.93,69547.88,10638.87,156267.01,34259.56,20217.04,9836.0400000000009,285591.90000000002,91773.78,76793.77,242091.2,220568.62,115073.52,89099.21,124042.76,10105.48,309622.39,2950.93,30936.41,18810.39,17403.63,0,6017.89,2115616.9500000002,1121.43,97.22,98.48,220.52,6754.7,629.79999999999995,1397.75,7107.17,431.6,2758.55,1723.05,1514.92,727.67,1779.49,2193.17,2983.97,1241.76,3221.74,3310.03,1056.76,7781.49,2040.31,29535.23,8249.2099999999991,3173.83,1579.03,42008.3,21558.75,11535.32,32607.68,42947.43,18936.900000000001,16104,16365.68,1794.81,53880.82,679.71,4544.17,2432.23,2655.64,0,976.19,361756.51,2477373.46,2445.3000000000002,121342.35,0,901.33,9296,0,133984.98000000001,2249601.9300000002,420.35,21255.65,0,944.87,9744.9500000000007,0,32365.82,394122.33,166350.79999999999,122919.89,-118475.31,2648168.84]
[null,null,"37","宿泊業",0,0,0,0,0,0,0,0,0,0,0,0,0,0,0,0,0,0,0,0,0,0,0,0,0,0,0,0,0,0,0,0,0,0,0,0,0,0,0,0,0,0,0,0,0,0,0,0,0,0,0,0,0,0,0,0,0,0,0,0,0,0,0,0,0,0,0,0,0,0,0,0,0,0,0,0,0,0,0,0,0,0,0,0,0,0,0,10645.13,19552.509999999998,0,0,0,0,30197.64,30197.64,37631.620000000003,62243.08,0,0,0,0,99874.7,99874.7,130072.34,31244.25,-18712.95,142603.64000000001]
[null,null,"38","飲食サービス",0,0,0,0,0,0,0,0,0,0,0,0,0,0,0,0,0,0,0,0,0,0,0,0,0,0,0,0,0,0,0,0,2999.59,6413.99,0,0,1828.75,7378.7,0,0,0,0,18621.03,0,0,0,0,0,0,0,0,0,0,0,0,0,0,0,0,0,0,0,0,0,0,0,0,0,0,0,0,0,0,0,0,706.54,1491.26,0,0,796.34,2053.56,0,0,0,0,5047.7,23668.73,244003.35,538895.12,0,0,0,0,782898.47,801519.5,79296.33,207498.74,0,0,0,0,286795.07,291842.77,1069693.54,20607.939999999999,-14000.66,1099969.55]
[null,null,"39","娯楽サービス",0,0,0,0,0,0,0,0,0,0,0,0,0,0,0,0,0,0,0,0,0,0.06,0,0,0,0,48.48,0,0,0,11468.44,0,119.87,0,0,538.64,297.08999999999997,222.59,4760.01,287.66000000000003,0,67.680000000000007,17810.52,0,0,0,0,0,0,0,0,0,0,0,0,0,0,0,0,0,0,0,0,0,32.270000000000003,0,0,0,0,14.93,0,0,0,4328.7,0,27.47,0,0,190.86,131.76,62.31,1812.81,125.78,0,21.14,6748.03,24558.55,23223.86,282137.21000000002,0,0,0,0,305361.07,323171.59000000003,7686.71,81342.850000000006,0,0,0,0,89029.56,95777.59,394390.63,4647.7700000000004,-6628.68,416968.27]
[null,null,"40","その他の対個人サービス",39.93,0.73,27.82,5.67,223.61,7.52,18.739999999999998,52.34,4.93,47.18,23,106.26,10.54,31.59,16.48,44.63,2.57,46.88,34.31,0.83,278.45999999999998,32.54,473.27,51.03,45.03,8.83,3204.55,175.08,1407.11,1381.09,2458.34,708.23,1389.54,31435.78,361.44,2980.61,1727.97,3405.05,1369.19,8135.89,0,201.33,61975.92,4.67,0.34,6.15,0.61,24.97,2.3199999999999998,4.47,11.3,1.1299999999999999,4.82,1.77,6.33,3.21,4.3099999999999996,4.9400000000000004,8.8800000000000008,3.01,9.02,8.0500000000000007,2.81,20.76,4.6399999999999997,61,7.77,4.87,0.94,305.39,27.69,162.65,144.37,332.87,75.239999999999995,231.44,2636.19,44.8,343.31,268.74,347.33,117.77,742.15,0,22.05,6015.08,67991,3241.37,363539.47,0,0,0,0,366780.84,428756.76,376.21,42335.78,0,0,0,0,42711.99,48727.07,409492.83,2072.0700000000002,-1107.06,478448.84]
[null,null,"41","事務用品",172.79,16.11,35.93,36.25,874.37,49.8,196.1,318.52,8.08,105.43,349.82,243.55,33.83,138.28,140.38,365.02,35.67,307.87,235.23,11.57,606.22,251.25,1642.53,28.25,157.63999999999999,592.04999999999995,7966.42,3264.63,1029.3800000000001,4794.83,3457.76,3870.17,5174.53,6925.72,739.8,4096.43,293.89999999999998,961.45,900.36,1549.38,0,34.869999999999997,52012.17,0,0,0,0,0,0,0,0,0,0,0,0,0,0,0,0,0,0,0,0,0,0,0,0,0,0,0,0,0,0,0,0,0,0,0,0,0,0,0,0,0,0,0,52012.17,0,0,0,0,0,0,0,52012.17,0,0,0,0,0,0,0,0,0,0,0,52012.17]
[null,null,"42","分類不明",960.97,24.11,221.51,365.09,10765.31,148.01,592.32000000000005,849.61,81.22,1456.2,2049.0100000000002,5317.86,405.31,1226.8699999999999,1013.82,2138.04,60.84,268.61,402.27,25.97,1996.41,542.54,25997.3,1827.41,1463.67,3721.93,26034.14,4236.09,5198.3100000000004,18077.25,5142.04,1365.61,16522.72,11317.58,715.43,9535.5400000000009,235.9,1689.76,500.67,3693,25.95,0,168212.2,42.32,3.27,16.41,12.57,274.33999999999997,11.81,44.15,48.37,7.3,36.630000000000003,58.79,112.68,53.97,53.79,93.9,118.2,21.59,11.63,47.04,9.15,111.14,23.98,1032.53,85.46,49.44,125.4,782.79,202.24,169.17,547.88,159.5,44.96,510.78,317.04000000000002,24.66,274.26,11.19,53.9,13.2,104.73,0.88,0,5723.04,173935.24,0,345.22,0,0,0,0,345.22,168557.42,0,12.17,0,0,0,0,12.17,5735.21,357.39,208.26,-1586.09,172914.8]
[null,null,"j","域内内生部門計",68216.77,4196.3100000000004,8020.03,11220.56,474261.71,15526.87,67898.61,174834.16,87771.76,156320.54,120144.83,902924.29,49560.08,121785.77,37824.74,97812.11,8525.27,117089.3,100783.2,3697.95,1008966.54,93170.72,647154.81999999995,371322.07,66945.16,49036.15,979893.75,247550.67,402883.89,805913.95,682576.65,333074.39,311127.09999999998,704938.34,42714.02,742408.57,51946.21,392748.84,101496.52,116813.47,25110.05,89064.11,10895270.85,85468.19,3584.56,10877.41,3462.65,376029.01,17861.48,87444.26,175361.54,19830.73,113819.84,35329.980000000003,461151.4,46129.39,123875.34,91964.87,151802.96,50274.29,108095.02,135847.03,44343.98,805506.85,66732.17,438844.56,45583.519999999997,13057.45,9835.44,178114.42,63449.01,24123.47,195035.96,147281.09,72365.83,89393,235989.57,14870.24,233112.95999999999,27613.23,285223.84999999998,20419.48,28469.31,20251.25,12558.7,5170385.29,16065656.140000001,387257.4,7802655.4400000004,4287883.8099999996,834354.73,2274251.59,86.6,15586489.57,26481760.420000002,203137.14,2960837.61,109952.75,51479.12,699150.18,2386.0100000000002,4026942.81,9197328.0999999996,19613432.379999999,3406602.64,-2787491.41,36298199.75]
[null,"県外","01","農業",11970.37,42.3,0,0,114573.71,130.41,3.53,303.27,0,10894,15.26,0,0.34,0,0,0,0,0,0,0,0,334.5,882.64,0,0,0,200.03,0,2.39,37.81,0,26.94,1699.23,3403.86,134.55000000000001,16.39,809.74,15668.35,878.31,949.8,0,0,162977.73000000001,1358145.04,1736.79,0,0,6096964.2800000003,28750.65,3286.26,33727.910000000003,0,131966.76,880.04,0,114.11,0,0,0,0,0,0,0,0,18580.46,58617.78,0,0,0,10813.58,0,174.21,1957.82,0,1254.8,84039.41,145439.53,8839.5,823.27,63027.32,765253.69,38257.85,41625.86,0,0,8894276.9199999999,9057254.6500000004,828.7,55774.49,0,0,899.54,-972.36,56530.37,219508.1,48138.69,3168908.99,0,0,189568.13,-26107.919999999998,3380507.89,12274784.810000001,3437038.26,37940.050000000003,-2291462.87,10240770.09]
[null,null,"02","林業",25.06,882.6,3.93,0.79,234.08,7.0000000000000007E-2,2931.14,33.979999999999997,0,0,0.02,0.04,0,0,0,0,0,0,0,0,0.03,25.61,33.06,0,0,0,0,0,0,0,0,3.49,48.73,92.73,0,0,71.209999999999994,1069.82,0,22.34,0,0,5478.73,1550.27,98488.38,239.95,60.6,13196.4,30.41,348364.52,5662.16,0,0,0.95,1.89,0,0,0,0,0,0,0,0,13.74,2750.37,2308.7800000000002,0,0,0,0,0,0,0,0,148.15,1867.52,3877.9,0,0,5046.47,48850.080000000002,0,857.73,0,0,533316.27,538795,55.92,3480.27,0,0,0,-302.33,3233.86,8712.59,2957.62,165073.51,0,0,0,209349.86,377380.99,910697.26,380614.85,9692.5400000000009,-145001.4,784100.99]
[null,null,"03","漁業",0,0,827.16,0,16187.2,0.01,0,10.27,0,0,0,0,0,0,0,0,0,0,0,0,0,32.06,0,0,0,0,0,0,0,4.67,0,6.03,57.85,943.46,0,0,292.10000000000002,4153.47,5.27,86.56,0,0,22606.11,0,0,61986.080000000002,0,1034829.27,2.96,0,994.94,0,0,0,0,0,0,0,0,0,0,0,0,0,47313.85,0,0,0,0,0,0,0,201.61,0,233.9,2030.65,34272.31,0,0,18947.95,173320.05,268.82,3041.4,0,0,1377443.79,1400049.9,286.22000000000003,6845.96,0,0,0,5.77,7137.95,29744.06,13855.7,314111.33,0,0,0,6977.27,334944.3,1712388.09,342082.25,59873.04,-235091.75,1566913.44]
[null,null,"04","鉱業",0.04,0.2,0,3.18,11.93,0.25,7.76,216.29,2383.02,4.34,983.01,2421.56,242.03,2.5,0.17,0.51,0.15,1.41,0.83,0.01,7.04,2.74,362.51,6666.34,0,0.01,0.32,0.03,0.09,0.48,0.02,0.57999999999999996,1.1599999999999999,0.9,0.32,0.82,0.36,0.03,0.44,1.56,0,1.1599999999999999,13326.1,94.6,307.37,0,1397.55,10639.05,1319.07,53060.07,136144.69,9756620.2200000007,1501.9,374952.34,1291990.5,1255619.07,2926.42,626.95000000000005,925.08,369.86,2216.09,720.83,162.72,5714.12,4413.63,368472.96,7398883.9800000004,0,10.6,253.53,40.950000000000003,74.98,429.29,16.510000000000002,423.07,1693.61,580.57000000000005,271.5,629.28,194.56,-739.15,418.43,1204.81,0,996.86,20675578.469999999,20688904.57,0,7.0000000000000007E-2,0,0,0,-45.68,-45.61,13280.49,-5180.34,-5909.57,0,0,-6298.63,-390.73,-17779.27,20657799.199999999,-17824.88,44570.3,-19894533.620000001,821116.37]
[null,null,"05","飲食料品",10337.81,631.85,2208.83,0,132136.15,158.1,125.01,1893.59,0,2.99,75.11,0.5,0,0,0,0,0,0,0,0,0,314.52,18.89,0,0,0,312.24,0,0,198.17,0.21,286.33999999999997,5543.55,15139.99,108.82,8.64,5426.31,154180.64000000001,265.44,1448.69,0,297.77999999999997,331120.17,1255772.1100000001,21071.14,146863.28,0,6571394.0199999996,7688.96,19122.52,190664.81,68.19,215.12,2802.33,19.61,0,0,0,0,0,0,0,0,0,29707.54,1442.11,0,0,0,12554.31,0,0,8456.98,14.26,12021.47,228966.69,536903.06999999995,5893.18,373.11,348154.59,6341715.7800000003,10953.03,50342.97,0,13454.8,15816635.98,16147756.15,17149.2,518799.97,0,0,0,-315.5,535633.67000000004,866753.84,821147.58,26196492.77,0,0,0,-16787.34,27000853.010000002,42817488.990000002,27536486.68,672377.26,-7603531.2400000002,36753088.850000001]
[null,null,"06","繊維製品",574.38,39.46,302.04000000000002,47.97,680.01,6093.67,700.24,281.64,11.43,2952.4,328.16,328.16,39.15,215.94,81.97,177.93,18.489999999999998,578.58000000000004,369.55,11.13,4037.48,352.94,3048.34,50.8,81.66,180.46,8365.2199999999993,691.7,44.48,2193.38,742.11,2219.5700000000002,331,4686.55,2033.6,2681.75,677.5,387.38,1382,1497.59,527.57000000000005,44.93,50090.31,40783.47,1578.2,31508.95,3204.73,36551.25,830921.45,76362.89,26507.94,421.44,70274.320000000007,19205.91,8429.3700000000008,7662.96,14042.08,11071.81,21688.45,7681.61,47677.51,38930.269999999997,9116.3700000000008,85248.73,42854.47,184444.2,3627.7,4119.51,8978.2999999999993,383081.21,51842.37,2116.5300000000002,85516.53,51192.88,126345.89,21282.65,188424.33,107538.08,142305.29,49051.14,17785.37,54979.29,65935.899999999994,27423.63,2291,3010005.98,3060096.29,1970.19,74612.92,0,22.03,6782.94,1954.5,85342.58,135432.89000000001,106453.08,4235212.25,0,787.69,304502.59999999998,146374.45000000001,4793330.07,7803336.0499999998,4878672.6500000004,643838.69999999995,-5044455.32,3538152.32]
[null,null,"07","パルプ・紙・木製品",4474.32,229.27,76.17,27.89,13386.74,153.72999999999999,35181.75,2933.19,8.7200000000000006,1488.65,3674.95,357.03,137.41,687.29,99.24,176.11,146.81,784.46,1281.8699999999999,20.87,1288.29,17018.34,54557.33,1100.8499999999999,296.52999999999997,373.5,19868.599999999999,2355.4499999999998,745.62,5202.3500000000004,13981.34,1017.24,5600.26,9336.61,1562.8,6136.42,385.02,4259.1899999999996,1896.37,1245.5899999999999,13470.39,123.55,227148.11,256934.96,7756.06,5082.33,2048.88,616075.99,21219.55,3324467.04,374392.23,247.09,88564.7,115785.89,8380.35,20011.32,39694.879999999997,16454.02,18605.240000000002,34664.43,79216.61,112058.73,31492.82,73873.440000000002,815691.03,2748804.27,60195.95,12349.26,15944.5,725287.77,149690.1,33177.96,237772.13,668188.94999999995,47629.65,277484.46000000002,349777.17,77260.210000000006,244178.97,24039.81,168071.14,56408.42,52536.85,603851.44999999995,5432.96,12620799.57,12847947.68,2495.41,10050.42,57.72,385.85,8963.49,-1212.48,20740.41,247888.52,68473.240000000005,328209.28000000003,1959.98,13411.3,426142.23,-62138.29,776057.74,13396857.310000001,796798.15,579482.46,-2485682.4900000002,11738545.800000001]
[null,null,"08","化学製品",11119.88,7.56,292.08,357.62,9249.69,3136.61,3697.71,134402.22,443.53,67263.45,3808.24,5249.86,486.1,2026.55,411.38,951.38,247.87,2284.33,1794.98,33.31,14920.64,5759.82,6449.23,333.84,936.72,1666.63,21.63,12.78,53.45,611.61,1261.5,835.07,4854.9799999999996,246956.32,226.36,7028.63,267.24,1808.93,738.55,5341.91,314.95999999999998,805.2,548470.35,648572.30000000005,574.62,16219.03,11811.86,376150.23,383862.98,408114.14,9333956.5899999999,30371.84,2584529.79,199029.71,92361.38,73010.039999999994,98362.05,44085.440000000002,64258.76,112218.78,227522.77,208732.56,54545.22,508900.88,319834.78000000003,315799.87,17797.400000000001,38035.620000000003,66102.44,806.61,779.53,2700.67,22849.23,61606.96,34409.480000000003,334225.69,8325953.6200000001,10031.02,295326.39,15421.27,66585.2,35747,204539.85,13049.32,32723.35,25691516.27,26239986.620000001,3845.27,65869.14,0,0,0,432.23,70146.64,618616.99,165602.62,2414073.06,0,0,0,-110184.35,2469491.33,28161007.600000001,2539637.9700000002,6189775.0999999996,-7503221.0499999998,27466178.640000001]
[null,null,"09","石油・石炭製品",1833.96,166.97,1016.63,463.04,3370.37,136.03,333.11,4074.13,8208.1,1290.24,4366.46,45292.19,193.35,785.97,78.11,370.63,33.71,350.23,222.56,4.63,2526.56,485.88,15196.02,26405.8,1483.82,1531.47,4361.92,295.08999999999997,950.24,180261.58,936.03,12310.19,3070.8,4975.38,373.5,4355.5,238.14,3462.15,2772.42,1943.83,0,2431.1799999999998,342957.92,68334.289999999994,7634.7,78439.47,18240.43,149855.73000000001,20925.689999999999,45328.75,2159405.9,1024182.02,25139.18,128084.91,572285.97,23425.49,33489.769999999997,13243.59,17478.11,6198.98,17799.61,16498.87,2405.4299999999998,103760.73,18200.66,719551.03,1185942.3500000001,49946.59,54109.73,143671.47,15166.31,30924.34,5186264.6100000003,37721.1,408842.82,147151.46,144502.21,14916.06,147732.92000000001,12138.83,113297.71,69985.61,63446.48,0,87270.73,13182940.640000001,13525898.560000001,402.06,132734.64000000001,0,0,0,-1330.01,131806.69,474764.61,15294.12,4890349.3,0,0,0,-27052.46,4878590.96,18061531.600000001,5010397.6500000004,1442069.32,-3264954.52,16713411.01]
[null,null,"10","プラスチック・ゴム製品",1563.14,278.27999999999997,250.26,62.09,13688.07,264.37,2071.7399999999998,4447.46,6.53,39044.699999999997,1045.1500000000001,628.38,164.19,835.92,1103.73,3591.21,771,3182.97,4261.6099999999997,143.06,64045.3,7508.28,13169.13,0,3323.89,1309.3399999999999,9906.7900000000009,1345.4,852.94,3213.97,2300.52,1459.49,1867.4,3502.28,622.61,15065.29,213.06,770.55,1622.64,696.85,1295.19,351.53,211846.31,75750.37,10711.48,24371.93,3788.21,671683.19,35815.99,243371.22,487401.65,2211.06,2846350.03,43848.74,17428.419999999998,46116.11,53834,131131.54,327449.34999999998,264849.27,254012.58,607158.46,217388.7,1870324.17,535277.86,781054.43,0,162482.29999999999,62812.24,457796.63,94799.47,44446.26,146147.23000000001,191447.54,71368.52,158699,131805.57,32760.46,632637.64,14866.41,33687.629999999997,63620.72,29423.65,65484.72,17434.060000000001,11963048.810000001,12174895.119999999,457.42,17176.55,95.17,0,0,-96.2,17632.939999999999,229479.25,24039.91,847977.51,3645.14,0,-661.24,-39429.199999999997,835572.12,12798620.93,853205.06,2359684.4500000002,-1872069.88,13515714.75]
[null,null,"11","窯業・土石製品",262.82,12.13,0.59,1.74,2021.32,9.91,547.65,1680.36,75.319999999999993,430.77,9019.14,2948.74,479.28,512.46,509.2,479.02,148.66,3786.1,1002.88,10.09,13776.84,390.61,43161.2,12.68,325.57,38.1,326.23,3.66,68.75,33.06,6.22,98.94,1308.9000000000001,1054.52,30.9,904.82,109.36,866.73,238.59,117.98,112.01,345.16,87269.01,25198.59,597.59,73.38,411.36,99673.61,2176.3000000000002,35148.879999999997,173587.1,4864.3999999999996,39925.040000000001,479297.94,123158.88,75179.41,39093.39,63191.8,69462.36,122423.94,445562.6,136977.63,14501.86,271739.59000000003,42963.82,3067732.39,1003.85,18933.46,2219.69,17944.259999999998,328.46,5380.78,1476.18,541.97,6637.34,74141.289999999994,51411.45,1907.93,43451.23,8873.8700000000008,43163.44,10368.549999999999,6519.85,6828.22,20639.740000000002,5654713.4199999999,5741982.4299999997,179.47,2299.0700000000002,0,0,0,-432.17,2046.37,89315.38,11018.2,126318.44,0,0,0,-56696.06,80640.58,5735354,82686.95,901040.74,-713917.63,6011792.4900000002]
[null,null,"12","鉄鋼",4.29,0.02,3.65,12.6,0,2.1,590.29,30.16,0,254.75,877.29,360063,22.1,28203.51,4295.1099999999997,10152.049999999999,175.51,394.91,5376.57,32.42,49660.02,154.38999999999999,15370.25,0,1.48,0,0,0,0,140.54,0,20.2,0,2.64,0.21,125.38,0.97,9.39,0.31,9.2899999999999991,0.42,291.8,476277.62,340.54,7.68,342.32,2163.96,0,528.66,110004.51,823.69,-5.41,26535.54,45908.51,12823368.369999999,10009.450000000001,2488085.71,1142163.44,1455545.22,148694.82,72815.06,676026.19,47096.86,2697831.74,30989.96,1331960.99,0,108.23,0,0,0,0,12763.16,0,1270.52,0,168.91,18.77,7547.6,101.88,627.54999999999995,28.2,560.03,31.75,21522.95,23155987.359999999,23632264.98,0,0.49,0,0,0,-1753.62,-1753.13,474524.49,0,-33402.25,0,-27140.41,-163027.09,-226356.31,-449926.06,22706061.300000001,-451679.19,3298765.57,-998798.45,25480552.91]
[null,null,"13","非鉄金属",0,0,0,7.85,992.25,0.09,303.86,3607.25,0.12,687.49,1332.53,10082.67,30160.69,13133.69,2779.1,3536.9,856.73,8220.0400000000009,9539.9500000000007,111.04,23027.84,1300,8645.19,83.67,20.74,0.39,27.69,0,0,15.6,64.61,176.86,44.17,2103.11,17.18,584.75,44.76,192.44,0,118.8,25.93,342.24,122188.22,0,0,0,564.30999999999995,53199.43,28.63,29480.560000000001,129931.22,193.46,31534.87,58224.25,210618.81,3478120.35,738402.45,383089.34,314767.89,250065.92000000001,603062.47,1012847.54,220079.67,1267490.79,120393.27,527328.86,6412.09,1115.18,17.14,1202.45,0,0,691.79,3345.05,7699.17,3893.94,79151.64,932.17,24544.240000000002,3175.73,8763.4599999999991,0,5719.42,1320.97,17101.400000000001,9594509.9299999997,9716698.1500000004,23.77,3245.97,0,0,0,-698.23,2571.5100000000002,124759.73,1258.49,161901.67000000001,0,0,135741.9,-120799.29,178102.77,9772612.6999999993,180674.28,2367685.73,-3575285.86,8689772.3000000007]
[null,null,"14","金属製品",173.51,3.85,28.49,191.29,8561.3700000000008,56.76,1758.01,2516.34,80.69,2114.04,1202.18,495.11,99.7,10722.82,1529.28,5255.59,376.76,2487.4,3609.19,106.38,9385.36,1169.1300000000001,86146.49,155.9,63.34,13.65,5722.94,50.77,375.46,1385.04,344.34,3451.57,134.32,475.62,179.17,1573.68,60.6,1420.2,37.11,1010.26,9.5,487.56,155020.76999999999,13234.13,504.05,2324.64,16646.89,440064.57,8367.5400000000009,140096.49,236108.78,7760.86,90182.36,62051,21914.76,14464.86,790553.09,362831.34,521553.41,263103.27,267941.38,423464.01,143694.38,521887.31,107799.79,5567557.0199999996,11342.44,3441.9,705.91,260956.45,3895.06,24197.38,66395.039999999994,17670.060000000001,166030.76999999999,7425.57,21448.799999999999,10244.049999999999,71704.740000000005,4569.2299999999996,68418.03,1402.08,51526.36,514.41999999999996,25888.76,10841882.98,10996903.75,509.71,4744.25,14.6,267.7,6808.31,-211.09,12133.48,167154.25,28680.69,265501.87,598.71,17619.25,425320.85,10448.11,748169.48,11590052.460000001,760302.96,842277.38,-1202314.1000000001,11397169.99]
[null,null,"15","はん用機械",0,0.16,0,36.96,0,0,651.54999999999995,15.13,0,94.66,357.88,103.75,0.28999999999999998,240.66,16741.830000000002,11149.01,199.32,445.52,2454.7399999999998,22.25,6890.01,18.3,10051.32,0,1391.33,0,12.59,0.02,0,148.26,5.67,420.46,0,0.28000000000000003,0,16552.310000000001,0,0,0,13.86,0,0,68018.12,0,23.5,0,1799.85,0,0,12333.22,563.42999999999995,0,5120.04,12626.16,3093.31,132,11703.47,1594093.6,635769.4,101461.5,28893.5,206437.13,11722.27,416394.27,5011.34,373741.91,0,44485.14,0,384.92,0.96,0,4509.1400000000003,275.25,12536.19,0,9.52,0,467577.59,0,0,0,363.55,0,0,3951062.16,4019080.28,0,352.56,0,3335.21,100454.41,348.27,104490.45,172508.57,0,12677.42,0,150878.95000000001,4097248.22,86156.18,4346960.7699999996,8298022.9299999997,4451451.22,3359629.65,-1500950.21,10329210.939999999]
[null,null,"16","生産用機械",0,0.77,0,31.43,0,0,18.8,0,1.1100000000000001,555.17999999999995,381.59,108.08,12.82,96.23,617.24,32545.45,18.77,575.94000000000005,699.25,4.3600000000000003,1051.95,5.92,74.72,2.46,29.46,0,8.94,0,0,79.680000000000007,3.97,17.47,0,0,0,21469.32,0,0,0.99,10.95,0,0,58422.85,0,118.59,0,1684.4,0,0,1113.95,0,230.94,33891.29,7752.42,3584.1,1084.32,5519.42,48748.84,2354085.4700000002,12767.38,39063.480000000003,35928.080000000002,4837.76,47142.61,1181.6199999999999,4090.49,126.93,1062.24,0,299.10000000000002,0,0,2280.91,136.54,607.61,0,0,0,682270.47,0,0,49.59,383.52,0,0,3290042.07,3348464.92,0,144.93,0,2373.4699999999998,154266.39000000001,376.63,157161.42000000001,215584.27,0,7448.69,0,94281.38,8190166.1399999997,157914.60999999999,8449810.8200000003,11739852.890000001,8606972.2400000002,6381727.5199999996,-1972019.68,16365145]
[null,null,"17","業務用機械",129.85,0.3,0.38,0,0.83,0,0,0.02,0,0,0,0,0,4.78,363.64,1369.13,1421.93,0,379.64,3.35,571.65,35.53,313.25,0,13.57,4.0999999999999996,3637.16,8.16,0,86.32,202.09,4287.72,0,27172.81,0,9231.8700000000008,3.94,0,1599.07,107.73,1040.3699999999999,0,51989.19,3902.06,31.55,14.49,0,7.95,0,0,20.92,0,0,0,0,0,209.59,27020.73,91258.59,584869.17000000004,1606.08,14409.79,6828.17,20464.78,1676,11540.81,0,426.2,130.61000000000001,99294.04,401.94,0,1374,9547.01,121858.21,0,668622.05000000005,0,255392.93,183.68,0,30881.06,3781.67,34791.71,0,1990545.79,2042534.98,64.819999999999993,2672.15,7.59,5644.12,126130.75,-10.1,134509.32999999999,186498.52,2253.41,97576.41,192.15,436821.87,4137441.65,73513.73,4747799.22,6738345.0099999998,4882308.55,2025280.67,-2072646.33,6877477.8700000001]
[null,null,"18","電子部品",0,0,0.05,0.45,1.01,0.01,0.9,0.72,0,0.04,0.03,0.59,2.04,126.52,550.58000000000004,1960.62,876.08,23920.44,11395.42,758.32,4172.93,166.52,170.53,1,1.02,0,25.67,11.07,0,5.27,530.79,1039.18,390.5,3.07,0,9045.36,0.03,0,0.01,7.46,529.85,0,55694.080000000002,0,0,11.65,19.14,64.56,2.93,118.21,142.52000000000001,9.8699999999999992,6.76,1.88,27.54,1173.8900000000001,30274.55,75345.41,149574.01,917509.22,3625288.36,2263677.9,1679765.43,570226.93000000005,68455.460000000006,18088.349999999999,126.75,90.18,0,2219.23,1523.24,0,281.57,66499.27,83265.09,62688.5,271.48,0,694258.7,3.85,0,1.94,635.04,50108.86,0,10361758.27,10417452.35,5.23,1570.16,0,0,0,41.41,1616.8,57310.879999999997,514.53,149107.6,0,0,0,97996.78,247618.91,10609377.18,249235.71,6655164.3200000003,-4058699.07,13263153.310000001]
[null,null,"19","電気機械",5.05,0,22.52,13.1,1,0,44.15,0.38,0,4.0599999999999996,8.4,0,0.78,180.31,1457.57,5674.2,228.6,6771.01,12367.24,128.66999999999999,66403.81,74.03,8902.26,1.18,18.739999999999998,0,496.95,1.26,22.61,307.95,186.65,1687.49,546.30999999999995,132.38,0,10705.28,7.35,26.77,164.44,21.68,0,114.08,116728.26,425.19,0,2369.38,266.83999999999997,13.15,0,1624.22,79.58,0,293.17,248.12,0,189.83,9105.42,239171.12,366876.61,131020.94,260783.68,1810848.73,101149.52,1619746.24,12674.43,465499.98,74.25,796.02,0,19700.349999999999,85.99,941.93,10547.37,11526.21,69612.78,19133.66,4618.24,0,401468.42,474.76,1114.1199999999999,6672.2,899.95,0,5188.33,5575240.7300000004,5691968.9900000002,1314.94,63105.74,0,4169.08,98510.97,542.71,167643.44,284371.7,63370.45,2999350.88,0,290284.34999999998,5012902.24,46035.29,8411943.2100000009,13987183.939999999,8579586.6500000004,6119481.5,-4601920.26,15789116.880000001]
[null,null,"20","情報通信機器",0.98,0.37,0.63,0.2,15.28,0.18,0.96,8.3800000000000008,0.32,9.36,2.36,0.76,0.11,10.5,145.37,23.81,0.45,10.69,7.18,144.78,23039.96,4.34,1796.27,5.26,0.91,1.94,648.58000000000004,69.06,111.04,130.19999999999999,167.03,1495.15,69.58,39.770000000000003,6.01,2089.2399999999998,0.87,101.46,77.8,5.67,0,0,30242.81,46.12,69.260000000000005,74.77,10.62,688.77,26.65,76.150000000000006,902.67,49.36,109.26,77.510000000000005,21.55,26.77,600.85,7613.23,3979.81,229.02,784.38,726.04,141421.76999999999,302369.69,381.59,99319.48,355.86,50.26,98.28,28430.34,5095.75,5181.41,5581.02,11774.01,64042.8,5166.72,1712.94,324.47000000000003,98647.59,62.32,4496.8900000000003,2727.57,323.11,0,0,793676.66,823919.47,676.39,72042.5,0,8990.8700000000008,100143.71,354.6,182208.07,212450.88,36008.6,3312740.06,0,985303.05,4693099.0199999996,9099.2999999999993,9036250.0299999993,9829926.6899999995,9218458.0999999996,1632378.01,-6227440.2599999998,5447315.3200000003]
[null,null,"21","輸送機械",0,0,957.59,0.6,0,0,0,0,0,0,0,0,0,0,0,166.64,0,0,0,0,1269099.97,0,0,0,0,0,0,0,0,33126.29,0,6474.56,70.94,0,0,57838.15,0,0,3.52,45.96,0,0,1367784.22,0,0,69148.97,29.45,0,0,0,0,0,0,0,0,0,0,0,8070.11,0,0,0,0,22541951.27,0,0,0,0,0,0,0,0,751980.81,0,202376.35,2771.39,0,0,1665399.42,0,0,144.61000000000001,1274.3599999999999,0,0,25243146.739999998,26610930.960000001,0,143635.67000000001,0,11973.24,166502.32,3273.25,325384.48,1693168.7,0,5565419.3200000003,0,821362.97,6477884.3200000003,106769.49,12971436.1,38214582.840000004,13296820.58,16701255.859999999,-4377870.05,52231137.350000001]
[null,null,"22","その他の製造工業製品",145.08000000000001,148,113.6,72.5,7691.63,496.35,1325.06,1193.7,1252.55,555.85,2053.35,8066.6,2115.1999999999998,426.01,106.6,478.71,89.25,928.23,513.07000000000005,34.729999999999997,3650.91,7204.28,3776.61,3930.47,375.82,441.14,14266.86,8857.9500000000007,133.86000000000001,3551.45,22897.07,7752.99,14150.22,7416.18,4045.61,16275.02,254.71,1846.17,3785.12,3291.16,4725.3500000000004,174.83,160609.85,14105.65,4765.84,10659,3434.53,306656.65999999997,56591.65,167041.43,98342.69,19307.88,27696.82,57209.440000000002,200831.57,277941.57,32928.5,13778.91,49638.06,47066.46,70864.14,62942.1,40776.17,85790.77,495887.26,201613.49,213073.99,15691.09,18044.98,553284.21,542249.04,5449.08,120792.45,1120692.96,334072.09999999998,728326.76,265881.55,200044.04,706209.55,15322.56,69464.160000000003,114386.17,129073.67,204089.59,7406.49,7709425.0300000003,7870034.8799999999,4656.78,66202.5,0.28000000000000003,1656.27,21504.61,725.91,94746.35,255356.2,209064.25,2921702.38,9.39,107049.92,1018018.75,39723.730000000003,4295568.42,12004993.449999999,4390314.7699999996,764312.47,-3376796.22,9647865.9000000004]
[null,null,"23","建設",0,0,0,0,0,0,0,0,0,0,0,0,0,0,0,0,0,0,0,0,0,0,0,0,0,0,0,0,0,0,0,0,0,0,0,0,0,0,0,0,0,0,0,27134.15,1000.05,1172.54,2533.09,17280.02,7978.5,41135.629999999997,84692.98,5620.11,40219.61,31937.7,100099.43,26038.240000000002,41736.199999999997,17138.34,26332.43,8337.8700000000008,42118.38,26699.95,8530.65,32398.05,13413.43,36813,347442.98,128292.2,13425.06,265616.3,84561.42,700484.84,344430.18,164512.37,313945.88,221129.03,144998.89000000001,7078.17,85890.51,8655.98,33114.06,38980.870000000003,31760.85,0,0,3574679.94,3574679.94,0,0,0,0,0,0,0,0,0,0,0,19851469.879999999,35422126.299999997,0,55273596.18,58848276.119999997,55273596.18,0,0,58848276.119999997]
[null,null,"24","電力・ガス・熱供給",554.72,56.66,41.34,212.12,3494.17,270.37,872.47,4407.3599999999997,259.27,3445.46,4814.97,14679.46,858.22,1573.79,291.69,696.84,56.2,1554.6,546.96,13.08,5924.63,1203.07,1242.49,11551.88,1440.65,2732.55,16493.47,920.56,2590.15,5400.97,2184.39,3410.77,7769.64,7463.05,132.38,2933.57,1508.2,8087.98,3071.65,3052.2,0,156.9,127970.9,99802.51,5716.26,10869.11,31024.68,492134.58,108754.64,504913.93,788970.31,127633.75,437449.04,320261.62,1103294.92,309185.76,265388.09999999998,140122.5,176020.64,66997.84,374697.04,144659.24,30251.43,648219.87,171284.29,191411.13,2065965.06,184911.23,348109.75,2071202.64,172769.92000000001,311765.01,669704.54,275387.96000000002,460143.73,805863.85,811215.46,19799.23,387398.3,279943.17,956901.63,299921.68,352255.26,0,20512.73,17042834.34,17170805.239999998,47.08,53529.5,0,0,0,0,53576.58,181547.48,6522.26,6631679.2800000003,0,0,0,0,6638201.54,23681035.879999999,6691778.1200000001,58439.040000000001,-1724.69,23919297.710000001]
[null,null,"25","水道",7.73,0.36,0.41,3.64,147.9,2.79,9.33,85.61,13.27,18.649999999999999,18.79,96.15,5.44,12.16,4.5599999999999996,8.8699999999999992,0.86,15.28,8.8000000000000007,0.22,70.34,13.46,77.44,28.9,797.95,94.96,468.06,64.680000000000007,72.42,446.23,227.68,314.02,868.48,838.71,18.27,111.31,87.22,586.54,134.49,261.13,0,13.58,6056.69,6607.87,159.53,280.45999999999998,2105.3000000000002,67648.67,5733.89,23340.47,66086.09,7830.75,12710.25,7452.84,24422.97,6770.09,7609.29,6358.18,9261.5300000000007,4396.6099999999997,22906.18,9149.8700000000008,1374.81,19614.189999999999,7736.68,43465.31,18331.11,393413.48,42590.36,206322.24,42873.42,30942.7,189885.49,84603.9,152929.49,371115.19,306694.24,9644.0300000000007,52522.29,56989.87,243545.7,42145.68,110121.93,0,6251.13,2723944.08,2730000.77,5.31,4145.97,69.33,0,0,0,4220.6099999999997,10277.299999999999,2589.59,1827531.27,-213235.05,0,0,0,1616885.81,4340829.8899999997,1621106.42,20047.11,-1485.97,4369668.33]
[null,null,"26","廃棄物処理",0.37,0.02,0,0.24,4.3899999999999997,0.04,0.34,5.07,0.09,0.36,2.93,0.94,0.04,0.13,0.15,0.05,0.02,0.76,0.36,0.01,2.44,0.5,15.66,26.79,1.36,0,22.78,12.78,0.17,45.38,34.82,155.22999999999999,42.56,48.29,0.02,4.0199999999999996,27.7,78.790000000000006,21.89,31.32,0,11,599.80999999999995,4726.55,127.53,64.540000000000006,1888.79,29162.79,813.3,8912.84,62438.14,181.79,947.64,14348.33,3479.92,1492.26,949.78,2845.38,397.82,3412.81,9889.98,3671.35,989.16,19402.04,3228.83,111683.76,244062.74,8637.33,0,121070.55,108139.24,983.78,261441.56,169200.98,1046854.47,196773.4,234280.94,150.54,20995.599999999999,231480.79,417388.02,104480.46,159087.31,0,64757.42,3674840.46,3675440.27,0,78.709999999999994,70.36,0,0,0,149.07,748.88,0,274707.92,766085.25,0,0,0,1040793.17,4715633.63,1040942.24,8173.31,-296.42,4724259.4000000004]
[null,null,"27","商業",6889.66,338.45,829.21,208.88,35194.97,1335.45,6725.41,8371.2199999999993,1065.3599999999999,10999.19,3645.47,15231.4,1783.43,5947.43,2008.5,5063,486.79,4361.1099999999997,5058.42,130.47999999999999,33112,6785.77,39974.61,4812.92,1170.1099999999999,1041.3499999999999,16357.45,1853.46,1386.69,23588.53,6935.44,5448.53,9301.11,57682.67,2153.64,21400.94,2651.74,52405.1,3515.37,6006.33,4579.22,663.47,418500.28,691617.2,18582.25,91913.16,16509.02,2588489.85,253424.95,890778.28,1026722.61,170733.74,743483.88,213169.48,562347.30000000005,322903.51,492094.88,435875.94,636892.42000000004,318611.61,533767.73,775491.67,225282.32,2001652.19,661012.88,3191359.62,414805.57,76035.649999999994,67735.45,964878.65,178922.19,94467.7,1394193.77,571419.61,368130.77,781254.34,3161962.1,159567.42000000001,1295203.92,251764.34,3178628.37,183785.49,361928.24,312145.84000000003,44362.18,30723908.09,31142408.370000001,22109.22,617298.11,182.3,4092.16,85640.45,2399.7199999999998,731721.96,1150222.24,1566560.4,45404225.579999998,9564.9500000000007,473832.12,6512708.8899999997,171065.65,54137957.590000004,84861865.680000007,54869679.549999997,5490383.3600000003,-183565.74,91318905.540000007]
[null,null,"28","金融・保険",162.88999999999999,15.66,34.33,115.98,1116.72,94.85,290.24,418,75.099999999999994,270.33,357.49,841.31,100.34,454.34,95.53,262.05,42.54,156.78,187.96,11.46,1373.75,414.81,2676.87,1252.28,459.5,594.66999999999996,7686.03,4599.66,21991.26,6005.2,1170.7,3490.17,1731.95,2704.6,401.35,2939.54,296.45999999999998,713.74,457.35,211.18,0,55.4,66330.37,56968.87,6562.29,15616.62,33261.29,210065.83,64294.99,111288.55,178324.65,56154.89,53547.74,64836.69,108588,70050.53,129580.01,69161.850000000006,114032.8,74475.679999999993,82909.19,95510.05,34129.519999999997,228897.27,141151.45000000001,738494.17,392862.95,103417.07,127195.62,1566265.07,1595381.11,5944206.2199999997,1201346.68,269004,805837.26,306625.64,563957.88,110711.59,628835.91,98107.22,149969.34,81202.23,47182.3,0,12910.75,16742921.77,16809252.140000001,1.1000000000000001,58000.25,0,0,0,0,58001.35,124331.72,272.27,17262508.710000001,0,0,0,0,17262780.98,34005702.75,17320782.329999998,1676290.26,-1355581.13,34450743.600000001]
[null,null,"29","不動産",8.7200000000000006,0.31,0.25,1.18,31.76,1.8,6.32,11.81,0.89,12.63,8.25,19.95,1.1399999999999999,13.85,4.05,10.34,0.42,3.77,6.54,0.19,27.09,9,85.34,35.64,2.06,3.33,1075.48,132.44,898.68,478.8,315.11,24.61,75.709999999999994,467.42,26.04,225.39,13.51,109.61,31.28,120.65,0,52.08,4353.4399999999996,20624.599999999999,757.48,1087.53,6887.89,84492.160000000003,13178.84,27587.72,66059.73,6017.05,42765.68,19452.66,31105.41,8527.08,46383.5,27506.6,41282.06,13133.85,21408.93,40558.83,13387.82,40029.89,28814.5,267147,135144.89000000001,6065.43,8643.0499999999993,2542843.96,527108.94999999995,2313687.81,1010199.16,1122383.83,60935.08,332969.83,1039388.03,78576.37,554412.85,52437.2,264091.45,69889.06,293896.96999999997,0,142311.49,11423182.220000001,11427535.66,0,19898.96,8.68,0,991.71,0,20899.349999999999,25252.79,0,63793577.280000001,21089.47,0,2748484.36,0,66563151.109999999,77986333.329999998,66584050.460000001,45015.69,-1731.04,78054870.769999996]
[null,null,"30","運輸・郵便",1443.75,103.32,149.80000000000001,731.6,4888.09,122.76,891.28,1446.69,491.78,894.57,1867.35,3650.15,292.33999999999997,1048.79,282.95999999999998,663.15,64.91,501.6,548.59,17.649999999999999,5948.84,3422.23,8737.7999999999993,2755.33,354.79,1176.79,23064.58,3388.57,887.45,26782.95,4615.3900000000003,5337.03,4488.63,4771.9399999999996,583.26,4713.0200000000004,1502.33,2970.53,1714.28,1979.11,271.36,1661.27,131228.60999999999,591063.4,44963.73,66166.820000000007,167037.92000000001,1196298.32,91099.6,459490.91,684690.58,323378.28999999998,257002.87,353037.9,517580.68,265420.59000000003,323405.88,214281.53,304313.36,161494.14000000001,251900.87,326381.78000000003,114865.91,807428.46,863901.23,2554094.5,914044.68,85298.35,288424.62,4850765.6100000003,1215819.24,202137.23,6307669.1100000003,1304218.74,1307958.45,1094412.31,982243.29,161837.12,1125773.3700000001,525709.61,683663.57,327058.83,426978.17,70795.929999999993,422592.61,33236700.109999999,33367928.719999999,1463.25,43831.47,117.78,108.66,2583.3200000000002,180.38,48284.86,179513.47,397153.4,14456487.26,50739.21,57778,737499.9,48082.82,15747740.59,48984440.700000003,15796025.449999999,7075891.0300000003,-3507270.02,52732575.18]
[null,null,"31","情報通信",138.85,2.66,21.87,28.42,903.38,37.21,194.03,873.89,15.81,472.44,244.31,618.27,57.55,305,126.61,447.29,31.67,325.27,482.39,29.34,1171.7,263.97000000000003,2178.16,1003.54,921.55,242.4,19800.349999999999,7173.19,1523.73,3703.35,45481.14,6012.05,4538.46,5075.26,1406.91,25653.97,460.91,2468.2600000000002,2094.12,1159.06,0,1778.19,139466.53,38061.47,1187.42,8053.44,6592.81,169007.85,19744.509999999998,73070.69,340207.76,11920.58,84354.83,38317.14,66631.02,30746.57,70560.2,70113.78,171963.23,53435.02,122049.33,197916.67,104425.5,149203.4,66155.37,518012.08,266044.86,171580.93,45571.85,3405433.06,1985660.89,264426.65999999997,537138.66,8088493.1299999999,1158593.33,1228978.44,811432.23,297169.71000000002,5498351.5300000003,125163.12,433540.01,298003.86,204105.5,0,340065.54,27571483.98,27710950.510000002,856.89,70420.56,211.05,2782.61,21999.200000000001,-136.13,96134.18,235600.71,173658.19,12695437.77,34564.29,1030426.04,8126901.7999999998,-25903.41,22035084.68,49606568.659999996,22131218.859999999,736688.49,-2249706.12,48329151.740000002]
[null,null,"32","公務",0,0,0,0,0,0,0,0,0,0,0,0,0,0,0,0,0,0,0,0,0,0,0,0,0,0,0,0,0,0,0,0,0,0,0,0,0,0,0,0,0,0,0,0,0,0,0,0,0,0,0,0,0,0,0,0,0,0,0,0,0,0,0,0,0,0,0,0,0,0,0,0,0,0,0,0,0,0,0,0,0,0,0,0,1115384.6200000001,1115384.6200000001,1115384.6200000001,0,0,0,0,0,0,0,0,0,1133869.94,36150055.119999997,0,0,0,37283925.060000002,38399309.68,37283925.060000002,0,0,38399309.68]
[null,null,"33","教育・研究",0.23,0.01,0,0.28999999999999998,4.28,0.01,0.51,2.46,0.01,0.56000000000000005,2.2000000000000002,1.52,0.03,1.97,1.49,2.11,0.13,4.04,4.68,0.15,6.66,0.14000000000000001,4.24,5.12,0.23,0.37,11.44,2.87,0.05,33.35,98.95,3.11,0.03,3.88,0,18.45,0.42,6.84,1.1299999999999999,4.5599999999999996,0,0.38,228.9,380.4,109.86,1.99,234.7,9929.14,77.16,1832.13,8523.4699999999993,114.28,1663.34,2264.4899999999998,1546.32,146.01,4431.07,6450.83,6430.26,2177.62,14891.31,17186.490000000002,8127.41,9915.25,470.68,9184.15,13273.05,463.3,683.15,19172.95,7605.54,87.45,63552.81,198072.04,4899.21,46.07,5942.92,0,37303.9,1120.1199999999999,11215.99,2045.33,8382.27,0,709.55,480664.01,480892.91,0,4582.74,11796.96,1314.55,4755.3,0,22449.55,22678.45,0,8857376.5700000003,16673647.699999999,2730374.17,14631146.42,0,42892544.859999999,43373208.869999997,42914994.409999996,698807.24,-1984213.85,42110480.710000001]
[null,null,"34","医療・福祉",2.2400000000000002,0,0,0,0,0,0,0.09,0,0,0,0.05,0,0,0,0,0,0,0,0,0,0.05,0.02,0.13,0.5,0,1.1000000000000001,1.62,0.24,32.31,13.23,0.46,0.33,547.95000000000005,0.02,1.1000000000000001,0.01,1.22,0.47,0.24,0,4.6100000000000003,607.99,4730.6400000000003,0,0,0,0,0,36.67,448.56,0,13.65,0,46.66,0,0,0,0,0,0,0,0,0,108.78,74.680000000000007,659.24,1288.49,0,2375.85,5538.85,517.4,60005.07,26922.43,1053.44,1026.3599999999999,1018559.64,57.01,2934.1,19.440000000000001,2625.8,886.14,619.96,0,11013.79,1141562.6499999999,1142170.6399999999,305.14,6860.73,24676.68,0,0,0,31842.55,32450.54,772086.25,15043766.609999999,47595269.630000003,0,0,0,63411122.490000002,64552685.140000001,63442965.039999999,231.5,-3457.24,64581909.939999998]
[null,null,"35","他に分類されない会員制団体",0,0,0,0,0,0,0,0,0,0,0,0,0,0,0,0,0,0,0,0,0,0,0,0,0,0,0,0,0,0,0,0,0,0,0,0,0,0,0,0,0,0,0,1182.3399999999999,94.77,12394.77,2406.02,33473.07,2383.85,11729.87,47673.48,2576.33,7548.08,5665.88,17291.12,3163.44,9392.9500000000007,22389.99,29154.25,9940.41,9368.57,9708.5400000000009,4300.46,11227.52,7672.52,64688.02,35599.65,40036.97,9096.15,52354.29,101724.41,25199.25,64955.74,62565.42,107.11,86648.36,63677.38,0,144205.76999999999,7354.98,40359.17,72106.429999999993,25198.99,0,21763.22,1178379.54,1178379.54,0,0.02,0,0,0,0,0.02,0.02,0,3185767.55,0,0,0,0,3185767.55,4364147.09,3185767.57,33215.870000000003,-124324.86,4273038.12]
[null,null,"36","対事業所サービス",545.38,44.42,45.05,116.11,6044.45,178.68,660.56,2415.8200000000002,166.16,2056.4299999999998,1648.91,1967.9,202.04,1116.6099999999999,691.7,1427.03,94.64,1419.67,1287.79,37.32,8861.6299999999992,1355.58,19911.18,4365.2700000000004,2576.0100000000002,1253.28,36389.47,11693.61,9784.89,30846.71,28104.35,14662.4,11352.82,15805.24,1287.6199999999999,39451.379999999997,376,3941.85,2396.7800000000002,2217.5300000000002,0,766.79,269567.06,206337.95,17887.759999999998,18119.919999999998,40575.1,1242835.74,115880.2,257180.48,1307688.1599999999,79412.210000000006,507560.73,317034.02,278738.74,133888.60999999999,327417.5,403533.52,549037.34,228478.82,592786.74,609031.35,194439.99,1431760,375408.24,5434351.5800000001,1517818.96,583971.12,290533.65000000002,7729340.3300000001,3966714.86,2122448.02,5999668.4100000001,7902137.5999999996,3484306.18,2963063.97,3011212.32,330237.09000000003,9913831.4100000001,125063.36,836106.57,447519.6,488625.2,0,179614.13,66561597.479999997,66831164.539999999,311.58,15461.16,0,114.85,1184.47,0,17072.060000000001,286639.12,77341.77,3910945.84,0,173850.95,1793027.58,0,5955166.1399999997,72516763.620000005,5972238.2000000002,3001853.11,-3664819.69,72140436.159999996]
[null,null,"37","宿泊業",0,0,0,0,0,0,0,0,0,0,0,0,0,0,0,0,0,0,0,0,0,0,0,0,0,0,0,0,0,0,0,0,0,0,0,0,0,0,0,0,0,0,0,0,0,0,0,0,0,0,0,0,0,0,0,0,0,0,0,0,0,0,0,0,0,0,0,0,0,0,0,0,0,0,0,0,0,0,0,0,0,0,0,0,0,0,0,52152.53,95791.5,0,0,0,0,147944.03,147944.03,1733674.72,2867515.91,0,0,0,0,4601190.63,4601190.63,4749134.66,763022.75,-578851.05000000005,4933306.3600000003]
[null,null,"38","飲食サービス",0,0,0,0,0,0,0,0,0,0,0,0,0,0,0,0,0,0,0,0,0,0,0,0,0,0,0,0,0,0,0,0,154.44999999999999,330.26,0,0,94.16,379.94,0,0,0,0,958.81,0,0,0,0,0,0,0,0,0,0,0,0,0,0,0,0,0,0,0,0,0,0,0,0,0,0,0,0,0,0,0,0,63775.42,134606.49,0,0,71880.75,185361.8,0,0,0,0,455624.46,456583.27,12563.89,27748.07,0,0,0,0,40311.96,41270.769999999997,7157585.4299999997,18729617.07,0,0,0,0,25887202.5,26342826.960000001,25927514.460000001,503271.06,-433085.34,26454283.449999999]
[null,null,"39","娯楽サービス",0,0,0,0,0,0,0,0,0,0,0,0,0,0,0,0,0,0,0,0,0,0.01,0,0,0,0,7.12,0,0,0,1685.79,0,17.62,0,0,79.180000000000007,43.67,32.72,699.69,42.28,0,9.9499999999999993,2618.0300000000002,0,0,0,0,0,0,0,0,0,0,0,0,0,0,0,0,0,0,0,0,0,3121.66,0,0,0,0,1444.47,0,0,0,418790.07,0,2658.04,0,0,18465.32,12747.48,6028.38,175384.49,12169.28,0,2045.23,652854.42000000004,655472.44999999995,3413.75,41472.31,0,0,0,0,44886.06,47504.09,743668.68,7869709.6299999999,0,0,0,0,8613378.3100000005,9266232.7300000004,8658264.3699999992,113504.23,-205046.32,9222194.7300000004]
[null,null,"40","その他の対個人サービス",0.78,0.01,0.54,0.11,4.34,0.15,0.36,1.02,0.1,0.92,0.45,2.06,0.21,0.61,0.32,0.87,0.05,0.91,0.67,0.02,5.41,0.63,9.19,0.99,0.87,0.17,62.25,3.4,27.33,26.83,47.75,13.76,26.99,610.64,7.02,57.9,33.57,66.14,26.6,158.04,0,3.91,1203.8900000000001,1151.6199999999999,82.92,1516.49,149.61000000000001,6161.08,572.01,1103.43,2789.34,279.83999999999997,1189.08,436.78,1561.35,791.04,1064.49,1219.26,2190.62,743.37,2225.19,1985.97,694.34,5121.37,1144.19,15051.54,1918.21,1202.23,232.06,75353.81,6832.83,40132.910000000003,35622.71,82133.039999999994,18564.77,57107.03,650466.39,11053.74,84711.18,66309.72,85702.48,29058.44,183122.92,0,5440.71,1484190.11,1485394,62.96,7061.75,0,0,0,0,7124.71,8328.6,92827.46,10446128,0,0,0,0,10538955.460000001,12023145.57,10546080.17,44591.93,-17751.939999999999,12058314.16]
[null,null,"41","事務用品",0,0,0,0,0,0,0,0,0,0,0,0,0,0,0,0,0,0,0,0,0,0,0,0,0,0,0,0,0,0,0,0,0,0,0,0,0,0,0,0,0,0,0,6248.21,1435.89,1752.07,647.75,23399.63,4038.2,8988.9,13557.48,388.92,2297.5700000000002,6937.18,4004.45,3072.17,4678.72,8618.6200000000008,15713.98,5423.33,10681.13,13705.77,4730.43,17892.78,11053.75,51997.47,1078.75,4011.36,15344.95,188003.58,125132.37,25196.62,95185.17,87357.24,109845.83,159625.47,150654.28,21554.2,110591.57,10983.1,22922.55,22278.639999999999,39436.620000000003,0,924.13,1411390.83,1411390.83,0,0,0,0,0,0,0,0,0,0,0,0,0,0,0,1411390.83,0,0,0,1411390.83]
[null,null,"42","分類不明",0,0,0,0,0,0,0,0,0,0,0,0,0,0,0,0,0,0,0,0,0,0,0,0,0,0,0,0,0,0,0,0,0,0,0,0,0,0,0,0,0,0,0,33674.71,2604.62,13061.08,10006.34,218314.35,9398.18,35136.53,38490.019999999997,5811.48,29151.17,46782.2,89668.46,42951.72,42807.34,74724.28,94066.76,17177.57,9254.76,37430.69,7278.88,88445.45,19079.48,821682.17,68006.13,39341.89,99792.67,622943.06999999995,160940.67000000001,134625.51999999999,436001.87,126928.46,35782.43,406474.5,252295.38,19624.91,218251.2,8904.91,42895.34,10507.13,83345.27,703.17,0,4554362.76,4554362.76,0,0,0,0,0,0,0,0,0,9685.61,0,0,0,0,9685.61,4564048.37,9685.61,5086.74,-49061.91,4520073.2]
[null,null,"k","域内内生部門計",52375.86,3005.97,7227.4,2749.87,374637.09,12682.76,59944.07,175687.52,14559.28,145818.51,42142.23,473256.18,37456.36,68686.34,34377.68,86640.5,6388.32,63066.05,63409.69,1809.32,1614061.08,55826.96,347038.24,64589.04,16090.18,12700.6,189649.94,43549.24,42523.99,328124.28999999998,134544.91,83959.67,80158.679999999993,423788.37,15358.17,279278.39,15959.17,262072.93,29633.5,33239.15,26902.12,10988.53,5835958.1500000004,5553502.1799999997,257249.16,691800.16,389443.92,22866401.190000001,2095632.89,7475042.0599999996,18106724.780000001,11644587.23,8225742.1100000003,3049922.96,18287923.129999999,6509429.1699999999,6156325.5499999998,5674001.71,8648075.4299999997,3973431.12,8145965.6299999999,9937473.0800000001,3479793.75,38522079.530000001,5096797.1500000004,30898479.379999999,15336022.369999999,2181100.21,1586552.81,27403366.890000001,11151625.08,12366074.65,25339269.800000001,23206327.350000001,11102574.109999999,11240536.220000001,24298420.719999999,1698042.57,26762158.079999998,2518291.39,15517935.380000001,2702555.5,3542233.07,1391139.58,2648010.66,447678059.70999998,453514017.86000001,128214.2,2311542.23,37308.5,47230.67,908121.89,3119.48,3435536.97,9271495.1199999992,14336891.26,292541378.72000003,101094185.94,27208391.48,104909944.34,497661.91,540588453.64999998,988266513.36000001,544023990.62,83362815.359999999,-99380635.590000004,981520188.25]
[null,null,"l","内生部門総計(j+k)",120592.63,7202.28,15247.43,13970.43,848898.8,28209.63,127842.68,350521.68,102331.04,302139.05,162287.06,1376180.47,87016.44,190472.11,72202.42,184452.61,14913.59,180155.35,164192.89000000001,5507.27,2623027.62,148997.68,994193.06,435911.11,83035.34,61736.75,1169543.69,291099.90999999997,445407.88,1134038.24,817121.56,417034.06,391285.78,1128726.71,58072.19,1021686.96,67905.38,654821.77,131130.01999999999,150052.62,52012.17,100052.64,16731229,5638970.3700000001,260833.72,702677.57,392906.57,23242430.199999999,2113494.37,7562486.3200000003,18282086.32,11664417.960000001,8339561.9500000002,3085252.94,18749074.530000001,6555558.5599999996,6280200.8899999997,5765966.5800000001,8799878.3900000006,4023705.41,8254060.6500000004,10073320.109999999,3524137.73,39327586.380000003,5163529.32,31337323.940000001,15381605.890000001,2194157.66,1596388.25,27581481.309999999,11215074.09,12390198.119999999,25534305.760000002,23353608.440000001,11174939.939999999,11329929.220000001,24534410.289999999,1712912.81,26995271.039999999,2545904.62,15803159.23,2722974.98,3570702.38,1411390.83,2660569.36,452848445,469579674,515471.6,10114197.67,4325192.3099999996,881585.4,3182373.48,3206.08,19022026.539999999,35753255.539999999,14540028.4,295502216.32999998,101204138.69,27259870.600000001,105609094.52,500047.92,544615396.46000004,997463841.46000004,563637423,86769418,-102168127,1017818388]
["粗付加価値",null,"71","家計外消費支出（行）",977.75,87.6,814,1491.62,10806.85,535.53,3710.57,8909.41,775.69,6908.78,5189.09,13024.57,783.3,5328.31,1753,4325.83,490.4,4320.26,4363.07,161.47999999999999,25704.560000000001,5290.59,38771.89,6200.34,2177.73,4501.4399999999996,96151.09,27209.1,12865.78,40536.1,26103.15,16265.26,13887.08,31664.04,5284.96,40754.68,2978.34,17320.03,10087.1,16252.31,0,708.92,515471.6,28242.25,6711.4,44788,35698.379999999997,331767.15000000002,44001.47,199478.43,359467.59,55746.31,239283.22,100285.91,218155.43,94592.7,177528.69,167870,261584.17,128912.6,207294.74,248704.93,101761.52,432643.44,182421.41,1206228.1100000001,238335.66,62135.27,115942.56,2188090.91,1046033.9,300435.21999999997,859478.9,904315.85,418008.74,413640.92,715738.96,159615.04000000001,1105793.32,111663.66,404778.97,215495.9,388505.69,0,18851.080000000002,14540028.4,15055500]
[null,null,"89","賃金・俸給",28578.33,2176.48,3261.17,3581.6,164921.91,11411.34,41375.21,45904.54,4105.18,71705.149999999994,48486.46,74512.179999999993,10427.719999999999,78888.45,28554.97,64855.21,5568.39,38615.72,55551.43,1369.87,171019.04,58153.97,644108.39,64659.34,28954.34,72022,1448402.84,294310.96999999997,209743.88,518761.71,224502.9,380175.57,662226.48,1302302.45,78107.960000000006,752603,38075.58,274326.03000000003,52118.16,102278.04,0,1804.17,8162508.1299999999,862647.67,180376.52,248745.83,141268.4,4073299.09,757372.66,1622273.79,2001823.46,149569.82,2596161.85,1136577.54,1288958.82,709494.28,2773986.55,1968602.03,3276059.79,1163441.6100000001,2274472.2799999998,2475873.5699999998,870465.13,5753230.96,2083970.03,17568006.609999999,1466276.66,493815.66,1993721,30487947.16,8238813.0300000003,3997290.12,12553994.289999999,8741247.0999999996,10297335.43,17135470.52,27895544.550000001,1910262.04,21760843,1038979.42,6776691.9699999997,1899252.84,3027273.96,0,47975.83,215739412.87,223901921]
[null,null,"90","社会保険料（雇用主負担）",1870.77,118.68,270.91000000000003,459.79,22837.69,1479.43,5306.7,6498.71,606.72,10342.52,6750.05,10795.74,1483.58,10300.959999999999,3811.56,8871.84,731.21,5662.39,7834.66,183.94,25133.759999999998,7404.85,83915.16,10078.370000000001,4535.16,8010.14,184713.08,42446.12,17383.46,75500.28,28779.56,74548.160000000003,109118.94,177067.96,6760.17,89995.14,3759.4,27189.49,6166.45,10272.06,0,237.68,1099233.24,77893.23,12877.32,22809.09,19677.21,545166.31000000006,101098.57,216856.3,264220.28999999998,19742.28,345318.48,151152.95000000001,170384.26,94047.42,370325.04,262225.44,434054.16,154750.79,301847.61,328740.34000000003,115788.06,762276.24,274156.15000000002,2154659.8399999999,209609.63,73379.839999999997,238536.86,3480031.92,1173562.8799999999,318635.53999999998,1683691.72,1058863.44,2085374.84,2678539.06,3784152.04,132765.82999999999,2450191.86,125983.6,599807.51,217493.55,299281.94,0,6320.32,27816289.760000002,28915523]
[null,null,"91","その他の給与及び手当",837.89,73.44,175.61,188.91,12319.13,892.62,2600.35,3886.14,368.52,6271.23,4148.41,6626.71,887.16,6231.21,2119.9699999999998,4932.54,360.91,3143.58,4401.68,101.18,13947.46,3703.93,36918.49,10056.39,4525.2700000000004,2012.07,81260.429999999993,36647.019999999997,8879.81,27579.63,15336.17,52268.27,61615.65,48470.3,1698.08,30982.25,710.49,5138.54,1317.2,4055.51,0,112.17,507802.32,34993.11,5758.56,10466.39,8857.09,202615.87,37822.379999999997,94205.65,175010.86,21090.48,120735.77,68820.59,89228.29,72228.84,128687.79,131052.03,197865.46,69407.09,132879.42000000001,236730.32,56414.82,389806.54,117676.07,773933.51,177893.61,47247.73,39918.93,1535994.57,1276241.98,119872.19,725202.37,431514.83,1433994.73,1546760.35,972826.7,71689.919999999998,659469.75,37327.51,71217.460000000006,64598.8,82930.490000000005,0,2982.83,12473971.68,12981774]
[null,null,"92","営業余剰",68917.740000000005,4050.73,4833.6099999999997,2655.59,152159.96,-1281.8599999999999,16169.92,30969.33,473.61,10374.709999999999,30753.46,239692.95,9583.42,11721.57,8546.4,29180.880000000001,644.79999999999995,-16010.77,-1836.99,-53.06,82263.45,18321.68,56100.06,35232.92,20617.080000000002,10665.37,662887.07999999996,233578.05,987710.34,133059.54999999999,277266.84000000003,0,18834.55,105959.85,-1186.81,242960.18,7618.96,29466.75,109365.26,82810.289999999994,0,59390.51,3774467.96,2241242.2599999998,254566.27,237153.39,74503.41,3462667.04,-115320.14,958420.08,1760922.67,691259.39,34855.29,606440.54,3180352.05,617306.57999999996,366408.43,919592.6,1563187.12,228174.2,-638131.23,-275119.01,-327312.94,707809.55,554809.31999999995,1650589.94,668758.07999999996,578025.92000000004,270452.63,14148287.92,8752206.9499999993,30785804.66,3074428.45,6948943.1600000001,0,766262.45,2334103.15,-29621.19,6660529.8200000003,272430.03999999998,673087.25,1997559.74,1969789.71,0,1505430.49,100130856.04000001,103905324]
[null,null,"93","資本減耗引当",38129.33,2008.74,4372.12,3045.22,66847.899999999994,4340.18,11963.97,83158.05,11474.09,60242.28,31094.92,117088.2,5732.82,26207.52,11130.11,40155.449999999997,2735.73,54037.440000000002,37775.129999999997,1793.48,254746.12,29051,71390.31,130416.98,32113.46,15175.87,346968.92,66087.91,846404.4,260323,199843.53,396137.52,293616.24,201500.47,8652.23,336013.01,17709.61,52923.34,61653.42,74176.94,0,8341.06,4316578.0199999996,1659038.67,72964.259999999995,220663.88,90234.78,1918489.1,437511.82,793833.03,4058892.95,452641.91,1351574.72,676567.08,1372347.8,482012.18,971495.48,1030534.89,1703433.55,1017644.27,2597761.56,2619106.87,1032949.52,4890860.88,995333,2265597.69,4977843.0199999996,943579.54,379289.13,8139232.0800000001,2534295.09,26314562.600000001,6082794,5325289.47,12919082.48,7784233.7599999998,4133796.53,264445.77,9053736.9900000002,663967.39,1268174.6599999999,1266332.58,1770593.06,0,221802.94,126754540.98,131071119]
[null,null,"94","間接税（関税・輸入品商品税を除く。）",11167.98,664.77,1714.25,1405.79,312483.88,2261.2800000000002,6115.62,10907,1071.1600000000001,14290.74,10117.74,24253.279999999999,948.71,10631.4,1229.3499999999999,3005.37,377.24,3008.55,1312.43,80.56,-49259.18,10525.71,72260.56,22066.74,7418.29,3597.72,171993.81,19358.53,136702.03,93681.32,56424.1,3296.48,20299.849999999999,46491.87,5055.2299999999996,133285.01999999999,3847.36,38787.81,45132.86,38556.300000000003,0,3127.8,1299697.31,397135.02,21802.23,81031.75,58231.21,3106445.12,162213.72,291079.38,563826,3721679.84,488284.26,186731.26,412122.72,64560.29,328620.59999999998,83418.649999999994,129169.63,91479.76,133046.45000000001,81827.570000000007,73144.44,-32753.82,276075.28999999998,2174568.44,806677.26,195396.71,90030.28,3802882.19,727378.47,3850026.97,2361135.6800000002,1566052.9,70573.52,597633.15,939536.13,147565.76999999999,3458147.98,137105.64000000001,857467.19,838537.14,949364.7,0,79013.2,34368264.689999998,35667962]
[null,null,"95","（控除）経常補助金",-21952.51,-329.71,-24.54,-0.32,-3715.97,-0.47,-1.82,-1.5,-5.0199999999999996,-2.21,-1.68,-5.01,-0.45,-2.52,-0.72,-1.73,-0.14000000000000001,-1.83,-1.18,-0.04,-7.18,-2.31,-9365.0400000000009,-210.9,-7455,-0.76,-1945.48,-13257.21,-1025.3499999999999,-6637.01,-18.55,0,-851.28,-37288.589999999997,-3689.13,-111.4,-1.48,-4.21,-2.2000000000000002,-5.23,0,-860.15,-108787.83,-699392.49,-31789.29,-1422.46,-260.68,-129791.03,-42.53,-87.18,-71.5,-62736.98,-60.79,-36.32,-70.989999999999995,-28.55,-83.48,-51.28,-87.27,-37.86,-78.17,-67.819999999999993,-32.96,-322.82,-104.69,-282631.96000000002,-7702.1,-218070,-20.239999999999998,-45042.52,-512862.79,-21954.65,-142455.99,-683.45,0,-141988.72,-728198.41,-96597.87,-3547.6,-55.52,-100.79,-50.8,-127.77,0,-22872.85,-3151621.17,-3260409]
[null,null,"m","粗付加価値部門計",128527.28,8850.73,15417.13,12828.2,738661.35,19638.05,87240.52,190231.67999999999,18869.95,180133.2,136538.45000000001,485988.62,29846.26,149306.9,57144.639999999999,155325.39000000001,10908.54,92775.34,109400.23,3637.41,523548.03,132449.42000000001,994099.82,278500.18,92886.33,115983.85,2990431.77,706380.49,2218664.35,1142804.58,828237.7,922691.26,1178747.51,1876168.35,100682.69,1626481.88,74698.259999999995,445147.78,285838.25,328396.21999999997,0,72862.16,19566970.75,4601799.72,523267.27,864235.87,428209.8,13510658.65,1424657.95,4176059.48,9184092.3200000003,5048993.05,5176152.8,2926539.55,6731478.3799999999,2134213.7400000002,5116969.0999999996,4563244.3600000003,7565266.6100000003,2853772.46,5009092.66,5715796.7699999996,1923177.59,12903550.970000001,4484336.58,27510952.18,8537691.8200000003,2175510.67,3127871.15,63737424.229999997,23235669.510000002,65664672.649999999,27198269.420000002,24975543.300000001,27224369.739999998,30780551.489999998,40047499.649999999,2560125.31,45145165.119999997,2387401.7400000002,10651124.220000001,6499219.75,8487611.7799999993,0,1859503.84,528671743.25,548238714]
[null,null,"n","域内生産額",249119.91,16053.01,30664.560000000001,26798.63,1587560.15,47847.68,215083.2,540753.36,121200.99,482272.25,298825.51,1862169.09,116862.7,339779.01,129347.06,339778,25822.13,272930.69,273593.12,9144.68,3146575.65,281447.09999999998,1988292.88,714411.29,175921.67,177720.6,4159975.46,997480.4,2664072.23,2276842.8199999998,1645359.26,1339725.32,1570033.29,3004895.06,158754.88,2648168.84,142603.64000000001,1099969.55,416968.27,478448.84,52012.17,172914.8,36298199.75,10240770.09,784100.99,1566913.44,821116.37,36753088.850000001,3538152.32,11738545.800000001,27466178.640000001,16713411.01,13515714.75,6011792.4900000002,25480552.91,8689772.3000000007,11397169.99,10329210.939999999,16365145,6877477.8700000001,13263153.310000001,15789116.880000001,5447315.3200000003,52231137.350000001,9647865.9000000004,58848276.119999997,23919297.710000001,4369668.33,4724259.4000000004,91318905.540000007,34450743.600000001,78054870.769999996,52732575.18,48329151.740000002,38399309.68,42110480.710000001,64581909.939999998,4273038.12,72140436.159999996,4933306.3600000003,26454283.449999999,9222194.7300000004,12058314.16,1411390.83,4520073.2,981520188.25,1017818388]

{"sheet":"投入係数","index":6,"n_rows":88,"n_cols":87,"rows_kept":88,"cut":false,"hidden":false,"merged":[[4,0,45,0],[46,0,87,0]]}
["投入係数Ａ"]
[null,null,null,"福岡県",null,null,null,null,null,null,null,null,null,null,null,null,null,null,null,null,null,null,null,null,null,null,null,null,null,null,null,null,null,null,null,null,null,null,null,null,null,null,null,null,null,"県外"]
[null,null,null,"01","02","03","04","05","06","07","08","09","10","11","12","13","14","15","16","17","18","19","20","21","22","23","24","25","26","27","28","29","30","31","32","33","34","35","36","37","38","39","40","41","42","01","02","03","04","05","06","07","08","09","10","11","12","13","14","15","16","17","18","19","20","21","22","23","24","25","26","27","28","29","30","31","32","33","34","35","36","37","38","39","40","41","42"]
[null,null,null,"農業","林業","漁業","鉱業","飲食料品","繊維製品","パルプ・紙・木製品","化学製品","石油・石炭製品","プラスチック・ゴム製品","窯業・土石製品","鉄鋼","非鉄金属","金属製品","はん用機械","生産用機械","業務用機械","電子部品","電気機械","情報通信機器","輸送機械","その他の製造工業製品","建設","電力・ガス・熱供給","水道","廃棄物処理","商業","金融・保険","不動産","運輸・郵便","情報通信","公務","教育・研究","医療・福祉","他に分類されない会員制団体","対事業所サービス","宿泊業","飲食サービス","娯楽サービス","その他の対個人サービス","事務用品","分類不明","農業","林業","漁業","鉱業","飲食料品","繊維製品","パルプ・紙・木製品","化学製品","石油・石炭製品","プラスチック・ゴム製品","窯業・土石製品","鉄鋼","非鉄金属","金属製品","はん用機械","生産用機械","業務用機械","電子部品","電気機械","情報通信機器","輸送機械","その他の製造工業製品","建設","電力・ガス・熱供給","水道","廃棄物処理","商業","金融・保険","不動産","運輸・郵便","情報通信","公務","教育・研究","医療・福祉","他に分類されない会員制団体","対事業所サービス","宿泊業","飲食サービス","娯楽サービス","その他の対個人サービス","事務用品","分類不明"]
["福岡県","01","農業",5.1941452612117592E-2,2.8486869440684333E-3,0,0,7.801343464057095E-2,2.9372375003343942E-3,1.7760568933324405E-5,6.0624681093058761E-4,0,2.441799211959635E-2,5.5182705117779264E-5,0,3.0805381015499383E-6,0,0,0,0,0,0,0,0,1.2847174477903663E-3,4.7985888276177909E-4,0,0,0,5.1976268148466436E-5,0,9.6844221074291219E-7,1.7954686920373364E-5,0,2.1743263014540917E-5,1.1699306070127977E-3,1.2244953406126602E-3,9.1612931835544206E-4,6.691416246707291E-6,6.1380621139825037E-3,1.5397744419379607E-2,2.277007792463441E-3,2.1458929652750335E-3,0,0,1.3879756966597421E-3,2.3185788861202688E-5,0,0,1.736153123358501E-3,8.5185705063144362E-5,2.9296644223171151E-6,1.2851806020293182E-5,0,1.0218623473094532E-4,1.5319890058281104E-6,0,1.3694259859950528E-7,0,0,0,0,0,0,0,0,2.0155752786738048E-5,1.0424774359558589E-5,0,0,0,1.2392833590239281E-6,0,2.3316930539323987E-8,3.8856437278206897E-7,0,3.4193323029550884E-7,2.0886249341512206E-5,2.3568983968020444E-5,2.1649701547712849E-5,1.194891583533226E-7,1.3370951484959064E-4,3.0274530078039217E-4,4.3416996899608943E-5,3.6127769953540502E-5,0,0]
[null,"02","林業",9.0799647446886125E-5,4.9638042958921727E-2,1.1576882237997218E-4,2.6493891665357519E-5,1.3311621610053644E-4,1.4629758433428749E-6,1.2303889843558213E-2,5.6735662261996854E-5,0,0,3.3464345129035333E-8,2.1480326472393546E-8,0,0,0,0,0,0,0,0,9.5341740790500302E-9,8.2182406569476118E-5,1.5007849346621409E-5,0,0,0,0,0,0,0,0,2.35869245197217E-6,2.8018514180677025E-5,2.7861205908468563E-5,0,0,4.5090013130099618E-4,8.7808794343443414E-4,0,4.2177968286013605E-5,0,0,2.2508072925597726E-6,1.8673359920129678E-3,2.2783645279090847E-6,1.0960687581956258E-6,5.3380547360443141E-6,1.2718502746653937E-7,4.4119434282907508E-4,3.0648602815611779E-6,0,0,3.3267948009296643E-9,1.1773684859179924E-9,0,0,0,0,0,0,0,0,3.829133542695103E-9,4.2382429880166552E-6,5.8319465348511902E-7,0,0,0,0,0,0,0,0,5.7292696622248242E-8,6.5921831173510729E-7,8.9266483530078147E-7,0,0,1.5206839901181404E-5,2.7452265013059729E-5,0,1.0573617365431122E-6,0,0]
[null,"03","漁業",0,0,1.9843754484003683E-2,0,7.5008055600287024E-3,0,0,1.3962002936052029E-5,0,0,0,0,0,0,0,0,0,0,0,0,0,8.3781286074718835E-5,0,0,0,0,0,0,0,1.5108640657065648E-6,0,3.3066479627331366E-6,2.7107705467824826E-5,2.3097312423283093E-4,0,0,1.5069040313416963E-3,2.7777768939149269E-3,9.2812817627585901E-6,1.3309678000264353E-4,0,0,0,0,4.4690407403742737E-4,0,3.1808346905786664E-4,8.4790018311026246E-9,0,4.0923057216378756E-7,0,0,0,0,0,0,0,0,0,0,0,0,0,5.5401889447903703E-5,0,0,0,0,0,0,0,4.3237031231972538E-8,0,6.8751235946697885E-8,5.4475749536035157E-7,5.9951772928318575E-6,0,0,4.3390777782549876E-5,7.4014856750920615E-5,3.2963953690012787E-7,2.8494862170683402E-6,0,0]
[null,"04","鉱業",5.2183705429244898E-6,3.8746627579500667E-4,0,3.7065327593238905E-3,2.348698409946861E-4,1.6280831170915707E-4,1.1276101527222953E-3,1.1719446366454386E-2,0.61433937132031669,2.8148001465976946E-4,0.10240705353435187,3.92225391304288E-2,6.4713462892779308E-2,2.2991414331332592E-4,4.2212014714520762E-5,4.6471519639293891E-5,1.8356347830330032E-4,1.6124972973907771E-4,9.4519920676367888E-5,1.7496511632993171E-5,6.9917276579700225E-5,3.0439112714254296E-4,5.696871981958714E-3,0.29155510686288288,0,2.1381876946172814E-6,2.3990526136421009E-6,9.9250070477575305E-7,1.0810517701316229E-6,6.5617177737372314E-6,2.7957420071285832E-7,1.3487839432638325E-5,2.2986773739046005E-5,9.3647197117093328E-6,6.2990189655902235E-5,9.621743000344345E-6,3.3589605426621644E-5,-2.6264363408968911E-5,3.3215956696177384E-5,1.0203807788519249E-4,0,2.0998780902502275E-4,5.8589343841035295E-9,2.6782264361125215E-7,0,1.1447829252265424E-6,1.9454147185237194E-7,2.5154372098937788E-7,3.0361512070771151E-6,3.4839211254762304E-6,3.9281149707093814E-4,7.4727827472091325E-8,4.2884048381383838E-5,3.5200962991976141E-5,9.7046271281469584E-5,1.7197251613512171E-7,4.0661382794841059E-8,3.7885396065846037E-8,3.6350534996341618E-8,1.1234130867480713E-7,3.0400686982564156E-8,2.0193433560956407E-8,7.3519364019745974E-8,3.0680360099117879E-7,4.2053908171473554E-6,2.0775777199856591E-4,0,2.1167338948407446E-9,1.8616079441023928E-9,8.7080848960252918E-10,6.4057501481659307E-10,5.4994469549438752E-9,2.0691445307788057E-10,7.2917977519225035E-9,2.7071645366643451E-8,6.0388427713322599E-9,4.2124594947446895E-8,5.8219775531781316E-9,5.8784105189850798E-8,3.7801061665119495E-10,3.0361536293432835E-8,6.7173569145091835E-8,0,1.482276879940794E-7]
[null,"05","飲食料品",3.0802716651591594E-2,2.9216327654439884E-2,5.3467912143529854E-2,0,6.1758075749129893E-2,2.4517385168936093E-3,4.3141444799035908E-4,2.5992811214339932E-3,8.2507576877053566E-8,4.603209079518882E-6,1.86563724094372E-4,1.9869301986964029E-7,0,0,0,0,0,0,0,0,0,8.2949868731992625E-4,7.0512750616498714E-6,0,0,0,5.5716674828653915E-5,0,0,6.460700699576619E-5,9.1165500232453789E-8,1.5865192426160908E-4,2.6208807330448387E-3,3.7399442495006795E-3,5.0883475204037821E-4,2.4243167214368401E-6,2.8245141568616339E-2,0.1040442164967203,4.7252996013341734E-4,2.2475339265113485E-3,0,1.2782595821757305E-3,3.2298850290857378E-3,7.0781698668688075E-4,2.4687515603925131E-3,0,4.7110372329970847E-3,5.7270004701210828E-5,4.2908210998333372E-5,1.8284414682595248E-4,1.0769794382026629E-7,4.1951166511560182E-7,1.2277536212830925E-5,2.040772042257854E-8,0,0,0,0,0,0,0,0,0,8.1103946521478911E-5,6.4538848890923127E-7,0,0,0,3.6210464639784601E-6,0,0,4.2241441697025803E-6,7.8627492169594609E-9,8.2459815720312191E-6,1.4321589063617224E-4,2.1897463257340141E-4,3.6325442376348378E-5,1.3626199844700247E-7,1.8588425957799222E-3,6.3142178965350125E-3,3.1283225788054898E-5,1.0996644990380645E-4,0,7.8403597534659395E-5]
[null,"06","繊維製品",2.1276099529740516E-3,2.2681104665106416E-3,9.0889939395836748E-3,1.6519501183456021E-3,3.9526691319380879E-4,0.11752147648538028,3.0042327806169889E-3,4.8060727722523997E-4,8.7045493605291505E-5,5.6491535641953272E-3,1.0133672991974479E-3,1.6261681155925532E-4,3.0908065618884381E-4,5.8643999227615611E-4,5.8486060680466964E-4,4.8322728369700217E-4,6.6067361600301744E-4,1.9561742946533423E-3,1.2464129214945171E-3,1.1230573404427491E-3,1.1840554349932758E-3,1.1571979245833409E-3,1.4147563612459347E-3,6.5620463528788864E-5,4.2837246826954288E-4,9.3703262311741007E-4,1.855604696283473E-3,6.3989227256996723E-4,1.5404987724375628E-5,8.889546446601E-4,4.1620089706122904E-4,1.5287984554923542E-3,1.9454364563187065E-4,1.4392083296246624E-3,1.1820487030067989E-2,9.3448346745141834E-4,4.3841096903276802E-3,3.2498172335770567E-4,3.0584821238316285E-3,2.8883965942941778E-3,9.3601170649100004E-3,2.3982909502251977E-4,1.4952000548232209E-5,7.5628013172129774E-6,7.5498746120908886E-5,1.4650785734548198E-5,3.7338358296924473E-6,8.8174553208608046E-4,2.4424660846831639E-5,3.6237294348275601E-6,9.4534861797789302E-8,1.952172007773396E-5,1.1994758654751904E-5,1.2421237526434822E-6,3.3107887073174514E-6,4.6257097197161306E-6,4.0245087685274828E-6,4.9758190349061991E-6,4.1933977171779689E-6,1.3496790379783372E-5,9.2576425338362546E-6,6.2838293708321619E-6,6.1279538650521072E-6,1.667726331063536E-5,1.1767719390587988E-5,5.6941471129839446E-7,3.5403144659265249E-6,7.1355099595081502E-6,1.5750298270602773E-5,5.6500957500377433E-6,1.0185142735583829E-7,6.0888359596323429E-6,3.9771027026099428E-6,1.2353607498498135E-5,1.8976273519723492E-6,1.0954305945074378E-5,9.4490146977673113E-5,7.4062485402084377E-6,3.7331960871775245E-5,2.5243548979966796E-6,2.2382958291751446E-5,2.0530233058714734E-5,7.2949319076984502E-5,1.9026240548493771E-6]
[null,"07","パルプ・紙・木製品",1.1994023279793252E-2,9.2780107904997262E-3,1.6585921989423621E-3,6.9481163775909438E-4,5.6310748288812872E-3,2.1455585725368501E-3,0.10337687927276515,3.6223353286237558E-3,4.8101917319322227E-5,2.0613253198789689E-3,8.2125853311519493E-3,1.2803348593870171E-4,7.8528050438677179E-4,1.3507897383066717E-3,5.1241984162608725E-4,3.4613777231015544E-4,3.7967433360454775E-3,1.9193883985710804E-3,3.128879849025443E-3,1.52438357602453E-3,2.7341786618097046E-4,3.7720623165063707E-2,1.8323975489969065E-2,1.0290290905117135E-3,1.1256714422958809E-3,1.4034388810301112E-3,2.732244482999907E-3,1.5769532915132969E-3,1.8690183936942282E-4,1.5258541211026592E-3,4.7677247095567442E-3,5.0705169922443498E-4,2.382025925068124E-3,2.0749443409847396E-3,6.5739081532485812E-3,1.5474504261593835E-3,1.8030395297062541E-3,2.5857988523409581E-3,3.0371615566815195E-3,1.7385348870320176E-3,0.17295067673584857,4.7711358426230725E-4,2.400962015933706E-4,1.004079844357804E-4,3.1041918946077839E-5,2.3882120386906911E-5,1.6041100719620197E-4,5.7391537060789971E-5,2.7572904303018522E-3,1.3044370121376302E-4,1.4120397078657133E-7,6.2707005561803521E-5,1.8430942216370478E-4,3.1474984190207669E-6,2.2037401371264928E-5,3.3329326519942519E-5,1.5244146035418269E-5,1.0879219218650369E-5,4.8232797875945768E-5,5.7156091185980573E-5,6.7917668109630195E-5,5.5324500656958478E-5,1.353483833336438E-5,8.2922690706138441E-4,4.4699644126126024E-4,2.4083064937110142E-5,2.7045530936211811E-5,3.2297125767480082E-5,8.1237942528236741E-5,4.1580234570031169E-5,4.0676513440853654E-6,4.3149608988999118E-5,1.4062092454180533E-4,1.1870005054736702E-5,6.3058410999554694E-5,5.1829219716632002E-5,1.7302677374663814E-4,3.2390987972646049E-5,4.6632011720431649E-5,6.0798093550328233E-5,5.853378895199277E-5,4.169405385603256E-5,4.0942734479860543E-3,1.1502026117630131E-5]
[null,"08","化学製品",2.4194694033086314E-2,2.5540381523465069E-4,5.1626372594291261E-3,7.2332055780463403E-3,3.1580913642862605E-3,3.5532548286562694E-2,9.3186729600452291E-3,0.13287225806604328,-1.5765547789667394E-3,7.5598813740579099E-2,6.9077101215354736E-3,1.0890471820687345E-3,2.2546971788260928E-3,3.2328659736809524E-3,1.7238892016563808E-3,1.5176968491191305E-3,5.2032888069264626E-3,4.5366462818820412E-3,3.5561932259115291E-3,1.9749187505741042E-3,2.5702607849266237E-3,1.109277729278433E-2,1.7581514449722317E-3,2.5219366284091058E-4,2.8861140301817277E-3,5.0831473672719989E-3,2.8173243118121664E-6,6.9374796737860715E-6,1.0874329784969831E-5,1.4560513228576753E-4,4.1558097165964833E-4,3.3786030109515282E-4,1.6761300647325764E-3,4.454704651150114E-2,7.7282663688826446E-4,1.4386431644592571E-3,1.0157524730785271E-3,8.9139740277355858E-4,9.6007305304070256E-4,6.0518487201264822E-3,3.2823087365899174E-3,2.5240176086720168E-3,6.3095254978036517E-4,7.2949786736017251E-6,1.0311992728838934E-4,1.4331707940495696E-4,1.0196204230056162E-4,1.0808635847537509E-3,3.4636828694743429E-4,3.3917375700866703E-3,2.0445257990457328E-5,1.9050823782737793E-3,3.2982675355116919E-4,4.2023028455546961E-5,8.3704149532203497E-5,8.5980993602781215E-5,4.2520188865462359E-5,3.9118504602311799E-5,1.6255813848223985E-4,1.7090279717199469E-4,1.3170527622314998E-4,9.9757397557812002E-5,9.7067769480612309E-5,3.3026682097643995E-4,5.3462568616020152E-5,7.4245490880676864E-6,8.6718252137914557E-5,1.3939751064473722E-4,8.8043105121077854E-8,2.2553939880705504E-7,3.4475747297429034E-7,4.3168762235290474E-6,1.2699581472107997E-5,8.92750424048769E-6,7.9071764175071084E-5,1.284382268611488E-3,2.3386170961657604E-5,4.0784477563657695E-5,3.1143413521960953E-5,2.5075712266173667E-5,3.8616621143500835E-5,1.6899045529594991E-4,9.2107726107303669E-5,7.2124938153656447E-5]
[null,"09","石油・石炭製品",2.6006351720342224E-3,3.6740773225706577E-3,1.1711891512547383E-2,6.1036702249331401E-3,7.4997473324081619E-4,1.0042284181803589E-3,5.470906142367233E-4,2.6615645994321701E-3,2.3924062006424204E-2,9.451093236237416E-4,5.1619087004988297E-3,-5.266213499441127E-3,5.8444653426627995E-4,8.17178200619279E-4,2.1330210365817361E-4,3.8533983954228937E-4,4.6123228409120391E-4,4.533018987348033E-4,2.8736102720711691E-4,1.7933924423817999E-4,2.8365756914187012E-4,6.0984817395524774E-4,2.6999090797931139E-3,1.3057212463705604E-2,2.9796215554343014E-3,3.0442165961627405E-3,3.658867737647664E-4,1.0451333179078005E-4,1.2600258965200805E-4,2.7968513873961667E-2,2.0096522871242115E-4,3.2460012026942955E-3,6.9094076342801614E-4,5.8491892891594018E-4,8.3115555250962982E-4,5.8102035518248912E-4,5.8995689030097681E-4,1.1119035067834377E-3,2.348835799903911E-3,1.4352422716710945E-3,0,4.9668969920446376E-3,2.3033424042039009E-5,3.3605365043602355E-5,1.7279831360690861E-4,7.6676098906662885E-5,1.4074191209101598E-5,2.0414610075351421E-5,1.3329589769117737E-5,3.0050485392168114E-4,2.1152235159446368E-4,6.4206741267604812E-6,7.3542125869351151E-5,1.3670896437388178E-4,9.3051920359294097E-6,1.0142868808785749E-5,4.4253138275052019E-6,3.6864934591169218E-6,3.111605795686842E-6,4.6323825536779529E-6,3.6069148409521431E-6,1.5236863505085291E-6,6.8572123482583904E-6,6.511284531846571E-6,4.2205824261279992E-5,1.7114340268813854E-4,3.9456083844239958E-5,3.9536355687835429E-5,5.4482694142897846E-6,1.5195608143564134E-6,1.3674995416304627E-6,3.3948465325072335E-4,2.6942330935270828E-6,3.6751702355082549E-5,1.20620803048534E-5,7.7233702202892774E-6,1.2049974410244672E-5,7.0687124606372776E-6,8.4932896808784429E-6,1.4783239195994931E-5,2.6195499777741086E-5,1.8161742768858163E-5,0,6.6644938404979815E-5]
[null,"10","プラスチック・ゴム製品",5.4775228523484933E-3,1.5585862090660879E-2,7.3374605733785188E-3,2.0833154530660709E-3,7.7518070732627044E-3,4.9676389743452554E-3,8.6600441131617911E-3,7.2836163237154916E-3,4.8514455203707488E-5,7.1670265083674217E-2,3.144477190049805E-3,3.0338276101446834E-4,1.2631917626411166E-3,2.2118788326565548E-3,7.6718403959084962E-3,9.5024692593399223E-3,2.6844416010607951E-2,1.0460164813271824E-2,1.3923668840795413E-2,1.4065008288972386E-2,1.8011240250969337E-2,2.3984720396834792E-2,5.9466742143139397E-3,0,1.6921280931450913E-2,6.6237678693409768E-3,2.0176873831847077E-3,1.2126554065623745E-3,2.878488020574427E-4,1.2691082470067038E-3,1.257062849605259E-3,9.7943211224820327E-4,1.0693531218054619E-3,1.0478835157724277E-3,3.525938856178783E-3,5.1142169620876591E-3,1.3177784241692567E-3,6.0125300741279612E-4,3.4987074675969943E-3,1.3094816992345513E-3,2.2388029570771611E-2,1.8277787673466935E-3,1.4392765261269527E-4,2.6277227376029713E-4,2.9919329813138883E-4,8.8745033788572504E-5,3.5154269761465234E-4,1.947202770512718E-4,3.9880663923464859E-4,3.4450551436448384E-4,2.5446630837088476E-6,4.0833719134239646E-3,1.4030091713960674E-4,1.3157092830133567E-5,1.020832271980245E-4,9.0858520221123764E-5,2.4420064752787401E-4,3.8488568234500825E-4,7.4075847226244876E-4,3.690336593115955E-4,7.4054236781354423E-4,7.6764786951969571E-4,7.0245071927387394E-4,1.0672235815383795E-3,2.5556755425310836E-4,0,7.1652806655923005E-4,2.5575225611023815E-4,9.9158547142613932E-5,5.2931513501496666E-5,1.0953192178348925E-5,5.3311259509022139E-5,7.6198730319366442E-5,3.5751163534979467E-5,7.2492166998109768E-5,3.9258207172186337E-5,1.4747586665573672E-4,1.6869540368467882E-4,5.850234689256152E-5,2.5041691310675059E-5,1.3270051607335771E-4,4.6936909462640836E-5,8.9248135472156927E-4,7.4193488724917116E-5]
[null,"11","窯業・土石製品",1.3878055752348337E-3,9.9358313487626308E-4,2.54365299877122E-5,8.5078976052134001E-5,1.6748971684631918E-3,2.7253149995987267E-4,3.349494521189939E-3,4.0877785761701049E-3,8.1756757927472373E-4,1.1749794851352113E-3,3.970360495661833E-2,2.083049289578746E-3,5.3951346323506131E-3,1.9839954210238001E-3,5.1787029407548962E-3,1.8545932932679573E-3,7.5733489065386937E-3,1.8248295931835298E-2,4.8220145301899409E-3,1.4511169335613711E-3,5.7596231636763608E-3,1.8256716803974888E-3,2.8555888607316244E-2,2.33478952999189E-5,2.4344357349495374E-3,2.820719713978008E-4,1.0315926238661033E-4,4.822149888859971E-6,3.3948028503716654E-5,1.9096619063058555E-5,4.9776363126919768E-6,9.7146779311448701E-5,1.0966837524827259E-3,4.6164673717424262E-4,2.5605512095124255E-4,4.4946529919897405E-4,9.3237451722831197E-4,9.1269799241260811E-4,7.5269516311157205E-4,3.2438159950393022E-4,2.8327985546459608E-3,2.6259175038805239E-3,7.5468933801637567E-5,2.3377090749496439E-5,1.4359440301948014E-6,1.536931969825422E-5,8.3178587042759532E-5,1.886577907420334E-5,9.1838462648414246E-5,1.9384058007422908E-4,8.9263645769697376E-6,9.0600461954851481E-5,2.4452723583611247E-3,1.4824599816739219E-4,2.6534872496026163E-4,1.052041867456607E-4,1.8763775967576475E-4,1.3018338670387581E-4,5.4596177130265345E-4,1.0303567847396013E-3,2.6608327951018374E-4,8.1651230720383548E-5,1.5956918464460739E-4,1.3658357336828239E-4,1.5988563506624603E-3,1.2872451513125968E-6,1.3289338140682179E-4,1.441072435607579E-5,6.0269009658566695E-6,2.9230138300991561E-7,2.114281893903647E-6,8.5867226937882312E-7,3.4389182101543753E-7,5.3013973869959424E-6,5.4000333448105158E-5,2.4415970377230378E-5,1.3695173868469959E-5,1.8473550631773725E-5,5.7732072410763477E-5,5.4089161126002836E-5,3.4483114845266335E-5,1.6583578545609895E-5,1.4838554675886622E-4,1.4005082926533136E-4]
[null,"12","鉄鋼",3.2113049494919938E-5,3.1146806735933014E-6,2.2175436399543967E-4,8.7429842495679807E-4,0,8.1508654129103022E-5,5.1100225401147087E-3,1.037441542665588E-4,-4.8679470357461599E-6,9.8346939928639892E-4,5.4591390139349209E-3,0.35555702946395701,3.5212261910772213E-4,0.15336288724839123,6.1195438071804643E-2,5.483518650412917E-2,1.2546602468502793E-2,2.6928081997667614E-3,3.6423613283842811E-2,6.5524436065559433E-3,2.9207856483603054E-2,1.0172782025467664E-3,1.4307575250181453E-2,0,1.5575113628696227E-5,0,0,0,0,1.1493107811456217E-4,0,2.8072918708440921E-5,0,1.634000489854045E-6,2.5196075862360894E-6,8.8159031430941543E-5,1.269252313615557E-5,1.589134899234256E-5,1.3670104921892495E-6,3.6179416800341698E-5,1.5188752939936944E-5,3.1421254860775371E-3,1.0907382845072738E-6,3.188364804895859E-7,7.1669562040389424E-6,8.6479825021634882E-5,0,4.9008630583773172E-6,3.0737367826260043E-4,9.8484759582121479E-7,0,6.439984981186437E-5,2.506523640838441E-4,1.6629518264248685E-2,3.7780046319510579E-5,7.1993565132391253E-3,3.6409363908294821E-3,2.9387420643080158E-3,7.1678747546446119E-4,1.8012910988510618E-4,1.4132513027543059E-3,2.872607712380417E-4,1.7047400174983935E-3,1.0596540318828436E-4,7.45801115915509E-4,0,8.1241863956297103E-7,0,0,0,0,7.9385464975124328E-6,0,1.0851757582950382E-6,0,8.5782535777386459E-8,1.4509582704120598E-7,3.4316399120589961E-6,6.7703072873828166E-7,7.7794584906815913E-7,9.9759333535565026E-8,1.5234302039448607E-6,7.3686180885842939E-7,1.561766743069559E-4]
[null,"13","非鉄金属",0,0,0,2.6083422921246345E-4,5.563505735514966E-4,1.6719723923918568E-6,1.2566299924866282E-3,5.9352936799135199E-3,8.2507576877053563E-7,1.2613622284923091E-3,3.9608398894726221E-3,4.7884158575524412E-3,0.22973112892308667,3.119018446725123E-2,1.7910109437354046E-2,9.19959502969586E-3,2.9435991531295055E-2,9.6590090326595362E-3,3.0738748108870576E-2,1.0761448186267862E-2,6.4863020216914223E-3,3.7134509469097395E-3,3.8682379630107615E-3,1.0425367157901438E-4,1.0498990829270776E-4,1.9693834029369695E-6,5.9255157240759299E-6,0,0,6.100552869960519E-6,3.4952852789122786E-5,1.1750169803463891E-4,2.5037685665888014E-5,6.2299679776504403E-4,9.6311999983874507E-5,1.9655091176135129E-4,2.793757578698552E-4,1.5572249249990599E-4,0,2.2102676641456585E-4,4.4374230108068936E-4,1.761792512844476E-3,0,0,0,4.6887385767257326E-6,9.8788975664558327E-6,5.6526678874017502E-8,1.7148631817750373E-5,3.2294263123601384E-5,7.8978492134861944E-8,1.6005072909666135E-5,6.6140007437282656E-5,5.7600005980403981E-5,2.7317125444126997E-3,4.6319305622640801E-4,2.5906528732387379E-4,1.3176724068133828E-4,2.5158205270968035E-4,3.8122533019261312E-4,4.4072129257681448E-4,2.7662801058485451E-4,1.6640897443524652E-4,8.7748939379433128E-5,6.1170186067295806E-5,1.8294851517193644E-6,1.7415509428378057E-6,2.5400806738088934E-8,8.9904713065180259E-8,0,0,8.9508240094258945E-8,4.723856963768013E-7,1.3685141852268839E-6,6.3119678407489727E-7,8.3647262910292323E-6,1.4884023548097905E-6,2.3219987141258782E-6,4.3925915843588515E-6,2.260881498190797E-6,0,3.2367708688060919E-6,6.3908591499067615E-6,2.5822590660699917E-5]
[null,"14","金属製品",7.1543860143494752E-4,2.4605977321387078E-4,9.5419598389802427E-4,7.3317180766330212E-3,5.5392357889557766E-3,1.2186588775046146E-3,8.3956348055078209E-3,4.7797576329437885E-3,6.8382279715701981E-4,4.5025605350504823E-3,4.1323111939137987E-3,2.7309550068839341E-4,8.7624194888531596E-4,3.2415274857619955E-2,1.2144149236944388E-2,1.5887785554097086E-2,1.4986757482825777E-2,9.3612044874836174E-3,1.3550048334548762E-2,1.1950117445334337E-2,3.0637273888520686E-3,4.2668409090020828E-3,4.4503524048227744E-2,2.241565919261998E-4,3.6988052694133698E-4,7.8887872311932315E-5,1.4130756434798776E-3,5.228172904450052E-5,1.4475958859418763E-4,6.2483891619712257E-4,2.1496824954812604E-4,2.646288718347131E-3,8.7877117560991336E-5,1.6258138478885849E-4,1.1592084602375687E-3,6.1038781802145222E-4,4.3645449723443241E-4,1.3261912568397916E-3,9.1421824495182798E-5,2.1688630282811427E-3,1.8764839075162602E-4,2.896224036346224E-3,2.0909560327801481E-5,1.0394069263960501E-5,2.4002602211389545E-5,3.2801684370267759E-4,1.9373038356203357E-4,3.8265735263766145E-5,1.9310228358950557E-4,1.3908778684037568E-4,7.5131282252837987E-6,1.079587744332944E-4,1.6700177221186822E-4,1.3915710591226726E-5,2.6932811576662369E-5,1.1223014144057704E-3,5.683464142712144E-4,5.1564957108537687E-4,6.1897400187490529E-4,3.2686495425875465E-4,4.3394447277028453E-4,4.2680841174437464E-4,1.616675498260043E-4,1.8078505838270409E-4,1.530757669371811E-3,7.6724660658943743E-6,1.2744674376693482E-5,2.4173101079081303E-6,4.6236318482272512E-5,1.8292783671583797E-6,5.0158304810168867E-6,2.0371847882131061E-5,5.9156842134966046E-6,6.9958549317337626E-5,2.8529714687267931E-6,5.3736410137516605E-6,3.8789731180774019E-5,1.6082104042549224E-5,1.4985892747191967E-5,4.1845775263287279E-5,2.4603687803499678E-6,6.9138188716755088E-5,5.8948944708674352E-6,9.267106559247757E-5]
[null,"15","はん用機械",0,3.1146806735933014E-6,0,4.0822982368874825E-4,0,0,8.9625782022956701E-4,8.2847381660282251E-6,0,5.8079228070866613E-5,3.5432048622622609E-4,1.6486150567562044E-5,6.8456402256665299E-7,2.0954796471977477E-4,3.8294028484296437E-2,9.7079269405317588E-3,2.2837000665708058E-3,4.8294312376523141E-4,2.6545258155614439E-3,7.1954404090684423E-4,6.4783759449737056E-4,1.9222084718584775E-5,1.4956398174095962E-3,0,2.339848183569426E-3,0,8.9663990469789939E-7,1.0025259644199525E-8,0,1.9263516837758702E-5,1.0210536026034825E-6,9.2847390538233616E-5,0,2.662322590393556E-8,0,1.8492589770069193E-3,0,0,0,8.5693592652455781E-6,0,0,0,3.6985031736791964E-7,0,2.7097255410947415E-5,0,0,1.2987980163607658E-5,2.5340256069928483E-7,0,4.6826972284244158E-6,2.5962306626455099E-5,1.5007523633834679E-6,1.8757683673713749E-7,1.2693501994524518E-5,1.9077304272769552E-3,4.8023100314723764E-4,1.8236481799104647E-4,2.6929493435826083E-5,1.6162208560457499E-4,2.6600259299841669E-5,9.8547538138186834E-5,6.4211091491228124E-6,7.8506972584535244E-5,0,1.2584479151990925E-4,0,5.2125022434866992E-8,2.9026949653417638E-10,0,1.057031631960592E-6,7.0350914046479383E-8,4.0354892129925396E-6,0,1.8581054681022336E-9,0,8.0120807520218904E-5,0,0,0,3.7235719192773132E-7,0,0]
[null,"16","生産用機械",0,2.2425700849871769E-5,0,5.5413280455008328E-4,0,0,4.1286348724586579E-5,0,4.2903939976067854E-6,5.4375925631217634E-4,6.0316135660573285E-4,2.7414266660392259E-5,5.1770154206603135E-5,1.3376341287238433E-4,2.2540133498202435E-3,4.5244100559777269E-2,3.4350380855491003E-4,9.9677321007762094E-4,1.207267200286323E-3,2.2526758727478709E-4,1.5791452527130564E-4,9.913052932504901E-6,1.7753923657363797E-5,1.6377120803899947E-6,7.9126124712208552E-5,0,1.0144290610791248E-6,0,0,1.6531663788719504E-5,1.1365299028979241E-6,6.1654429282563674E-6,0,0,0,3.8294801474969401E-3,0,0,1.1271840900507848E-6,1.0805753024712109E-5,0,0,0,2.9077887020650231E-6,0,3.9361046960980695E-5,0,0,1.8204980722569569E-6,0,2.6505660617987755E-7,4.8113622699827986E-5,2.4743036331914375E-5,2.6989210258860113E-6,2.3947693082821051E-6,9.2917803360762189E-6,9.0555803868596379E-5,2.7600812580640135E-3,3.5620616253615074E-5,5.6512202074515565E-5,4.3661086635771359E-5,1.7039586392072487E-5,1.7318213730224273E-5,2.3497424440777106E-6,1.3337688913766605E-6,1.0200968396241429E-7,4.6639695420544646E-6,0,6.2856644700869019E-8,0,0,8.3003721799273606E-7,5.4211586706404709E-8,3.0365129209791566E-7,0,0,0,1.8146688177716723E-4,0,0,1.0301235528128995E-7,6.1036724556527897E-7,0,0]
[null,"17","業務用機械",1.2267184907059414E-4,4.3605529430306222E-6,2.9349842293514074E-6,0,1.2597947863581737E-7,0,0,1.8492719120598717E-8,0,0,0,0,0,3.2962601191874687E-6,6.6178543215439139E-4,9.4850166873664563E-4,1.2962137515379248E-2,0,3.2661640029544605E-4,8.638902618790379E-5,4.2763948802565741E-5,2.97391587975147E-5,3.7087091515410951E-5,0,1.8133070246547793E-5,5.458005430996744E-6,2.0580890638234679E-4,1.9248498516863087E-6,0,8.9246388997550577E-6,2.8911618973718846E-5,7.5336338347326297E-4,0,2.1286234202135498E-3,0,8.2061232923501964E-4,6.5215726611186077E-6,0,9.0273056028939563E-4,5.3004622186982412E-5,4.7085134113804524E-3,0,9.3059407800844391E-7,1.020276737566675E-7,2.5527893870129803E-8,0,5.4417194923740399E-10,0,0,1.8204206946787703E-9,0,0,0,0,0,4.4747950626995958E-8,6.3925502522460834E-6,1.3626521488199463E-5,2.078072844456859E-4,2.9555565772164026E-7,2.2300170597001748E-6,3.0638946012032953E-6,9.5747484235091045E-7,4.2496444731886243E-7,4.7919840408742294E-7,0,2.3800433384379999E-7,6.7735484634903829E-8,2.6570620679823796E-6,2.8446410660349285E-8,0,6.3717730236591114E-8,4.827314190306953E-7,7.7545664878212979E-6,0,2.5298880158823622E-5,0,8.6509041699700203E-6,9.1216714949768485E-8,0,8.1824340310801472E-6,7.6627627024771433E-7,6.0238452874176597E-5,0]
[null,"18","電子部品",0,0,4.5655310234355233E-6,4.2912641429804431E-5,1.6062383526066712E-6,4.1799309809796419E-7,1.0647042632804422E-5,3.3841675990695651E-6,0,2.280869363725572E-7,2.0078607077421199E-7,8.0551224271475795E-7,4.4068808952728289E-5,9.4290697945114386E-4,1.0779294094508217E-2,1.4612570560777919E-2,8.5917389463998517E-2,0.22194469958655069,0.1054758979319363,0.20999641321511522,3.3583905729391889E-3,1.4983632803464665E-3,2.1718631311499743E-4,3.5413774046040059E-6,1.4665617942349001E-5,0,1.5625092173019695E-5,2.810080278269127E-5,0,5.8589903013155736E-6,8.16940125283034E-4,1.9642757815460264E-3,6.2985925604163459E-4,2.5857808159197413E-6,0,8.64984877625854E-3,4.9087106051430388E-7,0,4.7965280427692971E-8,3.9481755248899753E-5,2.5797423949048846E-2,0,0,0,1.0211157548051921E-7,3.1664208570095857E-7,2.3943565766445776E-8,1.13053357748035E-8,1.3630308449279978E-7,7.0268238814600526E-8,7.778184831463677E-9,6.6589153192952672E-9,4.9901922013944962E-9,1.4520877992988575E-8,1.8320387980706926E-6,3.6022100254731744E-5,9.8917526801906908E-5,1.2394268428419058E-4,1.8091123279761275E-3,3.7066358844644915E-3,1.9441999342524343E-3,4.1816745794697272E-3,1.4804789618466923E-4,9.621920636355444E-5,4.1681764730001405E-6,7.1908465743996965E-8,2.791973916244577E-7,0,3.2961411245577661E-7,5.996967798396084E-7,0,7.2440990923743464E-8,1.8659131549657112E-5,2.9405216120020626E-5,2.01873734440207E-5,5.6981901021801839E-8,0,1.3050489435798831E-4,1.0135190549974278E-8,0,3.2530217457249459E-9,7.1403016091264284E-7,4.8144708436287625E-4,0]
[null,"19","電気機械",1.4731861455794521E-5,0,5.3221047358905521E-4,3.5412258014682095E-4,4.5352612308894251E-7,0,1.4882612867950633E-4,4.9930341625616535E-7,0,6.1168769299913075E-6,2.0379786183582519E-5,0,4.7919481579665712E-6,3.8472064533945165E-4,8.1698030090517713E-3,1.2107228837652821E-2,6.4181382403388099E-3,1.7986068184563633E-2,3.2772059472840544E-2,1.0200466282035019E-2,1.5299975387529615E-2,1.9072855964762119E-4,3.2460509540224278E-3,1.2037883667823895E-6,7.7250289859117402E-5,0,8.6608683984881017E-5,9.2232388726635637E-7,6.155989246582852E-6,9.8061226729739755E-5,8.2243436609704315E-5,9.1318718974423799E-4,2.5226853629326548E-4,3.1941215278246691E-5,0,2.9308138826979026E-3,3.7376325036303417E-5,1.7636851856490026E-5,2.8589705398926398E-4,3.2856177475526956E-5,0,4.783280552040658E-4,3.9938402718305728E-7,0,1.4538135559038923E-5,3.1298852317363979E-6,3.5371176700431263E-9,0,1.3306588623609577E-6,2.8034478698053062E-8,0,2.0864601333791836E-7,3.9755197871109489E-7,0,2.1059239952697033E-7,7.6817315243009729E-6,2.2262784769888728E-4,2.1554468353320426E-4,1.8316743780376571E-4,1.8904704947574793E-4,1.1027101852703492E-3,1.7853381764579033E-4,2.9816352448239382E-4,1.2630772573238191E-5,7.605422444106083E-5,2.9683145743161534E-8,1.7507049556779519E-6,0,2.0741597687790244E-6,2.4092368212336641E-8,1.1607219268476666E-7,1.9230997093133047E-6,2.2930259690090721E-6,1.7430261261925892E-5,4.3685086681120433E-6,6.8749902319782649E-7,0,5.3506884702483621E-5,9.2432937815765394E-7,4.048493704334298E-7,6.9560448329418439E-6,7.1734737420375854E-7,0,1.1035219518126387E-5]
[null,"20","情報通信機器",3.4922941325725429E-6,2.0556892445715789E-5,1.8262124093742093E-5,6.3436078635363082E-6,8.5477076254402076E-6,3.3439447847837135E-6,3.9519590558444358E-6,1.3777075744846043E-5,2.3927197294345532E-6,1.7251666460178872E-5,6.9940481319683845E-6,3.6516555003069032E-7,8.5570502820831637E-7,2.7429593134667146E-5,9.9855381328342531E-4,6.2275956654050583E-5,1.5490588886354457E-5,3.4770732452257382E-5,2.3319299842042811E-5,1.4066101820949447E-2,6.5054275748939964E-3,1.3714833089415383E-5,8.0264332083711937E-4,6.5508483215599789E-6,4.5474784317361244E-6,9.7343808202313067E-6,1.3851764404398674E-4,6.1504967917164088E-5,3.7033530430967334E-5,5.0802804209383243E-5,9.0193068229974292E-5,9.9151667895625039E-4,3.9374961278687279E-5,1.1760810043063534E-5,3.3636761276251789E-5,7.0093340423112908E-4,5.4697061028736711E-6,8.1947723007423252E-5,1.6574402651789306E-4,1.0534041633375054E-5,0,0,2.9294671920517648E-9,5.101383687833375E-8,2.5527893870129803E-8,1.2178541757729175E-8,1.0339267035510677E-8,2.826333943700875E-9,3.4075771123199944E-9,1.8204206946787701E-8,1.7949657303377714E-9,4.4392768795301781E-9,6.6535896018593286E-9,3.9245616197266422E-10,2.3015562789832822E-9,2.8954556288056209E-8,4.1048634059553831E-7,1.3565416010673907E-7,1.8902278198097642E-8,3.3174614642224927E-8,2.5333905818803463E-8,1.4469513029768944E-5,3.2266193797520283E-6,2.1766471691941736E-8,9.4072424291772103E-7,8.3614495051159257E-9,6.8655096301096151E-9,1.0583669474203724E-8,1.7356756420013484E-7,8.2436537015706095E-8,3.7025235856399075E-8,5.89768276892257E-8,1.3573588121908963E-7,9.2944379202183607E-7,6.8391525136783452E-8,1.4710001622476017E-8,4.2124594947446895E-8,7.6212458541365162E-7,6.081114329984566E-9,9.4880664779449922E-8,1.6481976845006394E-7,1.4927459810020406E-8,0,0]
[null,"21","輸送機械",0,0,1.2050393026999244E-2,8.5825282859608873E-6,0,0,0,0,0,0,0,0,0,0,0,1.8927064141880875E-4,0,0,0,0,0.15563882597260931,0,0,0,0,0,0,0,0,5.6143576920254868E-3,0,1.8648972014651479E-3,1.7439120669855351E-5,0,0,8.4280842153553939E-3,0,0,3.2616390690831223E-6,3.7078154479379653E-5,0,0,0,0,1.0714822894109582E-3,8.7685500655650061E-7,0,0,0,0,0,0,0,0,0,0,0,1.197300726635786E-5,0,0,0,0,1.0478661728778151E-2,0,0,0,0,0,0,0,0,3.4623550884206979E-4,0,1.2796167537770174E-4,1.5979394883521386E-6,0,0,5.6051005722114564E-4,0,0,3.8060354424981865E-7,2.5658644806779527E-6,0,0]
[null,"22","その他の製造工業製品",3.5890346941759891E-4,5.6818004847688994E-3,2.2830916210765783E-3,1.6672494078988364E-3,2.9860915821047791E-3,6.3936224285064611E-3,3.7970422608553339E-3,1.3605463311406887E-3,6.3695024273316579E-3,7.1036639574431246E-4,4.2350467334599379E-3,2.6698488481515926E-3,1.1155569741243357E-2,7.7276698169201211E-4,5.0793578145494768E-4,8.6833167538804754E-4,2.1299559718737375E-3,2.0961365685918283E-3,1.1558039178762975E-3,2.3412519628898988E-3,7.1512026097322651E-4,1.5776463854131024E-2,1.1706776317581544E-3,3.3908618661387612E-3,1.3166655364287979E-3,1.5298732954986646E-3,2.1137456421437637E-3,5.4732303511928647E-3,3.0971382483875076E-5,9.6136631864644935E-4,8.5769839712695941E-3,3.5667161982129289E-3,5.5548185223512044E-3,1.5211279957310722E-3,1.5706288839750941E-2,3.7878362770857165E-3,1.1008134154219344E-3,1.0344468171868937E-3,5.5948861528480323E-3,4.2396382442896089E-3,5.5994395157902464E-2,6.2319708897098458E-4,2.1371439655081644E-5,9.4311830928819524E-5,1.0555145917951919E-4,6.4899449026938776E-5,1.2946149966929922E-4,2.4817473092848645E-4,2.2079651467560828E-4,5.5555234676067776E-5,1.7924527783152983E-5,3.179558077015498E-5,1.4765479704706173E-4,1.2229404954462584E-4,4.9627997732460728E-4,4.4828672420283874E-5,2.0697611970735878E-5,4.7062827735409617E-5,1.0618572880991327E-4,8.2901100085376305E-5,6.1853364404254133E-5,1.1614712254255919E-4,2.5485564120115798E-5,7.9750486581700933E-4,5.3157886793846837E-5,1.3821768682689304E-4,5.5715899151549566E-5,5.926643232164601E-5,9.4009011050177755E-5,2.4422027279550506E-4,1.0832123500548587E-6,3.5541977489292793E-5,3.5979836959579954E-4,1.3498914546111705E-4,2.6836003316666959E-4,6.3879188519397321E-5,7.2639183476322464E-4,1.5189262199215403E-4,4.8192831065127688E-5,4.0742362273282435E-5,1.9245093515825163E-4,1.6608623505957819E-4,2.2436521002478101E-3,2.542436702131284E-5]
[null,"23","建設",3.1826039115059089E-3,2.2394554043135839E-3,1.1237728504827722E-3,2.6460307859021148E-3,4.1445988676397556E-4,1.8705191139883899E-3,2.5960651506021855E-3,2.8368200985380838E-3,1.5584856196306646E-3,2.2713104475739587E-3,6.3993867190254268E-3,3.3227755917697032E-3,2.5992895936855815E-3,4.0461592963026176E-3,1.644103855163001E-3,1.5703488748535809E-3,1.592819802239397E-3,2.9041072662074024E-3,1.7070970205683535E-3,1.7879247824964899E-3,4.3029316647765961E-4,1.3024472449707247E-3,5.708414547056066E-4,1.368962128244082E-2,2.684603892175421E-2,2.8805889694272918E-3,2.6573954837704741E-3,2.205136060818839E-3,8.329789166414605E-3,6.1619624669567667E-3,3.8949730650314025E-3,7.7285394591183809E-3,5.5756588447879339E-3,2.2523615184085661E-3,1.6429731167948978E-3,1.1987490948651145E-3,1.6059898611283695E-3,1.2445253598156421E-3,4.3291783329220714E-3,2.7822201429101596E-3,0,0,0,0,0,0,0,0,0,0,0,0,0,0,0,0,0,0,0,0,0,0,0,0,0,0,0,0,0,0,0,0,0,0,0,0,0,0,0,0,0,0,0,0]
[null,"24","電力・ガス・熱供給",8.7114273604225363E-3,1.3807379426039105E-2,5.2741666601444793E-3,3.096576205574688E-2,8.6106217770709342E-3,2.2106191982557984E-2,1.5869486784648917E-2,3.1885923001939369E-2,8.3686610150626659E-3,2.7949524360980756E-2,6.3037088098670022E-2,3.0839755803271331E-2,2.8730638604105501E-2,1.8120483663778997E-2,8.8225430094816225E-3,8.0233269958620047E-3,8.5147894461068858E-3,2.2283716059927156E-2,7.8211762050156824E-3,5.5977901905807526E-3,7.3661918790987905E-3,1.6722964990579049E-2,2.4447354053795138E-3,6.3259330630119237E-2,3.2037440299424166E-2,6.0152115174042849E-2,1.5511057846480663E-2,3.6104970082620168E-3,3.8036393630363394E-3,9.2802365689872261E-3,5.1938444130432641E-3,9.959922232417014E-3,1.9360302863387056E-2,9.7164424770294633E-3,3.2621989320895206E-3,4.333828654218286E-3,4.1376012561811178E-2,2.8766005386240009E-2,2.8819698918577184E-2,2.4957297419719943E-2,0,3.549782898861173E-3,7.401787105250793E-7,5.4839874644208779E-7,5.233218243376609E-7,2.8741358548240851E-6,1.0167852871500894E-6,2.3345518374969226E-6,3.266162662158715E-6,2.1812280763641024E-6,5.7977393089910019E-7,2.4578796322998751E-6,4.0453824779304717E-6,3.2879977250069806E-6,2.7020270715263736E-6,1.767982755164644E-6,1.0300883641359736E-6,8.1698023451671218E-7,7.400968925255153E-7,2.1450404240256798E-6,6.9541571472615508E-7,4.2222633809272485E-7,9.4234976485726474E-7,1.3484847462483905E-6,2.4690612806348423E-7,6.5587209918129323E-6,3.2130585068912996E-6,5.5945276840640878E-6,1.7222063609940194E-6,3.8083357945283939E-7,3.0324821201417514E-7,9.6429957813412447E-7,4.3265812138584825E-7,9.0991219090061512E-7,1.4530824385832569E-6,9.5382747362581346E-7,3.5103829122872414E-7,4.0781566574881107E-7,4.3094830218490626E-6,2.7466251405875823E-6,2.469043505005234E-6,2.2183863884335885E-6,0,3.4512715413546843E-7]
[null,"25","水道",5.0606151872806954E-4,3.6379470267569754E-4,2.1686272361318734E-4,2.2183969852190206E-3,1.520232162541999E-3,9.5072530162381959E-4,7.0758664553995847E-4,2.583451353866761E-3,1.7867840848494719E-3,6.3099214188666261E-4,1.0259833573110942E-3,8.4257117596125487E-4,7.6037948806590989E-4,5.842326752320574E-4,5.7488743849299707E-4,4.2592516290048207E-4,5.4178334630024705E-4,9.1330879645671215E-4,5.2501320208636821E-4,3.947650437194084E-4,3.6479339055458588E-4,7.8025319855845024E-4,6.3559046693362404E-4,6.6006795609291108E-4,7.401669163327064E-2,8.7196982229409536E-3,1.8360685233465295E-3,1.058065902848818E-3,4.4361785190786662E-4,3.198182999738208E-3,2.2580965083576947E-3,3.8249034511044396E-3,9.0266366262845288E-3,4.5546615528064402E-3,1.8781784849700369E-3,6.8589282245311821E-4,9.9801800290651756E-3,8.7013772335788747E-3,5.2631822560503224E-3,8.9061977869985005E-3,0,1.2813825074545384E-3,1.10636210953155E-6,3.443433989287528E-7,3.063347264415576E-7,4.3964535745402322E-6,3.1553810476530872E-6,2.77828626665796E-6,3.4084290065980741E-6,4.1247092100031576E-6,8.0294800337109639E-7,1.6121973867493762E-6,2.1258218777940554E-6,1.6432139501795449E-6,1.3360534199497953E-6,1.144143678776524E-6,1.0552596963423036E-6,9.7035498310586316E-7,1.0963321354896632E-6,2.960834356818575E-6,9.9372245574256577E-7,4.3324093821688289E-7,6.4367734852704674E-7,1.374397212548321E-6,1.2661373435657406E-6,1.3140017897289676E-6,1.5434352199449424E-4,1.5454274166232277E-5,3.8732395872295071E-6,2.1334807995261967E-6,6.7965009072040516E-7,6.1730343888735525E-6,3.0010872274415793E-6,6.8274664879340092E-6,1.5108115349747573E-5,8.1411342663675948E-6,3.8684419693405405E-6,1.2481210925908548E-6,1.9804162334649736E-5,1.5782321255804039E-5,7.8343607042875784E-6,1.5655588127420291E-5,0,2.3716430079052704E-6]
[null,"26","廃棄物処理",3.2486363695298384E-4,3.1894330097595404E-4,9.4571714056878672E-6,2.0195062210269701E-3,6.0965878993624273E-4,1.7911004253497767E-4,3.4828382690977255E-4,2.0680777646947955E-3,1.6212738856341024E-4,1.6706331330488121E-4,2.161361658849005E-3,1.1180509928880839E-4,7.5901036002077652E-5,8.7262600476703956E-5,2.5636454357756564E-4,2.975472220096651E-5,1.7039647774989904E-4,6.1861859507261719E-4,2.8823824224819689E-4,2.5041882274721479E-4,1.7118927364736963E-4,3.8859878108532655E-4,1.7384511279847266E-3,8.275667088071913E-3,1.7116140382250804E-3,0,1.2085455907953843E-3,2.8281858971865512E-3,1.4459067425510457E-5,4.3987006533898554E-3,4.6703174114083755E-3,2.5571570148424153E-2,5.9822489496385136E-3,3.5467694502449611E-3,3.1810045776230627E-5,3.3472941249471089E-4,4.2864263492853334E-2,1.5808164871473032E-2,1.1588747508293617E-2,1.4445682426568325E-2,0,1.4042464843957835E-2,1.1864342127809648E-6,4.2086415424625345E-7,1.0849354894805166E-7,5.9065927524986494E-6,2.0392843797671716E-6,5.9070379423348285E-7,1.9516897910812768E-6,5.8424581775020447E-6,2.812112977529175E-8,1.7979071362097223E-7,6.1329462155138354E-6,3.5085580880356178E-7,4.4074802742529854E-7,2.1408823437229436E-7,7.0770168626259069E-7,6.2327587076069287E-8,1.2751767676716639E-6,1.9165879641030856E-6,5.9724682967829161E-7,4.6628473858935705E-7,9.54602992193889E-7,8.6029388115769729E-7,4.8774580824543617E-6,2.6223177937944567E-5,5.0804771262811151E-6,0,3.4072900694556434E-6,8.0671698476778305E-6,3.2413095749719603E-8,1.2741839322401171E-5,8.9976749920916364E-6,7.0064280384740503E-5,1.2009124366987069E-5,9.3230441862029587E-6,9.1269955719468281E-8,7.4798549707021902E-7,1.2059052420170393E-4,4.0548820837557029E-5,2.9115628964820176E-5,3.3906066351815803E-5,0,3.6820200168439749E-5]
[null,"27","商業",4.3591738612943458E-2,3.3232396914971089E-2,4.2623145416076404E-2,1.2286075818054878E-2,3.4943381515339753E-2,4.3992728592065482E-2,4.9286369181786395E-2,2.4400791517966713E-2,1.3854837324348588E-2,3.5948657630622542E-2,1.922871310417909E-2,1.2892438247914426E-2,2.4054381765952697E-2,2.7589756059386954E-2,2.4475469330342722E-2,2.3487012107905748E-2,2.9713660337082958E-2,2.5186027998536916E-2,2.9142326385985146E-2,2.249067217223566E-2,1.6586771082398734E-2,3.8002878693722549E-2,3.1689727722607954E-2,1.0618785153857242E-2,1.0483870463485253E-2,9.235789210704894E-3,6.1978274266069836E-3,2.9288194534950259E-3,8.2044322049030919E-4,1.6329858026826814E-2,6.6439775590408133E-3,6.4102916260476437E-3,9.3377128328278949E-3,3.0257329518855146E-2,2.1382586790402915E-2,1.2738009559843624E-2,2.9309911023309078E-2,7.5094387840099752E-2,1.3288685011931483E-2,1.9787382074121028E-2,0.13877175284169072,6.0479496260586142E-3,1.7257071338079419E-3,6.0555975066426077E-4,1.4988766705581389E-3,5.1375178404980534E-4,1.7996435692778515E-3,1.830234940252657E-3,1.9390510875716819E-3,9.5518784552695241E-4,2.6102870308099962E-4,1.4056148972809595E-3,9.0605589082799504E-4,5.6393595738500005E-4,9.4950704289455308E-4,1.1032800257461106E-3,1.0782750071323453E-3,9.944433734012134E-4,1.1837668043270634E-3,1.0283467046796884E-3,1.2550271272676779E-3,1.056764600878658E-3,9.7924882732809172E-4,1.7507032306491737E-3,1.3857213053057569E-3,4.431288129153019E-4,4.4463328867799904E-4,3.663664192529309E-4,2.6998889062682032E-4,1.3270860138995662E-4,3.0925552450312513E-5,6.7558202644940504E-4,3.021203450569811E-4,2.4496976842527447E-4,4.7406321807338963E-4,1.2510644246208245E-3,9.5420398449429223E-4,4.587682271090943E-4,1.3040382109981105E-3,3.0702774525537191E-3,5.0922585539461926E-4,7.6695464036574744E-4,5.6512482796845145E-3,2.5078576161111722E-4]
[null,"28","金融・保険",5.0724167329700785E-3,7.567428164562285E-3,8.6849444440096311E-3,3.3575970114890198E-2,5.4570026842762466E-3,1.5378384072122202E-2,1.0468739538931911E-2,5.9968189564277513E-3,4.8069739364340171E-3,4.3484774419428034E-3,9.2808341563610144E-3,3.5049341303372184E-3,6.6608935100763546E-3,1.0373595473128255E-2,5.7297011621292356E-3,5.9831419338509263E-3,1.2780123095964584E-2,4.4562229333755029E-3,5.3298123870951144E-3,9.7193122121277068E-3,3.3869708487701544E-3,1.1433978179203125E-2,1.0444502522183754E-2,1.3598637277974708E-2,2.0263279674414186E-2,2.5958498902209422E-2,1.4333531669439223E-2,3.577365530189866E-2,6.4039194612977898E-2,2.0461421223622281E-2,5.5198340087744728E-3,2.0210314454607754E-2,8.5579331887924489E-3,6.9825866065352706E-3,1.9612877412020342E-2,8.6114184471712176E-3,1.6127989439820748E-2,5.0338938927900322E-3,8.5091366784335893E-3,3.4241069536295665E-3,0,2.4854436982837793E-3,1.3280251270634667E-6,2.0022930974745995E-6,2.380476103389604E-6,9.6697621556369656E-6,1.3639669907635533E-6,4.335596269637142E-6,2.262631202580476E-6,1.5491780111716333E-6,8.0175135955087131E-7,9.455659753399279E-7,2.5732757785190953E-6,1.016853915671173E-6,1.9241010492300239E-6,2.7129541831112057E-6,1.5974114669401844E-6,1.6626800434704367E-6,2.5837960275399621E-6,1.4921036903855255E-6,1.4433992840263272E-6,1.4943140835107742E-6,1.0457363705100324E-6,3.4909274599266558E-6,2.9946501685222178E-6,3.9194294555230902E-6,5.6480259223701769E-6,6.4242873708416604E-6,4.0929093246335897E-6,1.1050850002552628E-5,1.8172856940340816E-5,5.4364877691148631E-6,1.3281838743069152E-6,5.0079025274810617E-6,1.7375721855064047E-6,2.0838652824766552E-6,6.1829544361752615E-6,2.0801094086426439E-6,4.7452962154979567E-6,1.3528999969946265E-6,2.1014520477383149E-6,9.3379554144905439E-7,0,6.8140489406233508E-7]
[null,"29","不動産",3.5620597326002567E-3,1.9510359739388439E-3,8.4592767677083903E-4,4.4711240835818844E-3,2.0361748183210572E-3,3.8212929028115889E-3,2.9916794989101893E-3,2.2221591004076241E-3,7.5057142685055621E-4,2.6651129108091953E-3,2.8115738847061616E-3,1.0906635766357823E-3,9.903929996483052E-4,4.1497854737995729E-3,3.1848423922430087E-3,3.0989940490555598E-3,1.6365807158433482E-3,1.4072437218401491E-3,2.4337234795962707E-3,2.1017684599133044E-3,8.7646708891299017E-4,3.256597776278384E-3,4.3690595522325668E-3,5.0772853827659968E-3,1.1900751055853437E-3,1.9099642922654999E-3,2.6315095137604487E-2,1.3514741743296409E-2,3.4336171133017665E-2,2.1405100770197218E-2,1.9493566408104693E-2,1.8694354451702084E-3,4.9083226763936959E-3,1.5833225137652562E-2,1.6698888248348649E-2,8.6632240563634163E-3,9.6457565879805029E-3,1.0142871682220658E-2,7.6368640712157782E-3,2.5668742346621636E-2,0,3.0655502016021765E-2,2.3728684255619296E-6,1.1350578705429259E-6,8.1689260384415369E-7,9.876797365518361E-6,2.708071705379941E-6,4.3864702806237576E-6,2.7686564037599954E-6,2.8333027691980378E-6,4.2421023426982665E-7,3.7275128198455065E-6,3.8125068418653954E-6,1.4379593774678417E-6,1.1553812520496075E-6,4.7941725926648221E-6,3.1367352441734528E-6,2.9715593720678919E-6,2.2493711055736193E-6,1.901508593811165E-6,3.0261350500560736E-6,2.895004065966205E-6,9.0271823269037041E-7,3.5178764248785835E-6,5.3474803468890472E-6,6.6557138060722764E-6,1.636279795176125E-6,2.1548351049478781E-6,3.2801641481433808E-5,1.8023413578800079E-5,3.4917359712643594E-5,2.2566506489357457E-5,2.7356987499238902E-5,1.8693044379749901E-6,9.3143083001390895E-6,1.8958404933169431E-5,2.1661402824087138E-5,9.0528978581656532E-6,1.2521014405438222E-5,1.1759532273402022E-5,8.9273760108511608E-6,2.8710481034605918E-5,0,3.7087894948249947E-5]
[null,"30","運輸・郵便",5.0587205173604953E-2,5.6182609990275967E-2,4.2640429212093697E-2,0.23829874885395261,2.6876147023468688E-2,2.2395234209892725E-2,3.6171258378153194E-2,2.3352513241896456E-2,3.5417697495705273E-2,1.6191290292982854E-2,5.4546514452531177E-2,1.7109966098728446E-2,2.1835624198311351E-2,2.6943188750829544E-2,1.9094983681886547E-2,1.7036153017558526E-2,2.1943968216409721E-2,1.604220470772268E-2,1.7502486904641464E-2,1.6843673042687114E-2,1.6502593859454802E-2,0.10613802735931549,3.8360128312686009E-2,3.3665327433445233E-2,1.7604141661456487E-2,5.7798814543727629E-2,4.8396372030521544E-2,2.9653093935479834E-2,2.9077552450595531E-3,0.10267940234890699,2.4485333373332703E-2,3.477297868789999E-2,2.4955292508479231E-2,1.3861918359305366E-2,3.2069691337992257E-2,1.5535002669995921E-2,9.1958592361316996E-2,2.3572807083614266E-2,3.5886999267354322E-2,3.6106995264112249E-2,4.5541072406707891E-2,8.386234145371016E-2,6.8808985438320678E-4,6.8364918146577008E-4,5.0342921303936231E-4,2.4252348056341883E-3,3.8805146577496438E-4,3.0696247695746461E-4,4.66665981743667E-4,2.9719387276219944E-4,2.3066925103997667E-4,2.2669537325060814E-4,7.0010067829204118E-4,2.421658596575564E-4,3.6414072667934001E-4,3.3829450674008939E-4,2.473209245932972E-4,2.2168945035317439E-4,2.7994419413522592E-4,2.2642579255536025E-4,2.4644000228592899E-4,2.5139172593372107E-4,1.8429696323662384E-4,1.0675210566515024E-3,5.1742433266709596E-4,4.555777570109938E-4,2.327201799318256E-4,7.2784953341046427E-4,6.3327620560091954E-4,4.2074012010585453E-4,3.0873793989115335E-5,1.426046039726141E-3,3.2172507565720416E-4,4.0608230017535044E-4,3.0983783086811501E-4,1.813226027362671E-4,4.5152885273113362E-4,1.860440650820706E-4,1.2704319461725056E-3,3.0809868713340636E-4,4.2280065799478082E-4,4.2214607551740882E-4,5.9800586914681873E-4,1.1146014184018082E-3]
[null,"31","情報通信",3.4653593123086788E-3,1.0284675584205081E-3,4.4350872799087939E-3,6.5951132576553351E-3,3.5380391728779539E-3,4.8347171691501033E-3,5.6089922411420327E-3,1.0048055919615554E-2,8.1113198827831355E-4,6.0908542840688012E-3,5.0832340251004676E-3,2.0643506653845274E-3,3.0617981614321763E-3,5.5811569996628094E-3,6.0859520115880486E-3,8.1850502386852583E-3,7.6248551145858216E-3,7.4099398642197408E-3,1.0962702570883363E-2,1.9951490921497523E-2,2.3152788333565093E-3,5.8316109847996308E-3,6.8113405908288528E-3,8.7339325222589911E-3,3.2570632145545231E-2,8.4804462735327251E-3,2.9594167365593064E-2,4.4712828442543831E-2,3.5562098854954845E-3,1.0113139913628293E-2,0.17186781444922855,2.790168957917433E-2,1.7973147563004856E-2,1.0501531457807382E-2,5.5101361293586691E-2,6.0232772016152868E-2,2.0096120968581165E-2,1.3951949851702712E-2,3.1226476777237749E-2,1.5062488185779696E-2,0,6.393952397365639E-2,1.6931343880995183E-5,6.8996214377946394E-6,2.341546065237656E-5,3.6572160898460714E-5,2.0948443357843104E-5,2.5422873823589372E-5,2.8357856728726993E-5,5.6426852104679966E-5,3.248887971911366E-6,2.8432088654430946E-5,2.9034601625113643E-5,1.191261434051825E-5,1.6118949399859416E-5,2.8203492646159961E-5,3.0922981615476626E-5,4.7868808983971727E-5,3.5393788915237904E-5,4.1920649411538771E-5,5.7103890410873944E-5,8.7329257084387026E-5,1.3013310344849307E-5,3.1236959875240385E-5,4.0100070139488739E-5,5.0669547856052E-5,1.7887856490929598E-4,4.3943395656893854E-5,1.6988355158510586E-4,2.625705298274026E-4,1.543286137196432E-5,4.6403195589205059E-5,7.6242658257754889E-4,1.3745090846643577E-4,1.329517000424667E-4,5.7237545365788236E-5,3.1681673834447327E-4,3.4721095869792425E-4,1.1557968599379667E-4,7.4657474799227645E-5,1.4720682437812716E-4,7.7109452255305969E-5,0,3.4273338759204165E-4]
[null,"32","公務",0,0,0,0,0,0,0,0,0,0,0,0,0,0,0,0,0,0,0,0,0,0,0,0,0,0,0,0,0,0,0,0,0,0,0,0,0,0,0,0,0,0.24234119924957262,0,0,0,0,0,0,0,0,0,0,0,0,0,0,0,0,0,0,0,0,0,0,0,0,0,0,0,0,0,0,0,0,0,0,0,0,0,0,0,0,0,0]
[null,"33","教育・研究",6.4065533742365278E-5,6.2916549606584682E-5,3.2610935881682304E-7,7.3735112578516139E-4,1.8511424590747004E-4,1.5674741178673658E-5,1.6454097763098186E-4,3.1232353322779166E-4,4.8679470357461599E-6,7.9436459385751515E-5,5.0487657496175607E-4,5.6111982827510035E-5,1.5402690507749692E-5,3.9784682402835893E-4,7.9421982996753077E-4,4.2586630093767106E-4,3.4466560272138666E-4,1.0171080430713014E-3,1.1744081868725355E-3,1.1678921515022942E-3,1.4536755218327583E-4,3.4358144034882578E-5,1.4671379801953522E-4,4.9205549369187593E-4,9.0779038193532382E-5,1.4483408226170742E-4,1.8893140297515122E-4,1.9788860011685442E-4,1.2799953250516787E-6,1.0063760132550566E-3,4.1319729771357042E-3,1.5928638267432313E-4,1.1783189641794155E-6,8.878845838962509E-5,0,4.7861374277026843E-4,2.0511397885776265E-4,4.2735728457210471E-4,1.8548173941388874E-4,6.5449003910219531E-4,0,1.5215585941747033E-4,4.0036051624707453E-8,1.5304151063500122E-7,0,3.0446354394322937E-7,2.9113199284201111E-7,2.2610671549607E-8,1.6782317278175971E-7,3.3422923954302217E-7,7.1798629213510856E-9,1.3243842690598366E-7,4.0586896571341898E-7,6.5540179049434911E-8,1.8412450231866257E-8,4.1940236077851115E-7,6.7284907243844137E-7,4.2346095925211781E-7,3.4169502896561122E-7,1.2101194659266139E-6,1.1729598394106002E-6,1.6081316181270738E-6,2.0447573117991847E-7,5.2861431251858505E-8,1.6822922696686126E-7,5.9784363961578875E-7,1.1442516050182692E-7,1.566383082182151E-7,2.2624011838326724E-7,2.3802098715802463E-7,1.1530350266698674E-9,1.2986280257743332E-6,4.4161751720412051E-6,1.3750247189339577E-7,1.1873528669580462E-9,9.9098958298785803E-8,0,5.5724642294704984E-7,2.4527161130937751E-7,4.5701483553129464E-7,2.3855492801982942E-7,7.4886090046935713E-7,0,1.6813886996343332E-7]
[null,"34","医療・福祉",7.9981563898284965E-4,0,0,0,0,0,1.2088345347288863E-6,1.3888032059569634E-5,0,6.6352563308380279E-7,0,2.2554342796013222E-6,0,0,0,0,0,0,0,0,0,1.410567030180805E-5,1.0863590679860003E-6,1.5943197090292345E-5,2.5346507908889225E-4,0,2.3459273002538338E-5,1.4450409251149193E-4,8.0290615844150753E-6,1.2610005287936391E-3,7.1464635632220524E-4,3.0692858742118868E-5,1.8719348301207041E-5,1.6206016858372418E-2,1.1716175275997815E-5,3.6742370248567687E-5,3.5763462980327848E-6,9.8239083072799608E-5,1.0007955761238139E-4,4.5229496219491302E-5,0,2.3708207741616103E-3,8.6614579978330512E-7,0,0,0,0,0,5.9632599465599903E-9,3.0583067670603338E-8,0,2.2196384397650891E-9,0,3.5321054577539777E-9,0,0,0,0,0,0,0,0,0,2.0729973039944514E-8,2.378999169228341E-9,5.1840986931718735E-8,5.5381777682884228E-7,0,4.8839831945274537E-8,3.0159000689900928E-7,1.2427155287441904E-8,2.1337854185182237E-6,1.0447110735902191E-6,5.156342696002341E-8,4.559435009118897E-8,2.9575309893660914E-5,2.574280802343977E-8,7.624018224399934E-8,8.1081524399794219E-9,1.859812233923879E-7,1.8000053659678035E-7,9.6199185442353741E-8,0,4.5685100851906549E-6]
[null,"35","他に分類されない会員制団体",2.0082698327885556E-4,2.5540381523465069E-4,1.0374517032039591E-2,2.5993866104349361E-3,1.0977599809367854E-3,6.6586300527005701E-4,1.8176686975086849E-3,2.0670421724240419E-3,3.8052494455697097E-4,1.1020953413761626E-3,1.0015878497120277E-3,6.465739370639E-4,3.6110752190390952E-4,7.9489901392084219E-4,1.9028650515906585E-3,1.3465556922461137E-3,9.2478815651536096E-4,6.7236850498564305E-4,6.9837282457979935E-4,6.1347143913182312E-4,2.1483354452323433E-4,8.8791108524479388E-4,9.7307092906755274E-4,1.3343014218042382E-3,7.9626347339699522E-3,1.9654446361310955E-3,5.1406312863201361E-4,2.6830301627981863E-3,3.9450506940647028E-4,1.2572936413766146E-3,1.3190310789632656E-3,3.538038677958255E-6,1.442084071988053E-3,9.7600080583180166E-4,0,2.1268696749713288E-3,1.3665149080346055E-3,1.5401880897521209E-3,9.9146872734464896E-3,2.0947903228274102E-3,0,4.7350487060679597E-3,1.5916771743481255E-7,1.6579496985458467E-7,1.0913174629480491E-5,4.0432758635660858E-6,1.2562209448145472E-6,9.2986386747758787E-7,1.3783649419334377E-6,2.3942172976415189E-6,2.1240427808996962E-7,7.7021453859848591E-7,1.3007767671634987E-6,9.3600794630480411E-7,5.0173926881835552E-7,1.1371243924036621E-6,2.9895797635825995E-6,2.4576623060779478E-6,1.9934633391993744E-6,9.7412732085805911E-7,8.4805249728444598E-7,1.0886096456042862E-6,2.9656639288173568E-7,1.0966155738130647E-6,1.5162721133588918E-6,2.0531539259812154E-6,1.2639403229031801E-5,2.6565010380251345E-6,7.908548571945576E-7,4.0730615753675632E-6,4.4532775030049544E-7,1.6991394729757629E-6,1.7856717300621092E-6,3.9063202242441979E-9,2.8382482931765136E-6,1.3601332026508352E-6,0,2.7573994639956998E-6,2.0574436816447784E-6,2.1043851028972024E-6,1.0784851427660105E-5,2.8826583499794966E-6,0,6.6414853635556166E-6]
[null,"36","対事業所サービス",1.7181444871267014E-2,2.1715553656292498E-2,1.1529596380968779E-2,3.4004350222380769E-2,2.9881141826342772E-2,2.9308004066236858E-2,2.4103277243410919E-2,3.5061918061868348E-2,1.0759235547498415E-2,3.3465101921165898E-2,4.3306275960174889E-2,8.293790334582345E-3,1.356874349129363E-2,2.5791469579006659E-2,4.1969334285603399E-2,3.2961698520798874E-2,2.8765249032515906E-2,4.0823001619935087E-2,3.6941097056826577E-2,3.2032832204079313E-2,2.2102719824962737E-2,3.7800602670981516E-2,7.8593557102110634E-2,4.7954953231492181E-2,0.11492069169193311,5.5345525504640433E-2,6.8652304021043442E-2,9.2005597302964551E-2,2.882570867832664E-2,0.10632758566970382,0.13405499051921341,8.5893368052490038E-2,5.6749885857515801E-2,4.1280230265345767E-2,6.3654610176392679E-2,0.11691942950284093,2.0693230551478207E-2,2.8124787636166836E-2,4.5112281565213581E-2,3.6375111704733155E-2,0,3.480263112237935E-2,1.0950641310608704E-4,1.2398913053279017E-4,6.284967470825958E-5,2.6856120284144379E-4,1.8378591327569463E-4,1.780025117742811E-4,1.190735227186318E-4,2.5876078697200229E-4,2.5823573640459407E-5,2.0409945393379955E-4,2.8661168908709287E-4,5.9453968889562847E-5,8.3738672876388251E-5,1.5613437384555496E-4,2.1232696405752753E-4,1.8233691177193967E-4,1.8055456134822865E-4,2.4290905222145847E-4,2.0963997069353509E-4,1.9399648045342085E-4,1.4898182185573257E-4,2.1147785646564592E-4,5.0188776880691409E-4,3.4487676436048667E-4,7.2633201431102665E-4,3.3423863219703809E-4,4.6001755881315613E-4,6.2578475084061754E-4,1.4778475559828284E-4,6.1835933270270454E-4,8.8864439895505601E-4,4.931573030299331E-4,3.8242261138984749E-4,2.534096624767614E-4,4.2003135698681757E-4,7.4688791568293172E-4,1.3777980737446032E-4,1.7177445038678605E-4,2.6373656935348622E-4,2.2023310761045886E-4,0,2.1596774140737366E-4]
[null,"37","宿泊業",0,0,0,0,0,0,0,0,0,0,0,0,0,0,0,0,0,0,0,0,0,0,0,0,0,0,0,0,0,0,0,0,0,0,0,0,0,0,0,0,0,0,0,0,0,0,0,0,0,0,0,0,0,0,0,0,0,0,0,0,0,0,0,0,0,0,0,0,0,0,0,0,0,0,0,0,0,0,0,0,0,0,0,0]
[null,"38","飲食サービス",0,0,0,0,0,0,0,0,0,0,0,0,0,0,0,0,0,0,0,0,0,0,0,0,0,0,0,0,0,0,0,0,1.9105263685205045E-3,2.1345138089447955E-3,0,0,1.2824006455936187E-2,6.7080947831692243E-3,0,0,0,0,0,0,0,0,0,0,0,0,0,0,0,0,0,0,0,0,0,0,0,0,0,0,0,0,0,0,0,0,0,0,0,0,1.6778245892410757E-5,2.3090986336351144E-5,0,0,1.6142115285133031E-4,7.7626748193022788E-5,0,0,0,0]
[null,"39","娯楽サービス",0,0,0,0,0,0,0,0,0,0,0,0,0,0,0,0,0,0,0,0,0,2.1318393403236347E-7,0,0,0,0,1.165391490073838E-5,0,0,0,6.9701737965725498E-3,0,7.634869958712786E-5,0,0,2.0340092816740492E-4,2.0833269052599216E-3,2.0236014715134613E-4,1.1415760724431142E-2,6.0123460640013255E-4,0,3.9140663494391462E-4,0,0,0,0,0,0,0,0,0,0,0,0,0,0,0,0,0,0,0,0,0,3.3447811499950471E-6,0,0,0,0,1.634929800320513E-7,0,0,0,8.9567059303822153E-5,0,6.5233166510675058E-7,0,0,2.6456729423799483E-6,2.6708254137292213E-5,2.3553841523535956E-6,1.9657034502892131E-4,1.0430977193913149E-5,0,4.676915409246027E-6]
[null,"40","その他の対個人サービス",1.6028425829151913E-4,4.5474337834462193E-5,9.0723623622840171E-4,2.1157797991912272E-4,1.4085135608877562E-4,1.5716540488483453E-4,8.7129073772382028E-5,9.6790891877213684E-5,4.0676235400387403E-5,9.7828560527793166E-5,7.6967993796781274E-5,5.7062487273913456E-5,9.0191309973156522E-5,9.2972193897439395E-5,1.2740915796617257E-4,1.3135047001277305E-4,9.9527033594827371E-5,1.7176521995382785E-4,1.2540520024772553E-4,9.0763154096152069E-5,8.849620380174237E-5,1.1561675355688512E-4,2.3802831301191401E-4,7.1429442275471316E-5,2.5596619222634709E-4,4.9684729851238406E-5,7.7032906343154251E-4,1.7552224585064529E-4,5.281801237048291E-4,6.0658117805426732E-4,1.4941053056096699E-3,5.2863821368995245E-4,8.8503855864100812E-4,1.0461523405080242E-2,2.2767174149229304E-3,1.1255362403554301E-3,1.2117292377670022E-2,3.0955856914402767E-3,3.2836791154396473E-3,1.7004723012809479E-2,0,1.1643306414488525E-3,4.5602039289605807E-7,4.336176134658369E-7,3.9249136825324574E-6,7.4289104722147968E-7,6.793986786228989E-7,6.5570947493860302E-7,3.8079674230175936E-7,4.1141507699740209E-7,6.7610375842722719E-8,3.5662190932225767E-7,2.9442133988227529E-7,2.4842475052869644E-7,3.6939978277681679E-7,3.7816405333794617E-7,4.7825531192027338E-7,5.4261664042695629E-7,4.3766044135595302E-7,6.8007960016561089E-7,5.0984485460341976E-7,5.1585043914806825E-7,3.9746406173175168E-7,4.8093537452671263E-7,1.0365639237352056E-6,3.2484231327375371E-7,1.1145010632877943E-6,1.9897298611502998E-7,3.3442144120554687E-6,8.0375623590313447E-7,2.0837905231983771E-6,2.7377764030525769E-6,6.8875613996034104E-6,1.9594102244808895E-6,5.4960189505754038E-6,4.0819325449636895E-5,1.0484343631364561E-5,4.7589121756704394E-6,5.4474622168001743E-5,1.3129442748145952E-5,1.2770279033134229E-5,6.1546746100036919E-5,0,4.878239582491717E-6]
[null,"41","事務用品",6.9360172777840196E-4,1.0035501130317617E-3,1.1717109262288452E-3,1.3526810885481832E-3,5.5076338367399818E-4,1.0408028142639308E-3,9.1174020100128687E-4,5.8903008942931025E-4,6.6666122116659275E-5,2.1861096092507917E-4,1.1706497213039141E-3,1.3078833780878622E-4,2.894850110428734E-4,4.0697040114396704E-4,1.0852971841802976E-3,1.074289683263778E-3,1.3813732639406586E-3,1.1280153213989971E-3,8.5978039213851576E-4,1.2652164974608188E-3,1.9266023367339033E-4,8.9270772376052207E-4,8.2610062960140971E-4,3.9543048094886625E-5,8.960806249736032E-4,3.3313526963109508E-3,1.9150161044459624E-3,3.2728763392243098E-3,3.8639342747850351E-4,2.1059117291197115E-3,2.101522800558463E-3,2.8887787236864344E-3,3.2958090971434112E-3,2.3048126013425576E-3,4.6600142307436469E-3,1.5468915494074012E-3,2.0609572097879123E-3,8.7406965038259467E-4,2.1593009942938823E-3,3.2383399654600481E-3,0,2.0166000828153517E-4,0,0,0,0,0,0,0,0,0,0,0,0,0,0,0,0,0,0,0,0,0,0,0,0,0,0,0,0,0,0,0,0,0,0,0,0,0,0,0,0,0,0]
[null,"42","分類不明",3.8574596466416514E-3,1.5018990208066898E-3,7.2236484071514472E-3,1.3623457617049825E-2,6.7810407057647551E-3,3.0933579224739841E-3,2.7539110446562075E-3,1.5711599092051874E-3,6.7012653939542898E-4,3.0194563340519799E-3,6.8568777812844702E-3,2.8557342233620684E-3,3.4682580498311267E-3,3.6107880825245794E-3,7.8379825563874433E-3,6.2924615484227934E-3,2.356118569614513E-3,9.8416927755541161E-4,1.470322060730182E-3,2.8399025444302041E-3,6.3447068243854235E-4,1.9276801928319745E-3,1.3075186388033538E-2,2.5579243015602399E-3,8.320009695224017E-3,2.0942591911123413E-2,6.258243648389214E-3,4.2467902126197164E-3,1.9512646622197628E-3,7.9396126255215117E-3,3.1251776587685781E-3,1.0193208858663653E-3,1.0523802332879197E-2,3.7663811128232877E-3,4.506507138552213E-3,3.6008051510794158E-3,1.6542354739332039E-3,1.5361879790217828E-3,1.2007388475866521E-3,7.7186936015980305E-3,4.9892169467261223E-4,0,4.1325017189210233E-6,4.1703811648037841E-6,1.0472818460220751E-5,1.5308426989465574E-5,7.4644066276894701E-6,3.3379003875107334E-6,3.7611132377231937E-6,1.7610749800322421E-6,4.3677499438219103E-7,2.710178534953174E-6,9.7791133173327468E-6,4.4221960331079807E-6,6.2107496188363873E-6,4.7195926749531619E-6,9.0907234391323227E-6,7.2226674435209711E-6,3.1392322022840619E-6,8.7686538247517248E-7,2.9792673242912871E-6,1.6797265189341012E-6,2.1278495096756686E-6,2.4855237674893471E-6,1.7545628658595276E-5,3.5728473735360348E-6,1.1314359870420646E-5,2.6543843041302938E-5,8.5720475444935991E-6,5.8704102979071834E-6,2.1673215051304608E-6,1.0389782750602243E-5,3.3002855265921948E-6,1.1708543818801277E-6,1.2129521947696615E-5,4.9091146467261022E-6,5.7710695078002252E-6,3.8017513422253197E-6,2.2682556450842428E-6,2.0374772237499406E-6,1.4313295681189762E-6,8.685293699463542E-6,6.2349845364944022E-7,0]
["県外","01","農業",4.8050635535313101E-2,2.6350198498599326E-3,0,0,7.2169681255856682E-2,2.7255239961477755E-3,1.6412253490742186E-5,5.6082869277039723E-4,0,2.2588900771296709E-2,5.1066590666907917E-5,0,2.9093970959082757E-6,0,0,0,0,0,0,0,0,1.1885004322304263E-3,4.4391850359590891E-4,0,0,0,4.8084418267217373E-5,0,8.9712282313006207E-7,1.6606328582664309E-5,0,2.0108599574724767E-5,1.0822891532446424E-3,1.1327716715671262E-3,8.475330018201646E-4,6.1891824087772295E-6,5.6782561791550333E-3,1.4244348854929666E-2,2.1064192726223505E-3,1.985165226861037E-3,0,0,0.13262137789092773,2.2150080437980317E-3,0,0,0.16588984683392127,8.1258937998463562E-3,2.7995460902831764E-4,1.227979707045261E-3,0,9.7639497755751328E-3,1.4638562483050707E-4,0,1.3131529349739117E-5,0,0,0,0,0,0,0,0,1.925862174348837E-3,9.9608321372864029E-4,0,0,0,1.1841556724815735E-4,0,2.2318914666239735E-6,3.7127335301131788E-5,0,3.2677670782544126E-5,1.9956886880192538E-3,2.2520165497601575E-3,2.0686686502108713E-3,1.1412046333821334E-5,1.2775877961084094E-2,2.8927401925150233E-2,4.1484539331561043E-3,3.4520464011529783E-3,0,0]
[null,"02","林業",1.0059412754283669E-4,5.4980343250268952E-2,1.2816097801501147E-4,2.9479118895256958E-5,1.4744638179536065E-4,1.4629758433428749E-6,1.3627935608173951E-2,6.2838259571794421E-5,0,0,6.6928690258070667E-8,2.1480326472393546E-8,0,0,0,0,0,0,0,0,9.5341740790500302E-9,9.0994009176147137E-5,1.6627329068341283E-5,0,0,0,0,0,0,0,0,2.6050116004376181E-6,3.1037558445655632E-5,3.0859646725899305E-5,0,0,4.9935611741747956E-4,9.7259055943866798E-4,0,4.669255755746006E-5,0,0,1.5138217012740298E-4,0.1256067537932837,1.5313545335344115E-4,7.3801963051838804E-5,3.5905553554582388E-4,8.5948815227943604E-6,2.9676974127408523E-2,2.0615026481164689E-4,0,0,1.5802275304415905E-7,7.4174214612833534E-8,0,0,0,0,0,0,0,0,2.6306147438315353E-7,2.8507547974936093E-4,3.923275501379292E-5,0,0,0,0,0,0,0,0,3.8581422748118533E-6,4.4348104522029808E-5,6.0046226622947107E-5,0,0,1.0229387010945738E-3,1.8465848864260205E-3,0,7.1131833904715578E-5,0,0]
[null,"03","漁業",0,0,2.6974461723892333E-2,0,1.0196275082868515E-2,2.089965490489821E-7,0,1.899202253685488E-5,0,0,0,0,0,0,0,0,0,0,0,0,0,1.1391128208462622E-4,0,0,0,0,0,0,0,2.0510858101307143E-6,0,4.5009226219595521E-6,3.6846352474475238E-5,3.1397435889158806E-4,0,0,2.0483348110889735E-3,3.7759863443492594E-3,1.2638851392697098E-5,1.8091798487796521E-4,0,0,0,0,3.955935179163439E-2,0,2.8156253049190994E-2,8.3659484733545904E-7,0,3.6224187319273913E-5,0,0,0,0,0,0,0,0,0,0,0,0,0,4.9040741745798927E-3,0,0,0,0,0,0,0,3.8232534502973617E-6,0,6.0912553363381197E-6,4.8221961985767132E-5,5.306797217957905E-4,0,0,3.8408216756277021E-3,6.5516818978515936E-3,2.9149243522859333E-5,2.5222431258997816E-4,0,0]
[null,"04","鉱業",1.6056524747459969E-7,1.2458722694373205E-5,0,1.186627823885027E-4,7.5146759006265059E-6,5.2249137262245524E-6,3.6079061498062141E-5,3.9997902185942959E-4,1.9661720584955616E-2,8.9990663986990743E-6,3.2895785905293026E-3,1.3003974843122329E-3,2.0710628797725879E-3,7.3577234803291701E-6,1.3142934984374597E-6,1.5009800516808034E-6,5.8089708323829206E-6,5.1661467605566817E-6,3.0337020170682652E-6,1.0935319770620732E-6,2.2373528505504073E-6,9.7353996541445993E-6,1.8232223413685412E-4,9.331235512809434E-3,0,5.6268097226770558E-8,7.6923530697943115E-8,3.0075778932598574E-8,3.3782867816613214E-8,2.1081824172649741E-7,1.2155400030993839E-8,4.3292456396957545E-7,7.3883783699898489E-7,2.9951129141927505E-7,2.0156860689888715E-6,3.0964793015236898E-7,2.5244797397878478E-6,2.7273482252304162E-8,1.0552361694092453E-6,3.2605366960446595E-6,0,6.7085061544760769E-6,9.2375865456032315E-6,3.9200307603233611E-4,0,1.7020121033514408E-3,2.8947362882671016E-4,3.7281323151175134E-4,4.5201570027524193E-3,4.9568122229325167E-3,0.58375996462735236,1.1112249908943957E-4,6.2369474765420589E-2,5.0704963293514337E-2,0.14449389772848248,2.5676725034088922E-4,6.0696795102918099E-5,5.6527455149343321E-5,5.3778435494987646E-5,1.6708620855110964E-4,4.5653598328420255E-5,2.9871595536716606E-5,1.094006427949247E-4,4.5747215454145147E-4,6.2614061837364832E-3,0.30932697396490577,0,2.2437379285311893E-6,2.7763144827545859E-6,1.1886535883074524E-6,9.6060629221896301E-7,8.1408882182339874E-6,3.4161576203158082E-7,1.1017645981806618E-5,4.0218253780176331E-5,8.9896690968009495E-6,6.3537930712399075E-5,8.7229857968188927E-6,3.9438053468059906E-5,-2.7940654729773073E-5,4.5372062968789639E-5,9.9915293631726038E-5,0,2.2054067619966863E-4]
[null,"05","飲食料品",4.1497325524884783E-2,3.9360219672198549E-2,7.203201350353633E-2,0,8.3232216429720784E-2,3.3042354404644071E-3,5.8121694302483873E-4,3.5017627999574517E-3,0,6.1998176341267828E-6,2.5135069626418439E-4,2.6850408090491932E-7,0,0,0,0,0,0,0,0,0,1.1175101821976493E-3,9.5006124047479375E-6,0,0,0,7.505813507851799E-5,0,0,8.7037189506124972E-5,1.2763170032543531E-7,2.137303787018073E-4,3.5308486993928644E-3,5.0384421744165669E-3,6.8545924383552797E-4,3.2626318494103275E-6,3.8051693491133888E-2,0.14016809828962992,6.3659520183634115E-4,3.0278890424313707E-3,0,1.722119795413695E-3,0.12262477323128734,2.6872992470013332E-2,9.3727755631478921E-2,0,0.178798414653521,2.1731568639758283E-3,1.6290365370470335E-3,6.941803317419914E-3,4.0799571050577546E-6,1.5916287372075532E-5,4.6613884372446128E-4,7.6960653362839446E-7,0,0,0,0,0,0,0,0,0,3.079182516415366E-3,2.4505560656684873E-5,0,0,0,1.3747766605131829E-4,0,0,1.603748721000733E-4,2.9506001008905766E-7,3.130647425742993E-4,5.437285116187884E-3,8.3135210850656359E-3,1.3791545580688618E-3,5.1719953449197446E-6,7.0572262209963377E-2,0.23972358926244136,1.1876814923859236E-3,4.1749592299559065E-3,0,2.9766774573473718E-3]
[null,"06","繊維製品",2.3056366711115142E-3,2.4581059875998334E-3,9.849807073703325E-3,1.7900168777284509E-3,4.2833652633571083E-4,0.12735560010433108,3.2556703638405974E-3,5.2082894131254222E-4,9.430616037047222E-5,6.1218533722394355E-3,1.0981659497544237E-3,1.7622459837951667E-4,3.3500851854355583E-4,6.3553072333691243E-4,6.3372140039363867E-4,5.236654521481673E-4,7.1605247127173464E-4,2.1198788600871525E-3,1.3507284101296115E-3,1.2171010904700875E-3,1.2831345720227638E-3,1.254018961289706E-3,1.5331443524557611E-3,7.1107498875052768E-5,4.6418386091946485E-4,1.0154140825543016E-3,2.0108820545782736E-3,6.9344720958928118E-4,1.6696244005366175E-5,9.6334273966263524E-4,4.5103219585004189E-4,1.6567351283619839E-3,2.1082355521264139E-4,1.5596384920011151E-3,1.2809684968424277E-2,1.0126808983977019E-3,4.7509306214062975E-3,3.5217338516325291E-4,3.3144008775535844E-3,3.1300943273266163E-3,1.0143203023446245E-2,2.598389495867329E-4,3.98246124476758E-3,2.012750934034658E-3,2.010892828898066E-2,3.9028938127247423E-3,9.9450824797818319E-4,0.23484614986841493,6.5053109048652342E-3,9.6511205098606309E-4,2.5215678579785013E-5,5.1994527333450872E-3,3.1947060767561521E-3,3.3081581980475168E-4,8.8183668517988667E-4,1.2320672598829948E-3,1.071893106289879E-3,1.3252830940391912E-3,1.1169225325329908E-3,3.5947341394336938E-3,2.4656394842014744E-3,1.6735528355645108E-3,1.6321438575757914E-3,4.4418600387055541E-3,3.1342328469213285E-3,1.5166415184854522E-4,9.427511858777621E-4,1.9004671928048655E-3,4.1949824927785704E-3,1.5048258639038491E-3,2.7115924722195275E-5,1.6217021396754021E-3,1.059254676668157E-3,3.290316702380885E-3,5.0540030987929327E-4,2.9176023158041645E-3,2.5166655896811892E-2,1.9726147716154869E-3,9.9428530118693039E-3,6.7230586810696619E-4,5.9616275311506024E-3,5.4680860960418035E-3,1.9430216930061816E-2,5.0685019879766549E-4]
[null,"07","パルプ・紙・木製品",1.7960507452013771E-2,1.4282056760694724E-2,2.4839749861077414E-3,1.0407248430236919E-3,8.4322726291662081E-3,3.2129039485300015E-3,0.16357274766229998,5.4242658797348945E-3,7.1946607036790712E-5,3.0867419802818844E-3,1.229797951319484E-2,1.9172802401096667E-4,1.1758242792610475E-3,2.0227559083181739E-3,7.6723815755843229E-4,5.1830901353236533E-4,5.6854333860142442E-3,2.874209565805883E-3,4.6853151862883101E-3,2.282201236128547E-3,4.0942603747664544E-4,6.0467277865005546E-2,2.7439282486391041E-2,1.5409190971772014E-3,1.685579724203391E-3,2.1016134314198803E-3,4.7761339438286013E-3,2.3613997828929767E-3,2.7987979890470164E-4,2.2848964163455082E-3,8.49743903346677E-3,7.5928997146967403E-4,3.5669689526137372E-3,3.1071334650867974E-3,9.8441068394243998E-3,2.3172314043239028E-3,2.6999310817031035E-3,3.8720980958063789E-3,4.5479959422332055E-3,2.6033922456578634E-3,0.25898534900581921,7.1451373740130978E-4,2.5089417860371083E-2,9.891659491464231E-3,3.24352952132442E-3,2.4952370636576156E-3,1.6762563617833171E-2,5.9973534435057898E-3,0.28320944490415501,1.3631027268378677E-2,1.4783936076971999E-5,6.5527204175421057E-3,1.9259794843650698E-2,3.2889199969876164E-4,2.3028589598371868E-3,3.4828716282049592E-3,1.5929600136523111E-3,1.1368820746776153E-3,5.0402823033729371E-3,5.9726829773032305E-3,7.0972132799868156E-3,5.7813469847014468E-3,1.4143563350913705E-3,8.4546265304122847E-2,4.6710021962152258E-2,2.5166269816874151E-3,2.8261321151575821E-3,3.3750263586288251E-3,7.942361614072406E-3,4.3450469963150521E-3,4.2505944437168657E-4,4.5090179872379977E-3,1.3825795114193327E-2,1.2403777671244844E-3,6.5894393823461061E-3,5.4160239349527045E-3,1.8080861398914926E-2,3.3847725769003724E-3,4.8729611027035422E-3,6.3532675272669316E-3,6.1165938967328651E-3,4.3568984273337262E-3,0.42784141512383211,1.2019628354691247E-3]
[null,"08","化学製品",4.4636657102196282E-2,4.7093971784730712E-4,9.5250021523217675E-3,1.3344712024457967E-2,5.8263556187146681E-3,6.5554066571252775E-2,1.7191998259278269E-2,0.24854625036449149,3.6594585572279565E-3,0.13947194763953347,1.2744025769419751E-2,2.8192176683589994E-3,4.1595821421206254E-3,5.964317807624432E-3,3.1804356434541304E-3,2.8000047089570251E-3,9.599130668151698E-3,8.36963406350528E-3,6.5607643934905971E-3,3.6425550155937663E-3,4.7418659710279009E-3,2.0465018115304795E-2,3.2436016166793296E-3,4.6729384693794515E-4,5.3246424957198281E-3,9.377809888105262E-3,5.1995499031140913E-6,1.2812281825286991E-5,2.0063269831088626E-5,2.6862196837988141E-4,7.6670185695493643E-4,6.2331433730012655E-4,3.0922783809252856E-3,8.2184673697057495E-2,1.425845933051003E-3,2.6541472333010308E-3,1.8740054601691792E-3,1.6445273416886858E-3,1.7712378929936321E-3,1.1165059988440978E-2,6.0555058556487837E-3,4.6566285824001189E-3,6.3332375817451839E-2,7.328392736757034E-4,1.0350941912911284E-2,1.4385123024645095E-2,1.0234520193259891E-2,0.10849249701041701,3.476701006695395E-2,0.3398345547933857,1.8172137322433981E-3,0.19122405568673312,3.3106550222926939E-2,3.6247792709298791E-3,8.4018357995410287E-3,8.6303924646472692E-3,4.2680355988547565E-3,3.9265622150002335E-3,1.6316850758547042E-2,1.7154500493367211E-2,1.3220027540894358E-2,1.0013229783070461E-2,9.7432471475752767E-3,3.3150831833182924E-2,5.366340202660129E-3,7.4406030711175091E-4,8.7044638465729966E-3,1.3992127527967663E-2,8.8328916693672412E-6,2.2627378063328651E-5,3.4599634505294563E-5,4.3330389084935257E-4,1.2747370434190864E-3,8.9609631753150834E-4,7.9368766246506236E-3,0.12892083290406323,2.3475147467207714E-3,4.0937705081931682E-3,3.1259501994520362E-3,2.5169912511843143E-3,3.8761922781476552E-3,1.6962557724570015E-2,9.2457168649735383E-3,7.239561961076205E-3]
[null,"09","石油・石炭製品",7.3617560314629205E-3,1.0401164641397469E-2,3.3153255745394683E-2,1.7278495206657953E-2,2.122987277048999E-3,2.8429800567133035E-3,1.5487495071674589E-3,7.5341741750804842E-3,6.7723044176454333E-2,2.6753353525938929E-3,1.4612072443212764E-2,2.4322275696241957E-2,1.6545056720407795E-3,2.3131799695337275E-3,6.0387920684088219E-4,1.0908004638322669E-3,1.3054693783975217E-3,1.2832195602480616E-3,8.1347074809483516E-4,5.0630530537973991E-4,8.0295542870548815E-4,1.7263634977940795E-3,7.6427472797669536E-3,3.6961621925095833E-2,8.43454930822337E-3,8.617290285988231E-3,1.0485446469436625E-3,2.9583538684068377E-4,3.5668702571176156E-4,7.9171727805084066E-2,5.6889095455055813E-4,9.188592479539015E-3,1.9558820947038645E-3,1.6557583212240363E-3,2.3526835836479481E-3,1.644721414364199E-3,1.6699433478696614E-3,3.1474962193271624E-3,6.6489951381672281E-3,4.0627750294054427E-3,0,1.4059987924688922E-2,6.6727686882383664E-3,9.736883510375367E-3,5.0059861634730765E-2,2.22141838433936E-2,4.0773642349247064E-3,5.914298794236196E-3,3.8615302757518738E-3,7.86205437714287E-2,6.1279054250937139E-2,1.859996342405791E-3,2.1305610633277197E-2,2.2459715533700322E-2,2.6957541798880045E-3,2.9384285773910788E-3,1.282149244209355E-3,1.0680082577942329E-3,9.0134495772648698E-4,1.3420345512088483E-3,1.0449520467417047E-3,4.4158082627755789E-4,1.9865684582876502E-3,1.8864959555459824E-3,1.2227223589909979E-2,4.9580985377517595E-2,1.1430293154537885E-2,1.1453589953168109E-2,1.573293822899227E-3,4.4023171679812446E-4,3.9618719107386723E-4,9.8350300403440311E-2,7.8050407759960405E-4,1.0647139842020202E-2,3.4944141581612449E-3,2.2375028879488106E-3,3.490738809510082E-3,2.0478517716796684E-3,2.4605871020748848E-3,4.2827737222268254E-3,7.5888237072608417E-3,5.2616376682625759E-3,0,1.9307370951426182E-2]
[null,"10","プラスチック・ゴム製品",6.2746490234361438E-3,1.7335066756950877E-2,8.1612128137498133E-3,2.3169094838057019E-3,8.6220796106528629E-3,5.5252417672079397E-3,9.6322725345354705E-3,8.2245628580097964E-3,5.3877447700715977E-5,8.0959872768959856E-2,3.4975260311611283E-3,3.3744518871806642E-4,1.4049820858152344E-3,2.4601872846707041E-3,8.5330891942963383E-3,1.0569283473326701E-2,2.9858110078448213E-2,1.1662191598900071E-2,1.5576451630070228E-2,1.5644068463850018E-2,2.035396797149943E-2,2.66774111369419E-2,6.6233350893455901E-3,0,1.8894147605579233E-2,7.3674070422899756E-3,2.381453952134612E-3,1.3487984325306042E-3,3.2016399195002309E-4,1.4115906340868977E-3,1.3981870439650974E-3,1.0893949514964754E-3,1.1894015317344003E-3,1.1655248952354429E-3,3.9218321981661286E-3,5.6889461776160775E-3,1.494071259331108E-3,7.0051939165043239E-4,3.8915191316595864E-3,1.456477561947898E-3,2.4901672050983453E-2,2.0329665245542891E-3,7.3969407900260744E-3,1.3660842336138358E-2,1.5554101061255815E-2,4.6134873672047244E-3,1.827555753861488E-2,1.012279482642511E-2,2.0732654976734852E-2,1.7745521005611577E-2,1.3229256425735444E-4,0.21059559798715047,7.2937880129658296E-3,6.8398908224476197E-4,5.3069411266391869E-3,4.7234532824582355E-3,1.2695213677183362E-2,2.0008948897183618E-2,3.8509650631562121E-2,1.9151748763130295E-2,3.845423810682437E-2,3.9907493366842586E-2,3.5808605075301883E-2,5.548147803339596E-2,1.3272341714943681E-2,0,3.7184126512411979E-2,1.3295679741887161E-2,5.0131637834782573E-3,2.7517394428606761E-3,5.694232731608429E-4,2.7714790999895942E-3,3.9613263032205661E-3,1.8585886203358437E-3,3.7686342526674992E-3,2.0409054195277645E-3,7.6667839321779788E-3,8.7695289032752085E-3,3.0134779628808615E-3,1.2734281789817292E-3,6.8986528546226E-3,2.4401130713283723E-3,4.6397297338257468E-2,3.8570304569403879E-3]
[null,"11","窯業・土石製品",1.0549939585318571E-3,7.556215314137349E-4,1.924045217019256E-5,6.492869225031279E-5,1.2732241987807517E-3,2.0711558010754125E-4,2.5462239728625945E-3,3.1074425501489253E-3,6.2144706903796731E-4,8.9320917801096779E-4,3.0181961372708774E-2,1.5834974470551435E-3,4.1012230591968178E-3,1.5082155898917947E-3,3.9366955847314972E-3,1.4098028712865459E-3,5.7570773596136333E-3,1.3872020035562874E-2,3.6655892516595447E-3,1.1033737648556319E-3,4.3783596939739877E-3,1.3878629412063582E-3,2.1707667132017289E-2,1.7748879640465926E-5,1.8506531912754122E-3,2.1438145043399583E-4,7.842113568621869E-5,3.6692450297770262E-6,2.5806357359912874E-5,1.4520106398912511E-5,3.7803294096390837E-6,7.3850959239913445E-5,8.3367659038618221E-4,3.5093405225272657E-4,1.9463968603673787E-4,3.4167760995178843E-4,7.6688084539777517E-4,7.8795817575131959E-4,5.7220181286216337E-4,2.4658853807650572E-4,2.153534451648528E-3,1.9961275726542785E-3,2.4606147563654562E-3,7.6213396950308666E-4,4.683092130475312E-5,5.0097649374594743E-4,2.7119791320614401E-3,6.1509505616762152E-4,2.9943129752920497E-3,6.3200309833854633E-3,2.910477099551685E-4,2.9539717831052925E-3,7.9726294744414908E-2,4.8334461357651915E-3,8.6514821567879284E-3,3.4300962461997989E-3,6.1177761173691362E-3,4.2445306778522282E-3,1.7800702861440105E-2,3.3594017168154106E-2,8.67544594425727E-3,2.6622031492753756E-3,5.202635894736074E-3,4.453194151465144E-3,5.2129520051606232E-2,4.1968205428553111E-5,4.3329283987098392E-3,4.6984930590390523E-4,1.9650104098258115E-4,9.5341918831615567E-6,6.8935864564496549E-5,2.7993702089479485E-5,1.1214142613461892E-5,1.7285050318123323E-4,1.7606374648293582E-3,7.9606580306720485E-4,4.4650432465601314E-4,6.0231448980471486E-4,1.7987672673140049E-3,1.6316238571186853E-3,1.1243039540545462E-3,5.4069332690200869E-4,4.837937058157024E-3,4.5662402104461493E-3]
[null,"12","鉄鋼",1.7220622791650815E-5,1.2458722694373205E-6,1.1902991596814041E-4,4.7017328870916161E-4,0,4.3889275300286243E-5,2.7444728365581318E-3,5.5774040867725726E-5,0,5.2822860946280862E-4,2.9357935338251407E-3,0.19335676976573593,1.8911081123403791E-4,8.3005451101879416E-2,3.3206089106315985E-2,2.9878479477776665E-2,6.7968831386101764E-3,1.4469241256818719E-3,1.9651700305914125E-2,3.5452306696352417E-3,1.5782242514970204E-2,5.4855779292094318E-4,7.7303752151443609E-3,0,8.4128350987118298E-6,0,0,0,0,6.1725824358837387E-5,0,1.507771757273349E-5,0,8.7856645482987355E-7,1.3227939827739468E-6,4.7345923759151246E-5,6.8020704099839238E-6,8.5365999449712041E-6,7.4346184662924112E-7,1.9416914042471078E-5,8.0750332085740706E-6,1.6875362895483789E-3,3.3253358586043605E-5,9.7946566806400782E-6,2.1846771574057084E-4,2.6353877222055626E-3,0,1.4941697026769045E-4,9.3712212631993988E-3,2.9989246439999125E-5,-3.2369215337091148E-7,1.963310153464137E-3,7.6364096193213748E-3,0.50326099340518582,1.1518656248334608E-3,0.21830732648394938,0.11057605916217256,8.8941785728143569E-2,2.1620545032738869E-2,5.4900262628420149E-3,4.2815959571261338E-2,8.6458846667242309E-3,5.1651790040907468E-2,3.2121051765447938E-3,2.2633814918961132E-2,0,2.4768470242225456E-5,0,0,0,0,2.4203559102572923E-4,0,3.308705314204492E-5,0,2.6154382884762358E-6,4.3926591509087678E-6,1.0462370900087445E-4,2.0651464264627586E-5,2.3722056247945735E-5,3.0578404409814494E-6,4.6443473985587381E-5,2.249554079928378E-5,4.7616374885256279E-3]
[null,"13","非鉄金属",0,0,0,2.929254219338824E-4,6.2501568838194892E-4,1.8809689414408389E-6,1.4127556220104591E-3,6.6707861047779716E-3,9.9009092252464263E-7,1.4255226171524488E-3,4.459224381479345E-3,5.4144760828352054E-3,0.2580865408723228,3.865362371854577E-2,2.1485606244162025E-2,1.0409443813313398E-2,3.3178130541516131E-2,3.0117682991238549E-2,3.4869115129795666E-2,1.2142579073297261E-2,7.3183811741503822E-3,4.6189852373678753E-3,4.348046551371245E-3,1.1711741005660759E-4,1.1789337834275901E-4,2.194455791844052E-6,6.6562892657063895E-6,0,0,6.8515928561111656E-6,3.9268019800125594E-5,1.3201213514423986E-4,2.8133161431245832E-5,6.9989465788532397E-4,1.0821714582884002E-4,2.2081295994707045E-4,3.1387698098028912E-4,1.7495029748778045E-4,0,2.4830240992955481E-4,4.985371692817277E-4,1.9792406433688731E-3,0,0,0,6.8724728993041506E-4,1.4474818760709413E-3,8.0917940808156045E-6,2.5114320378594084E-3,4.7305896354572019E-3,1.1575135673038176E-5,2.3332003214998303E-3,9.6850066094014489E-3,8.2658649811849783E-3,0.40025448653010159,6.4788228187162442E-2,3.7087957853245278E-2,1.9234042228162353E-2,3.6360119905409452E-2,4.546901147145075E-2,6.4148460467916932E-2,4.0401492675111013E-2,2.4266957495230574E-2,1.2478746206453803E-2,8.9608208560723428E-3,2.680718337862939E-4,2.5520930097685472E-4,3.6280818957570362E-6,1.3167591014034836E-5,0,0,1.3118835892967667E-5,6.9213919126816435E-5,2.0050282320596135E-4,9.2469616455252281E-5,1.2256007924438292E-3,2.1815157595645319E-4,3.4022860557099248E-4,6.4373257370539617E-4,3.3126809185980802E-4,0,4.7431340103681625E-4,9.3593494581511484E-4,3.7834343036745512E-3]
[null,"14","金属製品",6.9649190223294475E-4,2.3983041186668419E-4,9.2908556326912878E-4,7.1380514600932954E-3,5.3927846450416393E-3,1.1862644124020223E-3,8.1736276938412667E-3,4.6533968831927374E-3,6.657536378209452E-4,4.3834991542640077E-3,4.02301664272237E-3,2.6587811099366922E-4,8.5313791312369137E-4,3.1558217795737295E-2,1.1823075066414343E-2,1.5467717156496301E-2,1.4590585672057262E-2,9.1136691150416251E-3,1.3191815642147726E-2,1.1632993171986334E-2,2.9827218678184332E-3,4.1539955465876187E-3,4.3326861382715409E-2,2.1822163532717967E-4,3.6004660483270761E-4,7.6805952714541814E-5,1.3757148461640202E-3,5.0898243213600992E-5,1.4093461722695108E-4,6.0831603650180822E-4,2.0927952233362092E-4,2.5763266159663234E-3,8.5552326091123827E-5,1.5828173380537288E-4,1.1285952280648002E-3,5.9425213990509768E-4,4.2495408953095444E-4,1.2911266498240792E-3,8.8999577833584305E-5,2.111531924709024E-3,1.8264956067012779E-4,2.8196545350658245E-3,1.2922983216782675E-3,6.4283811196310314E-4,1.4835790801564636E-3,2.0273484500132423E-2,1.1973539742361001E-2,2.3649462327274824E-3,1.1934739821009174E-2,8.5963461861471389E-3,4.6434925793163988E-4,6.6724077614911193E-3,1.0321547209624329E-2,8.6005826001520622E-4,1.6645844678807062E-3,6.936398164576292E-2,3.5126723823107442E-2,3.1869770173133201E-2,3.825577849514767E-2,2.0201936427740801E-2,2.6819993367482121E-2,2.6378935596480212E-2,9.9918810211395859E-3,1.1173433702058399E-2,9.4608668037224397E-2,4.7419619662403544E-4,7.8767991986247613E-4,1.4942236237070299E-4,2.857638825792699E-3,1.1306171051704091E-4,3.1000474104045465E-4,1.2590896570737131E-3,3.6561908007533343E-4,4.3237956979855791E-3,1.7633543656595316E-4,3.3211777136859323E-4,2.3973692048410741E-3,9.9396044461065266E-4,9.2620033433317916E-4,2.5862741710359952E-3,1.5203322430820107E-4,4.2730981558702398E-3,3.6447735741630113E-4,5.7275090146770187E-3]
[null,"15","はん用機械",0,9.9669781554985637E-6,0,1.3791749802135407E-3,0,0,3.0292928503946378E-3,2.7979484029465855E-5,0,1.9627917633660241E-4,1.1976219834779166E-3,5.5714596787770761E-5,2.4815445818041169E-6,7.0828389311040723E-4,0.12943340188791305,3.2812630599979985E-2,7.7189604420704249E-3,1.632355818981002E-3,8.9722285414194618E-3,2.4331086489631131E-3,2.1896851582131832E-3,6.5021099879870867E-5,5.055251216309742E-3,0,7.9088039580342759E-3,0,3.026460160897199E-6,2.0050519288399049E-8,0,6.5116484413271883E-5,3.4460559087867535E-6,3.1384045201146154E-4,0,9.318129066377447E-8,0,6.2504738179760483E-3,0,0,0,2.8968614491781397E-5,0,0,0,2.9970629166021077E-5,0,2.1919548382648858E-3,0,0,1.05065995483018E-3,2.0513592640057188E-5,0,3.7882125323782822E-4,2.1002321721853043E-3,1.2139885703916619E-4,1.5190271441289663E-5,1.0268750935775064E-3,0.15432869066763391,3.8848992783137581E-2,1.475271922612526E-2,2.1784789276480133E-3,1.3074647022310218E-2,2.151935276623568E-3,7.9721463312152057E-3,5.1942471546997764E-4,6.3509406671129519E-3,0,1.0180438568892482E-2,0,4.2151184108464292E-6,2.7865871667280934E-8,0,8.5509573249709065E-5,5.6953203209686622E-6,3.2646915021311915E-4,0,1.4740970046944386E-7,0,6.481491031783638E-3,0,0,0,3.014932229962733E-5,0,0]
[null,"16","生産用機械",0,4.7966082373336838E-5,0,1.172821147946742E-3,0,0,8.7408035588088697E-5,0,9.1583410333529461E-6,1.1511755030483299E-3,1.2769659457788592E-3,5.8039842128407357E-5,1.0970138461630616E-4,2.8321349220483043E-4,4.7719677586796332E-3,9.5784453378382359E-2,7.2689588349218281E-4,2.1102060746631319E-3,2.5558025728132346E-3,4.7677994199906397E-4,3.3431581408188932E-4,2.1034148157859864E-5,3.75799766481083E-5,3.443394630563579E-6,1.6746089324868278E-4,0,2.1490511388737855E-6,0,0,3.4995828126598572E-5,2.4128469061522772E-6,1.3039986435428419E-5,0,0,0,8.1072323168034869E-3,0,0,2.3742813811708021E-6,2.2886459501082706E-5,0,0,0,1.5124327288503999E-4,0,2.0513535736719026E-3,0,0,9.4896763106721443E-5,0,1.3817646192140165E-5,2.507547001907539E-3,1.2895355275311573E-3,1.4066021301262257E-4,1.2478117522135763E-4,4.8427986990128241E-4,4.7195124858201414E-3,0.14384751678032795,1.8564043740063681E-3,2.9452633990551379E-3,2.2754964874260909E-3,8.8809986494411345E-4,9.0257674620596788E-4,1.2247475371729617E-4,6.9509087940977391E-5,5.3065939284218226E-6,2.4309396498292126E-4,0,3.2753349181236804E-6,0,0,4.3254288117244949E-5,2.8252099423253809E-6,1.5823461543020115E-5,0,0,0,9.4575318131816521E-3,0,0,5.377244945683336E-6,3.1805441035216815E-5,0,0]
[null,"17","業務用機械",5.2123493461441915E-4,1.8688084041559805E-5,1.2392155635039276E-5,0,5.22814836338642E-7,0,0,3.6985438241197433E-8,0,0,0,0,0,1.4067967294389373E-5,2.811351104539987E-3,4.0294839571720364E-3,5.5066332637934978E-2,0,1.3876079924816822E-3,3.6633321231579455E-4,1.8167368707629832E-4,1.2624041960283125E-4,1.5754721205861786E-4,0,7.7136602898324012E-5,2.3069919862975926E-5,8.743224653541586E-4,8.1806118696668121E-6,0,3.7912147137148445E-5,1.2282423961317726E-4,3.200447088661428E-3,0,9.0428482384339905E-3,0,3.4861334596777453E-3,2.7629028263233672E-5,0,3.8349920486755499E-3,2.2516513991339179E-4,2.0002434045724299E-2,0,3.81031891713917E-4,4.0237163837785747E-5,9.2474795544545214E-6,0,2.163083498218681E-7,0,0,7.6166401865359748E-7,0,0,0,0,0,1.8389652886102122E-5,2.6159529664905846E-3,5.5763997202591233E-3,8.5041228929465099E-2,1.2109337519223774E-4,9.1264065682183991E-4,1.2534927021628701E-3,3.918118777093794E-4,1.73717174074735E-4,1.9611126715872947E-4,0,9.7536006811757263E-5,2.7646661400514969E-5,1.0873327862707101E-3,1.1667092143694686E-5,0,2.6056000400320293E-5,1.9754143526790565E-4,3.1734479347546437E-3,0,1.0353085726656044E-2,0,3.5402188230961758E-3,3.7232636004385501E-5,0,3.3485586570345602E-3,3.1361514966533264E-4,2.4650656119113368E-2,0]
[null,"18","電子部品",0,0,1.6305467940841155E-6,1.6791903168184344E-5,6.3619636711087767E-7,2.089965490489821E-7,4.1844272355999906E-6,1.3314757766831074E-6,0,8.2940704135475349E-8,1.0039303538710599E-7,3.1683481546780476E-7,1.7456382575449653E-5,3.7235966989249863E-4,4.2566100845276272E-3,5.770297076326307E-3,3.3927487778893532E-2,8.7642910366730831E-2,4.1650974264265124E-2,8.2924716884571148E-2,1.3261813679896748E-3,5.9165647825115274E-4,8.5767042529468805E-5,1.3997539148632435E-6,5.7980350004635584E-6,0,6.1707094781756237E-6,1.1097962426128875E-5,0,2.3146086122888358E-6,3.2259823912256095E-4,7.756664627343163E-4,2.4872084081733071E-4,1.0216662940635271E-6,0,3.4157036603451618E-3,2.1037331164898734E-7,0,2.3982640213846486E-8,1.5592053687495614E-5,1.0187038918007076E-2,0,0,0,7.434999089675305E-6,2.3309728924293643E-5,1.7565870521383403E-6,8.2811584550435639E-7,1.0070242261183663E-5,5.1889271481123668E-6,5.9054372528112675E-7,5.0015852842706671E-7,3.1271871128738843E-7,1.0808242700727172E-6,1.3508869501678428E-4,2.6563217032441575E-3,7.2944013282005846E-3,9.1397913064626083E-3,0.13340780404430438,0.27333532797714449,0.14336950680676699,0.30836574189723975,1.0917375323055263E-2,7.0953992011850006E-3,3.073726401622247E-4,5.2990686238672178E-6,2.0637721948109505E-5,0,2.4301977634060898E-5,4.4215010790071882E-5,0,5.3395837210467141E-6,1.3759660082128312E-3,2.1684007002700889E-3,1.4886674040059896E-3,4.2036539373366204E-6,0,9.6237108749967389E-3,7.8040967234801928E-7,0,2.1036207289021319E-7,5.2664078209751998E-5,3.550317809560942E-2,0]
[null,"19","電気機械",2.027136249366821E-5,0,7.3439827605548548E-4,4.888309588960331E-4,6.2989739317908687E-7,0,2.0526940272415511E-4,7.0272332658275113E-7,0,8.418481469750746E-6,2.8110049908389684E-5,0,6.6744992200248675E-6,5.3066844829526103E-4,1.1268675144220518E-2,1.6699727469112184E-2,8.8528715485515705E-3,2.4808532891629008E-2,4.5203037269358239E-2,1.4070475948857694E-2,2.1103516135072106E-2,2.6303344394026446E-4,4.4773383687819676E-3,1.6517096195386273E-6,1.0652468226341869E-4,0,1.1945983931357133E-4,1.2631827151691401E-6,8.4870071259291635E-6,1.3525307820765598E-4,1.1344027078925E-4,1.2595790904362395E-3,3.4796077476803052E-4,4.4054783064537369E-5,0,4.0425216996360404E-3,5.1541461354001897E-5,2.4337037329806083E-5,3.9437053567649162E-4,4.531309972451809E-5,0,6.597468811229577E-4,4.1519338512949666E-5,0,1.5121320294502038E-3,3.2497220826324528E-4,3.5779305662359312E-7,0,1.3836637243430953E-4,2.8973815776507305E-6,0,2.1691046712864374E-5,4.1272216300333412E-5,0,2.1845221421969825E-5,7.9891938156482654E-4,2.3154829675692538E-2,2.2418170447007953E-2,1.90507250588943E-2,1.9662268384048408E-2,0.11468967794479965,1.8568691925842103E-2,3.1011123291191361E-2,1.3137029609833195E-3,7.910171897827209E-3,3.1041881287742872E-6,1.8216943252532852E-4,0,2.1573134153880921E-4,2.4960274006973827E-6,1.2067536474123868E-5,2.0001621320402203E-4,2.3849394382107974E-4,1.8128654025324135E-3,4.5436812112800977E-4,7.1509808308403835E-5,0,5.5650955465473585E-3,9.6235661310115748E-5,4.2114918822342928E-5,7.2349372306086614E-4,7.4633152533488148E-5,0,1.1478420305228686E-3]
[null,"20","情報通信機器",3.9338485631276923E-6,2.3048636984590427E-5,2.0544889605459852E-5,7.4630680747485973E-6,9.6248321677764464E-6,3.7619378828816778E-6,4.4633890513066569E-6,1.5496898623061724E-5,2.6402424600657141E-6,1.9408124767701231E-5,7.8975854504523393E-6,4.0812620297547737E-7,9.4127553102914795E-7,3.0902438617382516E-5,1.1238755639285502E-3,7.0075166726509656E-5,1.7426912497148763E-5,3.9167453099539665E-5,2.624334997897608E-5,1.5832155963904696E-2,7.322232980478318E-3,1.5420304561674289E-5,9.0342324215333914E-4,7.3627055921806601E-6,5.1727567160998414E-6,1.0916010861993488E-5,1.5590957356272482E-4,6.9234443102841916E-5,4.1680551581741464E-5,5.718444806831242E-5,1.0151582335884504E-4,1.1160123479639842E-3,4.4317531636542558E-5,1.3235071177493966E-5,3.7857103983197236E-5,7.8893761169699435E-4,6.100826037820633E-6,9.2238916977292675E-5,1.8658494086372566E-4,1.1850796837546935E-5,0,0,4.5035675632475798E-6,8.8330458554834894E-5,4.7718015616740133E-5,1.2933611346708384E-5,1.8740465673812337E-5,7.532179959962832E-6,6.4871749275791898E-6,3.2864782969313708E-5,2.9533169483157466E-6,8.0839231976244538E-6,1.2892993251002914E-5,8.4574302905109136E-7,3.0806330794191234E-6,5.2719227714177492E-5,7.3705823651230417E-4,2.4318819051099151E-4,3.3299998099448631E-5,5.9139782347882696E-5,4.5983572451710163E-5,2.5961737423344164E-2,5.7890696113665997E-3,3.9551752061562129E-5,1.6877211457727915E-3,1.4877527104452767E-5,1.1502017133643641E-5,2.0803260718494839E-5,3.1133027527960007E-4,1.4791407869640293E-4,6.6381635750416856E-5,1.0583628773958922E-4,2.4362128396834964E-4,1.6678112323815089E-3,1.2269439609538952E-4,2.6523526504425337E-5,7.5934262903322764E-5,1.3674382253693323E-3,1.2632501501487938E-5,1.699872161912592E-4,2.9576148409956639E-4,2.6795619662309414E-5,0,0]
[null,"21","輸送機械",0,0,3.1227906090940161E-2,2.2389204224245789E-5,0,0,0,0,0,0,0,0,0,0,0,4.9043787414135103E-4,0,0,0,0,0.40332733458990572,0,0,0,0,0,0,0,0,1.4549221276504279E-2,0,4.8327518360256113E-3,4.5183755307506885E-5,0,0,2.1840809062612491E-2,0,0,8.4418893552739627E-6,9.6060427275777271E-5,0,0,0,0,4.413068918471974E-2,3.5865805476512423E-5,0,0,0,0,0,0,0,0,0,0,0,4.9312792523378195E-4,0,0,0,0,0.43158070862877734,0,0,0,0,0,0,0,0,1.426027095079562E-2,0,5.2703121927581489E-3,6.5812357239177191E-5,0,0,2.3085519143609238E-2,0,0,1.5680649154976151E-5,1.0568309824165336E-4,0,0]
[null,"22","その他の製造工業製品",5.8237015259037309E-4,9.2194547938361706E-3,3.7046023161591097E-3,2.7053621770963664E-3,4.8449376862980597E-3,1.0373543712046226E-2,6.1606857253379155E-3,2.2074758814258685E-3,1.0334486541735343E-2,1.1525647598425992E-3,6.8714013070704698E-3,4.3318300380552448E-3,1.8099872756662305E-2,1.2537855119420119E-3,8.2413933490254818E-4,1.4088905108629751E-3,3.4563376452678382E-3,3.4009733386890276E-3,1.8753030046954398E-3,3.7978365563365798E-3,1.1602803828981514E-3,2.5597279204511259E-2,1.899423388771578E-3,5.5016907697525326E-3,2.1362916802688376E-3,2.4822108410617561E-3,3.4295538849164271E-3,8.8803248665337182E-3,5.0246385399242725E-5,1.5598134262074358E-3,1.3916152269383406E-2,5.786999681397377E-3,9.0126878774653245E-3,2.4680329435531104E-3,2.5483374117381462E-2,6.1457637270590348E-3,1.786139540337119E-3,1.6783828243245461E-3,9.0777171126234617E-3,6.8788127900989366E-3,9.0850852790798783E-2,1.0110759749888385E-3,1.3774012965854993E-3,6.0780946087059529E-3,6.8025455190428392E-3,4.1827567023173589E-3,8.3436976209415922E-3,1.5994690132503962E-2,1.4230163841930061E-2,3.5805013609275789E-3,1.1552327641824683E-3,2.0492308777084836E-3,9.5162033778048785E-3,7.8817587165144441E-3,3.1984908281198578E-2,2.889182141609875E-3,1.3339750809658651E-3,3.0331573597423057E-3,6.8435640055356508E-3,5.3429330373924479E-3,3.9864230835942732E-3,7.4855534524114892E-3,1.6425215753032038E-3,5.1398647653259771E-2,3.4259880372516168E-3,8.9080370411928778E-3,3.5909109833972227E-3,3.819642079772334E-3,6.0588134157789197E-3,1.5739835583694049E-2,6.9810890034736013E-5,2.2906609356300356E-3,2.3188757088663105E-2,8.6999506705715338E-3,1.7295617331365296E-2,4.1169663493541451E-3,4.6815411981393697E-2,9.7893717808095939E-3,3.1059413062682769E-3,2.625818995675727E-3,1.2403356614006348E-2,1.0704122341426871E-2,0.14460175428516847,1.6385774460466701E-3]
[null,"23","建設",0,0,0,0,0,0,0,0,0,0,0,0,0,0,0,0,0,0,0,0,0,0,0,0,0,0,0,0,0,0,0,0,0,0,0,0,0,0,0,0,0,0,2.6496200736403799E-3,1.2754096892544416E-3,7.483119169620499E-4,3.0849342341086198E-3,4.7016510831306629E-4,2.254990536981743E-3,3.5043207822215931E-3,3.0835370697203037E-3,3.3626349502428708E-4,2.9757664129453458E-3,5.3125087156825667E-3,3.9284638113451361E-3,2.9964237382836831E-3,3.6619792489380951E-3,1.6592109600193721E-3,1.6090557095583327E-3,1.2123441409197875E-3,3.1755932405790758E-3,1.6910350466669039E-3,1.5660283091524798E-3,6.2028229986456536E-4,1.3903002113659145E-3,6.2555783154859225E-4,1.4525634665885011E-2,2.9359711152264958E-2,2.8417279542270685E-3,2.9086671421357899E-3,2.4545600809615033E-3,8.9742617352359753E-3,6.5316396710061071E-3,3.4039987063095925E-3,8.1758209357476134E-3,5.2511637547630356E-3,2.2451935864812862E-3,1.656472467884279E-3,1.1906014791690997E-3,1.7546001339353266E-3,1.2517466240424668E-3,4.2268539259092399E-3,2.6339378439282591E-3,0,0]
[null,"24","電力・ガス・熱供給",2.2267188519777483E-3,3.5295561393159287E-3,1.3481360893487467E-3,7.9153300000783626E-3,2.2009685743245699E-3,5.6506396966373293E-3,4.0564302558265828E-3,8.1504070543361954E-3,2.1391739456913675E-3,7.1442219617653723E-3,1.6112981786595128E-2,7.8829898309610534E-3,7.3438316930894126E-3,4.6318046544428981E-3,2.2550957091718978E-3,2.0508685082612768E-3,2.1764277385328012E-3,5.695951598554197E-3,1.9991730786212756E-3,1.4303398259971917E-3,1.8828817924654061E-3,4.2745865919385914E-3,6.2490290665829877E-4,1.6169789254030405E-2,8.1891560033508087E-3,1.537553890770119E-2,3.9647998308143867E-3,9.2288530180643143E-4,9.7225216750223024E-4,2.3721312479532517E-3,1.3276067136851314E-3,2.54587261215605E-3,4.9487103550524079E-3,2.4836308260295786E-3,8.3386413066483369E-4,1.1077730225086404E-3,1.0576167620966756E-2,7.352912632899701E-3,7.3666276812861566E-3,6.3793654510689163E-3,0,9.0738328934249711E-4,9.7456059576472732E-3,7.2902088798536017E-3,6.9366371635691641E-3,3.778353609001852E-2,1.3390291684286558E-2,3.0737693056696894E-2,4.3013328788988496E-2,2.8725157596222496E-2,7.6366069094832845E-3,3.2365956820744529E-2,5.3272234617665587E-2,4.3299488982713755E-2,3.5580421365010911E-2,2.3285438423122088E-2,1.3565653834928847E-2,1.075582526155436E-2,9.7416293103971836E-3,2.8250977067232588E-2,9.1619589049492158E-3,5.553456743899305E-3,1.2410602236292295E-2,1.7753593569330189E-2,3.2526208517932712E-3,8.6372312642618965E-2,4.2316994342680471E-2,7.3685570694953795E-2,2.2680984049822633E-2,5.0149837694649932E-3,3.9941775180009059E-3,1.2700015838672722E-2,5.6981749127633253E-3,1.1983125057054411E-2,1.9136895053506978E-2,1.2561032350292239E-2,4.6335252445629943E-3,5.3700576350937329E-3,5.6745547422276846E-2,3.6171897523083356E-2,3.2521724901811953E-2,2.9212645758434942E-2,0,4.538141107980286E-3]
[null,"25","水道",3.1029234074466391E-5,2.2425700849871769E-5,1.3370483711489744E-5,1.3582783896042447E-4,9.3161824451186952E-5,5.8310037184666007E-5,4.3378562342386575E-5,1.583161683914456E-4,1.0948755451585007E-4,3.8671103303165375E-5,6.2879504497457392E-5,5.163333475801599E-5,4.6550353534532412E-5,3.5787967008321082E-5,3.5253990311028327E-5,2.6105280506683773E-5,3.3304766105662082E-5,5.5984909575394392E-5,3.2164551506265948E-5,2.405770349536561E-5,2.2354460157345973E-5,4.782426253459354E-5,3.8947984363349931E-5,4.0452888139547737E-5,4.5358255182548005E-3,5.3432185126541323E-4,1.1251508680774767E-4,6.4843379378682538E-5,2.7183947636434767E-5,1.9598630001169779E-4,1.3837707395283387E-4,2.3439133030642427E-4,5.5316024541110205E-4,2.7911457247362245E-4,1.1508307650133337E-4,4.2032818421049017E-5,6.1162534140082252E-4,5.3323294267554951E-4,3.2254252823602143E-4,5.4578458169111661E-4,0,7.8535787567056146E-5,6.4525127914476991E-4,2.0345593493001457E-4,1.7898882787041509E-4,2.5639483962547234E-3,1.8406254308608947E-3,1.6205887936447012E-3,1.9883612840697865E-3,2.4060897173280743E-3,4.6853092976141677E-4,9.4040531596747403E-4,1.2397034682080318E-3,9.5849450701735188E-4,7.7908715743909651E-4,6.6764732005194908E-4,6.1555331156786311E-4,5.6593021326728239E-4,6.3927650268106196E-4,1.7270538509669086E-3,5.7950486208573819E-4,2.5238303994489528E-4,3.7552676420897426E-4,8.0190583909338961E-4,7.3859954557323063E-4,7.6637325318862804E-4,9.0032801185164546E-2,9.0152458605469461E-3,2.2593595354647084E-3,1.2444846038098289E-3,3.9642241021930786E-4,3.6009144129949162E-3,1.7505769696755699E-3,3.982610397802339E-3,8.8128936963636009E-3,4.7489187031621565E-3,2.2569492078390353E-3,7.2805617481312441E-4,1.1552063837365251E-2,9.206286023974693E-3,4.5700271176121647E-3,9.1324482459826696E-3,0,1.3829709660454171E-3]
[null,"26","廃棄物処理",1.485228539140047E-6,1.2458722694373205E-6,0,8.9556816896983164E-6,2.7652495560561909E-6,8.3598619619592838E-7,1.5807836223377744E-6,9.3758085941435489E-6,7.4256819189348202E-7,7.4646633721927813E-7,9.8050531228073532E-6,5.0478767210124827E-7,3.4228201128332649E-7,3.8260162097711688E-7,1.1596707339154056E-6,1.4715490702752974E-7,7.7452944431772284E-7,2.784589743278779E-6,1.3158225616199705E-6,1.0935319770620732E-6,7.7544615842940246E-7,1.7765327836030289E-6,7.8761032428985008E-6,3.7499407379186294E-5,7.7307133339514106E-6,0,5.475993841559825E-6,1.2812281825286991E-5,6.3812083653602742E-8,1.9931107936559277E-5,2.1162551453960273E-5,1.1586703459482275E-4,2.7107705467824826E-5,1.6070444736263103E-5,1.2598037931180447E-7,1.5180300966006381E-6,1.9424469108923165E-4,7.1629255555301504E-5,5.2497999428109962E-5,6.5461544435973547E-5,0,6.3615144568307636E-5,4.615424385530757E-4,1.6264486542734758E-4,4.1189256759454438E-5,2.3002707886581289E-3,7.9347861397505365E-4,2.2986573964119215E-4,7.5927973974425345E-4,2.2732736438650062E-3,1.0876894003936782E-5,7.011393903529963E-5,2.3866974823011562E-3,1.3657160471719135E-4,1.7172601864377964E-4,8.3334722640212195E-5,2.7546925089710678E-4,2.4308981069217535E-5,4.9622987736345852E-4,7.4567335299843558E-4,2.3252408781966022E-4,1.8158669764686944E-4,3.7146501080356049E-4,3.3466779425282017E-4,1.8978255161164099E-3,1.0203591382951184E-2,1.9766557431144896E-3,0,1.3257993980990937E-3,3.1389522750388471E-3,1.2603697761525357E-5,4.9578758311647469E-3,3.5010128236941411E-3,2.7262325253342941E-2,4.6727892126216478E-3,3.627655797384428E-3,3.5230202907714753E-5,2.9103788551311136E-4,4.6922038306171601E-2,1.577771028230213E-2,1.1329240279444848E-2,1.3193163479495876E-2,0,1.4326630816509785E-2]
[null,"27","商業",2.7655999072896259E-2,2.1083273479553053E-2,2.7041314142449785E-2,7.7944282972674346E-3,2.2169219856016165E-2,2.7910444142746314E-2,3.1268876416196148E-2,1.5480662015673836E-2,8.7900272101737766E-3,2.2807014087996978E-2,1.2199326623754444E-2,8.1793861157903758E-3,1.5260900184575576E-2,1.7503818143445649E-2,1.5527991127127281E-2,1.4900905885607661E-2,1.8851659409971213E-2,1.5978818651724361E-2,1.8488842117082478E-2,1.4268405236705931E-2,1.0523185736850153E-2,2.4110285733979851E-2,2.0104990769770299E-2,6.7369036119236019E-3,6.6513124846984449E-3,5.8594783047097518E-3,3.9321025225470922E-3,1.8581417740138051E-3,5.2051516636243754E-4,1.0360192540651533E-2,4.2151523795477949E-3,4.0669008181468116E-3,5.9241482707669216E-3,1.9196234426902083E-2,1.3565819205053727E-2,8.081410700384194E-3,1.8595177514402855E-2,4.7642318826007501E-2,8.4307853928549514E-3,1.255375600868841E-2,8.8041318022301321E-2,3.8369763606122789E-3,6.7535663228623463E-2,2.3698796758310433E-2,5.8658734843706498E-2,2.0105578944918611E-2,7.0429178362786782E-2,7.1626353836569706E-2,7.5884891976994287E-2,3.7381341738772E-2,1.0215373743746639E-2,5.5008846646456486E-2,3.5458555889044001E-2,2.2069666305369041E-2,3.7159030047312053E-2,4.3176936066740196E-2,4.2198377255717082E-2,3.8917615456508334E-2,4.6326809918182985E-2,4.0244406252739E-2,4.9115582327616543E-2,4.1356577830710194E-2,3.8322967707690551E-2,6.8513895907280381E-2,5.4230299176349098E-2,1.7341879139979147E-2,1.7400782910221471E-2,1.433779228972905E-2,1.0566033881969365E-2,5.1935654010092248E-3,1.2102729665437893E-3,2.643894718285594E-2,1.182349760811258E-2,9.5869111467839288E-3,1.8552491608448324E-2,4.8960492232850185E-2,3.7342849635050766E-2,1.7953924164353152E-2,5.1033591191770214E-2,0.12015552702486826,1.9928606517290486E-2,3.0014829203952337E-2,0.22116187335580181,9.8144826504137136E-3]
[null,"28","金融・保険",6.538618290284385E-4,9.7551798696942195E-4,1.1195334288181535E-3,4.3278331765467118E-3,7.034190169109499E-4,1.9823322677295953E-3,1.3494312898450461E-3,7.7299565924102631E-4,6.1963190234667215E-4,5.6053401372357621E-4,1.1963168740178841E-3,4.517903366122353E-4,8.5861442530422462E-4,1.337163234421102E-3,7.385556347395913E-4,7.7123886773128336E-4,1.6474241280637963E-3,5.7443155256743021E-4,6.8700557967247135E-4,1.253187645713136E-3,4.3658572136983265E-4,1.4738471279327448E-3,1.3463157399628168E-3,1.7528838325049426E-3,2.6119579242284362E-3,3.3460949377843645E-3,1.8476142645322238E-3,4.6112785775038788E-3,8.2547536633419284E-3,2.6375118858665879E-3,7.1151634081422443E-4,2.6051384921201609E-3,1.1031294756813723E-3,9.0006470974730141E-4,2.5281112618396363E-3,1.1100274104879205E-3,2.0789090657152929E-3,6.488725074253192E-4,1.0968460501802691E-3,4.4138470478891745E-4,0,3.2038900082584024E-4,5.5629478544420678E-3,8.3691897902080196E-3,9.9664854492536627E-3,4.0507400918093989E-2,5.7155966089636563E-3,1.8171911264690831E-2,9.4806078960819832E-3,6.4925176646269712E-3,3.3598701046962404E-3,3.9618874022182213E-3,1.0784918160074417E-2,4.2616029716287659E-3,8.0612618583803392E-3,1.1369489979854199E-2,6.695753470593758E-3,6.9680286975764656E-3,1.0828923248865356E-2,6.251091883065928E-3,6.0491065286230241E-3,6.2653835871575719E-3,4.3823910719416872E-3,1.4630328765245381E-2,1.254912154935695E-2,1.6424518594279413E-2,2.3667029666757339E-2,2.6923928012928332E-2,1.7151597040482882E-2,4.6309047157983549E-2,7.6154199748987683E-2,2.2781870141923913E-2,5.5660815535762184E-3,2.0985722574583535E-2,7.2814566547369152E-3,8.7324435050611954E-3,2.5909338248543402E-2,8.7168298872674858E-3,1.9886707380564948E-2,5.6690002692172713E-3,8.8050873330452854E-3,3.9128438166351441E-3,0,2.8563143623426272E-3]
[null,"29","不動産",3.5003223949462731E-5,1.9311020176278466E-5,8.1527339704205765E-6,4.4032101641016717E-5,2.00055412073678E-5,3.761937882881678E-5,2.9383977921102159E-5,2.1839901281427083E-5,7.3431743420577665E-6,2.6188527330776343E-5,2.760808473145415E-5,1.071331282810628E-5,9.755037321574805E-6,4.0761788081023601E-5,3.1311109815715947E-5,3.043163477329315E-5,1.626511833067218E-5,1.3813030700211838E-5,2.3904109869429466E-5,2.077710756417939E-5,8.6093591933821777E-6,3.1977590104854523E-5,4.2921242065706141E-5,4.9887229525726E-5,1.1709756961720519E-5,1.8737276376514597E-5,2.5853037123444957E-4,1.3277453872777851E-4,3.3733319610482182E-4,2.1029119612218117E-4,1.9151440518832343E-4,1.8369437102226298E-5,4.8221907447580292E-5,1.5555285315021949E-4,1.6402645386396939E-4,8.5111642654929807E-5,9.4738114679260635E-5,9.9648212989168652E-5,7.5017698588911806E-5,2.5216907203704371E-4,0,3.0118879355613284E-4,2.0139696349730277E-3,9.6604902896500614E-4,6.9405876051455661E-4,8.3884455987645219E-3,2.2989131701239311E-3,3.724780283060284E-3,2.3501820813273139E-3,2.4051299915378399E-3,3.6001328492429624E-4,3.1641449076897691E-3,3.235750407612622E-3,1.2207509825186127E-3,9.8127772576963842E-4,4.0697383684456211E-3,2.6629914094870831E-3,2.5225599895387419E-3,1.9096898962468053E-3,1.6141659151190193E-3,2.5687839483521514E-3,2.4576913972367584E-3,7.6639897254697628E-4,2.9866190407974056E-3,4.5395892218703113E-3,5.6500358680472316E-3,1.3880756025251922E-3,1.8295036889803297E-3,2.7845755979698746E-2,1.5300364953515834E-2,2.9641812063434414E-2,1.915702308396159E-2,2.3223743632790689E-2,1.5868795691329209E-3,7.9070536452206658E-3,1.6094104850191738E-2,1.8388876437170656E-2,7.6851884949845585E-3,1.0629220278142223E-2,9.9829371866808209E-3,7.5783543989425169E-3,2.4372973377565405E-2,0,3.1484333041332156E-2]
[null,"30","運輸・郵便",5.7954019010363319E-3,6.4361761439131974E-3,4.88511819507601E-3,2.729990301743037E-2,3.0789951486247624E-3,2.5656416361253044E-3,4.1438847850506222E-3,2.6753231824578954E-3,4.05755761565974E-3,1.8549066424618046E-3,6.2489644876704128E-3,1.9601603418301825E-3,2.5015680794641918E-3,3.086682723573772E-3,2.1876028724580211E-3,1.9517155319061269E-3,2.5137353115331691E-3,1.8378292305639941E-3,2.0051308307752771E-3,1.930083939514559E-3,1.8905758709471996E-3,1.2159407576059588E-2,4.394624196411144E-3,3.8567839542401404E-3,2.0167498409945743E-3,6.621573413549132E-3,5.5444028989536402E-3,3.3971294072545188E-3,3.3311784493170443E-4,1.1763196723434779E-2,2.8050955874524331E-3,3.9836748028319715E-3,2.8589393795592703E-3,1.588055457750328E-3,3.6739658018701536E-3,1.7797279119106321E-3,1.0535004576320771E-2,2.700556574497903E-3,4.1112960465792756E-3,4.1365133208390676E-3,5.217240503520619E-3,9.6074482924538556E-3,5.7716694624085643E-2,5.734430969153604E-2,4.2227488967099554E-2,0.20342782838442255,3.2549599433191585E-2,2.5747789173757224E-2,3.9143767705877158E-2,2.4928498025672201E-2,1.9348431616174319E-2,1.9015114979398333E-2,5.8724232512556339E-2,2.0312772718400166E-2,3.0544021274297371E-2,2.8375981079843487E-2,2.0745198374271946E-2,1.8595213180207081E-2,2.3481593551096372E-2,1.8992532477934539E-2,2.0671313188733581E-2,2.1086701109125441E-2,1.5458756997563255E-2,8.9543246035374516E-2,4.3401347811647673E-2,3.8213692186199223E-2,1.9520554778582017E-2,6.1051816926056171E-2,5.3118963497380524E-2,3.52915238671365E-2,2.5896811820447017E-3,0.11961617820614845,2.6986170728102249E-2,3.4062030304707287E-2,2.5989071878253559E-2,1.5209263567964402E-2,3.7874017374785317E-2,1.5605303071680239E-2,0.10656334142605324,2.5843208767765736E-2,3.5464316204045283E-2,3.5409441513505897E-2,5.0160400999629554E-2,9.349242618460249E-2]
[null,"31","情報通信",5.5736211529620416E-4,1.6570101183516363E-4,7.13201167732392E-4,1.0605019734217756E-3,5.6903670705012351E-4,7.7767615901126242E-4,9.0211601835940688E-4,1.616060231230001E-3,1.3044447904262169E-4,9.796126565440994E-4,8.1756741584746231E-4,3.3201603620216889E-4,4.9245824373388603E-4,8.9764226460015877E-4,9.7883941080686336E-4,1.3164183672868756E-3,1.2264673750771141E-3,1.1917677707845901E-3,1.7631656819440489E-3,3.2084228207001227E-3,3.7237305894743071E-4,9.3790271777538319E-4,1.0954925312612897E-3,1.4047090437218593E-3,5.2384109359580313E-3,1.3639386767769184E-3,4.7597275970469302E-3,7.1913092227175587E-3,5.7195521309120058E-4,1.6265286156204671E-3,2.7642072528281755E-2,4.487524353126356E-3,2.8906775600917355E-3,1.6889974187650999E-3,8.8621527728785406E-3,9.6874374520621587E-3,3.2321054357378255E-3,2.2439348434690762E-3,5.0222526524620198E-3,2.4225369634086687E-3,0,1.0283619447265359E-2,3.7166609215420832E-3,1.5143712546517765E-3,5.1396840402364533E-3,8.0290811885774492E-3,4.5984665585461397E-3,5.5804578814741363E-3,6.2248502706357374E-3,1.2386424935886167E-2,7.1323441952499437E-4,6.2412407749283111E-3,6.3736631069247034E-3,2.6149754377523828E-3,3.5382480620349509E-3,6.1910281290803136E-3,6.7879124946982642E-3,1.0507895285987385E-2,7.7695662581608559E-3,9.2021352047539588E-3,1.2535005694378014E-2,1.9170085421087758E-2,2.8565987181207722E-3,6.8569951827377696E-3,8.8025021997874629E-3,1.1122603314928177E-2,3.926635090860546E-2,9.6463479545598179E-3,3.7291654338852467E-2,5.7637678682790461E-2,3.3877022329480439E-3,1.0186088165929773E-2,0.16736261322181442,3.0172243711022881E-2,2.9184621483272541E-2,1.2564388862978245E-2,6.9545298135557002E-2,7.6217331397958665E-2,2.5371041420585928E-2,1.638827265230652E-2,3.2313767896332411E-2,1.6926536934745114E-2,0,7.5234520538295699E-2]
[null,"32","公務",0,0,0,0,0,0,0,0,0,0,0,0,0,0,0,0,0,0,0,0,0,0,0,0,0,0,0,0,0,0,0,0,0,0,0,0,0,0,0,0,0,0,0,0,0,0,0,0,0,0,0,0,0,0,0,0,0,0,0,0,0,0,0,0,0,0,0,0,0,0,0,0,0,0,0,0,0,0,0,0,0,0,0,0.24676251260709672]
[null,"33","教育・研究",9.2325017297894817E-7,6.2293613471866023E-7,0,1.0821448708385466E-5,2.695960842806492E-6,2.089965490489821E-7,2.3711754335066616E-6,4.5492089036672835E-6,8.2507576877053566E-8,1.1611698578966549E-6,7.362155928387774E-6,8.1625240595095474E-7,2.5671150846249486E-7,5.7978861024993858E-6,1.1519395956893029E-5,6.2099370765617546E-6,5.0344413880651981E-6,1.4802292845850351E-5,1.7105693301059618E-5,1.6402979655931097E-5,2.1165866455491068E-6,4.9742917940884815E-7,2.132482614935482E-6,7.1667400440998071E-6,1.3074000491241357E-6,2.0819195973905107E-6,2.7500162224514661E-6,2.8772495178852639E-6,1.8768259898118453E-8,1.4647475753288936E-5,6.0138841653342018E-5,2.3213713688713443E-6,1.9107875094801332E-8,1.2912264563408747E-6,0,6.9670784284283021E-6,2.9452263630858229E-6,6.2183539535253491E-6,2.7100383441646527E-6,9.5307995730536192E-6,0,2.1976140850869908E-6,3.7145643995216377E-5,1.4010950298634363E-4,1.2700127200389577E-6,2.8583037505390373E-4,2.7015797340255386E-4,2.1807992709595949E-5,1.5607810636987079E-4,3.1032602356947312E-4,6.8376227887666839E-6,1.2306711341329544E-4,3.7667467793786071E-4,6.0686281238157005E-5,1.6802511614717452E-5,3.8878686585247637E-4,6.2452301898677275E-4,3.9292410791349542E-4,3.166306080749337E-4,1.1227578881088873E-3,1.0885022975395189E-3,1.4920028532513882E-3,1.8983408179603809E-4,4.8785918552205416E-5,1.5606489442906047E-4,5.5490968676939463E-4,1.0602635372099282E-4,1.4460467602604547E-4,2.0995597665810571E-4,2.2076562666705399E-4,1.1203657009142213E-6,1.2051907152849197E-3,4.0983967826620079E-3,1.2758588737212944E-4,1.0940269316151437E-6,9.2021434570784393E-5,0,5.1710111534762312E-4,2.270525927767437E-4,4.2397632962536358E-4,2.2178343223945346E-4,6.951444363429987E-4,0,1.5697754629283436E-4]
[null,"34","医療・福祉",8.9916538585775832E-6,0,0,0,0,0,0,1.6643447208538842E-7,0,0,0,2.6850408090491934E-8,0,0,0,0,0,0,0,0,0,1.7765327836030289E-7,1.0058880259129632E-8,1.8196800893222165E-7,2.8421740198350775E-6,0,2.6442463677417945E-7,1.6240920623603232E-6,9.0087647510968571E-8,1.4190702896214858E-5,8.0407971205024251E-6,3.4335396452759437E-7,2.1018662604281468E-7,1.8235245792576864E-4,1.2598037931180447E-7,4.1538136971659262E-7,7.0124437216329115E-8,1.1091216115937026E-6,1.1271840900507848E-6,5.0162103016071682E-7,0,2.6660528769081657E-5,4.6194182258025874E-4,0,0,0,0,0,3.123896317719355E-6,1.6331358136102182E-5,0,1.0099354900931154E-6,0,1.831200451764451E-6,0,0,0,0,0,0,0,0,0,1.127503233642582E-5,1.2690261282712322E-6,2.7561009858763114E-5,2.9487135010999795E-4,0,2.6017066082327465E-5,1.607759200878323E-4,6.6286702533221039E-6,1.137912756871359E-3,5.5706398789775243E-4,2.7433826513518721E-5,2.4373029770621202E-5,1.5771593638935356E-2,1.3341795321966376E-5,4.0672057949476089E-5,3.9405620858299987E-6,9.9258027720270771E-5,9.6087756325223455E-5,5.1413488799001407E-5,0,2.4366397429138979E-3]
[null,"35","他に分類されない会員制団体",0,0,0,0,0,0,0,0,0,0,0,0,0,0,0,0,0,0,0,0,0,0,0,0,0,0,0,0,0,0,0,0,0,0,0,0,0,0,0,0,0,0,1.1545420799501612E-4,1.2086453302399223E-4,7.9103093276167193E-3,2.930181503993155E-3,9.107552874430035E-4,6.7375561716913302E-4,9.9926091356222334E-4,1.7357157915870892E-3,1.5414746866803701E-4,5.5846695048073576E-4,9.424610063345683E-4,6.7860065914087731E-4,3.6404175975934372E-4,8.2414757419968965E-4,2.1676379861015793E-3,1.7814843681495031E-3,1.4453568863319367E-3,7.0636068067888441E-4,6.1488809499521554E-4,7.8946412083227813E-4,2.1495836716640059E-4,7.952556637421754E-4,1.0992338988501877E-3,1.4883233793740009E-3,9.1624734365136594E-3,1.9254129017555639E-3,5.7331271865788502E-4,2.9527493275936139E-3,3.2284019884234062E-4,1.231795332928021E-3,1.2945689660887889E-3,2.7893730614586403E-6,2.0576435732642577E-3,9.8599406643686514E-4,0,1.9989589428065914E-3,1.490882475824996E-3,1.5256194739230405E-3,7.8187928265531208E-3,2.0897606137672566E-3,0,4.8147937073231466E-3]
[null,"36","対事業所サービス",2.1892268666924295E-3,2.767082310420289E-3,1.4691226614697878E-3,4.3326841707952979E-3,3.8073832982013314E-3,3.7343503384072124E-3,3.0711836163865884E-3,4.4675080705924792E-3,1.3709458973891219E-3,4.2640438051328887E-3,5.5179693326717653E-3,1.0567783616255814E-3,1.7288664389920822E-3,3.2862830461481418E-3,5.3476283109952409E-3,4.199889339509915E-3,3.6650733305114641E-3,5.2015770011060317E-3,4.706953157301616E-3,4.0810613383956574E-3,2.8162774348044037E-3,4.8164646215931878E-3,1.0014208771898837E-2,6.1103037719350715E-3,1.4642937393670718E-2,7.0519680892367001E-3,8.7475203519590001E-3,1.1723147642800802E-2,3.6729071718900053E-3,1.3548019094264927E-2,1.7080980843053085E-2,1.0944332977150868E-2,7.2309422177920819E-3,5.2598309373239806E-3,8.1107428004732821E-3,1.4897607510554349E-2,2.6366788393339747E-3,3.5835992005415055E-3,5.7481112411742986E-3,4.6348320125512276E-3,0,4.4344960639575099E-3,2.0148675166673916E-2,2.2813081768969578E-2,1.1564084867381058E-2,4.9414554967403705E-2,3.3815817360885569E-2,3.2751614266284611E-2,2.1909057934586751E-2,4.7610851773008049E-2,4.7514065173462159E-3,3.7553376894107655E-2,5.2735356472691557E-2,1.0939273609349633E-2,1.5407608551492192E-2,2.8727964949832253E-2,3.9067216493499167E-2,3.3549188840062215E-2,3.3221309369331348E-2,4.4694253783001771E-2,3.8572857153996817E-2,3.56946456332548E-2,2.74120012054457E-2,3.8911013470865091E-2,9.2345127815105149E-2,6.3455832959737848E-2,0.13364197826886326,6.1498242454679775E-2,8.4641184476464751E-2,0.1151416325306836,2.7191743437178971E-2,0.11377537299326712,0.16350664796501557,9.0738771322620301E-2,7.0364049995191802E-2,4.662625064507344E-2,7.7283909182630936E-2,0.13742405698812454,2.5350819688400618E-2,3.1605716011181548E-2,4.8526366347937652E-2,4.0521850195351025E-2,0,3.9736995852191065E-2]
[null,"37","宿泊業",0,0,0,0,0,0,0,0,0,0,0,0,0,0,0,0,0,0,0,0,0,0,0,0,0,0,0,0,0,0,0,0,0,0,0,0,0,0,0,0,0,0,0,0,0,0,0,0,0,0,0,0,0,0,0,0,0,0,0,0,0,0,0,0,0,0,0,0,0,0,0,0,0,0,0,0,0,0,0,0,0,0,0,0]
[null,"38","飲食サービス",0,0,0,0,0,0,0,0,0,0,0,0,0,0,0,0,0,0,0,0,0,0,0,0,0,0,0,0,0,0,0,0,9.8373710279735528E-5,1.0990733233792197E-4,0,0,6.602917008289549E-4,3.454095615646815E-4,0,0,0,0,0,0,0,0,0,0,0,0,0,0,0,0,0,0,0,0,0,0,0,0,0,0,0,0,0,0,0,0,0,0,0,0,1.5144785555690702E-3,2.0842754592587387E-3,0,0,1.4570501962501269E-2,7.0068728321575459E-3,0,0,0,0]
[null,"39","娯楽サービス",0,0,0,0,0,0,0,0,0,0,0,0,0,0,0,0,0,0,0,0,0,3.5530655672060579E-8,0,0,0,0,1.7115485580292343E-6,0,0,0,1.0245725909124551E-3,0,1.1222691972346651E-5,0,0,2.9899906231054367E-5,3.0623341732370927E-4,2.9746277976513074E-5,1.678041353122625E-3,8.8368904813312956E-5,0,5.7542789859514625E-5,0,0,0,0,0,0,0,0,0,0,0,0,0,0,0,0,0,0,0,0,0,3.2355963819936592E-4,0,0,0,0,1.5817863688338724E-5,0,0,0,8.6653718288497317E-3,0,6.3120628289783297E-5,0,0,2.5596352036250293E-4,2.5839627766397217E-3,2.2787916412077305E-4,1.901765199442931E-2,1.0092024339826953E-3,0,4.5247718554646416E-4]
[null,"40","その他の対個人サービス",3.1310223257546938E-6,6.2293613471866023E-7,1.7609905376108445E-5,4.1046874411117282E-6,2.7337546863972366E-6,3.1349482357347312E-6,1.6737708942399962E-6,1.8862573503010689E-6,8.2507576877053563E-7,1.9076361951159328E-6,1.50589553080659E-6,1.1062368133282675E-6,1.7969805592374642E-6,1.7952845292003175E-6,2.4739642323528652E-6,2.5604953822790176E-6,1.9363236107943071E-6,3.3341798241890644E-6,2.4488919896816121E-6,2.1870639541241463E-6,1.7193293922553555E-6,2.2384313073398163E-6,4.622055479070065E-6,1.385756375714611E-6,4.9453827945130345E-6,9.5655765285509966E-7,1.4964030581084246E-5,3.4085882790278384E-6,1.0258730860311547E-5,1.1783861303170677E-5,2.9021017573997791E-5,1.027076206934717E-5,1.7190718293622932E-5,2.0321508332474012E-4,4.4219113138443361E-5,2.1864164824173373E-5,2.3540773573521684E-4,6.0128937205579918E-5,6.3793822968831663E-5,3.3031744836083202E-4,0,2.2612292296552986E-5,1.1245443359035511E-4,1.0575168384878586E-4,9.678198943778286E-4,1.822031632373862E-4,1.6763434565037925E-4,1.6166912791363376E-4,9.4000570326181282E-5,1.0155544520990562E-4,1.6743440332590732E-5,8.7977589198529066E-5,7.2653871657502928E-5,6.1276142849601926E-5,9.1031153946346776E-5,9.3399501888099851E-5,1.1803999425342358E-4,1.3385888117703815E-4,1.0808758880092188E-4,1.67772319899392E-4,1.2578094234742278E-4,1.2746462417013158E-4,9.8052048257762087E-5,1.1859513926287056E-4,2.5576857968290814E-4,8.0195080276042094E-5,2.7513072142022277E-4,4.9120926763674318E-5,8.2517206655519006E-4,1.9833621240036164E-4,5.1416278835765994E-4,6.7553518633223708E-4,1.6994513051223686E-3,4.8346624339627974E-4,1.3561239158791829E-3,1.0071959633964334E-2,2.5868573341910647E-3,1.1742537820553149E-3,1.3441232950308806E-2,3.2396447313336697E-3,3.1509245738947866E-3,1.5186444603297681E-2,0,1.2036774094720413E-3]
[null,"41","事務用品",0,0,0,0,0,0,0,0,0,0,0,0,0,0,0,0,0,0,0,0,0,0,0,0,0,0,0,0,0,0,0,0,0,0,0,0,0,0,0,0,0,0,6.101308734683253E-4,1.8312564558807662E-3,1.1181664253259579E-3,7.8886504235690729E-4,6.3667111342670185E-4,1.1413301731452872E-3,7.6575924762332991E-4,4.9360634319387062E-4,2.3269935728098871E-5,1.6999248966836919E-4,1.1539287178556623E-3,1.5715710778114349E-4,3.535386076802035E-4,4.1051594423046771E-4,8.3439287376969775E-4,9.6021025172706993E-4,7.8856378784683751E-4,8.0532357203069976E-4,8.6805171588545487E-4,8.6839658108868207E-4,3.4256922035032038E-4,1.1457196974514333E-3,8.8358527094268267E-4,4.5099568268219024E-5,9.1800102366121686E-4,3.2481175779636487E-3,2.0587585767511156E-3,3.6322110040028278E-3,3.2280650459656128E-4,1.8050544596976384E-3,1.8075475536993152E-3,2.8606199151859336E-3,3.7906351888805116E-3,2.3327628455083751E-3,5.0442330245347774E-3,1.5330039002636384E-3,2.2263162265884497E-3,8.6649672607178475E-4,2.4157633461725871E-3,3.2704920005169284E-3,0,2.0445022881487849E-4]
[null,"42","分類不明",0,0,0,0,0,0,0,0,0,0,0,0,0,0,0,0,0,0,0,0,0,0,0,0,0,0,0,0,0,0,0,0,0,0,0,0,0,0,0,0,0,0,3.2882986048952496E-3,3.321791495251141E-3,8.3355466017318736E-3,1.2186262953203577E-2,5.9400272692998425E-3,2.6562395143010691E-3,2.993260885858621E-3,1.4013605789319949E-3,3.4771358141811172E-4,2.1568352498708954E-3,7.7817389868025857E-3,3.5190939661599364E-3,4.9427900429565913E-3,3.7559622290059391E-3,7.234267983687823E-3,5.7479942890820701E-3,2.4976554377484314E-3,6.9777976501426715E-4,2.3706639379820716E-3,1.3362325425288579E-3,1.6933471964688128E-3,1.9775855300808026E-3,1.3962722855712432E-2,2.8431491101667465E-3,9.0034041553904379E-3,2.1123452704565712E-2,6.8216221637384276E-3,4.6716167252773035E-3,1.7247548893738307E-3,8.2681695045563296E-3,2.6263332880917642E-3,9.3185086654401549E-4,9.6525732584067658E-3,3.9065952096244243E-3,4.592729914611667E-3,3.0253656841766454E-3,1.8050591936074286E-3,1.6214893924862666E-3,1.1393307458386318E-3,6.9118509348905536E-3,4.9821069051440554E-4,0]

{"sheet":"自給率を加味した投入係数","index":7,"n_rows":88,"n_cols":87,"rows_kept":88,"cut":false,"hidden":false,"merged":[[4,0,45,0],[46,0,87,0]]}
["自給率を加味した投入係数Ａ－ＭＡ※"]
[null,null,null,"福岡県",null,null,null,null,null,null,null,null,null,null,null,null,null,null,null,null,null,null,null,null,null,null,null,null,null,null,null,null,null,null,null,null,null,null,null,null,null,null,null,null,null,"県外"]
[null,null,null,"01","02","03","04","05","06","07","08","09","10","11","12","13","14","15","16","17","18","19","20","21","22","23","24","25","26","27","28","29","30","31","32","33","34","35","36","37","38","39","40","41","42","01","02","03","04","05","06","07","08","09","10","11","12","13","14","15","16","17","18","19","20","21","22","23","24","25","26","27","28","29","30","31","32","33","34","35","36","37","38","39","40","41","42"]
[null,null,null,"農業","林業","漁業","鉱業","飲食料品","繊維製品","パルプ・紙・木製品","化学製品","石油・石炭製品","プラスチック・ゴム製品","窯業・土石製品","鉄鋼","非鉄金属","金属製品","はん用機械","生産用機械","業務用機械","電子部品","電気機械","情報通信機器","輸送機械","その他の製造工業製品","建設","電力・ガス・熱供給","水道","廃棄物処理","商業","金融・保険","不動産","運輸・郵便","情報通信","公務","教育・研究","医療・福祉","他に分類されない会員制団体","対事業所サービス","宿泊業","飲食サービス","娯楽サービス","その他の対個人サービス","事務用品","分類不明","農業","林業","漁業","鉱業","飲食料品","繊維製品","パルプ・紙・木製品","化学製品","石油・石炭製品","プラスチック・ゴム製品","窯業・土石製品","鉄鋼","非鉄金属","金属製品","はん用機械","生産用機械","業務用機械","電子部品","電気機械","情報通信機器","輸送機械","その他の製造工業製品","建設","電力・ガス・熱供給","水道","廃棄物処理","商業","金融・保険","不動産","運輸・郵便","情報通信","公務","教育・研究","医療・福祉","他に分類されない会員制団体","対事業所サービス","宿泊業","飲食サービス","娯楽サービス","その他の対個人サービス","事務用品","分類不明"]
["福岡県","01","農業",{"$f":"投入係数!D5-諸係数!$R10*投入係数!D5","v":2.5909203409991557E-2},{"$f":"投入係数!E5-諸係数!$R10*投入係数!E5","v":1.4209692985759422E-3},{"$f":"投入係数!F5-諸係数!$R10*投入係数!F5","v":0},{"$f":"投入係数!G5-諸係数!$R10*投入係数!G5","v":0},{"$f":"投入係数!H5-諸係数!$R10*投入係数!H5","v":3.8914313042201797E-2},{"$f":"投入係数!I5-諸係数!$R10*投入係数!I5","v":1.4651396915662117E-3},{"$f":"投入係数!J5-諸係数!$R10*投入係数!J5","v":8.8592476727022843E-6},{"$f":"投入係数!K5-諸係数!$R10*投入係数!K5","v":3.0240532659640834E-4},{"$f":"投入係数!L5-諸係数!$R10*投入係数!L5","v":0},{"$f":"投入係数!M5-諸係数!$R10*投入係数!M5","v":1.218007377295797E-2},{"$f":"投入係数!N5-諸係数!$R10*投入係数!N5","v":2.7525990508717048E-5},{"$f":"投入係数!O5-諸係数!$R10*投入係数!O5","v":0},{"$f":"投入係数!P5-諸係数!$R10*投入係数!P5","v":1.5366202574524542E-6},{"$f":"投入係数!Q5-諸係数!$R10*投入係数!Q5","v":0},{"$f":"投入係数!R5-諸係数!$R10*投入係数!R5","v":0},{"$f":"投入係数!S5-諸係数!$R10*投入係数!S5","v":0},{"$f":"投入係数!T5-諸係数!$R10*投入係数!T5","v":0},{"$f":"投入係数!U5-諸係数!$R10*投入係数!U5","v":0},{"$f":"投入係数!V5-諸係数!$R10*投入係数!V5","v":0},{"$f":"投入係数!W5-諸係数!$R10*投入係数!W5","v":0},{"$f":"投入係数!X5-諸係数!$R10*投入係数!X5","v":0},{"$f":"投入係数!Y5-諸係数!$R10*投入係数!Y5","v":6.4083701947527762E-4},{"$f":"投入係数!Z5-諸係数!$R10*投入係数!Z5","v":2.3936106474360992E-4},{"$f":"投入係数!AA5-諸係数!$R10*投入係数!AA5","v":0},{"$f":"投入係数!AB5-諸係数!$R10*投入係数!AB5","v":0},{"$f":"投入係数!AC5-諸係数!$R10*投入係数!AC5","v":0},{"$f":"投入係数!AD5-諸係数!$R10*投入係数!AD5","v":2.5926569940339222E-5},{"$f":"投入係数!AE5-諸係数!$R10*投入係数!AE5","v":0},{"$f":"投入係数!AF5-諸係数!$R10*投入係数!AF5","v":4.8307401828624119E-7},{"$f":"投入係数!AG5-諸係数!$R10*投入係数!AG5","v":8.9560767400282964E-6},{"$f":"投入係数!AH5-諸係数!$R10*投入係数!AH5","v":0},{"$f":"投入係数!AI5-諸係数!$R10*投入係数!AI5","v":1.0845877346704412E-5},{"$f":"投入係数!AJ5-諸係数!$R10*投入係数!AJ5","v":5.8357956022196211E-4},{"$f":"投入係数!AK5-諸係数!$R10*投入係数!AK5","v":6.1079729693810903E-4},{"$f":"投入係数!AL5-諸係数!$R10*投入係数!AL5","v":4.5697953494644022E-4},{"$f":"投入係数!AM5-諸係数!$R10*投入係数!AM5","v":3.3377823668415381E-6},{"$f":"投入係数!AN5-諸係数!$R10*投入係数!AN5","v":3.0617607297573788E-3},{"$f":"投入係数!AO5-諸係数!$R10*投入係数!AO5","v":7.6806341015518273E-3},{"$f":"投入係数!AP5-諸係数!$R10*投入係数!AP5","v":1.1358068574175357E-3},{"$f":"投入係数!AQ5-諸係数!$R10*投入係数!AQ5","v":1.0704047449071547E-3},{"$f":"投入係数!AR5-諸係数!$R10*投入係数!AR5","v":0},{"$f":"投入係数!AS5-諸係数!$R10*投入係数!AS5","v":0},{"$f":"投入係数!AT5","v":1.3879756966597421E-3},{"$f":"投入係数!AU5","v":2.3185788861202688E-5},{"$f":"投入係数!AV5","v":0},{"$f":"投入係数!AW5","v":0},{"$f":"投入係数!AX5","v":1.736153123358501E-3},{"$f":"投入係数!AY5","v":8.5185705063144362E-5},{"$f":"投入係数!AZ5","v":2.9296644223171151E-6},{"$f":"投入係数!BA5","v":1.2851806020293182E-5},{"$f":"投入係数!BB5","v":0},{"$f":"投入係数!BC5","v":1.0218623473094532E-4},{"$f":"投入係数!BD5","v":1.5319890058281104E-6},{"$f":"投入係数!BE5","v":0},{"$f":"投入係数!BF5","v":1.3694259859950528E-7},{"$f":"投入係数!BG5","v":0},{"$f":"投入係数!BH5","v":0},{"$f":"投入係数!BI5","v":0},{"$f":"投入係数!BJ5","v":0},{"$f":"投入係数!BK5","v":0},{"$f":"投入係数!BL5","v":0},{"$f":"投入係数!BM5","v":0},{"$f":"投入係数!BN5","v":0},{"$f":"投入係数!BO5","v":2.0155752786738048E-5},{"$f":"投入係数!BP5","v":1.0424774359558589E-5},{"$f":"投入係数!BQ5","v":0},{"$f":"投入係数!BR5","v":0},{"$f":"投入係数!BS5","v":0},{"$f":"投入係数!BT5","v":1.2392833590239281E-6},{"$f":"投入係数!BU5","v":0},{"$f":"投入係数!BV5","v":2.3316930539323987E-8},{"$f":"投入係数!BW5","v":3.8856437278206897E-7},{"$f":"投入係数!BX5","v":0},{"$f":"投入係数!BY5","v":3.4193323029550884E-7},{"$f":"投入係数!BZ5","v":2.0886249341512206E-5},{"$f":"投入係数!CA5","v":2.3568983968020444E-5},{"$f":"投入係数!CB5","v":2.1649701547712849E-5},{"$f":"投入係数!CC5","v":1.194891583533226E-7},{"$f":"投入係数!CD5","v":1.3370951484959064E-4},{"$f":"投入係数!CE5","v":3.0274530078039217E-4},{"$f":"投入係数!CF5","v":4.3416996899608943E-5},{"$f":"投入係数!CG5","v":3.6127769953540502E-5},{"$f":"投入係数!CH5","v":0},{"$f":"投入係数!CI5","v":0}]
[null,"02","林業",{"$f":"投入係数!D6-諸係数!$R11*投入係数!D6","v":5.0686313747004521E-5},{"$f":"投入係数!E6-諸係数!$R11*投入係数!E6","v":2.7709021895431136E-2},{"$f":"投入係数!F6-諸係数!$R11*投入係数!F6","v":6.4624643578103919E-5},{"$f":"投入係数!G6-諸係数!$R11*投入係数!G6","v":1.478945946475161E-5},{"$f":"投入係数!H6-諸係数!$R11*投入係数!H6","v":7.4308331406602079E-5},{"$f":"投入係数!I6-諸係数!$R11*投入係数!I6","v":8.1666454314529926E-7},{"$f":"投入係数!J6-諸係数!$R11*投入係数!J6","v":6.8682956206848247E-3},{"$f":"投入係数!K6-諸係数!$R11*投入係数!K6","v":3.167106546022472E-5},{"$f":"投入係数!L6-諸係数!$R11*投入係数!L6","v":0},{"$f":"投入係数!M6-諸係数!$R11*投入係数!M6","v":0},{"$f":"投入係数!N6-諸係数!$R11*投入係数!N6","v":1.8680516326239284E-8},{"$f":"投入係数!O6-諸係数!$R11*投入係数!O6","v":1.1990779673508127E-8},{"$f":"投入係数!P6-諸係数!$R11*投入係数!P6","v":0},{"$f":"投入係数!Q6-諸係数!$R11*投入係数!Q6","v":0},{"$f":"投入係数!R6-諸係数!$R11*投入係数!R6","v":0},{"$f":"投入係数!S6-諸係数!$R11*投入係数!S6","v":0},{"$f":"投入係数!T6-諸係数!$R11*投入係数!T6","v":0},{"$f":"投入係数!U6-諸係数!$R11*投入係数!U6","v":0},{"$f":"投入係数!V6-諸係数!$R11*投入係数!V6","v":0},{"$f":"投入係数!W6-諸係数!$R11*投入係数!W6","v":0},{"$f":"投入係数!X6-諸係数!$R11*投入係数!X6","v":5.3221807823865109E-9},{"$f":"投入係数!Y6-諸係数!$R11*投入係数!Y6","v":4.5875984775172212E-5},{"$f":"投入係数!Z6-諸係数!$R11*投入係数!Z6","v":8.3777039012800349E-6},{"$f":"投入係数!AA6-諸係数!$R11*投入係数!AA6","v":0},{"$f":"投入係数!AB6-諸係数!$R11*投入係数!AB6","v":0},{"$f":"投入係数!AC6-諸係数!$R11*投入係数!AC6","v":0},{"$f":"投入係数!AD6-諸係数!$R11*投入係数!AD6","v":0},{"$f":"投入係数!AE6-諸係数!$R11*投入係数!AE6","v":0},{"$f":"投入係数!AF6-諸係数!$R11*投入係数!AF6","v":0},{"$f":"投入係数!AG6-諸係数!$R11*投入係数!AG6","v":0},{"$f":"投入係数!AH6-諸係数!$R11*投入係数!AH6","v":0},{"$f":"投入係数!AI6-諸係数!$R11*投入係数!AI6","v":1.3166727957097676E-6},{"$f":"投入係数!AJ6-諸係数!$R11*投入係数!AJ6","v":1.5640536504477294E-5},{"$f":"投入係数!AK6-諸係数!$R11*投入係数!AK6","v":1.5552723647661728E-5},{"$f":"投入係数!AL6-諸係数!$R11*投入係数!AL6","v":0},{"$f":"投入係数!AM6-諸係数!$R11*投入係数!AM6","v":0},{"$f":"投入係数!AN6-諸係数!$R11*投入係数!AN6","v":2.5170213945000945E-4},{"$f":"投入係数!AO6-諸係数!$R11*投入係数!AO6","v":4.90167552956793E-4},{"$f":"投入係数!AP6-諸係数!$R11*投入係数!AP6","v":0},{"$f":"投入係数!AQ6-諸係数!$R11*投入係数!AQ6","v":2.3544647956993884E-5},{"$f":"投入係数!AR6-諸係数!$R11*投入係数!AR6","v":0},{"$f":"投入係数!AS6-諸係数!$R11*投入係数!AS6","v":0},{"$f":"投入係数!AT6","v":2.2508072925597726E-6},{"$f":"投入係数!AU6","v":1.8673359920129678E-3},{"$f":"投入係数!AV6","v":2.2783645279090847E-6},{"$f":"投入係数!AW6","v":1.0960687581956258E-6},{"$f":"投入係数!AX6","v":5.3380547360443141E-6},{"$f":"投入係数!AY6","v":1.2718502746653937E-7},{"$f":"投入係数!AZ6","v":4.4119434282907508E-4},{"$f":"投入係数!BA6","v":3.0648602815611779E-6},{"$f":"投入係数!BB6","v":0},{"$f":"投入係数!BC6","v":0},{"$f":"投入係数!BD6","v":3.3267948009296643E-9},{"$f":"投入係数!BE6","v":1.1773684859179924E-9},{"$f":"投入係数!BF6","v":0},{"$f":"投入係数!BG6","v":0},{"$f":"投入係数!BH6","v":0},{"$f":"投入係数!BI6","v":0},{"$f":"投入係数!BJ6","v":0},{"$f":"投入係数!BK6","v":0},{"$f":"投入係数!BL6","v":0},{"$f":"投入係数!BM6","v":0},{"$f":"投入係数!BN6","v":3.829133542695103E-9},{"$f":"投入係数!BO6","v":4.2382429880166552E-6},{"$f":"投入係数!BP6","v":5.8319465348511902E-7},{"$f":"投入係数!BQ6","v":0},{"$f":"投入係数!BR6","v":0},{"$f":"投入係数!BS6","v":0},{"$f":"投入係数!BT6","v":0},{"$f":"投入係数!BU6","v":0},{"$f":"投入係数!BV6","v":0},{"$f":"投入係数!BW6","v":0},{"$f":"投入係数!BX6","v":0},{"$f":"投入係数!BY6","v":5.7292696622248242E-8},{"$f":"投入係数!BZ6","v":6.5921831173510729E-7},{"$f":"投入係数!CA6","v":8.9266483530078147E-7},{"$f":"投入係数!CB6","v":0},{"$f":"投入係数!CC6","v":0},{"$f":"投入係数!CD6","v":1.5206839901181404E-5},{"$f":"投入係数!CE6","v":2.7452265013059729E-5},{"$f":"投入係数!CF6","v":0},{"$f":"投入係数!CG6","v":1.0573617365431122E-6},{"$f":"投入係数!CH6","v":0},{"$f":"投入係数!CI6","v":0}]
[null,"03","漁業",{"$f":"投入係数!D7-諸係数!$R12*投入係数!D7","v":0},{"$f":"投入係数!E7-諸係数!$R12*投入係数!E7","v":0},{"$f":"投入係数!F7-諸係数!$R12*投入係数!F7","v":8.0030737073575609E-3},{"$f":"投入係数!G7-諸係数!$R12*投入係数!G7","v":0},{"$f":"投入係数!H7-諸係数!$R12*投入係数!H7","v":3.0251079658266131E-3},{"$f":"投入係数!I7-諸係数!$R12*投入係数!I7","v":0},{"$f":"投入係数!J7-諸係数!$R12*投入係数!J7","v":0},{"$f":"投入係数!K7-諸係数!$R12*投入係数!K7","v":5.630937365690617E-6},{"$f":"投入係数!L7-諸係数!$R12*投入係数!L7","v":0},{"$f":"投入係数!M7-諸係数!$R12*投入係数!M7","v":0},{"$f":"投入係数!N7-諸係数!$R12*投入係数!N7","v":0},{"$f":"投入係数!O7-諸係数!$R12*投入係数!O7","v":0},{"$f":"投入係数!P7-諸係数!$R12*投入係数!P7","v":0},{"$f":"投入係数!Q7-諸係数!$R12*投入係数!Q7","v":0},{"$f":"投入係数!R7-諸係数!$R12*投入係数!R7","v":0},{"$f":"投入係数!S7-諸係数!$R12*投入係数!S7","v":0},{"$f":"投入係数!T7-諸係数!$R12*投入係数!T7","v":0},{"$f":"投入係数!U7-諸係数!$R12*投入係数!U7","v":0},{"$f":"投入係数!V7-諸係数!$R12*投入係数!V7","v":0},{"$f":"投入係数!W7-諸係数!$R12*投入係数!W7","v":0},{"$f":"投入係数!X7-諸係数!$R12*投入係数!X7","v":0},{"$f":"投入係数!Y7-諸係数!$R12*投入係数!Y7","v":3.3789362204299076E-5},{"$f":"投入係数!Z7-諸係数!$R12*投入係数!Z7","v":0},{"$f":"投入係数!AA7-諸係数!$R12*投入係数!AA7","v":0},{"$f":"投入係数!AB7-諸係数!$R12*投入係数!AB7","v":0},{"$f":"投入係数!AC7-諸係数!$R12*投入係数!AC7","v":0},{"$f":"投入係数!AD7-諸係数!$R12*投入係数!AD7","v":0},{"$f":"投入係数!AE7-諸係数!$R12*投入係数!AE7","v":0},{"$f":"投入係数!AF7-諸係数!$R12*投入係数!AF7","v":0},{"$f":"投入係数!AG7-諸係数!$R12*投入係数!AG7","v":6.0933814159990336E-7},{"$f":"投入係数!AH7-諸係数!$R12*投入係数!AH7","v":0},{"$f":"投入係数!AI7-諸係数!$R12*投入係数!AI7","v":1.3335857078543007E-6},{"$f":"投入係数!AJ7-諸係数!$R12*投入係数!AJ7","v":1.0932657177915798E-5},{"$f":"投入係数!AK7-諸係数!$R12*投入係数!AK7","v":9.3152479745911852E-5},{"$f":"投入係数!AL7-諸係数!$R12*投入係数!AL7","v":0},{"$f":"投入係数!AM7-諸係数!$R12*投入係数!AM7","v":0},{"$f":"投入係数!AN7-諸係数!$R12*投入係数!AN7","v":6.077410422742058E-4},{"$f":"投入係数!AO7-諸係数!$R12*投入係数!AO7","v":1.1202896731319879E-3},{"$f":"投入係数!AP7-諸係数!$R12*投入係数!AP7","v":3.743181871454196E-6},{"$f":"投入係数!AQ7-諸係数!$R12*投入係数!AQ7","v":5.3678518419070771E-5},{"$f":"投入係数!AR7-諸係数!$R12*投入係数!AR7","v":0},{"$f":"投入係数!AS7-諸係数!$R12*投入係数!AS7","v":0},{"$f":"投入係数!AT7","v":0},{"$f":"投入係数!AU7","v":0},{"$f":"投入係数!AV7","v":4.4690407403742737E-4},{"$f":"投入係数!AW7","v":0},{"$f":"投入係数!AX7","v":3.1808346905786664E-4},{"$f":"投入係数!AY7","v":8.4790018311026246E-9},{"$f":"投入係数!AZ7","v":0},{"$f":"投入係数!BA7","v":4.0923057216378756E-7},{"$f":"投入係数!BB7","v":0},{"$f":"投入係数!BC7","v":0},{"$f":"投入係数!BD7","v":0},{"$f":"投入係数!BE7","v":0},{"$f":"投入係数!BF7","v":0},{"$f":"投入係数!BG7","v":0},{"$f":"投入係数!BH7","v":0},{"$f":"投入係数!BI7","v":0},{"$f":"投入係数!BJ7","v":0},{"$f":"投入係数!BK7","v":0},{"$f":"投入係数!BL7","v":0},{"$f":"投入係数!BM7","v":0},{"$f":"投入係数!BN7","v":0},{"$f":"投入係数!BO7","v":5.5401889447903703E-5},{"$f":"投入係数!BP7","v":0},{"$f":"投入係数!BQ7","v":0},{"$f":"投入係数!BR7","v":0},{"$f":"投入係数!BS7","v":0},{"$f":"投入係数!BT7","v":0},{"$f":"投入係数!BU7","v":0},{"$f":"投入係数!BV7","v":0},{"$f":"投入係数!BW7","v":4.3237031231972538E-8},{"$f":"投入係数!BX7","v":0},{"$f":"投入係数!BY7","v":6.8751235946697885E-8},{"$f":"投入係数!BZ7","v":5.4475749536035157E-7},{"$f":"投入係数!CA7","v":5.9951772928318575E-6},{"$f":"投入係数!CB7","v":0},{"$f":"投入係数!CC7","v":0},{"$f":"投入係数!CD7","v":4.3390777782549876E-5},{"$f":"投入係数!CE7","v":7.4014856750920615E-5},{"$f":"投入係数!CF7","v":3.2963953690012787E-7},{"$f":"投入係数!CG7","v":2.8494862170683402E-6},{"$f":"投入係数!CH7","v":0},{"$f":"投入係数!CI7","v":0}]
[null,"04","鉱業",{"$f":"投入係数!D8-諸係数!$R13*投入係数!D8","v":1.5681217143645419E-7},{"$f":"投入係数!E8-諸係数!$R13*投入係数!E8","v":1.1643371731851013E-5},{"$f":"投入係数!F8-諸係数!$R13*投入係数!F8","v":0},{"$f":"投入係数!G8-諸係数!$R13*投入係数!G8","v":1.1138140645800074E-4},{"$f":"投入係数!H8-諸係数!$R13*投入係数!H8","v":7.0578448709912394E-6},{"$f":"投入係数!I8-諸係数!$R13*投入係数!I8","v":4.8923940293263044E-6},{"$f":"投入係数!J8-諸係数!$R13*投入係数!J8","v":3.3884714611139661E-5},{"$f":"投入係数!K8-諸係数!$R13*投入係数!K8","v":3.5216967013746402E-4},{"$f":"投入係数!L8-諸係数!$R13*投入係数!L8","v":1.8460914192125588E-2},{"$f":"投入係数!M8-諸係数!$R13*投入係数!M8","v":8.4584818099227212E-6},{"$f":"投入係数!N8-諸係数!$R13*投入係数!N8","v":3.077334639814841E-3},{"$f":"投入係数!O8-諸係数!$R13*投入係数!O8","v":1.178638327750281E-3},{"$f":"投入係数!P8-諸係数!$R13*投入係数!P8","v":1.9446412541839209E-3},{"$f":"投入係数!Q8-諸係数!$R13*投入係数!Q8","v":6.9089260259218191E-6},{"$f":"投入係数!R8-諸係数!$R13*投入係数!R8","v":1.268472147319365E-6},{"$f":"投入係数!S8-諸係数!$R13*投入係数!S8","v":1.3964703818264171E-6},{"$f":"投入係数!T8-諸係数!$R13*投入係数!T8","v":5.5160873288689959E-6},{"$f":"投入係数!U8-諸係数!$R13*投入係数!U8","v":4.8455586003203627E-6},{"$f":"投入係数!V8-諸係数!$R13*投入係数!V8","v":2.8403260909402812E-6},{"$f":"投入係数!W8-諸係数!$R13*投入係数!W8","v":5.2577063264565117E-7},{"$f":"投入係数!X8-諸係数!$R13*投入係数!X8","v":2.1010159917163594E-6},{"$f":"投入係数!Y8-諸係数!$R13*投入係数!Y8","v":9.1469613398633158E-6},{"$f":"投入係数!Z8-諸係数!$R13*投入係数!Z8","v":1.7119115220702499E-4},{"$f":"投入係数!AA8-諸係数!$R13*投入係数!AA8","v":8.7612385944011439E-3},{"$f":"投入係数!AB8-諸係数!$R13*投入係数!AB8","v":0},{"$f":"投入係数!AC8-諸係数!$R13*投入係数!AC8","v":6.4252596202901187E-8},{"$f":"投入係数!AD8-諸係数!$R13*投入係数!AD8","v":7.2091593849272093E-8},{"$f":"投入係数!AE8-諸係数!$R13*投入係数!AE8","v":2.9824672163060875E-8},{"$f":"投入係数!AF8-諸係数!$R13*投入係数!AF8","v":3.2485633995350305E-8},{"$f":"投入係数!AG8-諸係数!$R13*投入係数!AG8","v":1.9717979089240019E-7},{"$f":"投入係数!AH8-諸係数!$R13*投入係数!AH8","v":8.4012120509221368E-9},{"$f":"投入係数!AI8-諸係数!$R13*投入係数!AI8","v":4.0530992807439043E-7},{"$f":"投入係数!AJ8-諸係数!$R13*投入係数!AJ8","v":6.9075315267247271E-7},{"$f":"投入係数!AK8-諸係数!$R13*投入係数!AK8","v":2.8141007251354133E-7},{"$f":"投入係数!AL8-諸係数!$R13*投入係数!AL8","v":1.8928568482989394E-6},{"$f":"投入係数!AM8-諸係数!$R13*投入係数!AM8","v":2.8913362906612048E-7},{"$f":"投入係数!AN8-諸係数!$R13*投入係数!AN8","v":1.0093685224756683E-6},{"$f":"投入係数!AO8-諸係数!$R13*投入係数!AO8","v":-7.892448080638645E-7},{"$f":"投入係数!AP8-諸係数!$R13*投入係数!AP8","v":9.9814036834336569E-7},{"$f":"投入係数!AQ8-諸係数!$R13*投入係数!AQ8","v":3.0662469118974907E-6},{"$f":"投入係数!AR8-諸係数!$R13*投入係数!AR8","v":0},{"$f":"投入係数!AS8-諸係数!$R13*投入係数!AS8","v":6.3101391588691734E-6},{"$f":"投入係数!AT8","v":5.8589343841035295E-9},{"$f":"投入係数!AU8","v":2.6782264361125215E-7},{"$f":"投入係数!AV8","v":0},{"$f":"投入係数!AW8","v":1.1447829252265424E-6},{"$f":"投入係数!AX8","v":1.9454147185237194E-7},{"$f":"投入係数!AY8","v":2.5154372098937788E-7},{"$f":"投入係数!AZ8","v":3.0361512070771151E-6},{"$f":"投入係数!BA8","v":3.4839211254762304E-6},{"$f":"投入係数!BB8","v":3.9281149707093814E-4},{"$f":"投入係数!BC8","v":7.4727827472091325E-8},{"$f":"投入係数!BD8","v":4.2884048381383838E-5},{"$f":"投入係数!BE8","v":3.5200962991976141E-5},{"$f":"投入係数!BF8","v":9.7046271281469584E-5},{"$f":"投入係数!BG8","v":1.7197251613512171E-7},{"$f":"投入係数!BH8","v":4.0661382794841059E-8},{"$f":"投入係数!BI8","v":3.7885396065846037E-8},{"$f":"投入係数!BJ8","v":3.6350534996341618E-8},{"$f":"投入係数!BK8","v":1.1234130867480713E-7},{"$f":"投入係数!BL8","v":3.0400686982564156E-8},{"$f":"投入係数!BM8","v":2.0193433560956407E-8},{"$f":"投入係数!BN8","v":7.3519364019745974E-8},{"$f":"投入係数!BO8","v":3.0680360099117879E-7},{"$f":"投入係数!BP8","v":4.2053908171473554E-6},{"$f":"投入係数!BQ8","v":2.0775777199856591E-4},{"$f":"投入係数!BR8","v":0},{"$f":"投入係数!BS8","v":2.1167338948407446E-9},{"$f":"投入係数!BT8","v":1.8616079441023928E-9},{"$f":"投入係数!BU8","v":8.7080848960252918E-10},{"$f":"投入係数!BV8","v":6.4057501481659307E-10},{"$f":"投入係数!BW8","v":5.4994469549438752E-9},{"$f":"投入係数!BX8","v":2.0691445307788057E-10},{"$f":"投入係数!BY8","v":7.2917977519225035E-9},{"$f":"投入係数!BZ8","v":2.7071645366643451E-8},{"$f":"投入係数!CA8","v":6.0388427713322599E-9},{"$f":"投入係数!CB8","v":4.2124594947446895E-8},{"$f":"投入係数!CC8","v":5.8219775531781316E-9},{"$f":"投入係数!CD8","v":5.8784105189850798E-8},{"$f":"投入係数!CE8","v":3.7801061665119495E-10},{"$f":"投入係数!CF8","v":3.0361536293432835E-8},{"$f":"投入係数!CG8","v":6.7173569145091835E-8},{"$f":"投入係数!CH8","v":0},{"$f":"投入係数!CI8","v":1.482276879940794E-7}]
[null,"05","飲食料品",{"$f":"投入係数!D9-諸係数!$R14*投入係数!D9","v":2.1103371932356573E-2},{"$f":"投入係数!E9-諸係数!$R14*投入係数!E9","v":2.0016514645872369E-2},{"$f":"投入係数!F9-諸係数!$R14*投入係数!F9","v":3.6631614320718445E-2},{"$f":"投入係数!G9-諸係数!$R14*投入係数!G9","v":0},{"$f":"投入係数!H9-諸係数!$R14*投入係数!H9","v":4.2311321339028596E-2},{"$f":"投入係数!I9-諸係数!$R14*投入係数!I9","v":1.6797203437644418E-3},{"$f":"投入係数!J9-諸係数!$R14*投入係数!J9","v":2.9556807134614943E-4},{"$f":"投入係数!K9-諸係数!$R14*投入係数!K9","v":1.7808038454147235E-3},{"$f":"投入係数!L9-諸係数!$R14*投入係数!L9","v":5.6527094728964307E-8},{"$f":"投入係数!M9-諸係数!$R14*投入係数!M9","v":3.1537229130232663E-6},{"$f":"投入係数!N9-諸係数!$R14*投入係数!N9","v":1.2781741633966081E-4},{"$f":"投入係数!O9-諸係数!$R14*投入係数!O9","v":1.3612736649497679E-7},{"$f":"投入係数!P9-諸係数!$R14*投入係数!P9","v":0},{"$f":"投入係数!Q9-諸係数!$R14*投入係数!Q9","v":0},{"$f":"投入係数!R9-諸係数!$R14*投入係数!R9","v":0},{"$f":"投入係数!S9-諸係数!$R14*投入係数!S9","v":0},{"$f":"投入係数!T9-諸係数!$R14*投入係数!T9","v":0},{"$f":"投入係数!U9-諸係数!$R14*投入係数!U9","v":0},{"$f":"投入係数!V9-諸係数!$R14*投入係数!V9","v":0},{"$f":"投入係数!W9-諸係数!$R14*投入係数!W9","v":0},{"$f":"投入係数!X9-諸係数!$R14*投入係数!X9","v":0},{"$f":"投入係数!Y9-諸係数!$R14*投入係数!Y9","v":5.6830115063923915E-4},{"$f":"投入係数!Z9-諸係数!$R14*投入係数!Z9","v":4.830927151864019E-6},{"$f":"投入係数!AA9-諸係数!$R14*投入係数!AA9","v":0},{"$f":"投入係数!AB9-諸係数!$R14*投入係数!AB9","v":0},{"$f":"投入係数!AC9-諸係数!$R14*投入係数!AC9","v":0},{"$f":"投入係数!AD9-諸係数!$R14*投入係数!AD9","v":3.8172273083663165E-5},{"$f":"投入係数!AE9-諸係数!$R14*投入係数!AE9","v":0},{"$f":"投入係数!AF9-諸係数!$R14*投入係数!AF9","v":0},{"$f":"投入係数!AG9-諸係数!$R14*投入係数!AG9","v":4.4263163976401027E-5},{"$f":"投入係数!AH9-諸係数!$R14*投入係数!AH9","v":6.2458759094724293E-8},{"$f":"投入係数!AI9-諸係数!$R14*投入係数!AI9","v":1.086946519473244E-4},{"$f":"投入係数!AJ9-諸係数!$R14*投入係数!AJ9","v":1.795602041384707E-3},{"$f":"投入係数!AK9-諸係数!$R14*投入係数!AK9","v":2.5622881058256558E-3},{"$f":"投入係数!AL9-諸係数!$R14*投入係数!AL9","v":3.4860980431937613E-4},{"$f":"投入係数!AM9-諸係数!$R14*投入係数!AM9","v":1.6609332882224657E-6},{"$f":"投入係数!AN9-諸係数!$R14*投入係数!AN9","v":1.9351141477119575E-2},{"$f":"投入係数!AO9-諸係数!$R14*投入係数!AO9","v":7.1282147707171978E-2},{"$f":"投入係数!AP9-諸係数!$R14*投入係数!AP9","v":3.2373688368690922E-4},{"$f":"投入係数!AQ9-諸係数!$R14*投入係数!AQ9","v":1.5398169232358273E-3},{"$f":"投入係数!AR9-諸係数!$R14*投入係数!AR9","v":0},{"$f":"投入係数!AS9-諸係数!$R14*投入係数!AS9","v":8.7575351531077729E-4},{"$f":"投入係数!AT9","v":3.2298850290857378E-3},{"$f":"投入係数!AU9","v":7.0781698668688075E-4},{"$f":"投入係数!AV9","v":2.4687515603925131E-3},{"$f":"投入係数!AW9","v":0},{"$f":"投入係数!AX9","v":4.7110372329970847E-3},{"$f":"投入係数!AY9","v":5.7270004701210828E-5},{"$f":"投入係数!AZ9","v":4.2908210998333372E-5},{"$f":"投入係数!BA9","v":1.8284414682595248E-4},{"$f":"投入係数!BB9","v":1.0769794382026629E-7},{"$f":"投入係数!BC9","v":4.1951166511560182E-7},{"$f":"投入係数!BD9","v":1.2277536212830925E-5},{"$f":"投入係数!BE9","v":2.040772042257854E-8},{"$f":"投入係数!BF9","v":0},{"$f":"投入係数!BG9","v":0},{"$f":"投入係数!BH9","v":0},{"$f":"投入係数!BI9","v":0},{"$f":"投入係数!BJ9","v":0},{"$f":"投入係数!BK9","v":0},{"$f":"投入係数!BL9","v":0},{"$f":"投入係数!BM9","v":0},{"$f":"投入係数!BN9","v":0},{"$f":"投入係数!BO9","v":8.1103946521478911E-5},{"$f":"投入係数!BP9","v":6.4538848890923127E-7},{"$f":"投入係数!BQ9","v":0},{"$f":"投入係数!BR9","v":0},{"$f":"投入係数!BS9","v":0},{"$f":"投入係数!BT9","v":3.6210464639784601E-6},{"$f":"投入係数!BU9","v":0},{"$f":"投入係数!BV9","v":0},{"$f":"投入係数!BW9","v":4.2241441697025803E-6},{"$f":"投入係数!BX9","v":7.8627492169594609E-9},{"$f":"投入係数!BY9","v":8.2459815720312191E-6},{"$f":"投入係数!BZ9","v":1.4321589063617224E-4},{"$f":"投入係数!CA9","v":2.1897463257340141E-4},{"$f":"投入係数!CB9","v":3.6325442376348378E-5},{"$f":"投入係数!CC9","v":1.3626199844700247E-7},{"$f":"投入係数!CD9","v":1.8588425957799222E-3},{"$f":"投入係数!CE9","v":6.3142178965350125E-3},{"$f":"投入係数!CF9","v":3.1283225788054898E-5},{"$f":"投入係数!CG9","v":1.0996644990380645E-4},{"$f":"投入係数!CH9","v":0},{"$f":"投入係数!CI9","v":7.8403597534659395E-5}]
[null,"06","繊維製品",{"$f":"投入係数!D10-諸係数!$R15*投入係数!D10","v":2.4825876846155774E-4},{"$f":"投入係数!E10-諸係数!$R15*投入係数!E10","v":2.646529785046408E-4},{"$f":"投入係数!F10-諸係数!$R15*投入係数!F10","v":1.0605432818367368E-3},{"$f":"投入係数!G10-諸係数!$R15*投入係数!G10","v":1.9275671340375868E-4},{"$f":"投入係数!H10-諸係数!$R15*投入係数!H10","v":4.612145987845605E-5},{"$f":"投入係数!I10-諸係数!$R15*投入係数!I10","v":1.3712916213454218E-2},{"$f":"投入係数!J10-諸係数!$R15*投入係数!J10","v":3.5054692672652253E-4},{"$f":"投入係数!K10-諸係数!$R15*投入係数!K10","v":5.6079344144267448E-5},{"$f":"投入係数!L10-諸係数!$R15*投入係数!L10","v":1.0156846189016496E-5},{"$f":"投入係数!M10-諸係数!$R15*投入係数!M10","v":6.5916776932583524E-4},{"$f":"投入係数!N10-諸係数!$R15*投入係数!N10","v":1.1824409701896219E-4},{"$f":"投入係数!O10-諸係数!$R15*投入係数!O10","v":1.897483573641578E-5},{"$f":"投入係数!P10-諸係数!$R15*投入係数!P10","v":3.6064873147201499E-5},{"$f":"投入係数!Q10-諸係数!$R15*投入係数!Q10","v":6.8428364915089075E-5},{"$f":"投入係数!R10-諸係数!$R15*投入係数!R10","v":6.8244075359792915E-5},{"$f":"投入係数!S10-諸係数!$R15*投入係数!S10","v":5.6385057876773628E-5},{"$f":"投入係数!T10-諸係数!$R15*投入係数!T10","v":7.709026649113139E-5},{"$f":"投入係数!U10-諸係数!$R15*投入係数!U10","v":2.2825491138916379E-4},{"$f":"投入係数!V10-諸係数!$R15*投入係数!V10","v":1.4543687222945368E-4},{"$f":"投入係数!W10-諸係数!$R15*投入係数!W10","v":1.3104320736058786E-4},{"$f":"投入係数!X10-諸係数!$R15*投入係数!X10","v":1.3816072991703569E-4},{"$f":"投入係数!Y10-諸係数!$R15*投入係数!Y10","v":1.3502687897363618E-4},{"$f":"投入係数!Z10-諸係数!$R15*投入係数!Z10","v":1.650799158112201E-4},{"$f":"投入係数!AA10-諸係数!$R15*投入係数!AA10","v":7.6568806414736531E-6},{"$f":"投入係数!AB10-諸係数!$R15*投入係数!AB10","v":4.998435980560175E-5},{"$f":"投入係数!AC10-諸係数!$R15*投入係数!AC10","v":1.0933703553052908E-4},{"$f":"投入係数!AD10-諸係数!$R15*投入係数!AD10","v":2.1652001392777668E-4},{"$f":"投入係数!AE10-諸係数!$R15*投入係数!AE10","v":7.4665409096356526E-5},{"$f":"投入係数!AF10-諸係数!$R15*投入係数!AF10","v":1.7975208638561726E-6},{"$f":"投入係数!AG10-諸係数!$R15*投入係数!AG10","v":1.037270882254562E-4},{"$f":"投入係数!AH10-諸係数!$R15*投入係数!AH10","v":4.8564128021954438E-5},{"$f":"投入係数!AI10-諸係数!$R15*投入係数!AI10","v":1.7838684259581126E-4},{"$f":"投入係数!AJ10-諸係数!$R15*投入係数!AJ10","v":2.2700197378320376E-5},{"$f":"投入係数!AK10-諸係数!$R15*投入係数!AK10","v":1.6793307766434945E-4},{"$f":"投入係数!AL10-諸係数!$R15*投入係数!AL10","v":1.3792657571461767E-3},{"$f":"投入係数!AM10-諸係数!$R15*投入係数!AM10","v":1.0903958897770993E-4},{"$f":"投入係数!AN10-諸係数!$R15*投入係数!AN10","v":5.1155695666855409E-4},{"$f":"投入係数!AO10-諸係数!$R15*投入係数!AO10","v":3.7920278714865846E-5},{"$f":"投入係数!AP10-諸係数!$R15*投入係数!AP10","v":3.5687697567063879E-4},{"$f":"投入係数!AQ10-諸係数!$R15*投入係数!AQ10","v":3.3703065748761111E-4},{"$f":"投入係数!AR10-諸係数!$R15*投入係数!AR10","v":1.092179105452281E-3},{"$f":"投入係数!AS10-諸係数!$R15*投入係数!AS10","v":2.7984300265334781E-5},{"$f":"投入係数!AT10","v":1.4952000548232209E-5},{"$f":"投入係数!AU10","v":7.5628013172129774E-6},{"$f":"投入係数!AV10","v":7.5498746120908886E-5},{"$f":"投入係数!AW10","v":1.4650785734548198E-5},{"$f":"投入係数!AX10","v":3.7338358296924473E-6},{"$f":"投入係数!AY10","v":8.8174553208608046E-4},{"$f":"投入係数!AZ10","v":2.4424660846831639E-5},{"$f":"投入係数!BA10","v":3.6237294348275601E-6},{"$f":"投入係数!BB10","v":9.4534861797789302E-8},{"$f":"投入係数!BC10","v":1.952172007773396E-5},{"$f":"投入係数!BD10","v":1.1994758654751904E-5},{"$f":"投入係数!BE10","v":1.2421237526434822E-6},{"$f":"投入係数!BF10","v":3.3107887073174514E-6},{"$f":"投入係数!BG10","v":4.6257097197161306E-6},{"$f":"投入係数!BH10","v":4.0245087685274828E-6},{"$f":"投入係数!BI10","v":4.9758190349061991E-6},{"$f":"投入係数!BJ10","v":4.1933977171779689E-6},{"$f":"投入係数!BK10","v":1.3496790379783372E-5},{"$f":"投入係数!BL10","v":9.2576425338362546E-6},{"$f":"投入係数!BM10","v":6.2838293708321619E-6},{"$f":"投入係数!BN10","v":6.1279538650521072E-6},{"$f":"投入係数!BO10","v":1.667726331063536E-5},{"$f":"投入係数!BP10","v":1.1767719390587988E-5},{"$f":"投入係数!BQ10","v":5.6941471129839446E-7},{"$f":"投入係数!BR10","v":3.5403144659265249E-6},{"$f":"投入係数!BS10","v":7.1355099595081502E-6},{"$f":"投入係数!BT10","v":1.5750298270602773E-5},{"$f":"投入係数!BU10","v":5.6500957500377433E-6},{"$f":"投入係数!BV10","v":1.0185142735583829E-7},{"$f":"投入係数!BW10","v":6.0888359596323429E-6},{"$f":"投入係数!BX10","v":3.9771027026099428E-6},{"$f":"投入係数!BY10","v":1.2353607498498135E-5},{"$f":"投入係数!BZ10","v":1.8976273519723492E-6},{"$f":"投入係数!CA10","v":1.0954305945074378E-5},{"$f":"投入係数!CB10","v":9.4490146977673113E-5},{"$f":"投入係数!CC10","v":7.4062485402084377E-6},{"$f":"投入係数!CD10","v":3.7331960871775245E-5},{"$f":"投入係数!CE10","v":2.5243548979966796E-6},{"$f":"投入係数!CF10","v":2.2382958291751446E-5},{"$f":"投入係数!CG10","v":2.0530233058714734E-5},{"$f":"投入係数!CH10","v":7.2949319076984502E-5},{"$f":"投入係数!CI10","v":1.9026240548493771E-6}]
[null,"07","パルプ・紙・木製品",{"$f":"投入係数!D11-諸係数!$R16*投入係数!D11","v":5.6450340740702249E-3},{"$f":"投入係数!E11-諸係数!$R16*投入係数!E11","v":4.366732149019557E-3},{"$f":"投入係数!F11-諸係数!$R16*投入係数!F11","v":7.8062292023315868E-4},{"$f":"投入係数!G11-諸係数!$R16*投入係数!G11","v":3.2701582102300506E-4},{"$f":"投入係数!H11-諸係数!$R16*投入係数!H11","v":2.6502874424320752E-3},{"$f":"投入係数!I11-諸係数!$R16*投入係数!I11","v":1.0098155529086792E-3},{"$f":"投入係数!J11-諸係数!$R16*投入係数!J11","v":4.8654733474542876E-2},{"$f":"投入係数!K11-諸係数!$R16*投入係数!K11","v":1.7048663222322799E-3},{"$f":"投入係数!L11-諸係数!$R16*投入係数!L11","v":2.2639355949321062E-5},{"$f":"投入係数!M11-諸係数!$R16*投入係数!M11","v":9.7017084234482715E-4},{"$f":"投入係数!N11-諸係数!$R16*投入係数!N11","v":3.8652854800329513E-3},{"$f":"投入係数!O11-諸係数!$R16*投入係数!O11","v":6.0259462057540768E-5},{"$f":"投入係数!P11-諸係数!$R16*投入係数!P11","v":3.6959534774579767E-4},{"$f":"投入係数!Q11-諸係数!$R16*投入係数!Q11","v":6.3575448552714538E-4},{"$f":"投入係数!R11-諸係数!$R16*投入係数!R11","v":2.4117240718402147E-4},{"$f":"投入係数!S11-諸係数!$R16*投入係数!S11","v":1.6291109942278436E-4},{"$f":"投入係数!T11-諸係数!$R16*投入係数!T11","v":1.7869521346172697E-3},{"$f":"投入係数!U11-諸係数!$R16*投入係数!U11","v":9.0336767392831005E-4},{"$f":"投入係数!V11-諸係数!$R16*投入係数!V11","v":1.4726195663782961E-3},{"$f":"投入係数!W11-諸係数!$R16*投入係数!W11","v":7.1745710574940827E-4},{"$f":"投入係数!X11-諸係数!$R16*投入係数!X11","v":1.2868519053581132E-4},{"$f":"投入係数!Y11-諸係数!$R16*投入係数!Y11","v":1.7753359160198143E-2},{"$f":"投入係数!Z11-諸係数!$R16*投入係数!Z11","v":8.6242508956582645E-3},{"$f":"投入係数!AA11-諸係数!$R16*投入係数!AA11","v":4.8431657531752327E-4},{"$f":"投入係数!AB11-諸係数!$R16*投入係数!AB11","v":5.2980167702972459E-4},{"$f":"投入係数!AC11-諸係数!$R16*投入係数!AC11","v":6.605340109383655E-4},{"$f":"投入係数!AD11-諸係数!$R16*投入係数!AD11","v":1.2859415765191617E-3},{"$f":"投入係数!AE11-諸係数!$R16*投入係数!AE11","v":7.4219924842126915E-4},{"$f":"投入係数!AF11-諸係数!$R16*投入係数!AF11","v":8.796608336789709E-5},{"$f":"投入係数!AG11-諸係数!$R16*投入係数!AG11","v":7.1814922355507241E-4},{"$f":"投入係数!AH11-諸係数!$R16*投入係数!AH11","v":2.2439483243772993E-3},{"$f":"投入係数!AI11-諸係数!$R16*投入係数!AI11","v":2.386458699191788E-4},{"$f":"投入係数!AJ11-諸係数!$R16*投入係数!AJ11","v":1.1211098393465845E-3},{"$f":"投入係数!AK11-諸係数!$R16*投入係数!AK11","v":9.7658068801580221E-4},{"$f":"投入係数!AL11-諸係数!$R16*投入係数!AL11","v":3.0940356425201133E-3},{"$f":"投入係数!AM11-諸係数!$R16*投入係数!AM11","v":7.2831360918909171E-4},{"$f":"投入係数!AN11-諸係数!$R16*投入係数!AN11","v":8.4860762270112973E-4},{"$f":"投入係数!AO11-諸係数!$R16*投入係数!AO11","v":1.2170163663721026E-3},{"$f":"投入係数!AP11-諸係数!$R16*投入係数!AP11","v":1.4294519925443134E-3},{"$f":"投入係数!AQ11-諸係数!$R16*投入係数!AQ11","v":8.1824825976365291E-4},{"$f":"投入係数!AR11-諸係数!$R16*投入係数!AR11","v":8.1399913984842545E-2},{"$f":"投入係数!AS11-諸係数!$R16*投入係数!AS11","v":2.2455537875268545E-4},{"$f":"投入係数!AT11","v":2.400962015933706E-4},{"$f":"投入係数!AU11","v":1.004079844357804E-4},{"$f":"投入係数!AV11","v":3.1041918946077839E-5},{"$f":"投入係数!AW11","v":2.3882120386906911E-5},{"$f":"投入係数!AX11","v":1.6041100719620197E-4},{"$f":"投入係数!AY11","v":5.7391537060789971E-5},{"$f":"投入係数!AZ11","v":2.7572904303018522E-3},{"$f":"投入係数!BA11","v":1.3044370121376302E-4},{"$f":"投入係数!BB11","v":1.4120397078657133E-7},{"$f":"投入係数!BC11","v":6.2707005561803521E-5},{"$f":"投入係数!BD11","v":1.8430942216370478E-4},{"$f":"投入係数!BE11","v":3.1474984190207669E-6},{"$f":"投入係数!BF11","v":2.2037401371264928E-5},{"$f":"投入係数!BG11","v":3.3329326519942519E-5},{"$f":"投入係数!BH11","v":1.5244146035418269E-5},{"$f":"投入係数!BI11","v":1.0879219218650369E-5},{"$f":"投入係数!BJ11","v":4.8232797875945768E-5},{"$f":"投入係数!BK11","v":5.7156091185980573E-5},{"$f":"投入係数!BL11","v":6.7917668109630195E-5},{"$f":"投入係数!BM11","v":5.5324500656958478E-5},{"$f":"投入係数!BN11","v":1.353483833336438E-5},{"$f":"投入係数!BO11","v":8.2922690706138441E-4},{"$f":"投入係数!BP11","v":4.4699644126126024E-4},{"$f":"投入係数!BQ11","v":2.4083064937110142E-5},{"$f":"投入係数!BR11","v":2.7045530936211811E-5},{"$f":"投入係数!BS11","v":3.2297125767480082E-5},{"$f":"投入係数!BT11","v":8.1237942528236741E-5},{"$f":"投入係数!BU11","v":4.1580234570031169E-5},{"$f":"投入係数!BV11","v":4.0676513440853654E-6},{"$f":"投入係数!BW11","v":4.3149608988999118E-5},{"$f":"投入係数!BX11","v":1.4062092454180533E-4},{"$f":"投入係数!BY11","v":1.1870005054736702E-5},{"$f":"投入係数!BZ11","v":6.3058410999554694E-5},{"$f":"投入係数!CA11","v":5.1829219716632002E-5},{"$f":"投入係数!CB11","v":1.7302677374663814E-4},{"$f":"投入係数!CC11","v":3.2390987972646049E-5},{"$f":"投入係数!CD11","v":4.6632011720431649E-5},{"$f":"投入係数!CE11","v":6.0798093550328233E-5},{"$f":"投入係数!CF11","v":5.853378895199277E-5},{"$f":"投入係数!CG11","v":4.169405385603256E-5},{"$f":"投入係数!CH11","v":4.0942734479860543E-3},{"$f":"投入係数!CI11","v":1.1502026117630131E-5}]
[null,"08","化学製品",{"$f":"投入係数!D12-諸係数!$R17*投入係数!D12","v":7.4474429791704794E-3},{"$f":"投入係数!E12-諸係数!$R17*投入係数!E12","v":7.8616631730143776E-5},{"$f":"投入係数!F12-諸係数!$R17*投入係数!F12","v":1.5891272094270344E-3},{"$f":"投入係数!G12-諸係数!$R17*投入係数!G12","v":2.2264751943319519E-3},{"$f":"投入係数!H12-諸係数!$R17*投入係数!H12","v":9.7210178919267861E-4},{"$f":"投入係数!I12-諸係数!$R17*投入係数!I12","v":1.0937382671875072E-2},{"$f":"投入係数!J12-諸係数!$R17*投入係数!J12","v":2.8684093056341011E-3},{"$f":"投入係数!K12-諸係数!$R17*投入係数!K12","v":4.0899817294951443E-2},{"$f":"投入係数!L12-諸係数!$R17*投入係数!L12","v":-4.8528416204963163E-4},{"$f":"投入係数!M12-諸係数!$R17*投入係数!M12","v":2.3270302730671613E-2},{"$f":"投入係数!N12-諸係数!$R17*投入係数!N12","v":2.126283439518737E-3},{"$f":"投入係数!O12-諸係数!$R17*投入係数!O12","v":3.3522295338770975E-4},{"$f":"投入係数!P12-諸係数!$R17*投入係数!P12","v":6.9402525411733397E-4},{"$f":"投入係数!Q12-諸係数!$R17*投入係数!Q12","v":9.9511839105568146E-4},{"$f":"投入係数!R12-諸係数!$R17*投入係数!R12","v":5.3063562259505494E-4},{"$f":"投入係数!S12-諸係数!$R17*投入係数!S12","v":4.6716692213691954E-4},{"$f":"投入係数!T12-諸係数!$R17*投入係数!T12","v":1.6016402869467351E-3},{"$f":"投入係数!U12-諸係数!$R17*投入係数!U12","v":1.3964390066177009E-3},{"$f":"投入係数!V12-諸係数!$R17*投入係数!V12","v":1.0946427442591646E-3},{"$f":"投入係数!W12-諸係数!$R17*投入係数!W12","v":6.0790579799363813E-4},{"$f":"投入係数!X12-諸係数!$R17*投入係数!X12","v":7.9115985559323173E-4},{"$f":"投入係数!Y12-諸係数!$R17*投入係数!Y12","v":3.4145018017452547E-3},{"$f":"投入係数!Z12-諸係数!$R17*投入係数!Z12","v":5.4118198879767455E-4},{"$f":"投入係数!AA12-諸係数!$R17*投入係数!AA12","v":7.7628504875795735E-5},{"$f":"投入係数!AB12-諸係数!$R17*投入係数!AB12","v":8.8838361178566637E-4},{"$f":"投入係数!AC12-諸係数!$R17*投入係数!AC12","v":1.5646591819144296E-3},{"$f":"投入係数!AD12-諸係数!$R17*投入係数!AD12","v":8.6720923758569012E-7},{"$f":"投入係数!AE12-諸係数!$R17*投入係数!AE12","v":2.1354468967047871E-6},{"$f":"投入係数!AF12-諸係数!$R17*投入係数!AF12","v":3.3472608043527848E-6},{"$f":"投入係数!AG12-諸係数!$R17*投入係数!AG12","v":4.4819162362207492E-5},{"$f":"投入係数!AH12-諸係数!$R17*投入係数!AH12","v":1.2792125353728597E-4},{"$f":"投入係数!AI12-諸係数!$R17*投入係数!AI12","v":1.0399781554958356E-4},{"$f":"投入係数!AJ12-諸係数!$R17*投入係数!AJ12","v":5.1593473617392348E-4},{"$f":"投入係数!AK12-諸係数!$R17*投入係数!AK12","v":1.3712163019345278E-2},{"$f":"投入係数!AL12-諸係数!$R17*投入係数!AL12","v":2.3788613747868293E-4},{"$f":"投入係数!AM12-諸係数!$R17*投入係数!AM12","v":4.4283316499195988E-4},{"$f":"投入係数!AN12-諸係数!$R17*投入係数!AN12","v":3.1266188420729353E-4},{"$f":"投入係数!AO12-諸係数!$R17*投入係数!AO12","v":2.7438376860060276E-4},{"$f":"投入係数!AP12-諸係数!$R17*投入係数!AP12","v":2.955230311481096E-4},{"$f":"投入係数!AQ12-諸係数!$R17*投入係数!AQ12","v":1.8628381164925408E-3},{"$f":"投入係数!AR12-諸係数!$R17*投入係数!AR12","v":1.0103375195552448E-3},{"$f":"投入係数!AS12-諸係数!$R17*投入係数!AS12","v":7.7692560167537026E-4},{"$f":"投入係数!AT12","v":6.3095254978036517E-4},{"$f":"投入係数!AU12","v":7.2949786736017251E-6},{"$f":"投入係数!AV12","v":1.0311992728838934E-4},{"$f":"投入係数!AW12","v":1.4331707940495696E-4},{"$f":"投入係数!AX12","v":1.0196204230056162E-4},{"$f":"投入係数!AY12","v":1.0808635847537509E-3},{"$f":"投入係数!AZ12","v":3.4636828694743429E-4},{"$f":"投入係数!BA12","v":3.3917375700866703E-3},{"$f":"投入係数!BB12","v":2.0445257990457328E-5},{"$f":"投入係数!BC12","v":1.9050823782737793E-3},{"$f":"投入係数!BD12","v":3.2982675355116919E-4},{"$f":"投入係数!BE12","v":4.2023028455546961E-5},{"$f":"投入係数!BF12","v":8.3704149532203497E-5},{"$f":"投入係数!BG12","v":8.5980993602781215E-5},{"$f":"投入係数!BH12","v":4.2520188865462359E-5},{"$f":"投入係数!BI12","v":3.9118504602311799E-5},{"$f":"投入係数!BJ12","v":1.6255813848223985E-4},{"$f":"投入係数!BK12","v":1.7090279717199469E-4},{"$f":"投入係数!BL12","v":1.3170527622314998E-4},{"$f":"投入係数!BM12","v":9.9757397557812002E-5},{"$f":"投入係数!BN12","v":9.7067769480612309E-5},{"$f":"投入係数!BO12","v":3.3026682097643995E-4},{"$f":"投入係数!BP12","v":5.3462568616020152E-5},{"$f":"投入係数!BQ12","v":7.4245490880676864E-6},{"$f":"投入係数!BR12","v":8.6718252137914557E-5},{"$f":"投入係数!BS12","v":1.3939751064473722E-4},{"$f":"投入係数!BT12","v":8.8043105121077854E-8},{"$f":"投入係数!BU12","v":2.2553939880705504E-7},{"$f":"投入係数!BV12","v":3.4475747297429034E-7},{"$f":"投入係数!BW12","v":4.3168762235290474E-6},{"$f":"投入係数!BX12","v":1.2699581472107997E-5},{"$f":"投入係数!BY12","v":8.92750424048769E-6},{"$f":"投入係数!BZ12","v":7.9071764175071084E-5},{"$f":"投入係数!CA12","v":1.284382268611488E-3},{"$f":"投入係数!CB12","v":2.3386170961657604E-5},{"$f":"投入係数!CC12","v":4.0784477563657695E-5},{"$f":"投入係数!CD12","v":3.1143413521960953E-5},{"$f":"投入係数!CE12","v":2.5075712266173667E-5},{"$f":"投入係数!CF12","v":3.8616621143500835E-5},{"$f":"投入係数!CG12","v":1.6899045529594991E-4},{"$f":"投入係数!CH12","v":9.2107726107303669E-5},{"$f":"投入係数!CI12","v":7.2124938153656447E-5}]
[null,"09","石油・石炭製品",{"$f":"投入係数!D13-諸係数!$R18*投入係数!D13","v":1.0011813466822676E-3},{"$f":"投入係数!E13-諸係数!$R18*投入係数!E13","v":1.4144304903593243E-3},{"$f":"投入係数!F13-諸係数!$R18*投入係数!F13","v":4.5087936373470333E-3},{"$f":"投入係数!G13-諸係数!$R18*投入係数!G13","v":2.3497647194869998E-3},{"$f":"投入係数!H13-諸係数!$R18*投入係数!H13","v":2.8872204816655998E-4},{"$f":"投入係数!I13-諸係数!$R18*投入係数!I13","v":3.8660353859014277E-4},{"$f":"投入係数!J13-諸係数!$R18*投入係数!J13","v":2.1061659236512999E-4},{"$f":"投入係数!K13-諸係数!$R18*投入係数!K13","v":1.0246376956660973E-3},{"$f":"投入係数!L13-諸係数!$R18*投入係数!L13","v":9.2101825258966621E-3},{"$f":"投入係数!M13-諸係数!$R18*投入係数!M13","v":3.6384412375975244E-4},{"$f":"投入係数!N13-諸係数!$R18*投入係数!N13","v":1.9872094170647957E-3},{"$f":"投入係数!O13-諸係数!$R18*投入係数!O13","v":-2.0273642300864115E-3},{"$f":"投入係数!P13-諸係数!$R18*投入係数!P13","v":2.2499771384034724E-4},{"$f":"投入係数!Q13-諸係数!$R18*投入係数!Q13","v":3.1459375008584852E-4},{"$f":"投入係数!R13-諸係数!$R18*投入係数!R13","v":8.211612673976427E-5},{"$f":"投入係数!S13-諸係数!$R18*投入係数!S13","v":1.4834647459663035E-4},{"$f":"投入係数!T13-諸係数!$R18*投入係数!T13","v":1.775632215873504E-4},{"$f":"投入係数!U13-諸係数!$R18*投入係数!U13","v":1.7451021593080531E-4},{"$f":"投入係数!V13-諸係数!$R18*投入係数!V13","v":1.1062701269943259E-4},{"$f":"投入係数!W13-諸係数!$R18*投入係数!W13","v":6.9041251149009052E-5},{"$f":"投入係数!X13-諸係数!$R18*投入係数!X13","v":1.0920127133708503E-4},{"$f":"投入係数!Y13-諸係数!$R18*投入係数!Y13","v":2.3477672786938761E-4},{"$f":"投入係数!Z13-諸係数!$R18*投入係数!Z13","v":1.0393993888472184E-3},{"$f":"投入係数!AA13-諸係数!$R18*投入係数!AA13","v":5.0267095127010143E-3},{"$f":"投入係数!AB13-諸係数!$R18*投入係数!AB13","v":1.147081895050972E-3},{"$f":"投入係数!AC13-諸係数!$R18*投入係数!AC13","v":1.1719494160938827E-3},{"$f":"投入係数!AD13-諸係数!$R18*投入係数!AD13","v":1.4085751697517167E-4},{"$f":"投入係数!AE13-諸係数!$R18*投入係数!AE13","v":4.0235093101004509E-5},{"$f":"投入係数!AF13-諸係数!$R18*投入係数!AF13","v":4.8507935195913943E-5},{"$f":"投入係数!AG13-諸係数!$R18*投入係数!AG13","v":1.0767198216092629E-2},{"$f":"投入係数!AH13-諸係数!$R18*投入係数!AH13","v":7.7366729667518319E-5},{"$f":"投入係数!AI13-諸係数!$R18*投入係数!AI13","v":1.2496315863111652E-3},{"$f":"投入係数!AJ13-諸係数!$R18*投入係数!AJ13","v":2.6599540429403693E-4},{"$f":"投入係数!AK13-諸係数!$R18*投入係数!AK13","v":2.2517957430143697E-4},{"$f":"投入係数!AL13-諸係数!$R18*投入係数!AL13","v":3.199746909187326E-4},{"$f":"投入係数!AM13-諸係数!$R18*投入係数!AM13","v":2.2367871814807518E-4},{"$f":"投入係数!AN13-諸係数!$R18*投入係数!AN13","v":2.2711906701392649E-4},{"$f":"投入係数!AO13-諸係数!$R18*投入係数!AO13","v":4.280558312342662E-4},{"$f":"投入係数!AP13-諸係数!$R18*投入係数!AP13","v":9.0424470705127149E-4},{"$f":"投入係数!AQ13-諸係数!$R18*投入係数!AQ13","v":5.5253339869390733E-4},{"$f":"投入係数!AR13-諸係数!$R18*投入係数!AR13","v":0},{"$f":"投入係数!AS13-諸係数!$R18*投入係数!AS13","v":1.9121346480281765E-3},{"$f":"投入係数!AT13","v":2.3033424042039009E-5},{"$f":"投入係数!AU13","v":3.3605365043602355E-5},{"$f":"投入係数!AV13","v":1.7279831360690861E-4},{"$f":"投入係数!AW13","v":7.6676098906662885E-5},{"$f":"投入係数!AX13","v":1.4074191209101598E-5},{"$f":"投入係数!AY13","v":2.0414610075351421E-5},{"$f":"投入係数!AZ13","v":1.3329589769117737E-5},{"$f":"投入係数!BA13","v":3.0050485392168114E-4},{"$f":"投入係数!BB13","v":2.1152235159446368E-4},{"$f":"投入係数!BC13","v":6.4206741267604812E-6},{"$f":"投入係数!BD13","v":7.3542125869351151E-5},{"$f":"投入係数!BE13","v":1.3670896437388178E-4},{"$f":"投入係数!BF13","v":9.3051920359294097E-6},{"$f":"投入係数!BG13","v":1.0142868808785749E-5},{"$f":"投入係数!BH13","v":4.4253138275052019E-6},{"$f":"投入係数!BI13","v":3.6864934591169218E-6},{"$f":"投入係数!BJ13","v":3.111605795686842E-6},{"$f":"投入係数!BK13","v":4.6323825536779529E-6},{"$f":"投入係数!BL13","v":3.6069148409521431E-6},{"$f":"投入係数!BM13","v":1.5236863505085291E-6},{"$f":"投入係数!BN13","v":6.8572123482583904E-6},{"$f":"投入係数!BO13","v":6.511284531846571E-6},{"$f":"投入係数!BP13","v":4.2205824261279992E-5},{"$f":"投入係数!BQ13","v":1.7114340268813854E-4},{"$f":"投入係数!BR13","v":3.9456083844239958E-5},{"$f":"投入係数!BS13","v":3.9536355687835429E-5},{"$f":"投入係数!BT13","v":5.4482694142897846E-6},{"$f":"投入係数!BU13","v":1.5195608143564134E-6},{"$f":"投入係数!BV13","v":1.3674995416304627E-6},{"$f":"投入係数!BW13","v":3.3948465325072335E-4},{"$f":"投入係数!BX13","v":2.6942330935270828E-6},{"$f":"投入係数!BY13","v":3.6751702355082549E-5},{"$f":"投入係数!BZ13","v":1.20620803048534E-5},{"$f":"投入係数!CA13","v":7.7233702202892774E-6},{"$f":"投入係数!CB13","v":1.2049974410244672E-5},{"$f":"投入係数!CC13","v":7.0687124606372776E-6},{"$f":"投入係数!CD13","v":8.4932896808784429E-6},{"$f":"投入係数!CE13","v":1.4783239195994931E-5},{"$f":"投入係数!CF13","v":2.6195499777741086E-5},{"$f":"投入係数!CG13","v":1.8161742768858163E-5},{"$f":"投入係数!CH13","v":0},{"$f":"投入係数!CI13","v":6.6644938404979815E-5}]
[null,"10","プラスチック・ゴム製品",{"$f":"投入係数!D14-諸係数!$R19*投入係数!D14","v":3.3834879461053262E-3},{"$f":"投入係数!E14-諸係数!$R19*投入係数!E14","v":9.6274498409077459E-3},{"$f":"投入係数!F14-諸係数!$R19*投入係数!F14","v":4.5323789739015029E-3},{"$f":"投入係数!G14-諸係数!$R19*投入係数!G14","v":1.2868723533233269E-3},{"$f":"投入係数!H14-諸係数!$R19*投入係数!H14","v":4.7883224771345361E-3},{"$f":"投入係数!I14-諸係数!$R19*投入係数!I14","v":3.0685306192914878E-3},{"$f":"投入係数!J14-諸係数!$R19*投入係数!J14","v":5.3493441578359481E-3},{"$f":"投入係数!K14-諸係数!$R19*投入係数!K14","v":4.499119163835383E-3},{"$f":"投入係数!L14-諸係数!$R19*投入係数!L14","v":2.9967574543889389E-5},{"$f":"投入係数!M14-諸係数!$R19*投入係数!M14","v":4.4271011649146291E-2},{"$f":"投入係数!N14-諸係数!$R19*投入係数!N14","v":1.9423562358621747E-3},{"$f":"投入係数!O14-諸係数!$R19*投入係数!O14","v":1.8740075443199604E-4},{"$f":"投入係数!P14-諸係数!$R19*投入係数!P14","v":7.8027864378206642E-4},{"$f":"投入係数!Q14-諸係数!$R19*投入係数!Q14","v":1.3662864711427463E-3},{"$f":"投入係数!R14-諸係数!$R19*投入係数!R14","v":4.7389267381825664E-3},{"$f":"投入係数!S14-諸係数!$R19*投入係数!S14","v":5.8697135664943969E-3},{"$f":"投入係数!T14-諸係数!$R19*投入係数!T14","v":1.6581903981137451E-2},{"$f":"投入係数!U14-諸係数!$R19*投入係数!U14","v":6.461285970683993E-3},{"$f":"投入係数!V14-諸係数!$R19*投入係数!V14","v":8.6007063700692544E-3},{"$f":"投入係数!W14-諸係数!$R19*投入係数!W14","v":8.6880123169556164E-3},{"$f":"投入係数!X14-諸係数!$R19*投入係数!X14","v":1.1125615707369143E-2},{"$f":"投入係数!Y14-諸係数!$R19*投入係数!Y14","v":1.4815458472912272E-2},{"$f":"投入係数!Z14-諸係数!$R19*投入係数!Z14","v":3.6732846335675064E-3},{"$f":"投入係数!AA14-諸係数!$R19*投入係数!AA14","v":0},{"$f":"投入係数!AB14-諸係数!$R19*投入係数!AB14","v":1.0452343442013904E-2},{"$f":"投入係数!AC14-諸係数!$R19*投入係数!AC14","v":4.0915281136811744E-3},{"$f":"投入係数!AD14-諸係数!$R19*投入係数!AD14","v":1.2463336300070843E-3},{"$f":"投入係数!AE14-諸係数!$R19*投入係数!AE14","v":7.4906213291726941E-4},{"$f":"投入係数!AF14-諸係数!$R19*投入係数!AF14","v":1.7780536536595931E-4},{"$f":"投入係数!AG14-諸係数!$R19*投入係数!AG14","v":7.8393328002437836E-4},{"$f":"投入係数!AH14-諸係数!$R19*投入係数!AH14","v":7.7649278949381618E-4},{"$f":"投入係数!AI14-諸係数!$R19*投入係数!AI14","v":6.0499916388289244E-4},{"$f":"投入係数!AJ14-諸係数!$R19*投入係数!AJ14","v":6.6054373396317255E-4},{"$f":"投入係数!AK14-諸係数!$R19*投入係数!AK14","v":6.4728187177135051E-4},{"$f":"投入係数!AL14-諸係数!$R19*投入係数!AL14","v":2.1779866447239607E-3},{"$f":"投入係数!AM14-諸係数!$R19*投入係数!AM14","v":3.1590724331842695E-3},{"$f":"投入係数!AN14-諸係数!$R19*投入係数!AN14","v":8.1399704464997079E-4},{"$f":"投入係数!AO14-諸係数!$R19*投入係数!AO14","v":3.7139640636433863E-4},{"$f":"投入係数!AP14-諸係数!$R19*投入係数!AP14","v":2.1611657062256965E-3},{"$f":"投入係数!AQ14-諸係数!$R19*投入係数!AQ14","v":8.0887212421322779E-4},{"$f":"投入係数!AR14-諸係数!$R19*投入係数!AR14","v":1.3829176113300489E-2},{"$f":"投入係数!AS14-諸係数!$R19*投入係数!AS14","v":1.1290263124713899E-3},{"$f":"投入係数!AT14","v":1.4392765261269527E-4},{"$f":"投入係数!AU14","v":2.6277227376029713E-4},{"$f":"投入係数!AV14","v":2.9919329813138883E-4},{"$f":"投入係数!AW14","v":8.8745033788572504E-5},{"$f":"投入係数!AX14","v":3.5154269761465234E-4},{"$f":"投入係数!AY14","v":1.947202770512718E-4},{"$f":"投入係数!AZ14","v":3.9880663923464859E-4},{"$f":"投入係数!BA14","v":3.4450551436448384E-4},{"$f":"投入係数!BB14","v":2.5446630837088476E-6},{"$f":"投入係数!BC14","v":4.0833719134239646E-3},{"$f":"投入係数!BD14","v":1.4030091713960674E-4},{"$f":"投入係数!BE14","v":1.3157092830133567E-5},{"$f":"投入係数!BF14","v":1.020832271980245E-4},{"$f":"投入係数!BG14","v":9.0858520221123764E-5},{"$f":"投入係数!BH14","v":2.4420064752787401E-4},{"$f":"投入係数!BI14","v":3.8488568234500825E-4},{"$f":"投入係数!BJ14","v":7.4075847226244876E-4},{"$f":"投入係数!BK14","v":3.690336593115955E-4},{"$f":"投入係数!BL14","v":7.4054236781354423E-4},{"$f":"投入係数!BM14","v":7.6764786951969571E-4},{"$f":"投入係数!BN14","v":7.0245071927387394E-4},{"$f":"投入係数!BO14","v":1.0672235815383795E-3},{"$f":"投入係数!BP14","v":2.5556755425310836E-4},{"$f":"投入係数!BQ14","v":0},{"$f":"投入係数!BR14","v":7.1652806655923005E-4},{"$f":"投入係数!BS14","v":2.5575225611023815E-4},{"$f":"投入係数!BT14","v":9.9158547142613932E-5},{"$f":"投入係数!BU14","v":5.2931513501496666E-5},{"$f":"投入係数!BV14","v":1.0953192178348925E-5},{"$f":"投入係数!BW14","v":5.3311259509022139E-5},{"$f":"投入係数!BX14","v":7.6198730319366442E-5},{"$f":"投入係数!BY14","v":3.5751163534979467E-5},{"$f":"投入係数!BZ14","v":7.2492166998109768E-5},{"$f":"投入係数!CA14","v":3.9258207172186337E-5},{"$f":"投入係数!CB14","v":1.4747586665573672E-4},{"$f":"投入係数!CC14","v":1.6869540368467882E-4},{"$f":"投入係数!CD14","v":5.850234689256152E-5},{"$f":"投入係数!CE14","v":2.5041691310675059E-5},{"$f":"投入係数!CF14","v":1.3270051607335771E-4},{"$f":"投入係数!CG14","v":4.6936909462640836E-5},{"$f":"投入係数!CH14","v":8.9248135472156927E-4},{"$f":"投入係数!CI14","v":7.4193488724917116E-5}]
[null,"11","窯業・土石製品",{"$f":"投入係数!D15-諸係数!$R20*投入係数!D15","v":1.0776745863867124E-3},{"$f":"投入係数!E15-諸係数!$R20*投入係数!E15","v":7.7154848851029021E-4},{"$f":"投入係数!F15-諸係数!$R20*投入係数!F15","v":1.9752263878160638E-5},{"$f":"投入係数!G15-諸係数!$R20*投入係数!G15","v":6.6066495165703512E-5},{"$f":"投入係数!H15-諸係数!$R20*投入係数!H15","v":1.3006102190924105E-3},{"$f":"投入係数!I15-諸係数!$R20*投入係数!I15","v":2.1162926330434175E-4},{"$f":"投入係数!J15-諸係数!$R20*投入係数!J15","v":2.6009876218555522E-3},{"$f":"投入係数!K15-諸係数!$R20*投入係数!K15","v":3.1742883620921843E-3},{"$f":"投入係数!L15-諸係数!$R20*投入係数!L15","v":6.3486688521840345E-4},{"$f":"投入係数!M15-諸係数!$R20*投入係数!M15","v":9.1240844773353555E-4},{"$f":"投入係数!N15-諸係数!$R20*投入係数!N15","v":3.0831095373316179E-2},{"$f":"投入係数!O15-諸係数!$R20*投入係数!O15","v":1.6175531512690846E-3},{"$f":"投入係数!P15-諸係数!$R20*投入係数!P15","v":4.1894913719706314E-3},{"$f":"投入係数!Q15-諸係数!$R20*投入係数!Q15","v":1.5406347134634922E-3},{"$f":"投入係数!R15-諸係数!$R20*投入係数!R15","v":4.0214253705914945E-3},{"$f":"投入係数!S15-諸係数!$R20*投入係数!S15","v":1.4401498998877567E-3},{"$f":"投入係数!T15-諸係数!$R20*投入係数!T15","v":5.8809431206062876E-3},{"$f":"投入係数!U15-諸係数!$R20*投入係数!U15","v":1.4170374526183357E-2},{"$f":"投入係数!V15-諸係数!$R20*投入係数!V15","v":3.7444456248807326E-3},{"$f":"投入係数!W15-諸係数!$R20*投入係数!W15","v":1.1268378431970815E-3},{"$f":"投入係数!X15-諸係数!$R20*投入係数!X15","v":4.472528156264215E-3},{"$f":"投入係数!Y15-諸係数!$R20*投入係数!Y15","v":1.4176913597694519E-3},{"$f":"投入係数!Z15-諸係数!$R20*投入係数!Z15","v":2.2174543749463777E-2},{"$f":"投入係数!AA15-諸係数!$R20*投入係数!AA15","v":1.8130373489876448E-5},{"$f":"投入係数!AB15-諸係数!$R20*投入係数!AB15","v":1.890415754600814E-3},{"$f":"投入係数!AC15-諸係数!$R20*投入係数!AC15","v":2.1903773881004339E-4},{"$f":"投入係数!AD15-諸係数!$R20*投入係数!AD15","v":8.010640496644274E-5},{"$f":"投入係数!AE15-諸係数!$R20*投入係数!AE15","v":3.7445507351363344E-6},{"$f":"投入係数!AF15-諸係数!$R20*投入係数!AF15","v":2.636170961497726E-5},{"$f":"投入係数!AG15-諸係数!$R20*投入係数!AG15","v":1.4829124062773604E-5},{"$f":"投入係数!AH15-諸係数!$R20*投入係数!AH15","v":3.8652908232884896E-6},{"$f":"投入係数!AI15-諸係数!$R20*投入係数!AI15","v":7.5437523152730828E-5},{"$f":"投入係数!AJ15-諸係数!$R20*投入係数!AJ15","v":8.5160935396434235E-4},{"$f":"投入係数!AK15-諸係数!$R20*投入係数!AK15","v":3.5848318051096115E-4},{"$f":"投入係数!AL15-諸係数!$R20*投入係数!AL15","v":1.9883483788183859E-4},{"$f":"投入係数!AM15-諸係数!$R20*投入係数!AM15","v":3.4902391160049323E-4},{"$f":"投入係数!AN15-諸係数!$R20*投入係数!AN15","v":7.240180758327821E-4},{"$f":"投入係数!AO15-諸係数!$R20*投入係数!AO15","v":7.0873863675234507E-4},{"$f":"投入係数!AP15-諸係数!$R20*投入係数!AP15","v":5.8449141800304702E-4},{"$f":"投入係数!AQ15-諸係数!$R20*投入係数!AQ15","v":2.5189249295075452E-4},{"$f":"投入係数!AR15-諸係数!$R20*投入係数!AR15","v":2.1997569869816854E-3},{"$f":"投入係数!AS15-諸係数!$R20*投入係数!AS15","v":2.0391073579605849E-3},{"$f":"投入係数!AT15","v":7.5468933801637567E-5},{"$f":"投入係数!AU15","v":2.3377090749496439E-5},{"$f":"投入係数!AV15","v":1.4359440301948014E-6},{"$f":"投入係数!AW15","v":1.536931969825422E-5},{"$f":"投入係数!AX15","v":8.3178587042759532E-5},{"$f":"投入係数!AY15","v":1.886577907420334E-5},{"$f":"投入係数!AZ15","v":9.1838462648414246E-5},{"$f":"投入係数!BA15","v":1.9384058007422908E-4},{"$f":"投入係数!BB15","v":8.9263645769697376E-6},{"$f":"投入係数!BC15","v":9.0600461954851481E-5},{"$f":"投入係数!BD15","v":2.4452723583611247E-3},{"$f":"投入係数!BE15","v":1.4824599816739219E-4},{"$f":"投入係数!BF15","v":2.6534872496026163E-4},{"$f":"投入係数!BG15","v":1.052041867456607E-4},{"$f":"投入係数!BH15","v":1.8763775967576475E-4},{"$f":"投入係数!BI15","v":1.3018338670387581E-4},{"$f":"投入係数!BJ15","v":5.4596177130265345E-4},{"$f":"投入係数!BK15","v":1.0303567847396013E-3},{"$f":"投入係数!BL15","v":2.6608327951018374E-4},{"$f":"投入係数!BM15","v":8.1651230720383548E-5},{"$f":"投入係数!BN15","v":1.5956918464460739E-4},{"$f":"投入係数!BO15","v":1.3658357336828239E-4},{"$f":"投入係数!BP15","v":1.5988563506624603E-3},{"$f":"投入係数!BQ15","v":1.2872451513125968E-6},{"$f":"投入係数!BR15","v":1.3289338140682179E-4},{"$f":"投入係数!BS15","v":1.441072435607579E-5},{"$f":"投入係数!BT15","v":6.0269009658566695E-6},{"$f":"投入係数!BU15","v":2.9230138300991561E-7},{"$f":"投入係数!BV15","v":2.114281893903647E-6},{"$f":"投入係数!BW15","v":8.5867226937882312E-7},{"$f":"投入係数!BX15","v":3.4389182101543753E-7},{"$f":"投入係数!BY15","v":5.3013973869959424E-6},{"$f":"投入係数!BZ15","v":5.4000333448105158E-5},{"$f":"投入係数!CA15","v":2.4415970377230378E-5},{"$f":"投入係数!CB15","v":1.3695173868469959E-5},{"$f":"投入係数!CC15","v":1.8473550631773725E-5},{"$f":"投入係数!CD15","v":5.7732072410763477E-5},{"$f":"投入係数!CE15","v":5.4089161126002836E-5},{"$f":"投入係数!CF15","v":3.4483114845266335E-5},{"$f":"投入係数!CG15","v":1.6583578545609895E-5},{"$f":"投入係数!CH15","v":1.4838554675886622E-4},{"$f":"投入係数!CI15","v":1.4005082926533136E-4}]
[null,"12","鉄鋼",{"$f":"投入係数!D16-諸係数!$R21*投入係数!D16","v":3.0385563902209271E-5},{"$f":"投入係数!E16-諸係数!$R21*投入係数!E16","v":2.9471299092108046E-6},{"$f":"投入係数!F16-諸係数!$R21*投入係数!F16","v":2.09825335922804E-4},{"$f":"投入係数!G16-諸係数!$R21*投入係数!G16","v":8.2726651871938451E-4},{"$f":"投入係数!H16-諸係数!$R21*投入係数!H16","v":0},{"$f":"投入係数!I16-諸係数!$R21*投入係数!I16","v":7.712398721319593E-5},{"$f":"投入係数!J16-諸係数!$R21*投入係数!J16","v":4.8351345909689453E-3},{"$f":"投入係数!K16-諸係数!$R21*投入係数!K16","v":9.8163353481763068E-5},{"$f":"投入係数!L16-諸係数!$R21*投入係数!L16","v":-4.6060812676988002E-6},{"$f":"投入係数!M16-諸係数!$R21*投入係数!M16","v":9.3056476254650201E-4},{"$f":"投入係数!N16-諸係数!$R21*投入係数!N16","v":5.1654707344191697E-3},{"$f":"投入係数!O16-諸係数!$R21*投入係数!O16","v":0.33643023660415239},{"$f":"投入係数!P16-諸係数!$R21*投入係数!P16","v":3.3318057651309522E-4},{"$f":"投入係数!Q16-諸係数!$R21*投入係数!Q16","v":0.14511290220041201},{"$f":"投入係数!R16-諸係数!$R21*投入係数!R16","v":5.7903497901956133E-2},{"$f":"投入係数!S16-諸係数!$R21*投入係数!S16","v":5.1885388956111479E-2},{"$f":"投入係数!T16-諸係数!$R21*投入係数!T16","v":1.1871672016779878E-2},{"$f":"投入係数!U16-諸係数!$R21*投入係数!U16","v":2.547951593427768E-3},{"$f":"投入係数!V16-諸係数!$R21*投入係数!V16","v":3.4464245731650141E-2},{"$f":"投入係数!W16-諸係数!$R21*投入係数!W16","v":6.1999622288790857E-3},{"$f":"投入係数!X16-諸係数!$R21*投入係数!X16","v":2.7636652500706103E-2},{"$f":"投入係数!Y16-諸係数!$R21*投入係数!Y16","v":9.6255485903633026E-4},{"$f":"投入係数!Z16-諸係数!$R21*投入係数!Z16","v":1.3537915236571656E-2},{"$f":"投入係数!AA16-諸係数!$R21*投入係数!AA16","v":0},{"$f":"投入係数!AB16-諸係数!$R21*投入係数!AB16","v":1.4737267805219993E-5},{"$f":"投入係数!AC16-諸係数!$R21*投入係数!AC16","v":0},{"$f":"投入係数!AD16-諸係数!$R21*投入係数!AD16","v":0},{"$f":"投入係数!AE16-諸係数!$R21*投入係数!AE16","v":0},{"$f":"投入係数!AF16-諸係数!$R21*投入係数!AF16","v":0},{"$f":"投入係数!AG16-諸係数!$R21*投入係数!AG16","v":1.0874848926920762E-4},{"$f":"投入係数!AH16-諸係数!$R21*投入係数!AH16","v":0},{"$f":"投入係数!AI16-諸係数!$R21*投入係数!AI16","v":2.6562767434210765E-5},{"$f":"投入係数!AJ16-諸係数!$R21*投入係数!AJ16","v":0},{"$f":"投入係数!AK16-諸係数!$R21*投入係数!AK16","v":1.5461012604410437E-6},{"$f":"投入係数!AL16-諸係数!$R21*投入係数!AL16","v":2.3840681132503211E-6},{"$f":"投入係数!AM16-諸係数!$R21*投入係数!AM16","v":8.3416614903717302E-5},{"$f":"投入係数!AN16-諸係数!$R21*投入係数!AN16","v":1.2009743045266846E-5},{"$f":"投入係数!AO16-諸係数!$R21*投入係数!AO16","v":1.5036491641054522E-5},{"$f":"投入係数!AP16-諸係数!$R21*投入係数!AP16","v":1.2934736911851961E-6},{"$f":"投入係数!AQ16-諸係数!$R21*投入係数!AQ16","v":3.4233185524948447E-5},{"$f":"投入係数!AR16-諸係数!$R21*投入係数!AR16","v":1.4371690957731437E-5},{"$f":"投入係数!AS16-諸係数!$R21*投入係数!AS16","v":2.9730983586928701E-3},{"$f":"投入係数!AT16","v":1.0907382845072738E-6},{"$f":"投入係数!AU16","v":3.188364804895859E-7},{"$f":"投入係数!AV16","v":7.1669562040389424E-6},{"$f":"投入係数!AW16","v":8.6479825021634882E-5},{"$f":"投入係数!AX16","v":0},{"$f":"投入係数!AY16","v":4.9008630583773172E-6},{"$f":"投入係数!AZ16","v":3.0737367826260043E-4},{"$f":"投入係数!BA16","v":9.8484759582121479E-7},{"$f":"投入係数!BB16","v":0},{"$f":"投入係数!BC16","v":6.439984981186437E-5},{"$f":"投入係数!BD16","v":2.506523640838441E-4},{"$f":"投入係数!BE16","v":1.6629518264248685E-2},{"$f":"投入係数!BF16","v":3.7780046319510579E-5},{"$f":"投入係数!BG16","v":7.1993565132391253E-3},{"$f":"投入係数!BH16","v":3.6409363908294821E-3},{"$f":"投入係数!BI16","v":2.9387420643080158E-3},{"$f":"投入係数!BJ16","v":7.1678747546446119E-4},{"$f":"投入係数!BK16","v":1.8012910988510618E-4},{"$f":"投入係数!BL16","v":1.4132513027543059E-3},{"$f":"投入係数!BM16","v":2.872607712380417E-4},{"$f":"投入係数!BN16","v":1.7047400174983935E-3},{"$f":"投入係数!BO16","v":1.0596540318828436E-4},{"$f":"投入係数!BP16","v":7.45801115915509E-4},{"$f":"投入係数!BQ16","v":0},{"$f":"投入係数!BR16","v":8.1241863956297103E-7},{"$f":"投入係数!BS16","v":0},{"$f":"投入係数!BT16","v":0},{"$f":"投入係数!BU16","v":0},{"$f":"投入係数!BV16","v":0},{"$f":"投入係数!BW16","v":7.9385464975124328E-6},{"$f":"投入係数!BX16","v":0},{"$f":"投入係数!BY16","v":1.0851757582950382E-6},{"$f":"投入係数!BZ16","v":0},{"$f":"投入係数!CA16","v":8.5782535777386459E-8},{"$f":"投入係数!CB16","v":1.4509582704120598E-7},{"$f":"投入係数!CC16","v":3.4316399120589961E-6},{"$f":"投入係数!CD16","v":6.7703072873828166E-7},{"$f":"投入係数!CE16","v":7.7794584906815913E-7},{"$f":"投入係数!CF16","v":9.9759333535565026E-8},{"$f":"投入係数!CG16","v":1.5234302039448607E-6},{"$f":"投入係数!CH16","v":7.3686180885842939E-7},{"$f":"投入係数!CI16","v":1.561766743069559E-4}]
[null,"13","非鉄金属",{"$f":"投入係数!D17-諸係数!$R22*投入係数!D17","v":0},{"$f":"投入係数!E17-諸係数!$R22*投入係数!E17","v":0},{"$f":"投入係数!F17-諸係数!$R22*投入係数!F17","v":0},{"$f":"投入係数!G17-諸係数!$R22*投入係数!G17","v":5.4040127103476769E-5},{"$f":"投入係数!H17-諸係数!$R22*投入係数!H17","v":1.1526576017109055E-4},{"$f":"投入係数!I17-諸係数!$R22*投入係数!I17","v":3.4640239078730036E-7},{"$f":"投入係数!J17-諸係数!$R22*投入係数!J17","v":2.6035096973681072E-4},{"$f":"投入係数!K17-諸係数!$R22*投入係数!K17","v":1.2296853285989765E-3},{"$f":"投入係数!L17-諸係数!$R22*投入係数!L17","v":1.7094075248091719E-7},{"$f":"投入係数!M17-諸係数!$R22*投入係数!M17","v":2.6133140330951627E-4},{"$f":"投入係数!N17-諸係数!$R22*投入係数!N17","v":8.2061427179203061E-4},{"$f":"投入係数!O17-諸係数!$R22*投入係数!O17","v":9.9207302027702182E-4},{"$f":"投入係数!P17-諸係数!$R22*投入係数!P17","v":4.7596128177319758E-2},{"$f":"投入係数!Q17-諸係数!$R22*投入係数!Q17","v":6.4620411902235261E-3},{"$f":"投入係数!R17-諸係数!$R22*投入係数!R17","v":3.7106502216141795E-3},{"$f":"投入係数!S17-諸係数!$R22*投入係数!S17","v":1.9059894332362501E-3},{"$f":"投入係数!T17-諸係数!$R22*投入係数!T17","v":6.098604192290729E-3},{"$f":"投入係数!U17-諸係数!$R22*投入係数!U17","v":2.0011716920534063E-3},{"$f":"投入係数!V17-諸係数!$R22*投入係数!V17","v":6.3685117548435179E-3},{"$f":"投入係数!W17-諸係数!$R22*投入係数!W17","v":2.2295771132464798E-3},{"$f":"投入係数!X17-諸係数!$R22*投入係数!X17","v":1.3438442751247384E-3},{"$f":"投入係数!Y17-諸係数!$R22*投入係数!Y17","v":7.6935976451184126E-4},{"$f":"投入係数!Z17-諸係数!$R22*投入係数!Z17","v":8.014288301759708E-4},{"$f":"投入係数!AA17-諸係数!$R22*投入係数!AA17","v":2.1599472125052128E-5},{"$f":"投入係数!AB17-諸係数!$R22*投入係数!AB17","v":2.1752007034700911E-5},{"$f":"投入係数!AC17-諸係数!$R22*投入係数!AC17","v":4.0802056436964794E-7},{"$f":"投入係数!AD17-諸係数!$R22*投入係数!AD17","v":1.2276595132837443E-6},{"$f":"投入係数!AE17-諸係数!$R22*投入係数!AE17","v":0},{"$f":"投入係数!AF17-諸係数!$R22*投入係数!AF17","v":0},{"$f":"投入係数!AG17-諸係数!$R22*投入係数!AG17","v":1.2639240389941643E-6},{"$f":"投入係数!AH17-諸係数!$R22*投入係数!AH17","v":7.2415979032212543E-6},{"$f":"投入係数!AI17-諸係数!$R22*投入係数!AI17","v":2.4344223209653881E-5},{"$f":"投入係数!AJ17-諸係数!$R22*投入係数!AJ17","v":5.1873548952785765E-6},{"$f":"投入係数!AK17-諸係数!$R22*投入係数!AK17","v":1.2907365048648797E-4},{"$f":"投入係数!AL17-諸係数!$R22*投入係数!AL17","v":1.9954101639317872E-5},{"$f":"投入係数!AM17-諸係数!$R22*投入係数!AM17","v":4.0721788263593957E-5},{"$f":"投入係数!AN17-諸係数!$R22*投入係数!AN17","v":5.7881595948894424E-5},{"$f":"投入係数!AO17-諸係数!$R22*投入係数!AO17","v":3.2262879427187618E-5},{"$f":"投入係数!AP17-諸係数!$R22*投入係数!AP17","v":0},{"$f":"投入係数!AQ17-諸係数!$R22*投入係数!AQ17","v":4.5792741950997261E-5},{"$f":"投入係数!AR17-諸係数!$R22*投入係数!AR17","v":9.1935366090532529E-5},{"$f":"投入係数!AS17-諸係数!$R22*投入係数!AS17","v":3.6501149259255241E-4},{"$f":"投入係数!AT17","v":0},{"$f":"投入係数!AU17","v":0},{"$f":"投入係数!AV17","v":0},{"$f":"投入係数!AW17","v":4.6887385767257326E-6},{"$f":"投入係数!AX17","v":9.8788975664558327E-6},{"$f":"投入係数!AY17","v":5.6526678874017502E-8},{"$f":"投入係数!AZ17","v":1.7148631817750373E-5},{"$f":"投入係数!BA17","v":3.2294263123601384E-5},{"$f":"投入係数!BB17","v":7.8978492134861944E-8},{"$f":"投入係数!BC17","v":1.6005072909666135E-5},{"$f":"投入係数!BD17","v":6.6140007437282656E-5},{"$f":"投入係数!BE17","v":5.7600005980403981E-5},{"$f":"投入係数!BF17","v":2.7317125444126997E-3},{"$f":"投入係数!BG17","v":4.6319305622640801E-4},{"$f":"投入係数!BH17","v":2.5906528732387379E-4},{"$f":"投入係数!BI17","v":1.3176724068133828E-4},{"$f":"投入係数!BJ17","v":2.5158205270968035E-4},{"$f":"投入係数!BK17","v":3.8122533019261312E-4},{"$f":"投入係数!BL17","v":4.4072129257681448E-4},{"$f":"投入係数!BM17","v":2.7662801058485451E-4},{"$f":"投入係数!BN17","v":1.6640897443524652E-4},{"$f":"投入係数!BO17","v":8.7748939379433128E-5},{"$f":"投入係数!BP17","v":6.1170186067295806E-5},{"$f":"投入係数!BQ17","v":1.8294851517193644E-6},{"$f":"投入係数!BR17","v":1.7415509428378057E-6},{"$f":"投入係数!BS17","v":2.5400806738088934E-8},{"$f":"投入係数!BT17","v":8.9904713065180259E-8},{"$f":"投入係数!BU17","v":0},{"$f":"投入係数!BV17","v":0},{"$f":"投入係数!BW17","v":8.9508240094258945E-8},{"$f":"投入係数!BX17","v":4.723856963768013E-7},{"$f":"投入係数!BY17","v":1.3685141852268839E-6},{"$f":"投入係数!BZ17","v":6.3119678407489727E-7},{"$f":"投入係数!CA17","v":8.3647262910292323E-6},{"$f":"投入係数!CB17","v":1.4884023548097905E-6},{"$f":"投入係数!CC17","v":2.3219987141258782E-6},{"$f":"投入係数!CD17","v":4.3925915843588515E-6},{"$f":"投入係数!CE17","v":2.260881498190797E-6},{"$f":"投入係数!CF17","v":0},{"$f":"投入係数!CG17","v":3.2367708688060919E-6},{"$f":"投入係数!CH17","v":6.3908591499067615E-6},{"$f":"投入係数!CI17","v":2.5822590660699917E-5}]
[null,"14","金属製品",{"$f":"投入係数!D18-諸係数!$R23*投入係数!D18","v":5.4040103062232448E-4},{"$f":"投入係数!E18-諸係数!$R23*投入係数!E18","v":1.858593522529715E-4},{"$f":"投入係数!F18-諸係数!$R23*投入係数!F18","v":7.2074457833271033E-4},{"$f":"投入係数!G18-諸係数!$R23*投入係数!G18","v":5.5379567120059422E-3},{"$f":"投入係数!H18-諸係数!$R23*投入係数!H18","v":4.1840190384023436E-3},{"$f":"投入係数!I18-諸係数!$R23*投入係数!I18","v":9.2050458566208626E-4},{"$f":"投入係数!J18-諸係数!$R23*投入係数!J18","v":6.3415780089657644E-3},{"$f":"投入係数!K18-諸係数!$R23*投入係数!K18","v":3.6103530698330761E-3},{"$f":"投入係数!L18-諸係数!$R23*投入係数!L18","v":5.1652027666037974E-4},{"$f":"投入係数!M18-諸係数!$R23*投入係数!M18","v":3.4009743794931749E-3},{"$f":"投入係数!N18-諸係数!$R23*投入係数!N18","v":3.1213093947744363E-3},{"$f":"投入係数!O18-諸係数!$R23*投入係数!O18","v":2.0628058051987372E-4},{"$f":"投入係数!P18-諸係数!$R23*投入係数!P18","v":6.6186259911388745E-4},{"$f":"投入係数!Q18-諸係数!$R23*投入係数!Q18","v":2.4484627899346766E-2},{"$f":"投入係数!R18-諸係数!$R23*投入係数!R18","v":9.1729894787802961E-3},{"$f":"投入係数!S18-諸係数!$R23*投入係数!S18","v":1.2000716302587176E-2},{"$f":"投入係数!T18-諸係数!$R23*投入係数!T18","v":1.1320131697062598E-2},{"$f":"投入係数!U18-諸係数!$R23*投入係数!U18","v":7.0709136224353653E-3},{"$f":"投入係数!V18-諸係数!$R23*投入係数!V18","v":1.0234924520826642E-2},{"$f":"投入係数!W18-諸係数!$R23*投入係数!W18","v":9.0264290612276765E-3},{"$f":"投入係数!X18-諸係数!$R23*投入係数!X18","v":2.314162857806105E-3},{"$f":"投入係数!Y18-諸係数!$R23*投入係数!Y18","v":3.2229253776655227E-3},{"$f":"投入係数!Z18-諸係数!$R23*投入係数!Z18","v":3.3615393709189506E-2},{"$f":"投入係数!AA18-諸係数!$R23*投入係数!AA18","v":1.6931495316963344E-4},{"$f":"投入係数!AB18-諸係数!$R23*投入係数!AB18","v":2.7938640376032569E-4},{"$f":"投入係数!AC18-諸係数!$R23*投入係数!AC18","v":5.9587346021679351E-5},{"$f":"投入係数!AD18-諸係数!$R23*投入係数!AD18","v":1.06735579063281E-3},{"$f":"投入係数!AE18-諸係数!$R23*投入係数!AE18","v":3.9490600872944598E-5},{"$f":"投入係数!AF18-諸係数!$R23*投入係数!AF18","v":1.0934303895800585E-4},{"$f":"投入係数!AG18-諸係数!$R23*投入係数!AG18","v":4.719672570205368E-4},{"$f":"投入係数!AH18-諸係数!$R23*投入係数!AH18","v":1.6237460960854687E-4},{"$f":"投入係数!AI18-諸係数!$R23*投入係数!AI18","v":1.9988537770407825E-3},{"$f":"投入係数!AJ18-諸係数!$R23*投入係数!AJ18","v":6.637730310166511E-5},{"$f":"投入係数!AK18-諸係数!$R23*投入係数!AK18","v":1.2280459528418746E-4},{"$f":"投入係数!AL18-諸係数!$R23*投入係数!AL18","v":8.755991714202464E-4},{"$f":"投入係数!AM18-諸係数!$R23*投入係数!AM18","v":4.6105173145049704E-4},{"$f":"投入係数!AN18-諸係数!$R23*投入係数!AN18","v":3.2967253884843921E-4},{"$f":"投入係数!AO18-諸係数!$R23*投入係数!AO18","v":1.0017283391769911E-3},{"$f":"投入係数!AP18-諸係数!$R23*投入係数!AP18","v":6.9054770150059116E-5},{"$f":"投入係数!AQ18-諸係数!$R23*投入係数!AQ18","v":1.6382339636287523E-3},{"$f":"投入係数!AR18-諸係数!$R23*投入係数!AR18","v":1.4173876493861481E-4},{"$f":"投入係数!AS18-諸係数!$R23*投入係数!AS18","v":2.1876404921617296E-3},{"$f":"投入係数!AT18","v":2.0909560327801481E-5},{"$f":"投入係数!AU18","v":1.0394069263960501E-5},{"$f":"投入係数!AV18","v":2.4002602211389545E-5},{"$f":"投入係数!AW18","v":3.2801684370267759E-4},{"$f":"投入係数!AX18","v":1.9373038356203357E-4},{"$f":"投入係数!AY18","v":3.8265735263766145E-5},{"$f":"投入係数!AZ18","v":1.9310228358950557E-4},{"$f":"投入係数!BA18","v":1.3908778684037568E-4},{"$f":"投入係数!BB18","v":7.5131282252837987E-6},{"$f":"投入係数!BC18","v":1.079587744332944E-4},{"$f":"投入係数!BD18","v":1.6700177221186822E-4},{"$f":"投入係数!BE18","v":1.3915710591226726E-5},{"$f":"投入係数!BF18","v":2.6932811576662369E-5},{"$f":"投入係数!BG18","v":1.1223014144057704E-3},{"$f":"投入係数!BH18","v":5.683464142712144E-4},{"$f":"投入係数!BI18","v":5.1564957108537687E-4},{"$f":"投入係数!BJ18","v":6.1897400187490529E-4},{"$f":"投入係数!BK18","v":3.2686495425875465E-4},{"$f":"投入係数!BL18","v":4.3394447277028453E-4},{"$f":"投入係数!BM18","v":4.2680841174437464E-4},{"$f":"投入係数!BN18","v":1.616675498260043E-4},{"$f":"投入係数!BO18","v":1.8078505838270409E-4},{"$f":"投入係数!BP18","v":1.530757669371811E-3},{"$f":"投入係数!BQ18","v":7.6724660658943743E-6},{"$f":"投入係数!BR18","v":1.2744674376693482E-5},{"$f":"投入係数!BS18","v":2.4173101079081303E-6},{"$f":"投入係数!BT18","v":4.6236318482272512E-5},{"$f":"投入係数!BU18","v":1.8292783671583797E-6},{"$f":"投入係数!BV18","v":5.0158304810168867E-6},{"$f":"投入係数!BW18","v":2.0371847882131061E-5},{"$f":"投入係数!BX18","v":5.9156842134966046E-6},{"$f":"投入係数!BY18","v":6.9958549317337626E-5},{"$f":"投入係数!BZ18","v":2.8529714687267931E-6},{"$f":"投入係数!CA18","v":5.3736410137516605E-6},{"$f":"投入係数!CB18","v":3.8789731180774019E-5},{"$f":"投入係数!CC18","v":1.6082104042549224E-5},{"$f":"投入係数!CD18","v":1.4985892747191967E-5},{"$f":"投入係数!CE18","v":4.1845775263287279E-5},{"$f":"投入係数!CF18","v":2.4603687803499678E-6},{"$f":"投入係数!CG18","v":6.9138188716755088E-5},{"$f":"投入係数!CH18","v":5.8948944708674352E-6},{"$f":"投入係数!CI18","v":9.267106559247757E-5}]
[null,"15","はん用機械",{"$f":"投入係数!D19-諸係数!$R24*投入係数!D19","v":0},{"$f":"投入係数!E19-諸係数!$R24*投入係数!E19","v":8.8388510779963425E-7},{"$f":"投入係数!F19-諸係数!$R24*投入係数!F19","v":0},{"$f":"投入係数!G19-諸係数!$R24*投入係数!G19","v":1.1584759387288319E-4},{"$f":"投入係数!H19-諸係数!$R24*投入係数!H19","v":0},{"$f":"投入係数!I19-諸係数!$R24*投入係数!I19","v":0},{"$f":"投入係数!J19-諸係数!$R24*投入係数!J19","v":2.5434033953020119E-4},{"$f":"投入係数!K19-諸係数!$R24*投入係数!K19","v":2.3510457264704396E-6},{"$f":"投入係数!L19-諸係数!$R24*投入係数!L19","v":0},{"$f":"投入係数!M19-諸係数!$R24*投入係数!M19","v":1.6481742478311147E-5},{"$f":"投入係数!N19-諸係数!$R24*投入係数!N19","v":1.005491843253335E-4},{"$f":"投入係数!O19-諸係数!$R24*投入係数!O19","v":4.6784452400378875E-6},{"$f":"投入係数!P19-諸係数!$R24*投入係数!P19","v":1.9426580387902869E-7},{"$f":"投入係数!Q19-諸係数!$R24*投入係数!Q19","v":5.9465590471544002E-5},{"$f":"投入係数!R19-諸係数!$R24*投入係数!R19","v":1.0867092020664798E-2},{"$f":"投入係数!S19-諸係数!$R24*投入係数!S19","v":2.754918705821497E-3},{"$f":"投入係数!T19-諸係数!$R24*投入係数!T19","v":6.4806915734134029E-4},{"$f":"投入係数!U19-諸係数!$R24*投入係数!U19","v":1.3704975878566151E-4},{"$f":"投入係数!V19-諸係数!$R24*投入係数!V19","v":7.5330221057223084E-4},{"$f":"投入係数!W19-諸係数!$R24*投入係数!W19","v":2.0419244500907555E-4},{"$f":"投入係数!X19-諸係数!$R24*投入係数!X19","v":1.8384356602064083E-4},{"$f":"投入係数!Y19-諸係数!$R24*投入係数!Y19","v":5.4548495348703231E-6},{"$f":"投入係数!Z19-諸係数!$R24*投入係数!Z19","v":4.2443316017862914E-4},{"$f":"投入係数!AA19-諸係数!$R24*投入係数!AA19","v":0},{"$f":"投入係数!AB19-諸係数!$R24*投入係数!AB19","v":6.6400288848329292E-4},{"$f":"投入係数!AC19-諸係数!$R24*投入係数!AC19","v":0},{"$f":"投入係数!AD19-諸係数!$R24*投入係数!AD19","v":2.5444876758651656E-7},{"$f":"投入係数!AE19-諸係数!$R24*投入係数!AE19","v":2.8449714850253914E-9},{"$f":"投入係数!AF19-諸係数!$R24*投入係数!AF19","v":0},{"$f":"投入係数!AG19-諸係数!$R24*投入係数!AG19","v":5.4666071553008535E-6},{"$f":"投入係数!AH19-諸係数!$R24*投入係数!AH19","v":2.8975492777088039E-7},{"$f":"投入係数!AI19-諸係数!$R24*投入係数!AI19","v":2.6348263078964089E-5},{"$f":"投入係数!AJ19-諸係数!$R24*投入係数!AJ19","v":0},{"$f":"投入係数!AK19-諸係数!$R24*投入係数!AK19","v":7.5551478190302508E-9},{"$f":"投入係数!AL19-諸係数!$R24*投入係数!AL19","v":0},{"$f":"投入係数!AM19-諸係数!$R24*投入係数!AM19","v":5.2478332180213444E-4},{"$f":"投入係数!AN19-諸係数!$R24*投入係数!AN19","v":0},{"$f":"投入係数!AO19-諸係数!$R24*投入係数!AO19","v":0},{"$f":"投入係数!AP19-諸係数!$R24*投入係数!AP19","v":0},{"$f":"投入係数!AQ19-諸係数!$R24*投入係数!AQ19","v":2.4318155957853411E-6},{"$f":"投入係数!AR19-諸係数!$R24*投入係数!AR19","v":0},{"$f":"投入係数!AS19-諸係数!$R24*投入係数!AS19","v":0},{"$f":"投入係数!AT19","v":0},{"$f":"投入係数!AU19","v":3.6985031736791964E-7},{"$f":"投入係数!AV19","v":0},{"$f":"投入係数!AW19","v":2.7097255410947415E-5},{"$f":"投入係数!AX19","v":0},{"$f":"投入係数!AY19","v":0},{"$f":"投入係数!AZ19","v":1.2987980163607658E-5},{"$f":"投入係数!BA19","v":2.5340256069928483E-7},{"$f":"投入係数!BB19","v":0},{"$f":"投入係数!BC19","v":4.6826972284244158E-6},{"$f":"投入係数!BD19","v":2.5962306626455099E-5},{"$f":"投入係数!BE19","v":1.5007523633834679E-6},{"$f":"投入係数!BF19","v":1.8757683673713749E-7},{"$f":"投入係数!BG19","v":1.2693501994524518E-5},{"$f":"投入係数!BH19","v":1.9077304272769552E-3},{"$f":"投入係数!BI19","v":4.8023100314723764E-4},{"$f":"投入係数!BJ19","v":1.8236481799104647E-4},{"$f":"投入係数!BK19","v":2.6929493435826083E-5},{"$f":"投入係数!BL19","v":1.6162208560457499E-4},{"$f":"投入係数!BM19","v":2.6600259299841669E-5},{"$f":"投入係数!BN19","v":9.8547538138186834E-5},{"$f":"投入係数!BO19","v":6.4211091491228124E-6},{"$f":"投入係数!BP19","v":7.8506972584535244E-5},{"$f":"投入係数!BQ19","v":0},{"$f":"投入係数!BR19","v":1.2584479151990925E-4},{"$f":"投入係数!BS19","v":0},{"$f":"投入係数!BT19","v":5.2125022434866992E-8},{"$f":"投入係数!BU19","v":2.9026949653417638E-10},{"$f":"投入係数!BV19","v":0},{"$f":"投入係数!BW19","v":1.057031631960592E-6},{"$f":"投入係数!BX19","v":7.0350914046479383E-8},{"$f":"投入係数!BY19","v":4.0354892129925396E-6},{"$f":"投入係数!BZ19","v":0},{"$f":"投入係数!CA19","v":1.8581054681022336E-9},{"$f":"投入係数!CB19","v":0},{"$f":"投入係数!CC19","v":8.0120807520218904E-5},{"$f":"投入係数!CD19","v":0},{"$f":"投入係数!CE19","v":0},{"$f":"投入係数!CF19","v":0},{"$f":"投入係数!CG19","v":3.7235719192773132E-7},{"$f":"投入係数!CH19","v":0},{"$f":"投入係数!CI19","v":0}]
[null,"16","生産用機械",{"$f":"投入係数!D20-諸係数!$R25*投入係数!D20","v":0},{"$f":"投入係数!E20-諸係数!$R25*投入係数!E20","v":1.1081719476274113E-5},{"$f":"投入係数!F20-諸係数!$R25*投入係数!F20","v":0},{"$f":"投入係数!G20-諸係数!$R25*投入係数!G20","v":2.7382619315820256E-4},{"$f":"投入係数!H20-諸係数!$R25*投入係数!H20","v":0},{"$f":"投入係数!I20-諸係数!$R25*投入係数!I20","v":0},{"$f":"投入係数!J20-諸係数!$R25*投入係数!J20","v":2.0401758581744041E-5},{"$f":"投入係数!K20-諸係数!$R25*投入係数!K20","v":0},{"$f":"投入係数!L20-諸係数!$R25*投入係数!L20","v":2.120109558334741E-6},{"$f":"投入係数!M20-諸係数!$R25*投入係数!M20","v":2.6870007681893373E-4},{"$f":"投入係数!N20-諸係数!$R25*投入係数!N20","v":2.9805378202357876E-4},{"$f":"投入係数!O20-諸係数!$R25*投入係数!O20","v":1.3546832485281194E-5},{"$f":"投入係数!P20-諸係数!$R25*投入係数!P20","v":2.5582358830239573E-5},{"$f":"投入係数!Q20-諸係数!$R25*投入係数!Q20","v":6.609954478409413E-5},{"$f":"投入係数!R20-諸係数!$R25*投入係数!R20","v":1.113826667255649E-3},{"$f":"投入係数!S20-諸係数!$R25*投入係数!S20","v":2.2357492134416623E-2},{"$f":"投入係数!T20-諸係数!$R25*投入係数!T20","v":1.6974331687203645E-4},{"$f":"投入係数!U20-諸係数!$R25*投入係数!U20","v":4.9255812201778307E-4},{"$f":"投入係数!V20-諸係数!$R25*投入係数!V20","v":5.9657428483696044E-4},{"$f":"投入係数!W20-諸係数!$R25*投入係数!W20","v":1.1131657494176201E-4},{"$f":"投入係数!X20-諸係数!$R25*投入係数!X20","v":7.8033880947609921E-5},{"$f":"投入係数!Y20-諸係数!$R25*投入係数!Y20","v":4.8985613643421056E-6},{"$f":"投入係数!Z20-諸係数!$R25*投入係数!Z20","v":8.7731484019692128E-6},{"$f":"投入係数!AA20-諸係数!$R25*投入係数!AA20","v":8.092797625047681E-7},{"$f":"投入係数!AB20-諸係数!$R25*投入係数!AB20","v":3.9100384116217703E-5},{"$f":"投入係数!AC20-諸係数!$R25*投入係数!AC20","v":0},{"$f":"投入係数!AD20-諸係数!$R25*投入係数!AD20","v":5.0128280755708369E-7},{"$f":"投入係数!AE20-諸係数!$R25*投入係数!AE20","v":0},{"$f":"投入係数!AF20-諸係数!$R25*投入係数!AF20","v":0},{"$f":"投入係数!AG20-諸係数!$R25*投入係数!AG20","v":8.1691654503505051E-6},{"$f":"投入係数!AH20-諸係数!$R25*投入係数!AH20","v":5.6161926196317148E-7},{"$f":"投入係数!AI20-諸係数!$R25*投入係数!AI20","v":3.0466699540543351E-6},{"$f":"投入係数!AJ20-諸係数!$R25*投入係数!AJ20","v":0},{"$f":"投入係数!AK20-諸係数!$R25*投入係数!AK20","v":0},{"$f":"投入係数!AL20-諸係数!$R25*投入係数!AL20","v":0},{"$f":"投入係数!AM20-諸係数!$R25*投入係数!AM20","v":1.8923477584320207E-3},{"$f":"投入係数!AN20-諸係数!$R25*投入係数!AN20","v":0},{"$f":"投入係数!AO20-諸係数!$R25*投入係数!AO20","v":0},{"$f":"投入係数!AP20-諸係数!$R25*投入係数!AP20","v":5.5700100378952127E-7},{"$f":"投入係数!AQ20-諸係数!$R25*投入係数!AQ20","v":5.3396914794948222E-6},{"$f":"投入係数!AR20-諸係数!$R25*投入係数!AR20","v":0},{"$f":"投入係数!AS20-諸係数!$R25*投入係数!AS20","v":0},{"$f":"投入係数!AT20","v":0},{"$f":"投入係数!AU20","v":2.9077887020650231E-6},{"$f":"投入係数!AV20","v":0},{"$f":"投入係数!AW20","v":3.9361046960980695E-5},{"$f":"投入係数!AX20","v":0},{"$f":"投入係数!AY20","v":0},{"$f":"投入係数!AZ20","v":1.8204980722569569E-6},{"$f":"投入係数!BA20","v":0},{"$f":"投入係数!BB20","v":2.6505660617987755E-7},{"$f":"投入係数!BC20","v":4.8113622699827986E-5},{"$f":"投入係数!BD20","v":2.4743036331914375E-5},{"$f":"投入係数!BE20","v":2.6989210258860113E-6},{"$f":"投入係数!BF20","v":2.3947693082821051E-6},{"$f":"投入係数!BG20","v":9.2917803360762189E-6},{"$f":"投入係数!BH20","v":9.0555803868596379E-5},{"$f":"投入係数!BI20","v":2.7600812580640135E-3},{"$f":"投入係数!BJ20","v":3.5620616253615074E-5},{"$f":"投入係数!BK20","v":5.6512202074515565E-5},{"$f":"投入係数!BL20","v":4.3661086635771359E-5},{"$f":"投入係数!BM20","v":1.7039586392072487E-5},{"$f":"投入係数!BN20","v":1.7318213730224273E-5},{"$f":"投入係数!BO20","v":2.3497424440777106E-6},{"$f":"投入係数!BP20","v":1.3337688913766605E-6},{"$f":"投入係数!BQ20","v":1.0200968396241429E-7},{"$f":"投入係数!BR20","v":4.6639695420544646E-6},{"$f":"投入係数!BS20","v":0},{"$f":"投入係数!BT20","v":6.2856644700869019E-8},{"$f":"投入係数!BU20","v":0},{"$f":"投入係数!BV20","v":0},{"$f":"投入係数!BW20","v":8.3003721799273606E-7},{"$f":"投入係数!BX20","v":5.4211586706404709E-8},{"$f":"投入係数!BY20","v":3.0365129209791566E-7},{"$f":"投入係数!BZ20","v":0},{"$f":"投入係数!CA20","v":0},{"$f":"投入係数!CB20","v":0},{"$f":"投入係数!CC20","v":1.8146688177716723E-4},{"$f":"投入係数!CD20","v":0},{"$f":"投入係数!CE20","v":0},{"$f":"投入係数!CF20","v":1.0301235528128995E-7},{"$f":"投入係数!CG20","v":6.1036724556527897E-7},{"$f":"投入係数!CH20","v":0},{"$f":"投入係数!CI20","v":0}]
[null,"17","業務用機械",{"$f":"投入係数!D21-諸係数!$R26*投入係数!D21","v":2.0629029658603219E-5},{"$f":"投入係数!E21-諸係数!$R26*投入係数!E21","v":7.3328947652792237E-7},{"$f":"投入係数!F21-諸係数!$R26*投入係数!F21","v":4.935596648582388E-7},{"$f":"投入係数!G21-諸係数!$R26*投入係数!G21","v":0},{"$f":"投入係数!H21-諸係数!$R26*投入係数!H21","v":2.1185254977758529E-8},{"$f":"投入係数!I21-諸係数!$R26*投入係数!I21","v":0},{"$f":"投入係数!J21-諸係数!$R26*投入係数!J21","v":0},{"$f":"投入係数!K21-諸係数!$R26*投入係数!K21","v":3.1098157735236793E-9},{"$f":"投入係数!L21-諸係数!$R26*投入係数!L21","v":0},{"$f":"投入係数!M21-諸係数!$R26*投入係数!M21","v":0},{"$f":"投入係数!N21-諸係数!$R26*投入係数!N21","v":0},{"$f":"投入係数!O21-諸係数!$R26*投入係数!O21","v":0},{"$f":"投入係数!P21-諸係数!$R26*投入係数!P21","v":0},{"$f":"投入係数!Q21-諸係数!$R26*投入係数!Q21","v":5.5431338384781336E-7},{"$f":"投入係数!R21-諸係数!$R26*投入係数!R21","v":1.1128870568901392E-4},{"$f":"投入係数!S21-諸係数!$R26*投入係数!S21","v":1.5950415033153084E-4},{"$f":"投入係数!T21-諸係数!$R26*投入係数!T21","v":2.179769207601762E-3},{"$f":"投入係数!U21-諸係数!$R26*投入係数!U21","v":0},{"$f":"投入係数!V21-諸係数!$R26*投入係数!V21","v":5.4925229054007146E-5},{"$f":"投入係数!W21-諸係数!$R26*投入係数!W21","v":1.4527552954570348E-5},{"$f":"投入係数!X21-諸係数!$R26*投入係数!X21","v":7.1913709204745916E-6},{"$f":"投入係数!Y21-諸係数!$R26*投入係数!Y21","v":5.0010657987456889E-6},{"$f":"投入係数!Z21-諸係数!$R26*投入係数!Z21","v":6.2367260020876366E-6},{"$f":"投入係数!AA21-諸係数!$R26*投入係数!AA21","v":0},{"$f":"投入係数!AB21-諸係数!$R26*投入係数!AB21","v":3.0493356605581515E-6},{"$f":"投入係数!AC21-諸係数!$R26*投入係数!AC21","v":9.1784184200284675E-7},{"$f":"投入係数!AD21-諸係数!$R26*投入係数!AD21","v":3.4609717436662115E-5},{"$f":"投入係数!AE21-諸係数!$R26*投入係数!AE21","v":3.2369109114793065E-7},{"$f":"投入係数!AF21-諸係数!$R26*投入係数!AF21","v":0},{"$f":"投入係数!AG21-諸係数!$R26*投入係数!AG21","v":1.5008059465168979E-6},{"$f":"投入係数!AH21-諸係数!$R26*投入係数!AH21","v":4.8619031163691029E-6},{"$f":"投入係数!AI21-諸係数!$R26*投入係数!AI21","v":1.2668885077644931E-4},{"$f":"投入係数!AJ21-諸係数!$R26*投入係数!AJ21","v":0},{"$f":"投入係数!AK21-諸係数!$R26*投入係数!AK21","v":3.5795853735206174E-4},{"$f":"投入係数!AL21-諸係数!$R26*投入係数!AL21","v":0},{"$f":"投入係数!AM21-諸係数!$R26*投入係数!AM21","v":1.3799772487543469E-4},{"$f":"投入係数!AN21-諸係数!$R26*投入係数!AN21","v":1.0966959156988934E-6},{"$f":"投入係数!AO21-諸係数!$R26*投入係数!AO21","v":0},{"$f":"投入係数!AP21-諸係数!$R26*投入係数!AP21","v":1.5180708241563032E-4},{"$f":"投入係数!AQ21-諸係数!$R26*投入係数!AQ21","v":8.9134869281140347E-6},{"$f":"投入係数!AR21-諸係数!$R26*投入係数!AR21","v":7.9180401654662964E-4},{"$f":"投入係数!AS21-諸係数!$R26*投入係数!AS21","v":0},{"$f":"投入係数!AT21","v":9.3059407800844391E-7},{"$f":"投入係数!AU21","v":1.020276737566675E-7},{"$f":"投入係数!AV21","v":2.5527893870129803E-8},{"$f":"投入係数!AW21","v":0},{"$f":"投入係数!AX21","v":5.4417194923740399E-10},{"$f":"投入係数!AY21","v":0},{"$f":"投入係数!AZ21","v":0},{"$f":"投入係数!BA21","v":1.8204206946787703E-9},{"$f":"投入係数!BB21","v":0},{"$f":"投入係数!BC21","v":0},{"$f":"投入係数!BD21","v":0},{"$f":"投入係数!BE21","v":0},{"$f":"投入係数!BF21","v":0},{"$f":"投入係数!BG21","v":4.4747950626995958E-8},{"$f":"投入係数!BH21","v":6.3925502522460834E-6},{"$f":"投入係数!BI21","v":1.3626521488199463E-5},{"$f":"投入係数!BJ21","v":2.078072844456859E-4},{"$f":"投入係数!BK21","v":2.9555565772164026E-7},{"$f":"投入係数!BL21","v":2.2300170597001748E-6},{"$f":"投入係数!BM21","v":3.0638946012032953E-6},{"$f":"投入係数!BN21","v":9.5747484235091045E-7},{"$f":"投入係数!BO21","v":4.2496444731886243E-7},{"$f":"投入係数!BP21","v":4.7919840408742294E-7},{"$f":"投入係数!BQ21","v":0},{"$f":"投入係数!BR21","v":2.3800433384379999E-7},{"$f":"投入係数!BS21","v":6.7735484634903829E-8},{"$f":"投入係数!BT21","v":2.6570620679823796E-6},{"$f":"投入係数!BU21","v":2.8446410660349285E-8},{"$f":"投入係数!BV21","v":0},{"$f":"投入係数!BW21","v":6.3717730236591114E-8},{"$f":"投入係数!BX21","v":4.827314190306953E-7},{"$f":"投入係数!BY21","v":7.7545664878212979E-6},{"$f":"投入係数!BZ21","v":0},{"$f":"投入係数!CA21","v":2.5298880158823622E-5},{"$f":"投入係数!CB21","v":0},{"$f":"投入係数!CC21","v":8.6509041699700203E-6},{"$f":"投入係数!CD21","v":9.1216714949768485E-8},{"$f":"投入係数!CE21","v":0},{"$f":"投入係数!CF21","v":8.1824340310801472E-6},{"$f":"投入係数!CG21","v":7.6627627024771433E-7},{"$f":"投入係数!CH21","v":6.0238452874176597E-5},{"$f":"投入係数!CI21","v":0}]
[null,"18","電子部品",{"$f":"投入係数!D22-諸係数!$R27*投入係数!D22","v":0},{"$f":"投入係数!E22-諸係数!$R27*投入係数!E22","v":0},{"$f":"投入係数!F22-諸係数!$R27*投入係数!F22","v":7.4661778731194701E-7},{"$f":"投入係数!G22-諸係数!$R27*投入係数!G22","v":7.0176593319745399E-6},{"$f":"投入係数!H22-諸係数!$R27*投入係数!H22","v":2.6267396247290361E-7},{"$f":"投入係数!I22-諸係数!$R27*投入係数!I22","v":6.8355921887642603E-8},{"$f":"投入係数!J22-諸係数!$R27*投入係数!J22","v":1.7411493583365565E-6},{"$f":"投入係数!K22-諸係数!$R27*投入係数!K22","v":5.5342515727968875E-7},{"$f":"投入係数!L22-諸係数!$R27*投入係数!L22","v":0},{"$f":"投入係数!M22-諸係数!$R27*投入係数!M22","v":3.7299880972245551E-8},{"$f":"投入係数!N22-諸係数!$R27*投入係数!N22","v":3.2835271760281626E-8},{"$f":"投入係数!O22-諸係数!$R27*投入係数!O22","v":1.3172832803484503E-7},{"$f":"投入係数!P22-諸係数!$R27*投入係数!P22","v":7.2067315851902805E-6},{"$f":"投入係数!Q22-諸係数!$R27*投入係数!Q22","v":1.5419698585446404E-4},{"$f":"投入係数!R22-諸係数!$R27*投入係数!R22","v":1.7627769178031778E-3},{"$f":"投入係数!S22-諸係数!$R27*投入係数!S22","v":2.3896464711388628E-3},{"$f":"投入係数!T22-諸係数!$R27*投入係数!T22","v":1.405038118982245E-2},{"$f":"投入係数!U22-諸係数!$R27*投入係数!U22","v":3.6295418793634987E-2},{"$f":"投入係数!V22-諸係数!$R27*投入係数!V22","v":1.7248854760694224E-2},{"$f":"投入係数!W22-諸係数!$R27*投入係数!W22","v":3.434147234424742E-2},{"$f":"投入係数!X22-諸係数!$R27*投入係数!X22","v":5.4920974704281708E-4},{"$f":"投入係数!Y22-諸係数!$R27*投入係数!Y22","v":2.4503276206410112E-4},{"$f":"投入係数!Z22-諸係数!$R27*投入係数!Z22","v":3.5517262657945678E-5},{"$f":"投入係数!AA22-諸係数!$R27*投入係数!AA22","v":5.7913424490812881E-7},{"$f":"投入係数!AB22-諸係数!$R27*投入係数!AB22","v":2.3983215011513609E-6},{"$f":"投入係数!AC22-諸係数!$R27*投入係数!AC22","v":0},{"$f":"投入係数!AD22-諸係数!$R27*投入係数!AD22","v":2.5552277894689755E-6},{"$f":"投入係数!AE22-諸係数!$R27*投入係数!AE22","v":4.5954258305564337E-6},{"$f":"投入係数!AF22-諸係数!$R27*投入係数!AF22","v":0},{"$f":"投入係数!AG22-諸係数!$R27*投入係数!AG22","v":9.5814185736463825E-7},{"$f":"投入係数!AH22-諸係数!$R27*投入係数!AH22","v":1.3359717096965147E-4},{"$f":"投入係数!AI22-諸係数!$R27*投入係数!AI22","v":3.2122511711348803E-4},{"$f":"投入係数!AJ22-諸係数!$R27*投入係数!AJ22","v":1.0300316034428879E-4},{"$f":"投入係数!AK22-諸係数!$R27*投入係数!AK22","v":4.2286208139769149E-7},{"$f":"投入係数!AL22-諸係数!$R27*投入係数!AL22","v":0},{"$f":"投入係数!AM22-諸係数!$R27*投入係数!AM22","v":1.4145410294580394E-3},{"$f":"投入係数!AN22-諸係数!$R27*投入係数!AN22","v":8.0273918450098579E-8},{"$f":"投入係数!AO22-諸係数!$R27*投入係数!AO22","v":0},{"$f":"投入係数!AP22-諸係数!$R27*投入係数!AP22","v":7.8439356466738314E-9},{"$f":"投入係数!AQ22-諸係数!$R27*投入係数!AQ22","v":6.4565941161743757E-6},{"$f":"投入係数!AR22-諸係数!$R27*投入係数!AR22","v":4.2187459658730928E-3},{"$f":"投入係数!AS22-諸係数!$R27*投入係数!AS22","v":0},{"$f":"投入係数!AT22","v":0},{"$f":"投入係数!AU22","v":0},{"$f":"投入係数!AV22","v":1.0211157548051921E-7},{"$f":"投入係数!AW22","v":3.1664208570095857E-7},{"$f":"投入係数!AX22","v":2.3943565766445776E-8},{"$f":"投入係数!AY22","v":1.13053357748035E-8},{"$f":"投入係数!AZ22","v":1.3630308449279978E-7},{"$f":"投入係数!BA22","v":7.0268238814600526E-8},{"$f":"投入係数!BB22","v":7.778184831463677E-9},{"$f":"投入係数!BC22","v":6.6589153192952672E-9},{"$f":"投入係数!BD22","v":4.9901922013944962E-9},{"$f":"投入係数!BE22","v":1.4520877992988575E-8},{"$f":"投入係数!BF22","v":1.8320387980706926E-6},{"$f":"投入係数!BG22","v":3.6022100254731744E-5},{"$f":"投入係数!BH22","v":9.8917526801906908E-5},{"$f":"投入係数!BI22","v":1.2394268428419058E-4},{"$f":"投入係数!BJ22","v":1.8091123279761275E-3},{"$f":"投入係数!BK22","v":3.7066358844644915E-3},{"$f":"投入係数!BL22","v":1.9441999342524343E-3},{"$f":"投入係数!BM22","v":4.1816745794697272E-3},{"$f":"投入係数!BN22","v":1.4804789618466923E-4},{"$f":"投入係数!BO22","v":9.621920636355444E-5},{"$f":"投入係数!BP22","v":4.1681764730001405E-6},{"$f":"投入係数!BQ22","v":7.1908465743996965E-8},{"$f":"投入係数!BR22","v":2.791973916244577E-7},{"$f":"投入係数!BS22","v":0},{"$f":"投入係数!BT22","v":3.2961411245577661E-7},{"$f":"投入係数!BU22","v":5.996967798396084E-7},{"$f":"投入係数!BV22","v":0},{"$f":"投入係数!BW22","v":7.2440990923743464E-8},{"$f":"投入係数!BX22","v":1.8659131549657112E-5},{"$f":"投入係数!BY22","v":2.9405216120020626E-5},{"$f":"投入係数!BZ22","v":2.01873734440207E-5},{"$f":"投入係数!CA22","v":5.6981901021801839E-8},{"$f":"投入係数!CB22","v":0},{"$f":"投入係数!CC22","v":1.3050489435798831E-4},{"$f":"投入係数!CD22","v":1.0135190549974278E-8},{"$f":"投入係数!CE22","v":0},{"$f":"投入係数!CF22","v":3.2530217457249459E-9},{"$f":"投入係数!CG22","v":7.1403016091264284E-7},{"$f":"投入係数!CH22","v":4.8144708436287625E-4},{"$f":"投入係数!CI22","v":0}]
[null,"19","電気機械",{"$f":"投入係数!D23-諸係数!$R28*投入係数!D23","v":6.0668064018729936E-6},{"$f":"投入係数!E23-諸係数!$R28*投入係数!E23","v":0},{"$f":"投入係数!F23-諸係数!$R28*投入係数!F23","v":2.1917243235028785E-4},{"$f":"投入係数!G23-諸係数!$R28*投入係数!G23","v":1.4583310756275693E-4},{"$f":"投入係数!H23-諸係数!$R28*投入係数!H23","v":1.8676901050344852E-7},{"$f":"投入係数!I23-諸係数!$R28*投入係数!I23","v":0},{"$f":"投入係数!J23-諸係数!$R28*投入係数!J23","v":6.1288881445709174E-5},{"$f":"投入係数!K23-諸係数!$R28*投入係数!K23","v":2.0562080164204134E-7},{"$f":"投入係数!L23-諸係数!$R28*投入係数!L23","v":0},{"$f":"投入係数!M23-諸係数!$R28*投入係数!M23","v":2.5190236976973434E-6},{"$f":"投入係数!N23-諸係数!$R28*投入係数!N23","v":8.3927083931901534E-6},{"$f":"投入係数!O23-諸係数!$R28*投入係数!O23","v":0},{"$f":"投入係数!P23-諸係数!$R28*投入係数!P23","v":1.9733977168757717E-6},{"$f":"投入係数!Q23-諸係数!$R28*投入係数!Q23","v":1.5843385990845348E-4},{"$f":"投入係数!R23-諸係数!$R28*投入係数!R23","v":3.3644501304932618E-3},{"$f":"投入係数!S23-諸係数!$R28*投入係数!S23","v":4.9859424514423671E-3},{"$f":"投入係数!T23-諸係数!$R28*投入係数!T23","v":2.6430877239398643E-3},{"$f":"投入係数!U23-諸係数!$R28*投入係数!U23","v":7.4069386230696012E-3},{"$f":"投入係数!V23-諸係数!$R28*投入係数!V23","v":1.3496036519824072E-2},{"$f":"投入係数!W23-諸係数!$R28*投入係数!W23","v":4.2007083984351868E-3},{"$f":"投入係数!X23-諸係数!$R28*投入係数!X23","v":6.3007644287242457E-3},{"$f":"投入係数!Y23-諸係数!$R28*投入係数!Y23","v":7.8544944925142024E-5},{"$f":"投入係数!Z23-諸係数!$R28*投入係数!Z23","v":1.3367735481196262E-3},{"$f":"投入係数!AA23-諸係数!$R28*投入係数!AA23","v":4.9573850473750332E-7},{"$f":"投入係数!AB23-諸係数!$R28*投入係数!AB23","v":3.1812853689273433E-5},{"$f":"投入係数!AC23-諸係数!$R28*投入係数!AC23","v":0},{"$f":"投入係数!AD23-諸係数!$R28*投入係数!AD23","v":3.5666783863935892E-5},{"$f":"投入係数!AE23-諸係数!$R28*投入係数!AE23","v":3.7982711693687556E-7},{"$f":"投入係数!AF23-諸係数!$R28*投入係数!AF23","v":2.5351307493012216E-6},{"$f":"投入係数!AG23-諸係数!$R28*投入係数!AG23","v":4.0383116545363884E-5},{"$f":"投入係数!AH23-諸係数!$R28*投入係数!AH23","v":3.3869108071168737E-5},{"$f":"投入係数!AI23-諸係数!$R28*投入係数!AI23","v":3.7606448482242804E-4},{"$f":"投入係数!AJ23-諸係数!$R28*投入係数!AJ23","v":1.0388805077807267E-4},{"$f":"投入係数!AK23-諸係数!$R28*投入係数!AK23","v":1.3153882142806198E-5},{"$f":"投入係数!AL23-諸係数!$R28*投入係数!AL23","v":0},{"$f":"投入係数!AM23-諸係数!$R28*投入係数!AM23","v":1.2069540892441775E-3},{"$f":"投入係数!AN23-諸係数!$R28*投入係数!AN23","v":1.5392143666918705E-5},{"$f":"投入係数!AO23-諸係数!$R28*投入係数!AO23","v":7.2631259853284147E-6},{"$f":"投入係数!AP23-諸係数!$R28*投入係数!AP23","v":1.1773678992456634E-4},{"$f":"投入係数!AQ23-諸係数!$R28*投入係数!AQ23","v":1.3530677602944628E-5},{"$f":"投入係数!AR23-諸係数!$R28*投入係数!AR23","v":0},{"$f":"投入係数!AS23-諸係数!$R28*投入係数!AS23","v":1.9698282638722916E-4},{"$f":"投入係数!AT23","v":3.9938402718305728E-7},{"$f":"投入係数!AU23","v":0},{"$f":"投入係数!AV23","v":1.4538135559038923E-5},{"$f":"投入係数!AW23","v":3.1298852317363979E-6},{"$f":"投入係数!AX23","v":3.5371176700431263E-9},{"$f":"投入係数!AY23","v":0},{"$f":"投入係数!AZ23","v":1.3306588623609577E-6},{"$f":"投入係数!BA23","v":2.8034478698053062E-8},{"$f":"投入係数!BB23","v":0},{"$f":"投入係数!BC23","v":2.0864601333791836E-7},{"$f":"投入係数!BD23","v":3.9755197871109489E-7},{"$f":"投入係数!BE23","v":0},{"$f":"投入係数!BF23","v":2.1059239952697033E-7},{"$f":"投入係数!BG23","v":7.6817315243009729E-6},{"$f":"投入係数!BH23","v":2.2262784769888728E-4},{"$f":"投入係数!BI23","v":2.1554468353320426E-4},{"$f":"投入係数!BJ23","v":1.8316743780376571E-4},{"$f":"投入係数!BK23","v":1.8904704947574793E-4},{"$f":"投入係数!BL23","v":1.1027101852703492E-3},{"$f":"投入係数!BM23","v":1.7853381764579033E-4},{"$f":"投入係数!BN23","v":2.9816352448239382E-4},{"$f":"投入係数!BO23","v":1.2630772573238191E-5},{"$f":"投入係数!BP23","v":7.605422444106083E-5},{"$f":"投入係数!BQ23","v":2.9683145743161534E-8},{"$f":"投入係数!BR23","v":1.7507049556779519E-6},{"$f":"投入係数!BS23","v":0},{"$f":"投入係数!BT23","v":2.0741597687790244E-6},{"$f":"投入係数!BU23","v":2.4092368212336641E-8},{"$f":"投入係数!BV23","v":1.1607219268476666E-7},{"$f":"投入係数!BW23","v":1.9230997093133047E-6},{"$f":"投入係数!BX23","v":2.2930259690090721E-6},{"$f":"投入係数!BY23","v":1.7430261261925892E-5},{"$f":"投入係数!BZ23","v":4.3685086681120433E-6},{"$f":"投入係数!CA23","v":6.8749902319782649E-7},{"$f":"投入係数!CB23","v":0},{"$f":"投入係数!CC23","v":5.3506884702483621E-5},{"$f":"投入係数!CD23","v":9.2432937815765394E-7},{"$f":"投入係数!CE23","v":4.048493704334298E-7},{"$f":"投入係数!CF23","v":6.9560448329418439E-6},{"$f":"投入係数!CG23","v":7.1734737420375854E-7},{"$f":"投入係数!CH23","v":0},{"$f":"投入係数!CI23","v":1.1035219518126387E-5}]
[null,"20","情報通信機器",{"$f":"投入係数!D24-諸係数!$R29*投入係数!D24","v":6.7562843724988199E-8},{"$f":"投入係数!E24-諸係数!$R29*投入係数!E24","v":3.9769906515811979E-7},{"$f":"投入係数!F24-諸係数!$R29*投入係数!F24","v":3.5330387114986621E-7},{"$f":"投入係数!G24-諸係数!$R29*投入係数!G24","v":1.2272511147879537E-7},{"$f":"投入係数!H24-諸係数!$R29*投入係数!H24","v":1.6536620702079726E-7},{"$f":"投入係数!I24-諸係数!$R29*投入係数!I24","v":6.4692838100926573E-8},{"$f":"投入係数!J24-諸係数!$R29*投入係数!J24","v":7.6455642612463112E-8},{"$f":"投入係数!K24-諸係数!$R29*投入係数!K24","v":2.6653494241926503E-7},{"$f":"投入係数!L24-諸係数!$R29*投入係数!L24","v":4.629018720092719E-8},{"$f":"投入係数!M24-諸係数!$R29*投入係数!M24","v":3.3375529116331368E-7},{"$f":"投入係数!N24-諸係数!$R29*投入係数!N24","v":1.353087005295108E-7},{"$f":"投入係数!O24-諸係数!$R29*投入係数!O24","v":7.0645890792419791E-9},{"$f":"投入係数!P24-諸係数!$R29*投入係数!P24","v":1.6554695252125667E-8},{"$f":"投入係数!Q24-諸係数!$R29*投入係数!Q24","v":5.3066014603769457E-7},{"$f":"投入係数!R24-諸係数!$R29*投入係数!R24","v":1.9318285538612876E-5},{"$f":"投入係数!S24-諸係数!$R29*投入係数!S24","v":1.2048070888411505E-6},{"$f":"投入係数!T24-諸係数!$R29*投入係数!T24","v":2.9968501976259715E-7},{"$f":"投入係数!U24-諸係数!$R29*投入係数!U24","v":6.7268376422369749E-7},{"$f":"投入係数!V24-諸係数!$R29*投入係数!V24","v":4.5114132750425089E-7},{"$f":"投入係数!W24-諸係数!$R29*投入係数!W24","v":2.7212651714663035E-4},{"$f":"投入係数!X24-諸係数!$R29*投入係数!X24","v":1.258557183105944E-4},{"$f":"投入係数!Y24-諸係数!$R29*投入係数!Y24","v":2.6533077958467696E-7},{"$f":"投入係数!Z24-諸係数!$R29*投入係数!Z24","v":1.5528149461075573E-5},{"$f":"投入係数!AA24-諸係数!$R29*投入係数!AA24","v":1.2673444005978653E-7},{"$f":"投入係数!AB24-諸係数!$R29*投入係数!AB24","v":8.7976717585302281E-8},{"$f":"投入係数!AC24-諸係数!$R29*投入係数!AC24","v":1.8832389974905658E-7},{"$f":"投入係数!AD24-諸係数!$R29*投入係数!AD24","v":2.6797988893345474E-6},{"$f":"投入係数!AE24-諸係数!$R29*投入係数!AE24","v":1.1898913373131943E-6},{"$f":"投入係数!AF24-諸係数!$R29*投入係数!AF24","v":7.1646045095546517E-7},{"$f":"投入係数!AG24-諸係数!$R29*投入係数!AG24","v":9.8284445447363101E-7},{"$f":"投入係数!AH24-諸係数!$R29*投入係数!AH24","v":1.7448988952743522E-6},{"$f":"投入係数!AI24-諸係数!$R29*投入係数!AI24","v":1.9182143281182783E-5},{"$f":"投入係数!AJ24-諸係数!$R29*投入係数!AJ24","v":7.6175838991824956E-7},{"$f":"投入係数!AK24-諸係数!$R29*投入係数!AK24","v":2.2752773416408888E-7},{"$f":"投入係数!AL24-諸係数!$R29*投入係数!AL24","v":6.5074565865620807E-7},{"$f":"投入係数!AM24-諸係数!$R29*投入係数!AM24","v":1.3560442578416758E-5},{"$f":"投入係数!AN24-諸係数!$R29*投入係数!AN24","v":1.0581837743942965E-7},{"$f":"投入係数!AO24-諸係数!$R29*投入係数!AO24","v":1.5853822710776863E-6},{"$f":"投入係数!AP24-諸係数!$R29*投入係数!AP24","v":3.2065276683123473E-6},{"$f":"投入係数!AQ24-諸係数!$R29*投入係数!AQ24","v":2.0379434882936542E-7},{"$f":"投入係数!AR24-諸係数!$R29*投入係数!AR24","v":0},{"$f":"投入係数!AS24-諸係数!$R29*投入係数!AS24","v":0},{"$f":"投入係数!AT24","v":2.9294671920517648E-9},{"$f":"投入係数!AU24","v":5.101383687833375E-8},{"$f":"投入係数!AV24","v":2.5527893870129803E-8},{"$f":"投入係数!AW24","v":1.2178541757729175E-8},{"$f":"投入係数!AX24","v":1.0339267035510677E-8},{"$f":"投入係数!AY24","v":2.826333943700875E-9},{"$f":"投入係数!AZ24","v":3.4075771123199944E-9},{"$f":"投入係数!BA24","v":1.8204206946787701E-8},{"$f":"投入係数!BB24","v":1.7949657303377714E-9},{"$f":"投入係数!BC24","v":4.4392768795301781E-9},{"$f":"投入係数!BD24","v":6.6535896018593286E-9},{"$f":"投入係数!BE24","v":3.9245616197266422E-10},{"$f":"投入係数!BF24","v":2.3015562789832822E-9},{"$f":"投入係数!BG24","v":2.8954556288056209E-8},{"$f":"投入係数!BH24","v":4.1048634059553831E-7},{"$f":"投入係数!BI24","v":1.3565416010673907E-7},{"$f":"投入係数!BJ24","v":1.8902278198097642E-8},{"$f":"投入係数!BK24","v":3.3174614642224927E-8},{"$f":"投入係数!BL24","v":2.5333905818803463E-8},{"$f":"投入係数!BM24","v":1.4469513029768944E-5},{"$f":"投入係数!BN24","v":3.2266193797520283E-6},{"$f":"投入係数!BO24","v":2.1766471691941736E-8},{"$f":"投入係数!BP24","v":9.4072424291772103E-7},{"$f":"投入係数!BQ24","v":8.3614495051159257E-9},{"$f":"投入係数!BR24","v":6.8655096301096151E-9},{"$f":"投入係数!BS24","v":1.0583669474203724E-8},{"$f":"投入係数!BT24","v":1.7356756420013484E-7},{"$f":"投入係数!BU24","v":8.2436537015706095E-8},{"$f":"投入係数!BV24","v":3.7025235856399075E-8},{"$f":"投入係数!BW24","v":5.89768276892257E-8},{"$f":"投入係数!BX24","v":1.3573588121908963E-7},{"$f":"投入係数!BY24","v":9.2944379202183607E-7},{"$f":"投入係数!BZ24","v":6.8391525136783452E-8},{"$f":"投入係数!CA24","v":1.4710001622476017E-8},{"$f":"投入係数!CB24","v":4.2124594947446895E-8},{"$f":"投入係数!CC24","v":7.6212458541365162E-7},{"$f":"投入係数!CD24","v":6.081114329984566E-9},{"$f":"投入係数!CE24","v":9.4880664779449922E-8},{"$f":"投入係数!CF24","v":1.6481976845006394E-7},{"$f":"投入係数!CG24","v":1.4927459810020406E-8},{"$f":"投入係数!CH24","v":0},{"$f":"投入係数!CI24","v":0}]
[null,"21","輸送機械",{"$f":"投入係数!D25-諸係数!$R30*投入係数!D25","v":0},{"$f":"投入係数!E25-諸係数!$R30*投入係数!E25","v":0},{"$f":"投入係数!F25-諸係数!$R30*投入係数!F25","v":8.2027128992435121E-3},{"$f":"投入係数!G25-諸係数!$R30*投入係数!G25","v":5.8421343869565471E-6},{"$f":"投入係数!H25-諸係数!$R30*投入係数!H25","v":0},{"$f":"投入係数!I25-諸係数!$R30*投入係数!I25","v":0},{"$f":"投入係数!J25-諸係数!$R30*投入係数!J25","v":0},{"$f":"投入係数!K25-諸係数!$R30*投入係数!K25","v":0},{"$f":"投入係数!L25-諸係数!$R30*投入係数!L25","v":0},{"$f":"投入係数!M25-諸係数!$R30*投入係数!M25","v":0},{"$f":"投入係数!N25-諸係数!$R30*投入係数!N25","v":0},{"$f":"投入係数!O25-諸係数!$R30*投入係数!O25","v":0},{"$f":"投入係数!P25-諸係数!$R30*投入係数!P25","v":0},{"$f":"投入係数!Q25-諸係数!$R30*投入係数!Q25","v":0},{"$f":"投入係数!R25-諸係数!$R30*投入係数!R25","v":0},{"$f":"投入係数!S25-諸係数!$R30*投入係数!S25","v":1.2883668842465657E-4},{"$f":"投入係数!T25-諸係数!$R30*投入係数!T25","v":0},{"$f":"投入係数!U25-諸係数!$R30*投入係数!U25","v":0},{"$f":"投入係数!V25-諸係数!$R30*投入係数!V25","v":0},{"$f":"投入係数!W25-諸係数!$R30*投入係数!W25","v":0},{"$f":"投入係数!X25-諸係数!$R30*投入係数!X25","v":0.10594348272029339},{"$f":"投入係数!Y25-諸係数!$R30*投入係数!Y25","v":0},{"$f":"投入係数!Z25-諸係数!$R30*投入係数!Z25","v":0},{"$f":"投入係数!AA25-諸係数!$R30*投入係数!AA25","v":0},{"$f":"投入係数!AB25-諸係数!$R30*投入係数!AB25","v":0},{"$f":"投入係数!AC25-諸係数!$R30*投入係数!AC25","v":0},{"$f":"投入係数!AD25-諸係数!$R30*投入係数!AD25","v":0},{"$f":"投入係数!AE25-諸係数!$R30*投入係数!AE25","v":0},{"$f":"投入係数!AF25-諸係数!$R30*投入係数!AF25","v":0},{"$f":"投入係数!AG25-諸係数!$R30*投入係数!AG25","v":3.8216981104401762E-3},{"$f":"投入係数!AH25-諸係数!$R30*投入係数!AH25","v":0},{"$f":"投入係数!AI25-諸係数!$R30*投入係数!AI25","v":1.2694371292245364E-3},{"$f":"投入係数!AJ25-諸係数!$R30*投入係数!AJ25","v":1.1870824441126804E-5},{"$f":"投入係数!AK25-諸係数!$R30*投入係数!AK25","v":0},{"$f":"投入係数!AL25-諸係数!$R30*投入係数!AL25","v":0},{"$f":"投入係数!AM25-諸係数!$R30*投入係数!AM25","v":5.7370041752423792E-3},{"$f":"投入係数!AN25-諸係数!$R30*投入係数!AN25","v":0},{"$f":"投入係数!AO25-諸係数!$R30*投入係数!AO25","v":0},{"$f":"投入係数!AP25-諸係数!$R30*投入係数!AP25","v":2.2202005199914218E-6},{"$f":"投入係数!AQ25-諸係数!$R30*投入係数!AQ25","v":2.5239131648794656E-5},{"$f":"投入係数!AR25-諸係数!$R30*投入係数!AR25","v":0},{"$f":"投入係数!AS25-諸係数!$R30*投入係数!AS25","v":0},{"$f":"投入係数!AT25","v":0},{"$f":"投入係数!AU25","v":0},{"$f":"投入係数!AV25","v":1.0714822894109582E-3},{"$f":"投入係数!AW25","v":8.7685500655650061E-7},{"$f":"投入係数!AX25","v":0},{"$f":"投入係数!AY25","v":0},{"$f":"投入係数!AZ25","v":0},{"$f":"投入係数!BA25","v":0},{"$f":"投入係数!BB25","v":0},{"$f":"投入係数!BC25","v":0},{"$f":"投入係数!BD25","v":0},{"$f":"投入係数!BE25","v":0},{"$f":"投入係数!BF25","v":0},{"$f":"投入係数!BG25","v":0},{"$f":"投入係数!BH25","v":0},{"$f":"投入係数!BI25","v":1.197300726635786E-5},{"$f":"投入係数!BJ25","v":0},{"$f":"投入係数!BK25","v":0},{"$f":"投入係数!BL25","v":0},{"$f":"投入係数!BM25","v":0},{"$f":"投入係数!BN25","v":1.0478661728778151E-2},{"$f":"投入係数!BO25","v":0},{"$f":"投入係数!BP25","v":0},{"$f":"投入係数!BQ25","v":0},{"$f":"投入係数!BR25","v":0},{"$f":"投入係数!BS25","v":0},{"$f":"投入係数!BT25","v":0},{"$f":"投入係数!BU25","v":0},{"$f":"投入係数!BV25","v":0},{"$f":"投入係数!BW25","v":3.4623550884206979E-4},{"$f":"投入係数!BX25","v":0},{"$f":"投入係数!BY25","v":1.2796167537770174E-4},{"$f":"投入係数!BZ25","v":1.5979394883521386E-6},{"$f":"投入係数!CA25","v":0},{"$f":"投入係数!CB25","v":0},{"$f":"投入係数!CC25","v":5.6051005722114564E-4},{"$f":"投入係数!CD25","v":0},{"$f":"投入係数!CE25","v":0},{"$f":"投入係数!CF25","v":3.8060354424981865E-7},{"$f":"投入係数!CG25","v":2.5658644806779527E-6},{"$f":"投入係数!CH25","v":0},{"$f":"投入係数!CI25","v":0}]
[null,"22","その他の製造工業製品",{"$f":"投入係数!D26-諸係数!$R31*投入係数!D26","v":2.1562043652947099E-4},{"$f":"投入係数!E26-諸係数!$R31*投入係数!E26","v":3.4134869266860212E-3},{"$f":"投入係数!F26-諸係数!$R31*投入係数!F26","v":1.3716256707469161E-3},{"$f":"投入係数!G26-諸係数!$R31*投入係数!G26","v":1.001642713897436E-3},{"$f":"投入係数!H26-諸係数!$R31*投入係数!H26","v":1.7939708732691321E-3},{"$f":"投入係数!I26-諸係数!$R31*投入係数!I26","v":3.8411321609018133E-3},{"$f":"投入係数!J26-諸係数!$R31*投入係数!J26","v":2.2811702297975351E-3},{"$f":"投入係数!K26-諸係数!$R31*投入係数!K26","v":8.1738299803891623E-4},{"$f":"投入係数!L26-諸係数!$R31*投入係数!L26","v":3.8266414534398828E-3},{"$f":"投入係数!M26-諸係数!$R31*投入係数!M26","v":4.267707765400189E-4},{"$f":"投入係数!N26-諸係数!$R31*投入係数!N26","v":2.5443126166296258E-3},{"$f":"投入係数!O26-諸係数!$R31*投入係数!O26","v":1.6039799644185981E-3},{"$f":"投入係数!P26-諸係数!$R31*投入係数!P26","v":6.7019937735489131E-3},{"$f":"投入係数!Q26-諸係数!$R31*投入係数!Q26","v":4.6425952415110009E-4},{"$f":"投入係数!R26-諸係数!$R31*投入係数!R26","v":3.051554087899363E-4},{"$f":"投入係数!S26-諸係数!$R31*投入係数!S26","v":5.2167245750886818E-4},{"$f":"投入係数!T26-諸係数!$R31*投入係数!T26","v":1.2796255137606338E-3},{"$f":"投入係数!U26-諸係数!$R31*投入係数!U26","v":1.2593076424660358E-3},{"$f":"投入係数!V26-諸係数!$R31*投入係数!V26","v":6.9437875794114523E-4},{"$f":"投入係数!W26-諸係数!$R31*投入係数!W26","v":1.4065669832698663E-3},{"$f":"投入係数!X26-諸係数!$R31*投入係数!X26","v":4.2962678263414793E-4},{"$f":"投入係数!Y26-諸係数!$R31*投入係数!Y26","v":9.4781140696110176E-3},{"$f":"投入係数!Z26-諸係数!$R31*投入係数!Z26","v":7.033145218813062E-4},{"$f":"投入係数!AA26-諸係数!$R31*投入係数!AA26","v":2.037146971508559E-3},{"$f":"投入係数!AB26-諸係数!$R31*投入係数!AB26","v":7.9102048856975022E-4},{"$f":"投入係数!AC26-諸係数!$R31*投入係数!AC26","v":9.1911050162176865E-4},{"$f":"投入係数!AD26-諸係数!$R31*投入係数!AD26","v":1.2698867436720207E-3},{"$f":"投入係数!AE26-諸係数!$R31*投入係数!AE26","v":3.2881830857349938E-3},{"$f":"投入係数!AF26-諸係数!$R31*投入係数!AF26","v":1.8606849975373618E-5},{"$f":"投入係数!AG26-諸係数!$R31*投入係数!AG26","v":5.7756539837202649E-4},{"$f":"投入係数!AH26-諸係数!$R31*投入係数!AH26","v":5.1528424369718315E-3},{"$f":"投入係数!AI26-諸係数!$R31*投入係数!AI26","v":2.1427959581538001E-3},{"$f":"投入係数!AJ26-諸係数!$R31*投入係数!AJ26","v":3.3371992657940763E-3},{"$f":"投入係数!AK26-諸係数!$R31*投入係数!AK26","v":9.1385653916626697E-4},{"$f":"投入係数!AL26-諸係数!$R31*投入係数!AL26","v":9.4359546353245533E-3},{"$f":"投入係数!AM26-諸係数!$R31*投入係数!AM26","v":2.2756394996479787E-3},{"$f":"投入係数!AN26-諸係数!$R31*投入係数!AN26","v":6.61341807466898E-4},{"$f":"投入係数!AO26-諸係数!$R31*投入係数!AO26","v":6.2147037656199019E-4},{"$f":"投入係数!AP26-諸係数!$R31*投入係数!AP26","v":3.361270919357211E-3},{"$f":"投入係数!AQ26-諸係数!$R31*投入係数!AQ26","v":2.5470710841669557E-3},{"$f":"投入係数!AR26-諸係数!$R31*投入係数!AR26","v":3.3640064685756976E-2},{"$f":"投入係数!AS26-諸係数!$R31*投入係数!AS26","v":3.7440158654880422E-4},{"$f":"投入係数!AT26","v":2.1371439655081644E-5},{"$f":"投入係数!AU26","v":9.4311830928819524E-5},{"$f":"投入係数!AV26","v":1.0555145917951919E-4},{"$f":"投入係数!AW26","v":6.4899449026938776E-5},{"$f":"投入係数!AX26","v":1.2946149966929922E-4},{"$f":"投入係数!AY26","v":2.4817473092848645E-4},{"$f":"投入係数!AZ26","v":2.2079651467560828E-4},{"$f":"投入係数!BA26","v":5.5555234676067776E-5},{"$f":"投入係数!BB26","v":1.7924527783152983E-5},{"$f":"投入係数!BC26","v":3.179558077015498E-5},{"$f":"投入係数!BD26","v":1.4765479704706173E-4},{"$f":"投入係数!BE26","v":1.2229404954462584E-4},{"$f":"投入係数!BF26","v":4.9627997732460728E-4},{"$f":"投入係数!BG26","v":4.4828672420283874E-5},{"$f":"投入係数!BH26","v":2.0697611970735878E-5},{"$f":"投入係数!BI26","v":4.7062827735409617E-5},{"$f":"投入係数!BJ26","v":1.0618572880991327E-4},{"$f":"投入係数!BK26","v":8.2901100085376305E-5},{"$f":"投入係数!BL26","v":6.1853364404254133E-5},{"$f":"投入係数!BM26","v":1.1614712254255919E-4},{"$f":"投入係数!BN26","v":2.5485564120115798E-5},{"$f":"投入係数!BO26","v":7.9750486581700933E-4},{"$f":"投入係数!BP26","v":5.3157886793846837E-5},{"$f":"投入係数!BQ26","v":1.3821768682689304E-4},{"$f":"投入係数!BR26","v":5.5715899151549566E-5},{"$f":"投入係数!BS26","v":5.926643232164601E-5},{"$f":"投入係数!BT26","v":9.4009011050177755E-5},{"$f":"投入係数!BU26","v":2.4422027279550506E-4},{"$f":"投入係数!BV26","v":1.0832123500548587E-6},{"$f":"投入係数!BW26","v":3.5541977489292793E-5},{"$f":"投入係数!BX26","v":3.5979836959579954E-4},{"$f":"投入係数!BY26","v":1.3498914546111705E-4},{"$f":"投入係数!BZ26","v":2.6836003316666959E-4},{"$f":"投入係数!CA26","v":6.3879188519397321E-5},{"$f":"投入係数!CB26","v":7.2639183476322464E-4},{"$f":"投入係数!CC26","v":1.5189262199215403E-4},{"$f":"投入係数!CD26","v":4.8192831065127688E-5},{"$f":"投入係数!CE26","v":4.0742362273282435E-5},{"$f":"投入係数!CF26","v":1.9245093515825163E-4},{"$f":"投入係数!CG26","v":1.6608623505957819E-4},{"$f":"投入係数!CH26","v":2.2436521002478101E-3},{"$f":"投入係数!CI26","v":2.542436702131284E-5}]
[null,"23","建設",{"$f":"投入係数!D27-諸係数!$R32*投入係数!D27","v":3.1826039115059089E-3},{"$f":"投入係数!E27-諸係数!$R32*投入係数!E27","v":2.2394554043135839E-3},{"$f":"投入係数!F27-諸係数!$R32*投入係数!F27","v":1.1237728504827722E-3},{"$f":"投入係数!G27-諸係数!$R32*投入係数!G27","v":2.6460307859021148E-3},{"$f":"投入係数!H27-諸係数!$R32*投入係数!H27","v":4.1445988676397556E-4},{"$f":"投入係数!I27-諸係数!$R32*投入係数!I27","v":1.8705191139883899E-3},{"$f":"投入係数!J27-諸係数!$R32*投入係数!J27","v":2.5960651506021855E-3},{"$f":"投入係数!K27-諸係数!$R32*投入係数!K27","v":2.8368200985380838E-3},{"$f":"投入係数!L27-諸係数!$R32*投入係数!L27","v":1.5584856196306646E-3},{"$f":"投入係数!M27-諸係数!$R32*投入係数!M27","v":2.2713104475739587E-3},{"$f":"投入係数!N27-諸係数!$R32*投入係数!N27","v":6.3993867190254268E-3},{"$f":"投入係数!O27-諸係数!$R32*投入係数!O27","v":3.3227755917697032E-3},{"$f":"投入係数!P27-諸係数!$R32*投入係数!P27","v":2.5992895936855815E-3},{"$f":"投入係数!Q27-諸係数!$R32*投入係数!Q27","v":4.0461592963026176E-3},{"$f":"投入係数!R27-諸係数!$R32*投入係数!R27","v":1.644103855163001E-3},{"$f":"投入係数!S27-諸係数!$R32*投入係数!S27","v":1.5703488748535809E-3},{"$f":"投入係数!T27-諸係数!$R32*投入係数!T27","v":1.592819802239397E-3},{"$f":"投入係数!U27-諸係数!$R32*投入係数!U27","v":2.9041072662074024E-3},{"$f":"投入係数!V27-諸係数!$R32*投入係数!V27","v":1.7070970205683535E-3},{"$f":"投入係数!W27-諸係数!$R32*投入係数!W27","v":1.7879247824964899E-3},{"$f":"投入係数!X27-諸係数!$R32*投入係数!X27","v":4.3029316647765961E-4},{"$f":"投入係数!Y27-諸係数!$R32*投入係数!Y27","v":1.3024472449707247E-3},{"$f":"投入係数!Z27-諸係数!$R32*投入係数!Z27","v":5.708414547056066E-4},{"$f":"投入係数!AA27-諸係数!$R32*投入係数!AA27","v":1.368962128244082E-2},{"$f":"投入係数!AB27-諸係数!$R32*投入係数!AB27","v":2.684603892175421E-2},{"$f":"投入係数!AC27-諸係数!$R32*投入係数!AC27","v":2.8805889694272918E-3},{"$f":"投入係数!AD27-諸係数!$R32*投入係数!AD27","v":2.6573954837704741E-3},{"$f":"投入係数!AE27-諸係数!$R32*投入係数!AE27","v":2.205136060818839E-3},{"$f":"投入係数!AF27-諸係数!$R32*投入係数!AF27","v":8.329789166414605E-3},{"$f":"投入係数!AG27-諸係数!$R32*投入係数!AG27","v":6.1619624669567667E-3},{"$f":"投入係数!AH27-諸係数!$R32*投入係数!AH27","v":3.8949730650314025E-3},{"$f":"投入係数!AI27-諸係数!$R32*投入係数!AI27","v":7.7285394591183809E-3},{"$f":"投入係数!AJ27-諸係数!$R32*投入係数!AJ27","v":5.5756588447879339E-3},{"$f":"投入係数!AK27-諸係数!$R32*投入係数!AK27","v":2.2523615184085661E-3},{"$f":"投入係数!AL27-諸係数!$R32*投入係数!AL27","v":1.6429731167948978E-3},{"$f":"投入係数!AM27-諸係数!$R32*投入係数!AM27","v":1.1987490948651145E-3},{"$f":"投入係数!AN27-諸係数!$R32*投入係数!AN27","v":1.6059898611283695E-3},{"$f":"投入係数!AO27-諸係数!$R32*投入係数!AO27","v":1.2445253598156421E-3},{"$f":"投入係数!AP27-諸係数!$R32*投入係数!AP27","v":4.3291783329220714E-3},{"$f":"投入係数!AQ27-諸係数!$R32*投入係数!AQ27","v":2.7822201429101596E-3},{"$f":"投入係数!AR27-諸係数!$R32*投入係数!AR27","v":0},{"$f":"投入係数!AS27-諸係数!$R32*投入係数!AS27","v":0},{"$f":"投入係数!AT27","v":0},{"$f":"投入係数!AU27","v":0},{"$f":"投入係数!AV27","v":0},{"$f":"投入係数!AW27","v":0},{"$f":"投入係数!AX27","v":0},{"$f":"投入係数!AY27","v":0},{"$f":"投入係数!AZ27","v":0},{"$f":"投入係数!BA27","v":0},{"$f":"投入係数!BB27","v":0},{"$f":"投入係数!BC27","v":0},{"$f":"投入係数!BD27","v":0},{"$f":"投入係数!BE27","v":0},{"$f":"投入係数!BF27","v":0},{"$f":"投入係数!BG27","v":0},{"$f":"投入係数!BH27","v":0},{"$f":"投入係数!BI27","v":0},{"$f":"投入係数!BJ27","v":0},{"$f":"投入係数!BK27","v":0},{"$f":"投入係数!BL27","v":0},{"$f":"投入係数!BM27","v":0},{"$f":"投入係数!BN27","v":0},{"$f":"投入係数!BO27","v":0},{"$f":"投入係数!BP27","v":0},{"$f":"投入係数!BQ27","v":0},{"$f":"投入係数!BR27","v":0},{"$f":"投入係数!BS27","v":0},{"$f":"投入係数!BT27","v":0},{"$f":"投入係数!BU27","v":0},{"$f":"投入係数!BV27","v":0},{"$f":"投入係数!BW27","v":0},{"$f":"投入係数!BX27","v":0},{"$f":"投入係数!BY27","v":0},{"$f":"投入係数!BZ27","v":0},{"$f":"投入係数!CA27","v":0},{"$f":"投入係数!CB27","v":0},{"$f":"投入係数!CC27","v":0},{"$f":"投入係数!CD27","v":0},{"$f":"投入係数!CE27","v":0},{"$f":"投入係数!CF27","v":0},{"$f":"投入係数!CG27","v":0},{"$f":"投入係数!CH27","v":0},{"$f":"投入係数!CI27","v":0}]
[null,"24","電力・ガス・熱供給",{"$f":"投入係数!D28-諸係数!$R33*投入係数!D28","v":8.7110801291049589E-3},{"$f":"投入係数!E28-諸係数!$R33*投入係数!E28","v":1.3806829073685576E-2},{"$f":"投入係数!F28-諸係数!$R33*投入係数!F28","v":5.2739564356011574E-3},{"$f":"投入係数!G28-諸係数!$R33*投入係数!G28","v":3.0964527782428218E-2},{"$f":"投入係数!H28-諸係数!$R33*投入係数!H28","v":8.6102785637924301E-3},{"$f":"投入係数!I28-諸係数!$R33*投入係数!I28","v":2.2105310845420389E-2},{"$f":"投入係数!J28-諸係数!$R33*投入係数!J28","v":1.5868854238158252E-2},{"$f":"投入係数!K28-諸係数!$R33*投入係数!K28","v":3.1884652051657851E-2},{"$f":"投入係数!L28-諸係数!$R33*投入係数!L28","v":8.3683274461685692E-3},{"$f":"投入係数!M28-諸係数!$R33*投入係数!M28","v":2.7948410312757885E-2},{"$f":"投入係数!N28-諸係数!$R33*投入係数!N28","v":6.303457548503609E-2},{"$f":"投入係数!O28-諸係数!$R33*投入係数!O28","v":3.0838526552472545E-2},{"$f":"投入係数!P28-諸係数!$R33*投入係数!P28","v":2.8729493421222763E-2},{"$f":"投入係数!Q28-諸係数!$R33*投入係数!Q28","v":1.8119761394148844E-2},{"$f":"投入係数!R28-諸係数!$R33*投入係数!R28","v":8.8221913491730621E-3},{"$f":"投入係数!S28-諸係数!$R33*投入係数!S28","v":8.0230071917370468E-3},{"$f":"投入係数!T28-諸係数!$R33*投入係数!T28","v":8.5144500526371427E-3},{"$f":"投入係数!U28-諸係数!$R33*投入係数!U28","v":2.2282827846805714E-2},{"$f":"投入係数!V28-諸係数!$R33*投入係数!V28","v":7.8208644584779087E-3},{"$f":"投入係数!W28-諸係数!$R33*投入係数!W28","v":5.597567066632979E-3},{"$f":"投入係数!X28-諸係数!$R33*投入係数!X28","v":7.3658982679136323E-3},{"$f":"投入係数!Y28-諸係数!$R33*投入係数!Y28","v":1.6722298425052271E-2},{"$f":"投入係数!Z28-諸係数!$R33*投入係数!Z28","v":2.4446379599597431E-3},{"$f":"投入係数!AA28-諸係数!$R33*投入係数!AA28","v":6.3256809158055594E-2},{"$f":"投入係数!AB28-諸係数!$R33*投入係数!AB28","v":3.2036163309770604E-2},{"$f":"投入係数!AC28-諸係数!$R33*投入係数!AC28","v":6.0149717553384045E-2},{"$f":"投入係数!AD28-諸係数!$R33*投入係数!AD28","v":1.5510439586713323E-2},{"$f":"投入係数!AE28-諸係数!$R33*投入係数!AE28","v":3.6103530964113613E-3},{"$f":"投入係数!AF28-諸係数!$R33*投入係数!AF28","v":3.8034877526683737E-3},{"$f":"投入係数!AG28-諸係数!$R33*投入係数!AG28","v":9.2798666653379196E-3},{"$f":"投入係数!AH28-諸係数!$R33*投入係数!AH28","v":5.1936373900877573E-3},{"$f":"投入係数!AI28-諸係数!$R33*投入係数!AI28","v":9.9595252369791085E-3},{"$f":"投入係数!AJ28-諸係数!$R33*投入係数!AJ28","v":1.9359531175442722E-2},{"$f":"投入係数!AK28-諸係数!$R33*投入係数!AK28","v":9.7160551865219623E-3},{"$f":"投入係数!AL28-諸係数!$R33*投入係数!AL28","v":3.2620689031532136E-3},{"$f":"投入係数!AM28-諸係数!$R33*投入係数!AM28","v":4.333655910881115E-3},{"$f":"投入係数!AN28-諸係数!$R33*投入係数!AN28","v":4.1374363343288936E-2},{"$f":"投入係数!AO28-諸係数!$R33*投入係数!AO28","v":2.8764858793662414E-2},{"$f":"投入係数!AP28-諸係数!$R33*投入係数!AP28","v":2.8818550185813464E-2},{"$f":"投入係数!AQ28-諸係数!$R33*投入係数!AQ28","v":2.4956302639541253E-2},{"$f":"投入係数!AR28-諸係数!$R33*投入係数!AR28","v":0},{"$f":"投入係数!AS28-諸係数!$R33*投入係数!AS28","v":3.5496414070318675E-3},{"$f":"投入係数!AT28","v":7.401787105250793E-7},{"$f":"投入係数!AU28","v":5.4839874644208779E-7},{"$f":"投入係数!AV28","v":5.233218243376609E-7},{"$f":"投入係数!AW28","v":2.8741358548240851E-6},{"$f":"投入係数!AX28","v":1.0167852871500894E-6},{"$f":"投入係数!AY28","v":2.3345518374969226E-6},{"$f":"投入係数!AZ28","v":3.266162662158715E-6},{"$f":"投入係数!BA28","v":2.1812280763641024E-6},{"$f":"投入係数!BB28","v":5.7977393089910019E-7},{"$f":"投入係数!BC28","v":2.4578796322998751E-6},{"$f":"投入係数!BD28","v":4.0453824779304717E-6},{"$f":"投入係数!BE28","v":3.2879977250069806E-6},{"$f":"投入係数!BF28","v":2.7020270715263736E-6},{"$f":"投入係数!BG28","v":1.767982755164644E-6},{"$f":"投入係数!BH28","v":1.0300883641359736E-6},{"$f":"投入係数!BI28","v":8.1698023451671218E-7},{"$f":"投入係数!BJ28","v":7.400968925255153E-7},{"$f":"投入係数!BK28","v":2.1450404240256798E-6},{"$f":"投入係数!BL28","v":6.9541571472615508E-7},{"$f":"投入係数!BM28","v":4.2222633809272485E-7},{"$f":"投入係数!BN28","v":9.4234976485726474E-7},{"$f":"投入係数!BO28","v":1.3484847462483905E-6},{"$f":"投入係数!BP28","v":2.4690612806348423E-7},{"$f":"投入係数!BQ28","v":6.5587209918129323E-6},{"$f":"投入係数!BR28","v":3.2130585068912996E-6},{"$f":"投入係数!BS28","v":5.5945276840640878E-6},{"$f":"投入係数!BT28","v":1.7222063609940194E-6},{"$f":"投入係数!BU28","v":3.8083357945283939E-7},{"$f":"投入係数!BV28","v":3.0324821201417514E-7},{"$f":"投入係数!BW28","v":9.6429957813412447E-7},{"$f":"投入係数!BX28","v":4.3265812138584825E-7},{"$f":"投入係数!BY28","v":9.0991219090061512E-7},{"$f":"投入係数!BZ28","v":1.4530824385832569E-6},{"$f":"投入係数!CA28","v":9.5382747362581346E-7},{"$f":"投入係数!CB28","v":3.5103829122872414E-7},{"$f":"投入係数!CC28","v":4.0781566574881107E-7},{"$f":"投入係数!CD28","v":4.3094830218490626E-6},{"$f":"投入係数!CE28","v":2.7466251405875823E-6},{"$f":"投入係数!CF28","v":2.469043505005234E-6},{"$f":"投入係数!CG28","v":2.2183863884335885E-6},{"$f":"投入係数!CH28","v":0},{"$f":"投入係数!CI28","v":3.4512715413546843E-7}]
[null,"25","水道",{"$f":"投入係数!D29-諸係数!$R34*投入係数!D29","v":5.0591658681936635E-4},{"$f":"投入係数!E29-諸係数!$R34*投入係数!E29","v":3.6369051482761252E-4},{"$f":"投入係数!F29-諸係数!$R34*投入係数!F29","v":2.1680061589051593E-4},{"$f":"投入係数!G29-諸係数!$R34*投入係数!G29","v":2.2177616543404004E-3},{"$f":"投入係数!H29-諸係数!$R34*投入係数!H29","v":1.5197967803980592E-3},{"$f":"投入係数!I29-諸係数!$R34*投入係数!I29","v":9.5045302161927958E-4},{"$f":"投入係数!J29-諸係数!$R34*投入係数!J29","v":7.0738399847173488E-4},{"$f":"投入係数!K29-諸係数!$R34*投入係数!K29","v":2.5827114743819527E-3},{"$f":"投入係数!L29-諸係数!$R34*投入係数!L29","v":1.7862723643999332E-3},{"$f":"投入係数!M29-諸係数!$R34*投入係数!M29","v":6.3081143086218035E-4},{"$f":"投入係数!N29-諸係数!$R34*投入係数!N29","v":1.0256895240106556E-3},{"$f":"投入係数!O29-諸係数!$R34*投入係数!O29","v":8.4232987041987068E-4},{"$f":"投入係数!P29-諸係数!$R34*投入係数!P29","v":7.6016172155637333E-4},{"$f":"投入係数!Q29-諸係数!$R34*投入係数!Q29","v":5.84065355739042E-4},{"$f":"投入係数!R29-諸係数!$R34*投入係数!R29","v":5.7472279539988122E-4},{"$f":"投入係数!S29-諸係数!$R34*投入係数!S29","v":4.2580318139321581E-4},{"$f":"投入係数!T29-諸係数!$R34*投入係数!T29","v":5.4162818395026187E-4},{"$f":"投入係数!U29-諸係数!$R34*投入係数!U29","v":9.1304723223535297E-4},{"$f":"投入係数!V29-諸係数!$R34*投入係数!V29","v":5.248628425694778E-4},{"$f":"投入係数!W29-諸係数!$R34*投入係数!W29","v":3.9465198621719134E-4},{"$f":"投入係数!X29-諸係数!$R34*投入係数!X29","v":3.6468891669040376E-4},{"$f":"投入係数!Y29-諸係数!$R34*投入係数!Y29","v":7.80029740379644E-4},{"$f":"投入係数!Z29-諸係数!$R34*投入係数!Z29","v":6.354084389861962E-4},{"$f":"投入係数!AA29-諸係数!$R34*投入係数!AA29","v":6.598789179913956E-4},{"$f":"投入係数!AB29-諸係数!$R34*投入係数!AB29","v":7.3995493853954653E-2},{"$f":"投入係数!AC29-諸係数!$R34*投入係数!AC29","v":8.7172009721917885E-3},{"$f":"投入係数!AD29-諸係数!$R34*投入係数!AD29","v":1.8355426882340961E-3},{"$f":"投入係数!AE29-諸係数!$R34*投入係数!AE29","v":1.0577628813679136E-3},{"$f":"投入係数!AF29-諸係数!$R34*投入係数!AF29","v":4.4349080335816964E-4},{"$f":"投入係数!AG29-諸係数!$R34*投入係数!AG29","v":3.1972670661029076E-3},{"$f":"投入係数!AH29-諸係数!$R34*投入係数!AH29","v":2.2574498078580894E-3},{"$f":"投入係数!AI29-諸係数!$R34*投入係数!AI29","v":3.8238080298221271E-3},{"$f":"投入係数!AJ29-諸係数!$R34*投入係数!AJ29","v":9.0240514708696175E-3},{"$f":"投入係数!AK29-諸係数!$R34*投入係数!AK29","v":4.5533571347309365E-3},{"$f":"投入係数!AL29-諸係数!$R34*投入係数!AL29","v":1.8776405899066141E-3},{"$f":"投入係数!AM29-諸係数!$R34*投入係数!AM29","v":6.8569638831962826E-4},{"$f":"投入係数!AN29-諸係数!$R34*投入係数!AN29","v":9.9773217865644429E-3},{"$f":"投入係数!AO29-諸係数!$R34*投入係数!AO29","v":8.6988852298122595E-3},{"$f":"投入係数!AP29-諸係数!$R34*投入係数!AP29","v":5.2616749234000552E-3},{"$f":"投入係数!AQ29-諸係数!$R34*投入係数!AQ29","v":8.9036471242889496E-3},{"$f":"投入係数!AR29-諸係数!$R34*投入係数!AR29","v":0},{"$f":"投入係数!AS29-諸係数!$R34*投入係数!AS29","v":1.2810155299118652E-3},{"$f":"投入係数!AT29","v":1.10636210953155E-6},{"$f":"投入係数!AU29","v":3.443433989287528E-7},{"$f":"投入係数!AV29","v":3.063347264415576E-7},{"$f":"投入係数!AW29","v":4.3964535745402322E-6},{"$f":"投入係数!AX29","v":3.1553810476530872E-6},{"$f":"投入係数!AY29","v":2.77828626665796E-6},{"$f":"投入係数!AZ29","v":3.4084290065980741E-6},{"$f":"投入係数!BA29","v":4.1247092100031576E-6},{"$f":"投入係数!BB29","v":8.0294800337109639E-7},{"$f":"投入係数!BC29","v":1.6121973867493762E-6},{"$f":"投入係数!BD29","v":2.1258218777940554E-6},{"$f":"投入係数!BE29","v":1.6432139501795449E-6},{"$f":"投入係数!BF29","v":1.3360534199497953E-6},{"$f":"投入係数!BG29","v":1.144143678776524E-6},{"$f":"投入係数!BH29","v":1.0552596963423036E-6},{"$f":"投入係数!BI29","v":9.7035498310586316E-7},{"$f":"投入係数!BJ29","v":1.0963321354896632E-6},{"$f":"投入係数!BK29","v":2.960834356818575E-6},{"$f":"投入係数!BL29","v":9.9372245574256577E-7},{"$f":"投入係数!BM29","v":4.3324093821688289E-7},{"$f":"投入係数!BN29","v":6.4367734852704674E-7},{"$f":"投入係数!BO29","v":1.374397212548321E-6},{"$f":"投入係数!BP29","v":1.2661373435657406E-6},{"$f":"投入係数!BQ29","v":1.3140017897289676E-6},{"$f":"投入係数!BR29","v":1.5434352199449424E-4},{"$f":"投入係数!BS29","v":1.5454274166232277E-5},{"$f":"投入係数!BT29","v":3.8732395872295071E-6},{"$f":"投入係数!BU29","v":2.1334807995261967E-6},{"$f":"投入係数!BV29","v":6.7965009072040516E-7},{"$f":"投入係数!BW29","v":6.1730343888735525E-6},{"$f":"投入係数!BX29","v":3.0010872274415793E-6},{"$f":"投入係数!BY29","v":6.8274664879340092E-6},{"$f":"投入係数!BZ29","v":1.5108115349747573E-5},{"$f":"投入係数!CA29","v":8.1411342663675948E-6},{"$f":"投入係数!CB29","v":3.8684419693405405E-6},{"$f":"投入係数!CC29","v":1.2481210925908548E-6},{"$f":"投入係数!CD29","v":1.9804162334649736E-5},{"$f":"投入係数!CE29","v":1.5782321255804039E-5},{"$f":"投入係数!CF29","v":7.8343607042875784E-6},{"$f":"投入係数!CG29","v":1.5655588127420291E-5},{"$f":"投入係数!CH29","v":0},{"$f":"投入係数!CI29","v":2.3716430079052704E-6}]
[null,"26","廃棄物処理",{"$f":"投入係数!D30-諸係数!$R35*投入係数!D30","v":3.2484480670544075E-4},{"$f":"投入係数!E30-諸係数!$R35*投入係数!E30","v":3.1892481389206268E-4},{"$f":"投入係数!F30-諸係数!$R35*投入係数!F30","v":9.4566232345219676E-6},{"$f":"投入係数!G30-諸係数!$R35*投入係数!G30","v":2.0193891632903347E-3},{"$f":"投入係数!H30-諸係数!$R35*投入係数!H30","v":6.0962345195246894E-4},{"$f":"投入係数!I30-諸係数!$R35*投入係数!I30","v":1.7909966068224085E-4},{"$f":"投入係数!J30-諸係数!$R35*投入係数!J30","v":3.4826363914503076E-4},{"$f":"投入係数!K30-諸係数!$R35*投入係数!K30","v":2.0679578915793776E-3},{"$f":"投入係数!L30-諸係数!$R35*投入係数!L30","v":1.6211799108547517E-4},{"$f":"投入係数!M30-諸係数!$R35*投入係数!M30","v":1.6705362972325782E-4},{"$f":"投入係数!N30-諸係数!$R35*投入係数!N30","v":2.1612363786685327E-3},{"$f":"投入係数!O30-諸係数!$R35*投入係数!O30","v":1.1179861866907534E-4},{"$f":"投入係数!P30-諸係数!$R35*投入係数!P30","v":7.5896636509077751E-5},{"$f":"投入係数!Q30-諸係数!$R35*投入係数!Q30","v":8.7257542427167712E-5},{"$f":"投入係数!R30-諸係数!$R35*投入係数!R30","v":2.5634968378019919E-4},{"$f":"投入係数!S30-諸係数!$R35*投入係数!S30","v":2.9752997511832706E-5},{"$f":"投入係数!T30-諸係数!$R35*投入係数!T30","v":1.7038660096625345E-4},{"$f":"投入係数!U30-諸係数!$R35*投入係数!U30","v":6.1858273774678891E-4},{"$f":"投入係数!V30-諸係数!$R35*投入係数!V30","v":2.8822153493831193E-4},{"$f":"投入係数!W30-諸係数!$R35*投入係数!W30","v":2.5040430758489616E-4},{"$f":"投入係数!X30-諸係数!$R35*投入係数!X30","v":1.7117935091046457E-4},{"$f":"投入係数!Y30-諸係数!$R35*投入係数!Y30","v":3.8857625652298581E-4},{"$f":"投入係数!Z30-諸係数!$R35*投入係数!Z30","v":1.738350361197195E-3},{"$f":"投入係数!AA30-諸係数!$R35*投入係数!AA30","v":8.2751874010828907E-3},{"$f":"投入係数!AB30-諸係数!$R35*投入係数!AB30","v":1.7115148270103679E-3},{"$f":"投入係数!AC30-諸係数!$R35*投入係数!AC30","v":0},{"$f":"投入係数!AD30-諸係数!$R35*投入係数!AD30","v":1.2084755392104938E-3},{"$f":"投入係数!AE30-諸係数!$R35*投入係数!AE30","v":2.8280219655103518E-3},{"$f":"投入係数!AF30-諸係数!$R35*投入係数!AF30","v":1.4458229326727168E-5},{"$f":"投入係数!AG30-諸係数!$R35*投入係数!AG30","v":4.3984456891133106E-3},{"$f":"投入係数!AH30-諸係数!$R35*投入係数!AH30","v":4.6700467032620699E-3},{"$f":"投入係数!AI30-諸係数!$R35*投入係数!AI30","v":2.5570087929606199E-2},{"$f":"投入係数!AJ30-諸係数!$R35*投入係数!AJ30","v":5.9819021972914591E-3},{"$f":"投入係数!AK30-諸係数!$R35*投入係数!AK30","v":3.5465638669197452E-3},{"$f":"投入係数!AL30-諸係数!$R35*投入係数!AL30","v":3.1808201953259418E-5},{"$f":"投入係数!AM30-諸係数!$R35*投入係数!AM30","v":3.3471001039185827E-4},{"$f":"投入係数!AN30-諸係数!$R35*投入係数!AN30","v":4.2861778928252957E-2},{"$f":"投入係数!AO30-諸係数!$R35*投入係数!AO30","v":1.5807248574221288E-2},{"$f":"投入係数!AP30-諸係数!$R35*投入係数!AP30","v":1.158807578342363E-2},{"$f":"投入係数!AQ30-諸係数!$R35*投入係数!AQ30","v":1.4444845103627006E-2},{"$f":"投入係数!AR30-諸係数!$R35*投入係数!AR30","v":0},{"$f":"投入係数!AS30-諸係数!$R35*投入係数!AS30","v":1.4041650892936394E-2},{"$f":"投入係数!AT30","v":1.1864342127809648E-6},{"$f":"投入係数!AU30","v":4.2086415424625345E-7},{"$f":"投入係数!AV30","v":1.0849354894805166E-7},{"$f":"投入係数!AW30","v":5.9065927524986494E-6},{"$f":"投入係数!AX30","v":2.0392843797671716E-6},{"$f":"投入係数!AY30","v":5.9070379423348285E-7},{"$f":"投入係数!AZ30","v":1.9516897910812768E-6},{"$f":"投入係数!BA30","v":5.8424581775020447E-6},{"$f":"投入係数!BB30","v":2.812112977529175E-8},{"$f":"投入係数!BC30","v":1.7979071362097223E-7},{"$f":"投入係数!BD30","v":6.1329462155138354E-6},{"$f":"投入係数!BE30","v":3.5085580880356178E-7},{"$f":"投入係数!BF30","v":4.4074802742529854E-7},{"$f":"投入係数!BG30","v":2.1408823437229436E-7},{"$f":"投入係数!BH30","v":7.0770168626259069E-7},{"$f":"投入係数!BI30","v":6.2327587076069287E-8},{"$f":"投入係数!BJ30","v":1.2751767676716639E-6},{"$f":"投入係数!BK30","v":1.9165879641030856E-6},{"$f":"投入係数!BL30","v":5.9724682967829161E-7},{"$f":"投入係数!BM30","v":4.6628473858935705E-7},{"$f":"投入係数!BN30","v":9.54602992193889E-7},{"$f":"投入係数!BO30","v":8.6029388115769729E-7},{"$f":"投入係数!BP30","v":4.8774580824543617E-6},{"$f":"投入係数!BQ30","v":2.6223177937944567E-5},{"$f":"投入係数!BR30","v":5.0804771262811151E-6},{"$f":"投入係数!BS30","v":0},{"$f":"投入係数!BT30","v":3.4072900694556434E-6},{"$f":"投入係数!BU30","v":8.0671698476778305E-6},{"$f":"投入係数!BV30","v":3.2413095749719603E-8},{"$f":"投入係数!BW30","v":1.2741839322401171E-5},{"$f":"投入係数!BX30","v":8.9976749920916364E-6},{"$f":"投入係数!BY30","v":7.0064280384740503E-5},{"$f":"投入係数!BZ30","v":1.2009124366987069E-5},{"$f":"投入係数!CA30","v":9.3230441862029587E-6},{"$f":"投入係数!CB30","v":9.1269955719468281E-8},{"$f":"投入係数!CC30","v":7.4798549707021902E-7},{"$f":"投入係数!CD30","v":1.2059052420170393E-4},{"$f":"投入係数!CE30","v":4.0548820837557029E-5},{"$f":"投入係数!CF30","v":2.9115628964820176E-5},{"$f":"投入係数!CG30","v":3.3906066351815803E-5},{"$f":"投入係数!CH30","v":0},{"$f":"投入係数!CI30","v":3.6820200168439749E-5}]
[null,"27","商業",{"$f":"投入係数!D31-諸係数!$R36*投入係数!D31","v":4.3449054886055875E-2},{"$f":"投入係数!E31-諸係数!$R36*投入係数!E31","v":3.312362120663475E-2},{"$f":"投入係数!F31-諸係数!$R36*投入係数!F31","v":4.2483632071732953E-2},{"$f":"投入係数!G31-諸係数!$R36*投入係数!G31","v":1.2245861246617184E-2},{"$f":"投入係数!H31-諸係数!$R36*投入係数!H31","v":3.4829005441723293E-2},{"$f":"投入係数!I31-諸係数!$R36*投入係数!I31","v":4.3848732351695154E-2},{"$f":"投入係数!J31-諸係数!$R36*投入係数!J31","v":4.9125045888351003E-2},{"$f":"投入係数!K31-諸係数!$R36*投入係数!K31","v":2.4320923268074137E-2},{"$f":"投入係数!L31-諸係数!$R36*投入係数!L31","v":1.3809487909809012E-2},{"$f":"投入係数!M31-諸係数!$R36*投入係数!M31","v":3.5830991104566161E-2},{"$f":"投入係数!N31-諸係数!$R36*投入係数!N31","v":1.916577401213421E-2},{"$f":"投入係数!O31-諸係数!$R36*投入係数!O31","v":1.2850238941430829E-2},{"$f":"投入係数!P31-諸係数!$R36*投入係数!P31","v":2.3975647378484982E-2},{"$f":"投入係数!Q31-諸係数!$R36*投入係数!Q31","v":2.7499449745765781E-2},{"$f":"投入係数!R31-諸係数!$R36*投入係数!R31","v":2.4395356646322839E-2},{"$f":"投入係数!S31-諸係数!$R36*投入係数!S31","v":2.341013482501585E-2},{"$f":"投入係数!T31-諸係数!$R36*投入係数!T31","v":2.9616402096616541E-2},{"$f":"投入係数!U31-諸係数!$R36*投入係数!U31","v":2.5103589526141157E-2},{"$f":"投入係数!V31-諸係数!$R36*投入係数!V31","v":2.9046938225952178E-2},{"$f":"投入係数!W31-諸係数!$R36*投入係数!W31","v":2.2417056092036723E-2},{"$f":"投入係数!X31-諸係数!$R36*投入係数!X31","v":1.6532479549407088E-2},{"$f":"投入係数!Y31-諸係数!$R36*投入係数!Y31","v":3.7878488326716926E-2},{"$f":"投入係数!Z31-諸係数!$R36*投入係数!Z31","v":3.1586001452461619E-2},{"$f":"投入係数!AA31-諸係数!$R36*投入係数!AA31","v":1.0584027929461493E-2},{"$f":"投入係数!AB31-諸係数!$R36*投入係数!AB31","v":1.0449554839526805E-2},{"$f":"投入係数!AC31-諸係数!$R36*投入係数!AC31","v":9.2055587847741371E-3},{"$f":"投入係数!AD31-諸係数!$R36*投入係数!AD31","v":6.1775408047842926E-3},{"$f":"投入係数!AE31-諸係数!$R36*投入係数!AE31","v":2.9192328921808265E-3},{"$f":"投入係数!AF31-諸係数!$R36*投入係数!AF31","v":8.1775775989332232E-4},{"$f":"投入係数!AG31-諸係数!$R36*投入係数!AG31","v":1.6276407417217018E-2},{"$f":"投入係数!AH31-諸係数!$R36*投入係数!AH31","v":6.6222306063005538E-3},{"$f":"投入係数!AI31-諸係数!$R36*投入係数!AI31","v":6.3893095700722673E-3},{"$f":"投入係数!AJ31-諸係数!$R36*投入係数!AJ31","v":9.3071487922553476E-3},{"$f":"投入係数!AK31-諸係数!$R36*投入係数!AK31","v":3.0158291749801034E-2},{"$f":"投入係数!AL31-諸係数!$R36*投入係数!AL31","v":2.1312597676161758E-2},{"$f":"投入係数!AM31-諸係数!$R36*投入係数!AM31","v":1.2696315726677987E-2},{"$f":"投入係数!AN31-諸係数!$R36*投入係数!AN31","v":2.9213974328131991E-2},{"$f":"投入係数!AO31-諸係数!$R36*投入係数!AO31","v":7.4848590185170122E-2},{"$f":"投入係数!AP31-諸係数!$R36*投入係数!AP31","v":1.3245188717375006E-2},{"$f":"投入係数!AQ31-諸係数!$R36*投入係数!AQ31","v":1.9722614356440554E-2},{"$f":"投入係数!AR31-諸係数!$R36*投入係数!AR31","v":0.1383175275340473},{"$f":"投入係数!AS31-諸係数!$R36*投入係数!AS31","v":6.028153581667345E-3},{"$f":"投入係数!AT31","v":1.7257071338079419E-3},{"$f":"投入係数!AU31","v":6.0555975066426077E-4},{"$f":"投入係数!AV31","v":1.4988766705581389E-3},{"$f":"投入係数!AW31","v":5.1375178404980534E-4},{"$f":"投入係数!AX31","v":1.7996435692778515E-3},{"$f":"投入係数!AY31","v":1.830234940252657E-3},{"$f":"投入係数!AZ31","v":1.9390510875716819E-3},{"$f":"投入係数!BA31","v":9.5518784552695241E-4},{"$f":"投入係数!BB31","v":2.6102870308099962E-4},{"$f":"投入係数!BC31","v":1.4056148972809595E-3},{"$f":"投入係数!BD31","v":9.0605589082799504E-4},{"$f":"投入係数!BE31","v":5.6393595738500005E-4},{"$f":"投入係数!BF31","v":9.4950704289455308E-4},{"$f":"投入係数!BG31","v":1.1032800257461106E-3},{"$f":"投入係数!BH31","v":1.0782750071323453E-3},{"$f":"投入係数!BI31","v":9.944433734012134E-4},{"$f":"投入係数!BJ31","v":1.1837668043270634E-3},{"$f":"投入係数!BK31","v":1.0283467046796884E-3},{"$f":"投入係数!BL31","v":1.2550271272676779E-3},{"$f":"投入係数!BM31","v":1.056764600878658E-3},{"$f":"投入係数!BN31","v":9.7924882732809172E-4},{"$f":"投入係数!BO31","v":1.7507032306491737E-3},{"$f":"投入係数!BP31","v":1.3857213053057569E-3},{"$f":"投入係数!BQ31","v":4.431288129153019E-4},{"$f":"投入係数!BR31","v":4.4463328867799904E-4},{"$f":"投入係数!BS31","v":3.663664192529309E-4},{"$f":"投入係数!BT31","v":2.6998889062682032E-4},{"$f":"投入係数!BU31","v":1.3270860138995662E-4},{"$f":"投入係数!BV31","v":3.0925552450312513E-5},{"$f":"投入係数!BW31","v":6.7558202644940504E-4},{"$f":"投入係数!BX31","v":3.021203450569811E-4},{"$f":"投入係数!BY31","v":2.4496976842527447E-4},{"$f":"投入係数!BZ31","v":4.7406321807338963E-4},{"$f":"投入係数!CA31","v":1.2510644246208245E-3},{"$f":"投入係数!CB31","v":9.5420398449429223E-4},{"$f":"投入係数!CC31","v":4.587682271090943E-4},{"$f":"投入係数!CD31","v":1.3040382109981105E-3},{"$f":"投入係数!CE31","v":3.0702774525537191E-3},{"$f":"投入係数!CF31","v":5.0922585539461926E-4},{"$f":"投入係数!CG31","v":7.6695464036574744E-4},{"$f":"投入係数!CH31","v":5.6512482796845145E-3},{"$f":"投入係数!CI31","v":2.5078576161111722E-4}]
[null,"28","金融・保険",{"$f":"投入係数!D32-諸係数!$R37*投入係数!D32","v":4.8419585935819505E-3},{"$f":"投入係数!E32-諸係数!$R37*投入係数!E32","v":7.2236126804316701E-3},{"$f":"投入係数!F32-諸係数!$R37*投入係数!F32","v":8.2903561752173394E-3},{"$f":"投入係数!G32-諸係数!$R37*投入係数!G32","v":3.2050493008379234E-2},{"$f":"投入係数!H32-諸係数!$R37*投入係数!H32","v":5.2090714216337253E-3},{"$f":"投入係数!I32-諸係数!$R37*投入係数!I32","v":1.4679688762444418E-2},{"$f":"投入係数!J32-諸係数!$R37*投入係数!J32","v":9.9931070420592599E-3},{"$f":"投入係数!K32-諸係数!$R37*投入係数!K32","v":5.7243618986385393E-3},{"$f":"投入係数!L32-諸係数!$R37*投入係数!L32","v":4.5885758181806006E-3},{"$f":"投入係数!M32-諸係数!$R37*投入係数!M32","v":4.1509104688020552E-3},{"$f":"投入係数!N32-諸係数!$R37*投入係数!N32","v":8.8591724743185031E-3},{"$f":"投入係数!O32-諸係数!$R37*投入係数!O32","v":3.3456923643550886E-3},{"$f":"投入係数!P32-諸係数!$R37*投入係数!P32","v":6.358265156412711E-3},{"$f":"投入係数!Q32-諸係数!$R37*投入係数!Q32","v":9.9022857134306481E-3},{"$f":"投入係数!R32-諸係数!$R37*投入係数!R32","v":5.4693802266486203E-3},{"$f":"投入係数!S32-諸係数!$R37*投入係数!S32","v":5.7113062723982847E-3},{"$f":"投入係数!T32-諸係数!$R37*投入係数!T32","v":1.2199476129262645E-2},{"$f":"投入係数!U32-諸係数!$R37*投入係数!U32","v":4.2537606949617649E-3},{"$f":"投入係数!V32-諸係数!$R37*投入係数!V32","v":5.0876598372003182E-3},{"$f":"投入係数!W32-諸係数!$R37*投入係数!W32","v":9.2777288946569204E-3},{"$f":"投入係数!X32-諸係数!$R37*投入係数!X32","v":3.2330885790236869E-3},{"$f":"投入係数!Y32-諸係数!$R37*投入係数!Y32","v":1.0914491418611063E-2},{"$f":"投入係数!Z32-諸係数!$R37*投入係数!Z32","v":9.9699712001707699E-3},{"$f":"投入係数!AA32-諸係数!$R37*投入係数!AA32","v":1.2980802267509969E-2},{"$f":"投入係数!AB32-諸係数!$R37*投入係数!AB32","v":1.9342645984892309E-2},{"$f":"投入係数!AC32-諸係数!$R37*投入係数!AC32","v":2.4779110915526974E-2},{"$f":"投入係数!AD32-諸係数!$R37*投入係数!AD32","v":1.3682307763105016E-2},{"$f":"投入係数!AE32-諸係数!$R37*投入係数!AE32","v":3.414832945152034E-2},{"$f":"投入係数!AF32-諸係数!$R37*投入係数!AF32","v":6.1129663630932668E-2},{"$f":"投入係数!AG32-諸係数!$R37*投入係数!AG32","v":1.9531785250737291E-2},{"$f":"投入係数!AH32-諸係数!$R37*投入係数!AH32","v":5.2690480930343399E-3},{"$f":"投入係数!AI32-諸係数!$R37*投入係数!AI32","v":1.9292087165555603E-2},{"$f":"投入係数!AJ32-諸係数!$R37*投入係数!AJ32","v":8.1691154982273841E-3},{"$f":"投入係数!AK32-諸係数!$R37*投入係数!AK32","v":6.6653425782599481E-3},{"$f":"投入係数!AL32-諸係数!$R37*投入係数!AL32","v":1.8721793836997305E-2},{"$f":"投入係数!AM32-諸係数!$R37*投入係数!AM32","v":8.2201707289133279E-3},{"$f":"投入係数!AN32-諸係数!$R37*投入係数!AN32","v":1.5395236861702797E-2},{"$f":"投入係数!AO32-諸係数!$R37*投入係数!AO32","v":4.8051859846110507E-3},{"$f":"投入係数!AP32-諸係数!$R37*投入係数!AP32","v":8.1225359888717832E-3},{"$f":"投入係数!AQ32-諸係数!$R37*投入係数!AQ32","v":3.2685374570481278E-3},{"$f":"投入係数!AR32-諸係数!$R37*投入係数!AR32","v":0},{"$f":"投入係数!AS32-諸係数!$R37*投入係数!AS32","v":2.372521050083887E-3},{"$f":"投入係数!AT32","v":1.3280251270634667E-6},{"$f":"投入係数!AU32","v":2.0022930974745995E-6},{"$f":"投入係数!AV32","v":2.380476103389604E-6},{"$f":"投入係数!AW32","v":9.6697621556369656E-6},{"$f":"投入係数!AX32","v":1.3639669907635533E-6},{"$f":"投入係数!AY32","v":4.335596269637142E-6},{"$f":"投入係数!AZ32","v":2.262631202580476E-6},{"$f":"投入係数!BA32","v":1.5491780111716333E-6},{"$f":"投入係数!BB32","v":8.0175135955087131E-7},{"$f":"投入係数!BC32","v":9.455659753399279E-7},{"$f":"投入係数!BD32","v":2.5732757785190953E-6},{"$f":"投入係数!BE32","v":1.016853915671173E-6},{"$f":"投入係数!BF32","v":1.9241010492300239E-6},{"$f":"投入係数!BG32","v":2.7129541831112057E-6},{"$f":"投入係数!BH32","v":1.5974114669401844E-6},{"$f":"投入係数!BI32","v":1.6626800434704367E-6},{"$f":"投入係数!BJ32","v":2.5837960275399621E-6},{"$f":"投入係数!BK32","v":1.4921036903855255E-6},{"$f":"投入係数!BL32","v":1.4433992840263272E-6},{"$f":"投入係数!BM32","v":1.4943140835107742E-6},{"$f":"投入係数!BN32","v":1.0457363705100324E-6},{"$f":"投入係数!BO32","v":3.4909274599266558E-6},{"$f":"投入係数!BP32","v":2.9946501685222178E-6},{"$f":"投入係数!BQ32","v":3.9194294555230902E-6},{"$f":"投入係数!BR32","v":5.6480259223701769E-6},{"$f":"投入係数!BS32","v":6.4242873708416604E-6},{"$f":"投入係数!BT32","v":4.0929093246335897E-6},{"$f":"投入係数!BU32","v":1.1050850002552628E-5},{"$f":"投入係数!BV32","v":1.8172856940340816E-5},{"$f":"投入係数!BW32","v":5.4364877691148631E-6},{"$f":"投入係数!BX32","v":1.3281838743069152E-6},{"$f":"投入係数!BY32","v":5.0079025274810617E-6},{"$f":"投入係数!BZ32","v":1.7375721855064047E-6},{"$f":"投入係数!CA32","v":2.0838652824766552E-6},{"$f":"投入係数!CB32","v":6.1829544361752615E-6},{"$f":"投入係数!CC32","v":2.0801094086426439E-6},{"$f":"投入係数!CD32","v":4.7452962154979567E-6},{"$f":"投入係数!CE32","v":1.3528999969946265E-6},{"$f":"投入係数!CF32","v":2.1014520477383149E-6},{"$f":"投入係数!CG32","v":9.3379554144905439E-7},{"$f":"投入係数!CH32","v":0},{"$f":"投入係数!CI32","v":6.8140489406233508E-7}]
[null,"29","不動産",{"$f":"投入係数!D33-諸係数!$R38*投入係数!D33","v":3.5619821838161615E-3},{"$f":"投入係数!E33-諸係数!$R38*投入係数!E33","v":1.950993498382884E-3},{"$f":"投入係数!F33-諸係数!$R38*投入係数!F33","v":8.4590926027373046E-4},{"$f":"投入係数!G33-諸係数!$R38*投入係数!G33","v":4.4710267437666519E-3},{"$f":"投入係数!H33-諸係数!$R38*投入係数!H33","v":2.0361304892268757E-3},{"$f":"投入係数!I33-諸係数!$R38*投入係数!I33","v":3.8212097103217011E-3},{"$f":"投入係数!J33-諸係数!$R38*投入係数!J33","v":2.9916143677431234E-3},{"$f":"投入係数!K33-諸係数!$R38*投入係数!K33","v":2.2221107222923655E-3},{"$f":"投入係数!L33-諸係数!$R38*投入係数!L33","v":7.5055508633245765E-4},{"$f":"投入係数!M33-諸係数!$R38*投入係数!M33","v":2.665054889248294E-3},{"$f":"投入係数!N33-諸係数!$R38*投入係数!N33","v":2.8115126745770452E-3},{"$f":"投入係数!O33-諸係数!$R38*投入係数!O33","v":1.090639832049623E-3},{"$f":"投入係数!P33-諸係数!$R38*投入係数!P33","v":9.9037143802984165E-4},{"$f":"投入係数!Q33-諸係数!$R38*投入係数!Q33","v":4.1496951297733901E-3},{"$f":"投入係数!R33-諸係数!$R38*投入係数!R33","v":3.1847730557709691E-3},{"$f":"投入係数!S33-諸係数!$R38*投入係数!S33","v":3.0989265815680772E-3},{"$f":"投入係数!T33-諸係数!$R38*投入係数!T33","v":1.6365450862205698E-3},{"$f":"投入係数!U33-諸係数!$R38*投入係数!U33","v":1.4072130850603796E-3},{"$f":"投入係数!V33-諸係数!$R38*投入係数!V33","v":2.4336704955615174E-3},{"$f":"投入係数!W33-諸係数!$R38*投入係数!W33","v":2.1017227027950213E-3},{"$f":"投入係数!X33-諸係数!$R38*投入係数!X33","v":8.7644800754935594E-4},{"$f":"投入係数!Y33-諸係数!$R38*投入係数!Y33","v":3.2565268776363638E-3},{"$f":"投入係数!Z33-諸係数!$R38*投入係数!Z33","v":4.3689644344407979E-3},{"$f":"投入係数!AA33-諸係数!$R38*投入係数!AA33","v":5.0771748463523782E-3},{"$f":"投入係数!AB33-諸係数!$R38*投入係数!AB33","v":1.1900491967336264E-3},{"$f":"投入係数!AC33-諸係数!$R38*投入係数!AC33","v":1.9099227108716858E-3},{"$f":"投入係数!AD33-諸係数!$R38*投入係数!AD33","v":2.6314522237713845E-2},{"$f":"投入係数!AE33-諸係数!$R38*投入係数!AE33","v":1.3514447516958777E-2},{"$f":"投入係数!AF33-諸係数!$R38*投入係数!AF33","v":3.4335423608124277E-2},{"$f":"投入係数!AG33-諸係数!$R38*投入係数!AG33","v":2.1404634764665934E-2},{"$f":"投入係数!AH33-諸係数!$R38*投入係数!AH33","v":1.9493142018148852E-2},{"$f":"投入係数!AI33-諸係数!$R38*投入係数!AI33","v":1.8693947461206136E-3},{"$f":"投入係数!AJ33-諸係数!$R38*投入係数!AJ33","v":4.9082158184283404E-3},{"$f":"投入係数!AK33-諸係数!$R38*投入係数!AK33","v":1.5832880436145596E-2},{"$f":"投入係数!AL33-諸係数!$R38*投入係数!AL33","v":1.6698524700688978E-2},{"$f":"投入係数!AM33-諸係数!$R38*投入係数!AM33","v":8.6630354513027637E-3},{"$f":"投入係数!AN33-諸係数!$R38*投入係数!AN33","v":9.6455465924298305E-3},{"$f":"投入係数!AO33-諸係数!$R38*投入係数!AO33","v":1.0142650864091475E-2},{"$f":"投入係数!AP33-諸係数!$R38*投入係数!AP33","v":7.6366978108025679E-3},{"$f":"投入係数!AQ33-諸係数!$R38*投入係数!AQ33","v":2.5668183518329113E-2},{"$f":"投入係数!AR33-諸係数!$R38*投入係数!AR33","v":0},{"$f":"投入係数!AS33-諸係数!$R38*投入係数!AS33","v":3.0654834622130134E-2},{"$f":"投入係数!AT33","v":2.3728684255619296E-6},{"$f":"投入係数!AU33","v":1.1350578705429259E-6},{"$f":"投入係数!AV33","v":8.1689260384415369E-7},{"$f":"投入係数!AW33","v":9.876797365518361E-6},{"$f":"投入係数!AX33","v":2.708071705379941E-6},{"$f":"投入係数!AY33","v":4.3864702806237576E-6},{"$f":"投入係数!AZ33","v":2.7686564037599954E-6},{"$f":"投入係数!BA33","v":2.8333027691980378E-6},{"$f":"投入係数!BB33","v":4.2421023426982665E-7},{"$f":"投入係数!BC33","v":3.7275128198455065E-6},{"$f":"投入係数!BD33","v":3.8125068418653954E-6},{"$f":"投入係数!BE33","v":1.4379593774678417E-6},{"$f":"投入係数!BF33","v":1.1553812520496075E-6},{"$f":"投入係数!BG33","v":4.7941725926648221E-6},{"$f":"投入係数!BH33","v":3.1367352441734528E-6},{"$f":"投入係数!BI33","v":2.9715593720678919E-6},{"$f":"投入係数!BJ33","v":2.2493711055736193E-6},{"$f":"投入係数!BK33","v":1.901508593811165E-6},{"$f":"投入係数!BL33","v":3.0261350500560736E-6},{"$f":"投入係数!BM33","v":2.895004065966205E-6},{"$f":"投入係数!BN33","v":9.0271823269037041E-7},{"$f":"投入係数!BO33","v":3.5178764248785835E-6},{"$f":"投入係数!BP33","v":5.3474803468890472E-6},{"$f":"投入係数!BQ33","v":6.6557138060722764E-6},{"$f":"投入係数!BR33","v":1.636279795176125E-6},{"$f":"投入係数!BS33","v":2.1548351049478781E-6},{"$f":"投入係数!BT33","v":3.2801641481433808E-5},{"$f":"投入係数!BU33","v":1.8023413578800079E-5},{"$f":"投入係数!BV33","v":3.4917359712643594E-5},{"$f":"投入係数!BW33","v":2.2566506489357457E-5},{"$f":"投入係数!BX33","v":2.7356987499238902E-5},{"$f":"投入係数!BY33","v":1.8693044379749901E-6},{"$f":"投入係数!BZ33","v":9.3143083001390895E-6},{"$f":"投入係数!CA33","v":1.8958404933169431E-5},{"$f":"投入係数!CB33","v":2.1661402824087138E-5},{"$f":"投入係数!CC33","v":9.0528978581656532E-6},{"$f":"投入係数!CD33","v":1.2521014405438222E-5},{"$f":"投入係数!CE33","v":1.1759532273402022E-5},{"$f":"投入係数!CF33","v":8.9273760108511608E-6},{"$f":"投入係数!CG33","v":2.8710481034605918E-5},{"$f":"投入係数!CH33","v":0},{"$f":"投入係数!CI33","v":3.7087894948249947E-5}]
[null,"30","運輸・郵便",{"$f":"投入係数!D34-諸係数!$R39*投入係数!D34","v":4.7291151622646944E-2},{"$f":"投入係数!E34-諸係数!$R39*投入係数!E34","v":5.2521982949801302E-2},{"$f":"投入係数!F34-諸係数!$R39*投入係数!F34","v":3.98621547919795E-2},{"$f":"投入係数!G34-諸係数!$R39*投入係数!G34","v":0.22277218567155435},{"$f":"投入係数!H34-諸係数!$R39*投入係数!H34","v":2.512500818255492E-2},{"$f":"投入係数!I34-諸係数!$R39*投入係数!I34","v":2.0936053158306021E-2},{"$f":"投入係数!J34-諸係数!$R39*投入係数!J34","v":3.3814488435817289E-2},{"$f":"投入係数!K34-諸係数!$R39*投入係数!K34","v":2.1830959838608062E-2},{"$f":"投入係数!L34-諸係数!$R39*投入係数!L34","v":3.3110026471048881E-2},{"$f":"投入係数!M34-諸係数!$R39*投入係数!M34","v":1.5136332627667439E-2},{"$f":"投入係数!N34-諸係数!$R39*投入係数!N34","v":5.0992488646269464E-2},{"$f":"投入係数!O34-諸係数!$R39*投入係数!O34","v":1.5995151308645702E-2},{"$f":"投入係数!P34-諸係数!$R39*投入係数!P34","v":2.0412905025958626E-2},{"$f":"投入係数!Q34-諸係数!$R39*投入係数!Q34","v":2.5187681747595447E-2},{"$f":"投入係数!R34-諸係数!$R39*投入係数!R34","v":1.7850833336869921E-2},{"$f":"投入係数!S34-諸係数!$R39*投入係数!S34","v":1.5926147583269649E-2},{"$f":"投入係数!T34-諸係数!$R39*投入係数!T34","v":2.051418979489799E-2},{"$f":"投入係数!U34-諸係数!$R39*投入係数!U34","v":1.499696084397047E-2},{"$f":"投入係数!V34-諸係数!$R39*投入係数!V34","v":1.6362097078505344E-2},{"$f":"投入係数!W34-諸係数!$R39*投入係数!W34","v":1.5746208809330094E-2},{"$f":"投入係数!X34-諸係数!$R39*投入係数!X34","v":1.5427352938281024E-2},{"$f":"投入係数!Y34-諸係数!$R39*投入係数!Y34","v":9.9222511454280168E-2},{"$f":"投入係数!Z34-諸係数!$R39*投入係数!Z34","v":3.5860740637357287E-2},{"$f":"投入係数!AA34-諸係数!$R39*投入係数!AA34","v":3.1471833611235248E-2},{"$f":"投入係数!AB34-諸係数!$R39*投入係数!AB34","v":1.6457128430824662E-2},{"$f":"投入係数!AC34-諸係数!$R39*投入係数!AC34","v":5.4032882283500318E-2},{"$f":"投入係数!AD34-諸係数!$R39*投入係数!AD34","v":4.5243064127124713E-2},{"$f":"投入係数!AE34-諸係数!$R39*投入係数!AE34","v":2.7721020692304761E-2},{"$f":"投入係数!AF34-諸係数!$R39*投入係数!AF34","v":2.7182979115716764E-3},{"$f":"投入係数!AG34-諸係数!$R39*投入係数!AG34","v":9.5989236178213921E-2},{"$f":"投入係数!AH34-諸係数!$R39*投入係数!AH34","v":2.2889970084639426E-2},{"$f":"投入係数!AI34-諸係数!$R39*投入係数!AI34","v":3.2507314880454816E-2},{"$f":"投入係数!AJ34-諸係数!$R39*投入係数!AJ34","v":2.3329308621733758E-2},{"$f":"投入係数!AK34-諸係数!$R39*投入係数!AK34","v":1.2958732957493167E-2},{"$f":"投入係数!AL34-諸係数!$R39*投入係数!AL34","v":2.9980162579683427E-2},{"$f":"投入係数!AM34-諸係数!$R39*投入係数!AM34","v":1.4522805998152519E-2},{"$f":"投入係数!AN34-諸係数!$R39*投入係数!AN34","v":8.5966949932101147E-2},{"$f":"投入係数!AO34-諸係数!$R39*投入係数!AO34","v":2.2036900242598759E-2},{"$f":"投入係数!AP34-諸係数!$R39*投入係数!AP34","v":3.3548750475738749E-2},{"$f":"投入係数!AQ34-諸係数!$R39*投入係数!AQ34","v":3.3754412441118146E-2},{"$f":"投入係数!AR34-諸係数!$R39*投入係数!AR34","v":4.2573804044966364E-2},{"$f":"投入係数!AS34-諸係数!$R39*投入係数!AS34","v":7.8398217326046737E-2},{"$f":"投入係数!AT34","v":6.8808985438320678E-4},{"$f":"投入係数!AU34","v":6.8364918146577008E-4},{"$f":"投入係数!AV34","v":5.0342921303936231E-4},{"$f":"投入係数!AW34","v":2.4252348056341883E-3},{"$f":"投入係数!AX34","v":3.8805146577496438E-4},{"$f":"投入係数!AY34","v":3.0696247695746461E-4},{"$f":"投入係数!AZ34","v":4.66665981743667E-4},{"$f":"投入係数!BA34","v":2.9719387276219944E-4},{"$f":"投入係数!BB34","v":2.3066925103997667E-4},{"$f":"投入係数!BC34","v":2.2669537325060814E-4},{"$f":"投入係数!BD34","v":7.0010067829204118E-4},{"$f":"投入係数!BE34","v":2.421658596575564E-4},{"$f":"投入係数!BF34","v":3.6414072667934001E-4},{"$f":"投入係数!BG34","v":3.3829450674008939E-4},{"$f":"投入係数!BH34","v":2.473209245932972E-4},{"$f":"投入係数!BI34","v":2.2168945035317439E-4},{"$f":"投入係数!BJ34","v":2.7994419413522592E-4},{"$f":"投入係数!BK34","v":2.2642579255536025E-4},{"$f":"投入係数!BL34","v":2.4644000228592899E-4},{"$f":"投入係数!BM34","v":2.5139172593372107E-4},{"$f":"投入係数!BN34","v":1.8429696323662384E-4},{"$f":"投入係数!BO34","v":1.0675210566515024E-3},{"$f":"投入係数!BP34","v":5.1742433266709596E-4},{"$f":"投入係数!BQ34","v":4.555777570109938E-4},{"$f":"投入係数!BR34","v":2.327201799318256E-4},{"$f":"投入係数!BS34","v":7.2784953341046427E-4},{"$f":"投入係数!BT34","v":6.3327620560091954E-4},{"$f":"投入係数!BU34","v":4.2074012010585453E-4},{"$f":"投入係数!BV34","v":3.0873793989115335E-5},{"$f":"投入係数!BW34","v":1.426046039726141E-3},{"$f":"投入係数!BX34","v":3.2172507565720416E-4},{"$f":"投入係数!BY34","v":4.0608230017535044E-4},{"$f":"投入係数!BZ34","v":3.0983783086811501E-4},{"$f":"投入係数!CA34","v":1.813226027362671E-4},{"$f":"投入係数!CB34","v":4.5152885273113362E-4},{"$f":"投入係数!CC34","v":1.860440650820706E-4},{"$f":"投入係数!CD34","v":1.2704319461725056E-3},{"$f":"投入係数!CE34","v":3.0809868713340636E-4},{"$f":"投入係数!CF34","v":4.2280065799478082E-4},{"$f":"投入係数!CG34","v":4.2214607551740882E-4},{"$f":"投入係数!CH34","v":5.9800586914681873E-4},{"$f":"投入係数!CI34","v":1.1146014184018082E-3}]
[null,"31","情報通信",{"$f":"投入係数!D35-諸係数!$R40*投入係数!D35","v":3.2951308845573925E-3},{"$f":"投入係数!E35-諸係数!$R40*投入係数!E35","v":9.7794627052944384E-4},{"$f":"投入係数!F35-諸係数!$R40*投入係数!F35","v":4.2172230221052863E-3},{"$f":"投入係数!G35-諸係数!$R40*投入係数!G35","v":6.2711423041369859E-3},{"$f":"投入係数!H35-諸係数!$R40*投入係数!H35","v":3.3642405010974423E-3},{"$f":"投入係数!I35-諸係数!$R40*投入係数!I35","v":4.597221940472569E-3},{"$f":"投入係数!J35-諸係数!$R40*投入係数!J35","v":5.3334623914414944E-3},{"$f":"投入係数!K35-諸係数!$R40*投入係数!K35","v":9.5544664799641649E-3},{"$f":"投入係数!L35-諸係数!$R40*投入係数!L35","v":7.7128684939965493E-4},{"$f":"投入係数!M35-諸係数!$R40*投入係数!M35","v":5.7916539833217885E-3},{"$f":"投入係数!N35-諸係数!$R40*投入係数!N35","v":4.8335309328666606E-3},{"$f":"投入係数!O35-諸係数!$R40*投入係数!O35","v":1.9629438165052362E-3},{"$f":"投入係数!P35-諸係数!$R40*投入係数!P35","v":2.9113938194463107E-3},{"$f":"投入係数!Q35-諸係数!$R40*投入係数!Q35","v":5.3069944971739311E-3},{"$f":"投入係数!R35-諸係数!$R40*投入係数!R35","v":5.786992524581141E-3},{"$f":"投入係数!S35-諸係数!$R40*投入係数!S35","v":7.7829770025138485E-3},{"$f":"投入係数!T35-諸係数!$R40*投入係数!T35","v":7.2503002759643186E-3},{"$f":"投入係数!U35-諸係数!$R40*投入係数!U35","v":7.0459422815340499E-3},{"$f":"投入係数!V35-諸係数!$R40*投入係数!V35","v":1.042418305404192E-2},{"$f":"投入係数!W35-諸係数!$R40*投入係数!W35","v":1.8971416238102598E-2},{"$f":"投入係数!X35-諸係数!$R40*投入係数!X35","v":2.2015456703311899E-3},{"$f":"投入係数!Y35-諸係数!$R40*投入係数!Y35","v":5.5451454613909728E-3},{"$f":"投入係数!Z35-諸係数!$R40*投入係数!Z35","v":6.4767479280891131E-3},{"$f":"投入係数!AA35-諸係数!$R40*投入係数!AA35","v":8.3048966078390612E-3},{"$f":"投入係数!AB35-諸係数!$R40*投入係数!AB35","v":3.0970668909032283E-2},{"$f":"投入係数!AC35-諸係数!$R40*投入係数!AC35","v":8.0638623335513408E-3},{"$f":"投入係数!AD35-諸係数!$R40*投入係数!AD35","v":2.8140416649654436E-2},{"$f":"投入係数!AE35-諸係数!$R40*投入係数!AE35","v":4.2516405561068837E-2},{"$f":"投入係数!AF35-諸係数!$R40*投入係数!AF35","v":3.381518615989532E-3},{"$f":"投入係数!AG35-諸係数!$R40*投入係数!AG35","v":9.6163533607848579E-3},{"$f":"投入係数!AH35-諸係数!$R40*投入係数!AH35","v":0.16342517251861424},{"$f":"投入係数!AI35-諸係数!$R40*投入係数!AI35","v":2.6531078245510636E-2},{"$f":"投入係数!AJ35-諸係数!$R40*投入係数!AJ35","v":1.7090254801920907E-2},{"$f":"投入係数!AK35-諸係数!$R40*投入係数!AK35","v":9.9856659939596346E-3},{"$f":"投入係数!AL35-諸係数!$R40*投入係数!AL35","v":5.2394623765202118E-2},{"$f":"投入係数!AM35-諸係数!$R40*投入係数!AM35","v":5.7273964817432556E-2},{"$f":"投入係数!AN35-諸係数!$R40*投入係数!AN35","v":1.9108941640818427E-2},{"$f":"投入係数!AO35-諸係数!$R40*投入係数!AO35","v":1.3266589901037778E-2},{"$f":"投入係数!AP35-諸係数!$R40*投入係数!AP35","v":2.9692542322844944E-2},{"$f":"投入係数!AQ35-諸係数!$R40*投入係数!AQ35","v":1.4322575394404714E-2},{"$f":"投入係数!AR35-諸係数!$R40*投入係数!AR35","v":0},{"$f":"投入係数!AS35-諸係数!$R40*投入係数!AS35","v":6.0798630445374646E-2},{"$f":"投入係数!AT35","v":1.6931343880995183E-5},{"$f":"投入係数!AU35","v":6.8996214377946394E-6},{"$f":"投入係数!AV35","v":2.341546065237656E-5},{"$f":"投入係数!AW35","v":3.6572160898460714E-5},{"$f":"投入係数!AX35","v":2.0948443357843104E-5},{"$f":"投入係数!AY35","v":2.5422873823589372E-5},{"$f":"投入係数!AZ35","v":2.8357856728726993E-5},{"$f":"投入係数!BA35","v":5.6426852104679966E-5},{"$f":"投入係数!BB35","v":3.248887971911366E-6},{"$f":"投入係数!BC35","v":2.8432088654430946E-5},{"$f":"投入係数!BD35","v":2.9034601625113643E-5},{"$f":"投入係数!BE35","v":1.191261434051825E-5},{"$f":"投入係数!BF35","v":1.6118949399859416E-5},{"$f":"投入係数!BG35","v":2.8203492646159961E-5},{"$f":"投入係数!BH35","v":3.0922981615476626E-5},{"$f":"投入係数!BI35","v":4.7868808983971727E-5},{"$f":"投入係数!BJ35","v":3.5393788915237904E-5},{"$f":"投入係数!BK35","v":4.1920649411538771E-5},{"$f":"投入係数!BL35","v":5.7103890410873944E-5},{"$f":"投入係数!BM35","v":8.7329257084387026E-5},{"$f":"投入係数!BN35","v":1.3013310344849307E-5},{"$f":"投入係数!BO35","v":3.1236959875240385E-5},{"$f":"投入係数!BP35","v":4.0100070139488739E-5},{"$f":"投入係数!BQ35","v":5.0669547856052E-5},{"$f":"投入係数!BR35","v":1.7887856490929598E-4},{"$f":"投入係数!BS35","v":4.3943395656893854E-5},{"$f":"投入係数!BT35","v":1.6988355158510586E-4},{"$f":"投入係数!BU35","v":2.625705298274026E-4},{"$f":"投入係数!BV35","v":1.543286137196432E-5},{"$f":"投入係数!BW35","v":4.6403195589205059E-5},{"$f":"投入係数!BX35","v":7.6242658257754889E-4},{"$f":"投入係数!BY35","v":1.3745090846643577E-4},{"$f":"投入係数!BZ35","v":1.329517000424667E-4},{"$f":"投入係数!CA35","v":5.7237545365788236E-5},{"$f":"投入係数!CB35","v":3.1681673834447327E-4},{"$f":"投入係数!CC35","v":3.4721095869792425E-4},{"$f":"投入係数!CD35","v":1.1557968599379667E-4},{"$f":"投入係数!CE35","v":7.4657474799227645E-5},{"$f":"投入係数!CF35","v":1.4720682437812716E-4},{"$f":"投入係数!CG35","v":7.7109452255305969E-5},{"$f":"投入係数!CH35","v":0},{"$f":"投入係数!CI35","v":3.4273338759204165E-4}]
[null,"32","公務",{"$f":"投入係数!D36-諸係数!$R41*投入係数!D36","v":0},{"$f":"投入係数!E36-諸係数!$R41*投入係数!E36","v":0},{"$f":"投入係数!F36-諸係数!$R41*投入係数!F36","v":0},{"$f":"投入係数!G36-諸係数!$R41*投入係数!G36","v":0},{"$f":"投入係数!H36-諸係数!$R41*投入係数!H36","v":0},{"$f":"投入係数!I36-諸係数!$R41*投入係数!I36","v":0},{"$f":"投入係数!J36-諸係数!$R41*投入係数!J36","v":0},{"$f":"投入係数!K36-諸係数!$R41*投入係数!K36","v":0},{"$f":"投入係数!L36-諸係数!$R41*投入係数!L36","v":0},{"$f":"投入係数!M36-諸係数!$R41*投入係数!M36","v":0},{"$f":"投入係数!N36-諸係数!$R41*投入係数!N36","v":0},{"$f":"投入係数!O36-諸係数!$R41*投入係数!O36","v":0},{"$f":"投入係数!P36-諸係数!$R41*投入係数!P36","v":0},{"$f":"投入係数!Q36-諸係数!$R41*投入係数!Q36","v":0},{"$f":"投入係数!R36-諸係数!$R41*投入係数!R36","v":0},{"$f":"投入係数!S36-諸係数!$R41*投入係数!S36","v":0},{"$f":"投入係数!T36-諸係数!$R41*投入係数!T36","v":0},{"$f":"投入係数!U36-諸係数!$R41*投入係数!U36","v":0},{"$f":"投入係数!V36-諸係数!$R41*投入係数!V36","v":0},{"$f":"投入係数!W36-諸係数!$R41*投入係数!W36","v":0},{"$f":"投入係数!X36-諸係数!$R41*投入係数!X36","v":0},{"$f":"投入係数!Y36-諸係数!$R41*投入係数!Y36","v":0},{"$f":"投入係数!Z36-諸係数!$R41*投入係数!Z36","v":0},{"$f":"投入係数!AA36-諸係数!$R41*投入係数!AA36","v":0},{"$f":"投入係数!AB36-諸係数!$R41*投入係数!AB36","v":0},{"$f":"投入係数!AC36-諸係数!$R41*投入係数!AC36","v":0},{"$f":"投入係数!AD36-諸係数!$R41*投入係数!AD36","v":0},{"$f":"投入係数!AE36-諸係数!$R41*投入係数!AE36","v":0},{"$f":"投入係数!AF36-諸係数!$R41*投入係数!AF36","v":0},{"$f":"投入係数!AG36-諸係数!$R41*投入係数!AG36","v":0},{"$f":"投入係数!AH36-諸係数!$R41*投入係数!AH36","v":0},{"$f":"投入係数!AI36-諸係数!$R41*投入係数!AI36","v":0},{"$f":"投入係数!AJ36-諸係数!$R41*投入係数!AJ36","v":0},{"$f":"投入係数!AK36-諸係数!$R41*投入係数!AK36","v":0},{"$f":"投入係数!AL36-諸係数!$R41*投入係数!AL36","v":0},{"$f":"投入係数!AM36-諸係数!$R41*投入係数!AM36","v":0},{"$f":"投入係数!AN36-諸係数!$R41*投入係数!AN36","v":0},{"$f":"投入係数!AO36-諸係数!$R41*投入係数!AO36","v":0},{"$f":"投入係数!AP36-諸係数!$R41*投入係数!AP36","v":0},{"$f":"投入係数!AQ36-諸係数!$R41*投入係数!AQ36","v":0},{"$f":"投入係数!AR36-諸係数!$R41*投入係数!AR36","v":0},{"$f":"投入係数!AS36-諸係数!$R41*投入係数!AS36","v":0.24234119924957262},{"$f":"投入係数!AT36","v":0},{"$f":"投入係数!AU36","v":0},{"$f":"投入係数!AV36","v":0},{"$f":"投入係数!AW36","v":0},{"$f":"投入係数!AX36","v":0},{"$f":"投入係数!AY36","v":0},{"$f":"投入係数!AZ36","v":0},{"$f":"投入係数!BA36","v":0},{"$f":"投入係数!BB36","v":0},{"$f":"投入係数!BC36","v":0},{"$f":"投入係数!BD36","v":0},{"$f":"投入係数!BE36","v":0},{"$f":"投入係数!BF36","v":0},{"$f":"投入係数!BG36","v":0},{"$f":"投入係数!BH36","v":0},{"$f":"投入係数!BI36","v":0},{"$f":"投入係数!BJ36","v":0},{"$f":"投入係数!BK36","v":0},{"$f":"投入係数!BL36","v":0},{"$f":"投入係数!BM36","v":0},{"$f":"投入係数!BN36","v":0},{"$f":"投入係数!BO36","v":0},{"$f":"投入係数!BP36","v":0},{"$f":"投入係数!BQ36","v":0},{"$f":"投入係数!BR36","v":0},{"$f":"投入係数!BS36","v":0},{"$f":"投入係数!BT36","v":0},{"$f":"投入係数!BU36","v":0},{"$f":"投入係数!BV36","v":0},{"$f":"投入係数!BW36","v":0},{"$f":"投入係数!BX36","v":0},{"$f":"投入係数!BY36","v":0},{"$f":"投入係数!BZ36","v":0},{"$f":"投入係数!CA36","v":0},{"$f":"投入係数!CB36","v":0},{"$f":"投入係数!CC36","v":0},{"$f":"投入係数!CD36","v":0},{"$f":"投入係数!CE36","v":0},{"$f":"投入係数!CF36","v":0},{"$f":"投入係数!CG36","v":0},{"$f":"投入係数!CH36","v":0},{"$f":"投入係数!CI36","v":0}]
[null,"33","教育・研究",{"$f":"投入係数!D37-諸係数!$R42*投入係数!D37","v":6.1453506170199379E-5},{"$f":"投入係数!E37-諸係数!$R42*投入係数!E37","v":6.0351367476379965E-5},{"$f":"投入係数!F37-諸係数!$R42*投入係数!F37","v":3.1281349461320365E-7},{"$f":"投入係数!G37-諸係数!$R42*投入係数!G37","v":7.0728844842320269E-4},{"$f":"投入係数!H37-諸係数!$R42*投入係数!H37","v":1.775669191926804E-4},{"$f":"投入係数!I37-諸係数!$R42*投入係数!I37","v":1.5035663444459995E-5},{"$f":"投入係数!J37-諸係数!$R42*投入係数!J37","v":1.5783244739299762E-4},{"$f":"投入係数!K37-諸係数!$R42*投入係数!K37","v":2.9958973343603571E-4},{"$f":"投入係数!L37-諸係数!$R42*投入係数!L37","v":4.669475078447786E-6},{"$f":"投入係数!M37-諸係数!$R42*投入係数!M37","v":7.6197740998026436E-5},{"$f":"投入係数!N37-諸係数!$R42*投入係数!N37","v":4.8429215995252425E-4},{"$f":"投入係数!O37-諸係数!$R42*投入係数!O37","v":5.3824230931712838E-5},{"$f":"投入係数!P37-諸係数!$R42*投入係数!P37","v":1.4774704601106486E-5},{"$f":"投入係数!Q37-諸係数!$R42*投入係数!Q37","v":3.8162613853403806E-4},{"$f":"投入係数!R37-諸係数!$R42*投入係数!R37","v":7.6183854828526705E-4},{"$f":"投入係数!S37-諸係数!$R42*投入係数!S37","v":4.0850322823497839E-4},{"$f":"投入係数!T37-諸係数!$R42*投入係数!T37","v":3.3061317850986238E-4},{"$f":"投入係数!U37-諸係数!$R42*投入係数!U37","v":9.7563934536158247E-4},{"$f":"投入係数!V37-諸係数!$R42*投入係数!V37","v":1.1265261762828088E-3},{"$f":"投入係数!W37-諸係数!$R42*投入係数!W37","v":1.1202758073802306E-3},{"$f":"投入係数!X37-諸係数!$R42*投入係数!X37","v":1.3944074517456607E-4},{"$f":"投入係数!Y37-諸係数!$R42*投入係数!Y37","v":3.2957321871932044E-5},{"$f":"投入係数!Z37-諸係数!$R42*投入係数!Z37","v":1.4073210297606151E-4},{"$f":"投入係数!AA37-諸係数!$R42*投入係数!AA37","v":4.7199380932774542E-4},{"$f":"投入係数!AB37-諸係数!$R42*投入係数!AB37","v":8.7077869454507163E-5},{"$f":"投入係数!AC37-諸係数!$R42*投入係数!AC37","v":1.3892902545256146E-4},{"$f":"投入係数!AD37-諸係数!$R42*投入係数!AD37","v":1.8122844625268589E-4},{"$f":"投入係数!AE37-諸係数!$R42*投入係数!AE37","v":1.8982044787447754E-4},{"$f":"投入係数!AF37-諸係数!$R42*投入係数!AF37","v":1.2278084019750116E-6},{"$f":"投入係数!AG37-諸係数!$R42*投入係数!AG37","v":9.6534487309224068E-4},{"$f":"投入係数!AH37-諸係数!$R42*投入係数!AH37","v":3.9635075525421091E-3},{"$f":"投入係数!AI37-諸係数!$R42*投入係数!AI37","v":1.5279208848660816E-4},{"$f":"投入係数!AJ37-諸係数!$R42*投入係数!AJ37","v":1.1302775065741494E-6},{"$f":"投入係数!AK37-諸係数!$R42*投入係数!AK37","v":8.5168447943189941E-5},{"$f":"投入係数!AL37-諸係数!$R42*投入係数!AL37","v":0},{"$f":"投入係数!AM37-諸係数!$R42*投入係数!AM37","v":4.5910009448692078E-4},{"$f":"投入係数!AN37-諸係数!$R42*投入係数!AN37","v":1.9675123937965791E-4},{"$f":"投入係数!AO37-諸係数!$R42*投入係数!AO37","v":4.0993342270345505E-4},{"$f":"投入係数!AP37-諸係数!$R42*投入係数!AP37","v":1.7791942955425842E-4},{"$f":"投入係数!AQ37-諸係数!$R42*投入係数!AQ37","v":6.2780570623270442E-4},{"$f":"投入係数!AR37-諸係数!$R42*投入係数!AR37","v":0},{"$f":"投入係数!AS37-諸係数!$R42*投入係数!AS37","v":1.4595228509522575E-4},{"$f":"投入係数!AT37","v":4.0036051624707453E-8},{"$f":"投入係数!AU37","v":1.5304151063500122E-7},{"$f":"投入係数!AV37","v":0},{"$f":"投入係数!AW37","v":3.0446354394322937E-7},{"$f":"投入係数!AX37","v":2.9113199284201111E-7},{"$f":"投入係数!AY37","v":2.2610671549607E-8},{"$f":"投入係数!AZ37","v":1.6782317278175971E-7},{"$f":"投入係数!BA37","v":3.3422923954302217E-7},{"$f":"投入係数!BB37","v":7.1798629213510856E-9},{"$f":"投入係数!BC37","v":1.3243842690598366E-7},{"$f":"投入係数!BD37","v":4.0586896571341898E-7},{"$f":"投入係数!BE37","v":6.5540179049434911E-8},{"$f":"投入係数!BF37","v":1.8412450231866257E-8},{"$f":"投入係数!BG37","v":4.1940236077851115E-7},{"$f":"投入係数!BH37","v":6.7284907243844137E-7},{"$f":"投入係数!BI37","v":4.2346095925211781E-7},{"$f":"投入係数!BJ37","v":3.4169502896561122E-7},{"$f":"投入係数!BK37","v":1.2101194659266139E-6},{"$f":"投入係数!BL37","v":1.1729598394106002E-6},{"$f":"投入係数!BM37","v":1.6081316181270738E-6},{"$f":"投入係数!BN37","v":2.0447573117991847E-7},{"$f":"投入係数!BO37","v":5.2861431251858505E-8},{"$f":"投入係数!BP37","v":1.6822922696686126E-7},{"$f":"投入係数!BQ37","v":5.9784363961578875E-7},{"$f":"投入係数!BR37","v":1.1442516050182692E-7},{"$f":"投入係数!BS37","v":1.566383082182151E-7},{"$f":"投入係数!BT37","v":2.2624011838326724E-7},{"$f":"投入係数!BU37","v":2.3802098715802463E-7},{"$f":"投入係数!BV37","v":1.1530350266698674E-9},{"$f":"投入係数!BW37","v":1.2986280257743332E-6},{"$f":"投入係数!BX37","v":4.4161751720412051E-6},{"$f":"投入係数!BY37","v":1.3750247189339577E-7},{"$f":"投入係数!BZ37","v":1.1873528669580462E-9},{"$f":"投入係数!CA37","v":9.9098958298785803E-8},{"$f":"投入係数!CB37","v":0},{"$f":"投入係数!CC37","v":5.5724642294704984E-7},{"$f":"投入係数!CD37","v":2.4527161130937751E-7},{"$f":"投入係数!CE37","v":4.5701483553129464E-7},{"$f":"投入係数!CF37","v":2.3855492801982942E-7},{"$f":"投入係数!CG37","v":7.4886090046935713E-7},{"$f":"投入係数!CH37","v":0},{"$f":"投入係数!CI37","v":1.6813886996343332E-7}]
[null,"34","医療・福祉",{"$f":"投入係数!D38-諸係数!$R43*投入係数!D38","v":7.9978464416221369E-4},{"$f":"投入係数!E38-諸係数!$R43*投入係数!E38","v":0},{"$f":"投入係数!F38-諸係数!$R43*投入係数!F38","v":0},{"$f":"投入係数!G38-諸係数!$R43*投入係数!G38","v":0},{"$f":"投入係数!H38-諸係数!$R43*投入係数!H38","v":0},{"$f":"投入係数!I38-諸係数!$R43*投入係数!I38","v":0},{"$f":"投入係数!J38-諸係数!$R43*投入係数!J38","v":1.2087876894213475E-6},{"$f":"投入係数!K38-諸係数!$R43*投入係数!K38","v":1.3887493864213489E-5},{"$f":"投入係数!L38-諸係数!$R43*投入係数!L38","v":0},{"$f":"投入係数!M38-諸係数!$R43*投入係数!M38","v":6.6349991983567106E-7},{"$f":"投入係数!N38-諸係数!$R43*投入係数!N38","v":0},{"$f":"投入係数!O38-諸係数!$R43*投入係数!O38","v":2.2553468759828565E-6},{"$f":"投入係数!P38-諸係数!$R43*投入係数!P38","v":0},{"$f":"投入係数!Q38-諸係数!$R43*投入係数!Q38","v":0},{"$f":"投入係数!R38-諸係数!$R43*投入係数!R38","v":0},{"$f":"投入係数!S38-諸係数!$R43*投入係数!S38","v":0},{"$f":"投入係数!T38-諸係数!$R43*投入係数!T38","v":0},{"$f":"投入係数!U38-諸係数!$R43*投入係数!U38","v":0},{"$f":"投入係数!V38-諸係数!$R43*投入係数!V38","v":0},{"$f":"投入係数!W38-諸係数!$R43*投入係数!W38","v":0},{"$f":"投入係数!X38-諸係数!$R43*投入係数!X38","v":0},{"$f":"投入係数!Y38-諸係数!$R43*投入係数!Y38","v":1.4105123672435423E-5},{"$f":"投入係数!Z38-諸係数!$R43*投入係数!Z38","v":1.0863169689036402E-6},{"$f":"投入係数!AA38-諸係数!$R43*投入係数!AA38","v":1.5942579252243059E-5},{"$f":"投入係数!AB38-諸係数!$R43*投入係数!AB38","v":2.5345525669447918E-4},{"$f":"投入係数!AC38-諸係数!$R43*投入係数!AC38","v":0},{"$f":"投入係数!AD38-諸係数!$R43*投入係数!AD38","v":2.3458363898085355E-5},{"$f":"投入係数!AE38-諸係数!$R43*投入係数!AE38","v":1.4449849262295478E-4},{"$f":"投入係数!AF38-諸係数!$R43*投入係数!AF38","v":8.0287504385565109E-6},{"$f":"投入係数!AG38-諸係数!$R43*投入係数!AG38","v":1.2609516619256924E-3},{"$f":"投入係数!AH38-諸係数!$R43*投入係数!AH38","v":7.146186620204777E-4},{"$f":"投入係数!AI38-諸係数!$R43*投入係数!AI38","v":3.0691669318450275E-5},{"$f":"投入係数!AJ38-諸係数!$R43*投入係数!AJ38","v":1.8718622880479138E-5},{"$f":"投入係数!AK38-諸係数!$R43*投入係数!AK38","v":1.6205388835411543E-2},{"$f":"投入係数!AL38-諸係数!$R43*投入係数!AL38","v":1.1715721245426869E-5},{"$f":"投入係数!AM38-諸係数!$R43*投入係数!AM38","v":3.6740946391468513E-5},{"$f":"投入係数!AN38-諸係数!$R43*投入係数!AN38","v":3.5762077058289857E-6},{"$f":"投入係数!AO38-諸係数!$R43*投入係数!AO38","v":9.8235276067021183E-5},{"$f":"投入係数!AP38-諸係数!$R43*投入係数!AP38","v":1.000756792836937E-4},{"$f":"投入係数!AQ38-諸係数!$R43*投入係数!AQ38","v":4.5227743465413425E-5},{"$f":"投入係数!AR38-諸係数!$R43*投入係数!AR38","v":0},{"$f":"投入係数!AS38-諸係数!$R43*投入係数!AS38","v":2.370728899033051E-3},{"$f":"投入係数!AT38","v":8.6614579978330512E-7},{"$f":"投入係数!AU38","v":0},{"$f":"投入係数!AV38","v":0},{"$f":"投入係数!AW38","v":0},{"$f":"投入係数!AX38","v":0},{"$f":"投入係数!AY38","v":0},{"$f":"投入係数!AZ38","v":5.9632599465599903E-9},{"$f":"投入係数!BA38","v":3.0583067670603338E-8},{"$f":"投入係数!BB38","v":0},{"$f":"投入係数!BC38","v":2.2196384397650891E-9},{"$f":"投入係数!BD38","v":0},{"$f":"投入係数!BE38","v":3.5321054577539777E-9},{"$f":"投入係数!BF38","v":0},{"$f":"投入係数!BG38","v":0},{"$f":"投入係数!BH38","v":0},{"$f":"投入係数!BI38","v":0},{"$f":"投入係数!BJ38","v":0},{"$f":"投入係数!BK38","v":0},{"$f":"投入係数!BL38","v":0},{"$f":"投入係数!BM38","v":0},{"$f":"投入係数!BN38","v":0},{"$f":"投入係数!BO38","v":2.0729973039944514E-8},{"$f":"投入係数!BP38","v":2.378999169228341E-9},{"$f":"投入係数!BQ38","v":5.1840986931718735E-8},{"$f":"投入係数!BR38","v":5.5381777682884228E-7},{"$f":"投入係数!BS38","v":0},{"$f":"投入係数!BT38","v":4.8839831945274537E-8},{"$f":"投入係数!BU38","v":3.0159000689900928E-7},{"$f":"投入係数!BV38","v":1.2427155287441904E-8},{"$f":"投入係数!BW38","v":2.1337854185182237E-6},{"$f":"投入係数!BX38","v":1.0447110735902191E-6},{"$f":"投入係数!BY38","v":5.156342696002341E-8},{"$f":"投入係数!BZ38","v":4.559435009118897E-8},{"$f":"投入係数!CA38","v":2.9575309893660914E-5},{"$f":"投入係数!CB38","v":2.574280802343977E-8},{"$f":"投入係数!CC38","v":7.624018224399934E-8},{"$f":"投入係数!CD38","v":8.1081524399794219E-9},{"$f":"投入係数!CE38","v":1.859812233923879E-7},{"$f":"投入係数!CF38","v":1.8000053659678035E-7},{"$f":"投入係数!CG38","v":9.6199185442353741E-8},{"$f":"投入係数!CH38","v":0},{"$f":"投入係数!CI38","v":4.5685100851906549E-6}]
[null,"35","他に分類されない会員制団体",{"$f":"投入係数!D39-諸係数!$R44*投入係数!D39","v":1.9563275528124987E-4},{"$f":"投入係数!E39-諸係数!$R44*投入係数!E39","v":2.4879800148329303E-4},{"$f":"投入係数!F39-諸係数!$R44*投入係数!F39","v":1.0106188513881091E-2},{"$f":"投入係数!G39-諸係数!$R44*投入係数!G39","v":2.5321555716169364E-3},{"$f":"投入係数!H39-諸係数!$R44*投入係数!H39","v":1.0693673041433712E-3},{"$f":"投入係数!I39-諸係数!$R44*投入係数!I39","v":6.4864099551780602E-4},{"$f":"投入係数!J39-諸係数!$R44*投入係数!J39","v":1.7706561622167446E-3},{"$f":"投入係数!K39-諸係数!$R44*投入係数!K39","v":2.0135797932708962E-3},{"$f":"投入係数!L39-諸係数!$R44*投入係数!L39","v":3.7068297367967763E-4},{"$f":"投入係数!M39-諸係数!$R44*投入係数!M39","v":1.0735905339805442E-3},{"$f":"投入係数!N39-諸係数!$R44*投入係数!N39","v":9.7568258755005978E-4},{"$f":"投入係数!O39-諸係数!$R44*投入係数!O39","v":6.2985082350820753E-4},{"$f":"投入係数!P39-諸係数!$R44*投入係数!P39","v":3.5176776700745289E-4},{"$f":"投入係数!Q39-諸係数!$R44*投入係数!Q39","v":7.7433959184535503E-4},{"$f":"投入係数!R39-諸係数!$R44*投入係数!R39","v":1.8536489812934044E-3},{"$f":"投入係数!S39-諸係数!$R44*投入係数!S39","v":1.3117281149813184E-3},{"$f":"投入係数!T39-諸係数!$R44*投入係数!T39","v":9.0086925649505674E-4},{"$f":"投入係数!U39-諸係数!$R44*投入係数!U39","v":6.549782357285715E-4},{"$f":"投入係数!V39-諸係数!$R44*投入係数!V39","v":6.8030997456346241E-4},{"$f":"投入係数!W39-諸係数!$R44*投入係数!W39","v":5.9760449499491209E-4},{"$f":"投入係数!X39-諸係数!$R44*投入係数!X39","v":2.0927704811240095E-4},{"$f":"投入係数!Y39-諸係数!$R44*投入係数!Y39","v":8.6494598093926828E-4},{"$f":"投入係数!Z39-諸係数!$R44*投入係数!Z39","v":9.4790323406513007E-4},{"$f":"投入係数!AA39-諸係数!$R44*投入係数!AA39","v":1.2997907913639194E-3},{"$f":"投入係数!AB39-諸係数!$R44*投入係数!AB39","v":7.7566876067730814E-3},{"$f":"投入係数!AC39-諸係数!$R44*投入係数!AC39","v":1.9146099953370318E-3},{"$f":"投入係数!AD39-諸係数!$R44*投入係数!AD39","v":5.0076730029419722E-4},{"$f":"投入係数!AE39-諸係数!$R44*投入係数!AE39","v":2.6136357509393181E-3},{"$f":"投入係数!AF39-諸係数!$R44*投入係数!AF39","v":3.8430151387198742E-4},{"$f":"投入係数!AG39-諸係数!$R44*投入係数!AG39","v":1.2247747550864095E-3},{"$f":"投入係数!AH39-諸係数!$R44*投入係数!AH39","v":1.2849154036281953E-3},{"$f":"投入係数!AI39-諸係数!$R44*投入係数!AI39","v":3.4465301602400708E-6},{"$f":"投入係数!AJ39-諸係数!$R44*投入係数!AJ39","v":1.4047857302048638E-3},{"$f":"投入係数!AK39-諸係数!$R44*投入係数!AK39","v":9.5075733192920373E-4},{"$f":"投入係数!AL39-諸係数!$R44*投入係数!AL39","v":0},{"$f":"投入係数!AM39-諸係数!$R44*投入係数!AM39","v":2.0718599057031484E-3},{"$f":"投入係数!AN39-諸係数!$R44*投入係数!AN39","v":1.3311711017463684E-3},{"$f":"投入係数!AO39-諸係数!$R44*投入係数!AO39","v":1.5003523666498081E-3},{"$f":"投入係数!AP39-諸係数!$R44*投入係数!AP39","v":9.6582518812376034E-3},{"$f":"投入係数!AQ39-諸係数!$R44*投入係数!AQ39","v":2.0406102601371531E-3},{"$f":"投入係数!AR39-諸係数!$R44*投入係数!AR39","v":0},{"$f":"投入係数!AS39-諸係数!$R44*投入係数!AS39","v":4.6125804891106103E-3},{"$f":"投入係数!AT39","v":1.5916771743481255E-7},{"$f":"投入係数!AU39","v":1.6579496985458467E-7},{"$f":"投入係数!AV39","v":1.0913174629480491E-5},{"$f":"投入係数!AW39","v":4.0432758635660858E-6},{"$f":"投入係数!AX39","v":1.2562209448145472E-6},{"$f":"投入係数!AY39","v":9.2986386747758787E-7},{"$f":"投入係数!AZ39","v":1.3783649419334377E-6},{"$f":"投入係数!BA39","v":2.3942172976415189E-6},{"$f":"投入係数!BB39","v":2.1240427808996962E-7},{"$f":"投入係数!BC39","v":7.7021453859848591E-7},{"$f":"投入係数!BD39","v":1.3007767671634987E-6},{"$f":"投入係数!BE39","v":9.3600794630480411E-7},{"$f":"投入係数!BF39","v":5.0173926881835552E-7},{"$f":"投入係数!BG39","v":1.1371243924036621E-6},{"$f":"投入係数!BH39","v":2.9895797635825995E-6},{"$f":"投入係数!BI39","v":2.4576623060779478E-6},{"$f":"投入係数!BJ39","v":1.9934633391993744E-6},{"$f":"投入係数!BK39","v":9.7412732085805911E-7},{"$f":"投入係数!BL39","v":8.4805249728444598E-7},{"$f":"投入係数!BM39","v":1.0886096456042862E-6},{"$f":"投入係数!BN39","v":2.9656639288173568E-7},{"$f":"投入係数!BO39","v":1.0966155738130647E-6},{"$f":"投入係数!BP39","v":1.5162721133588918E-6},{"$f":"投入係数!BQ39","v":2.0531539259812154E-6},{"$f":"投入係数!BR39","v":1.2639403229031801E-5},{"$f":"投入係数!BS39","v":2.6565010380251345E-6},{"$f":"投入係数!BT39","v":7.908548571945576E-7},{"$f":"投入係数!BU39","v":4.0730615753675632E-6},{"$f":"投入係数!BV39","v":4.4532775030049544E-7},{"$f":"投入係数!BW39","v":1.6991394729757629E-6},{"$f":"投入係数!BX39","v":1.7856717300621092E-6},{"$f":"投入係数!BY39","v":3.9063202242441979E-9},{"$f":"投入係数!BZ39","v":2.8382482931765136E-6},{"$f":"投入係数!CA39","v":1.3601332026508352E-6},{"$f":"投入係数!CB39","v":0},{"$f":"投入係数!CC39","v":2.7573994639956998E-6},{"$f":"投入係数!CD39","v":2.0574436816447784E-6},{"$f":"投入係数!CE39","v":2.1043851028972024E-6},{"$f":"投入係数!CF39","v":1.0784851427660105E-5},{"$f":"投入係数!CG39","v":2.8826583499794966E-6},{"$f":"投入係数!CH39","v":0},{"$f":"投入係数!CI39","v":6.6414853635556166E-6}]
[null,"36","対事業所サービス",{"$f":"投入係数!D40-諸係数!$R45*投入係数!D40","v":1.6276583891097395E-2},{"$f":"投入係数!E40-諸係数!$R45*投入係数!E40","v":2.0571903787868495E-2},{"$f":"投入係数!F40-諸係数!$R45*投入係数!F40","v":1.0922390062733555E-2},{"$f":"投入係数!G40-諸係数!$R45*投入係数!G40","v":3.2213510749752323E-2},{"$f":"投入係数!H40-諸係数!$R45*投入係数!H40","v":2.8307451168533847E-2},{"$f":"投入係数!I40-諸係数!$R45*投入係数!I40","v":2.7764497714769302E-2},{"$f":"投入係数!J40-諸係数!$R45*投入係数!J40","v":2.2833877886419322E-2},{"$f":"投入係数!K40-諸係数!$R45*投入係数!K40","v":3.321538176752295E-2},{"$f":"投入係数!L40-諸係数!$R45*投入係数!L40","v":1.0192600290898643E-2},{"$f":"投入係数!M40-諸係数!$R45*投入係数!M40","v":3.1702661966159403E-2},{"$f":"投入係数!N40-諸係数!$R45*投入係数!N40","v":4.1025550467853111E-2},{"$f":"投入係数!O40-諸係数!$R45*投入係数!O40","v":7.8569977768142927E-3},{"$f":"投入係数!P40-諸係数!$R45*投入係数!P40","v":1.2854145468415203E-2},{"$f":"投入係数!Q40-諸係数!$R45*投入係数!Q40","v":2.4433161554382774E-2},{"$f":"投入係数!R40-諸係数!$R45*投入係数!R40","v":3.9759018841048065E-2},{"$f":"投入係数!S40-諸係数!$R45*投入係数!S40","v":3.1225770311323082E-2},{"$f":"投入係数!T40-諸係数!$R45*投入係数!T40","v":2.7250326880775701E-2},{"$f":"投入係数!U40-諸係数!$R45*投入係数!U40","v":3.8673057797628571E-2},{"$f":"投入係数!V40-諸係数!$R45*投入係数!V40","v":3.4995593780365743E-2},{"$f":"投入係数!W40-諸係数!$R45*投入係数!W40","v":3.0345822749230436E-2},{"$f":"投入係数!X40-諸係数!$R45*投入係数!X40","v":2.0938679846073848E-2},{"$f":"投入係数!Y40-諸係数!$R45*投入係数!Y40","v":3.5809833522045302E-2},{"$f":"投入係数!Z40-諸係数!$R45*投入係数!Z40","v":7.4454426566391702E-2},{"$f":"投入係数!AA40-諸係数!$R45*投入係数!AA40","v":4.5429405100345023E-2},{"$f":"投入係数!AB40-諸係数!$R45*投入係数!AB40","v":0.10886839221972551},{"$f":"投入係数!AC40-諸係数!$R45*投入係数!AC40","v":5.2430752804709838E-2},{"$f":"投入係数!AD40-諸係数!$R45*投入係数!AD40","v":6.5036729686473338E-2},{"$f":"投入係数!AE40-諸係数!$R45*投入係数!AE40","v":8.7160121524854833E-2},{"$f":"投入係数!AF40-諸係数!$R45*投入係数!AF40","v":2.7307602418685212E-2},{"$f":"投入係数!AG40-諸係数!$R45*投入係数!AG40","v":0.10072784221919491},{"$f":"投入係数!AH40-諸係数!$R45*投入係数!AH40","v":0.1269949829920991},{"$f":"投入係数!AI40-諸係数!$R45*投入係数!AI40","v":8.1369792894033954E-2},{"$f":"投入係数!AJ40-諸係数!$R45*投入係数!AJ40","v":5.3761152504395948E-2},{"$f":"投入係数!AK40-諸係数!$R45*投入係数!AK40","v":3.9106206491478265E-2},{"$f":"投入係数!AL40-諸係数!$R45*投入係数!AL40","v":6.0302239442261388E-2},{"$f":"投入係数!AM40-諸係数!$R45*投入係数!AM40","v":0.11076186648218143},{"$f":"投入係数!AN40-諸係数!$R45*投入係数!AN40","v":1.960342134043799E-2},{"$f":"投入係数!AO40-諸係数!$R45*投入係数!AO40","v":2.6643595390799659E-2},{"$f":"投入係数!AP40-諸係数!$R45*投入係数!AP40","v":4.2736442768148732E-2},{"$f":"投入係数!AQ40-諸係数!$R45*投入係数!AQ40","v":3.4459416052968275E-2},{"$f":"投入係数!AR40-諸係数!$R45*投入係数!AR40","v":0},{"$f":"投入係数!AS40-諸係数!$R45*投入係数!AS40","v":3.2969750177509458E-2},{"$f":"投入係数!AT40","v":1.0950641310608704E-4},{"$f":"投入係数!AU40","v":1.2398913053279017E-4},{"$f":"投入係数!AV40","v":6.284967470825958E-5},{"$f":"投入係数!AW40","v":2.6856120284144379E-4},{"$f":"投入係数!AX40","v":1.8378591327569463E-4},{"$f":"投入係数!AY40","v":1.780025117742811E-4},{"$f":"投入係数!AZ40","v":1.190735227186318E-4},{"$f":"投入係数!BA40","v":2.5876078697200229E-4},{"$f":"投入係数!BB40","v":2.5823573640459407E-5},{"$f":"投入係数!BC40","v":2.0409945393379955E-4},{"$f":"投入係数!BD40","v":2.8661168908709287E-4},{"$f":"投入係数!BE40","v":5.9453968889562847E-5},{"$f":"投入係数!BF40","v":8.3738672876388251E-5},{"$f":"投入係数!BG40","v":1.5613437384555496E-4},{"$f":"投入係数!BH40","v":2.1232696405752753E-4},{"$f":"投入係数!BI40","v":1.8233691177193967E-4},{"$f":"投入係数!BJ40","v":1.8055456134822865E-4},{"$f":"投入係数!BK40","v":2.4290905222145847E-4},{"$f":"投入係数!BL40","v":2.0963997069353509E-4},{"$f":"投入係数!BM40","v":1.9399648045342085E-4},{"$f":"投入係数!BN40","v":1.4898182185573257E-4},{"$f":"投入係数!BO40","v":2.1147785646564592E-4},{"$f":"投入係数!BP40","v":5.0188776880691409E-4},{"$f":"投入係数!BQ40","v":3.4487676436048667E-4},{"$f":"投入係数!BR40","v":7.2633201431102665E-4},{"$f":"投入係数!BS40","v":3.3423863219703809E-4},{"$f":"投入係数!BT40","v":4.6001755881315613E-4},{"$f":"投入係数!BU40","v":6.2578475084061754E-4},{"$f":"投入係数!BV40","v":1.4778475559828284E-4},{"$f":"投入係数!BW40","v":6.1835933270270454E-4},{"$f":"投入係数!BX40","v":8.8864439895505601E-4},{"$f":"投入係数!BY40","v":4.931573030299331E-4},{"$f":"投入係数!BZ40","v":3.8242261138984749E-4},{"$f":"投入係数!CA40","v":2.534096624767614E-4},{"$f":"投入係数!CB40","v":4.2003135698681757E-4},{"$f":"投入係数!CC40","v":7.4688791568293172E-4},{"$f":"投入係数!CD40","v":1.3777980737446032E-4},{"$f":"投入係数!CE40","v":1.7177445038678605E-4},{"$f":"投入係数!CF40","v":2.6373656935348622E-4},{"$f":"投入係数!CG40","v":2.2023310761045886E-4},{"$f":"投入係数!CH40","v":0},{"$f":"投入係数!CI40","v":2.1596774140737366E-4}]
[null,"37","宿泊業",{"$f":"投入係数!D41-諸係数!$R46*投入係数!D41","v":0},{"$f":"投入係数!E41-諸係数!$R46*投入係数!E41","v":0},{"$f":"投入係数!F41-諸係数!$R46*投入係数!F41","v":0},{"$f":"投入係数!G41-諸係数!$R46*投入係数!G41","v":0},{"$f":"投入係数!H41-諸係数!$R46*投入係数!H41","v":0},{"$f":"投入係数!I41-諸係数!$R46*投入係数!I41","v":0},{"$f":"投入係数!J41-諸係数!$R46*投入係数!J41","v":0},{"$f":"投入係数!K41-諸係数!$R46*投入係数!K41","v":0},{"$f":"投入係数!L41-諸係数!$R46*投入係数!L41","v":0},{"$f":"投入係数!M41-諸係数!$R46*投入係数!M41","v":0},{"$f":"投入係数!N41-諸係数!$R46*投入係数!N41","v":0},{"$f":"投入係数!O41-諸係数!$R46*投入係数!O41","v":0},{"$f":"投入係数!P41-諸係数!$R46*投入係数!P41","v":0},{"$f":"投入係数!Q41-諸係数!$R46*投入係数!Q41","v":0},{"$f":"投入係数!R41-諸係数!$R46*投入係数!R41","v":0},{"$f":"投入係数!S41-諸係数!$R46*投入係数!S41","v":0},{"$f":"投入係数!T41-諸係数!$R46*投入係数!T41","v":0},{"$f":"投入係数!U41-諸係数!$R46*投入係数!U41","v":0},{"$f":"投入係数!V41-諸係数!$R46*投入係数!V41","v":0},{"$f":"投入係数!W41-諸係数!$R46*投入係数!W41","v":0},{"$f":"投入係数!X41-諸係数!$R46*投入係数!X41","v":0},{"$f":"投入係数!Y41-諸係数!$R46*投入係数!Y41","v":0},{"$f":"投入係数!Z41-諸係数!$R46*投入係数!Z41","v":0},{"$f":"投入係数!AA41-諸係数!$R46*投入係数!AA41","v":0},{"$f":"投入係数!AB41-諸係数!$R46*投入係数!AB41","v":0},{"$f":"投入係数!AC41-諸係数!$R46*投入係数!AC41","v":0},{"$f":"投入係数!AD41-諸係数!$R46*投入係数!AD41","v":0},{"$f":"投入係数!AE41-諸係数!$R46*投入係数!AE41","v":0},{"$f":"投入係数!AF41-諸係数!$R46*投入係数!AF41","v":0},{"$f":"投入係数!AG41-諸係数!$R46*投入係数!AG41","v":0},{"$f":"投入係数!AH41-諸係数!$R46*投入係数!AH41","v":0},{"$f":"投入係数!AI41-諸係数!$R46*投入係数!AI41","v":0},{"$f":"投入係数!AJ41-諸係数!$R46*投入係数!AJ41","v":0},{"$f":"投入係数!AK41-諸係数!$R46*投入係数!AK41","v":0},{"$f":"投入係数!AL41-諸係数!$R46*投入係数!AL41","v":0},{"$f":"投入係数!AM41-諸係数!$R46*投入係数!AM41","v":0},{"$f":"投入係数!AN41-諸係数!$R46*投入係数!AN41","v":0},{"$f":"投入係数!AO41-諸係数!$R46*投入係数!AO41","v":0},{"$f":"投入係数!AP41-諸係数!$R46*投入係数!AP41","v":0},{"$f":"投入係数!AQ41-諸係数!$R46*投入係数!AQ41","v":0},{"$f":"投入係数!AR41-諸係数!$R46*投入係数!AR41","v":0},{"$f":"投入係数!AS41-諸係数!$R46*投入係数!AS41","v":0},{"$f":"投入係数!AT41","v":0},{"$f":"投入係数!AU41","v":0},{"$f":"投入係数!AV41","v":0},{"$f":"投入係数!AW41","v":0},{"$f":"投入係数!AX41","v":0},{"$f":"投入係数!AY41","v":0},{"$f":"投入係数!AZ41","v":0},{"$f":"投入係数!BA41","v":0},{"$f":"投入係数!BB41","v":0},{"$f":"投入係数!BC41","v":0},{"$f":"投入係数!BD41","v":0},{"$f":"投入係数!BE41","v":0},{"$f":"投入係数!BF41","v":0},{"$f":"投入係数!BG41","v":0},{"$f":"投入係数!BH41","v":0},{"$f":"投入係数!BI41","v":0},{"$f":"投入係数!BJ41","v":0},{"$f":"投入係数!BK41","v":0},{"$f":"投入係数!BL41","v":0},{"$f":"投入係数!BM41","v":0},{"$f":"投入係数!BN41","v":0},{"$f":"投入係数!BO41","v":0},{"$f":"投入係数!BP41","v":0},{"$f":"投入係数!BQ41","v":0},{"$f":"投入係数!BR41","v":0},{"$f":"投入係数!BS41","v":0},{"$f":"投入係数!BT41","v":0},{"$f":"投入係数!BU41","v":0},{"$f":"投入係数!BV41","v":0},{"$f":"投入係数!BW41","v":0},{"$f":"投入係数!BX41","v":0},{"$f":"投入係数!BY41","v":0},{"$f":"投入係数!BZ41","v":0},{"$f":"投入係数!CA41","v":0},{"$f":"投入係数!CB41","v":0},{"$f":"投入係数!CC41","v":0},{"$f":"投入係数!CD41","v":0},{"$f":"投入係数!CE41","v":0},{"$f":"投入係数!CF41","v":0},{"$f":"投入係数!CG41","v":0},{"$f":"投入係数!CH41","v":0},{"$f":"投入係数!CI41","v":0}]
[null,"38","飲食サービス",{"$f":"投入係数!D42-諸係数!$R47*投入係数!D42","v":0},{"$f":"投入係数!E42-諸係数!$R47*投入係数!E42","v":0},{"$f":"投入係数!F42-諸係数!$R47*投入係数!F42","v":0},{"$f":"投入係数!G42-諸係数!$R47*投入係数!G42","v":0},{"$f":"投入係数!H42-諸係数!$R47*投入係数!H42","v":0},{"$f":"投入係数!I42-諸係数!$R47*投入係数!I42","v":0},{"$f":"投入係数!J42-諸係数!$R47*投入係数!J42","v":0},{"$f":"投入係数!K42-諸係数!$R47*投入係数!K42","v":0},{"$f":"投入係数!L42-諸係数!$R47*投入係数!L42","v":0},{"$f":"投入係数!M42-諸係数!$R47*投入係数!M42","v":0},{"$f":"投入係数!N42-諸係数!$R47*投入係数!N42","v":0},{"$f":"投入係数!O42-諸係数!$R47*投入係数!O42","v":0},{"$f":"投入係数!P42-諸係数!$R47*投入係数!P42","v":0},{"$f":"投入係数!Q42-諸係数!$R47*投入係数!Q42","v":0},{"$f":"投入係数!R42-諸係数!$R47*投入係数!R42","v":0},{"$f":"投入係数!S42-諸係数!$R47*投入係数!S42","v":0},{"$f":"投入係数!T42-諸係数!$R47*投入係数!T42","v":0},{"$f":"投入係数!U42-諸係数!$R47*投入係数!U42","v":0},{"$f":"投入係数!V42-諸係数!$R47*投入係数!V42","v":0},{"$f":"投入係数!W42-諸係数!$R47*投入係数!W42","v":0},{"$f":"投入係数!X42-諸係数!$R47*投入係数!X42","v":0},{"$f":"投入係数!Y42-諸係数!$R47*投入係数!Y42","v":0},{"$f":"投入係数!Z42-諸係数!$R47*投入係数!Z42","v":0},{"$f":"投入係数!AA42-諸係数!$R47*投入係数!AA42","v":0},{"$f":"投入係数!AB42-諸係数!$R47*投入係数!AB42","v":0},{"$f":"投入係数!AC42-諸係数!$R47*投入係数!AC42","v":0},{"$f":"投入係数!AD42-諸係数!$R47*投入係数!AD42","v":0},{"$f":"投入係数!AE42-諸係数!$R47*投入係数!AE42","v":0},{"$f":"投入係数!AF42-諸係数!$R47*投入係数!AF42","v":0},{"$f":"投入係数!AG42-諸係数!$R47*投入係数!AG42","v":0},{"$f":"投入係数!AH42-諸係数!$R47*投入係数!AH42","v":0},{"$f":"投入係数!AI42-諸係数!$R47*投入係数!AI42","v":0},{"$f":"投入係数!AJ42-諸係数!$R47*投入係数!AJ42","v":1.8771539675911568E-3},{"$f":"投入係数!AK42-諸係数!$R47*投入係数!AK42","v":2.0972288743869448E-3},{"$f":"投入係数!AL42-諸係数!$R47*投入係数!AL42","v":0},{"$f":"投入係数!AM42-諸係数!$R47*投入係数!AM42","v":0},{"$f":"投入係数!AN42-諸係数!$R47*投入係数!AN42","v":1.2600001233072155E-2},{"$f":"投入係数!AO42-諸係数!$R47*投入係数!AO42","v":6.5909201488566146E-3},{"$f":"投入係数!AP42-諸係数!$R47*投入係数!AP42","v":0},{"$f":"投入係数!AQ42-諸係数!$R47*投入係数!AQ42","v":0},{"$f":"投入係数!AR42-諸係数!$R47*投入係数!AR42","v":0},{"$f":"投入係数!AS42-諸係数!$R47*投入係数!AS42","v":0},{"$f":"投入係数!AT42","v":0},{"$f":"投入係数!AU42","v":0},{"$f":"投入係数!AV42","v":0},{"$f":"投入係数!AW42","v":0},{"$f":"投入係数!AX42","v":0},{"$f":"投入係数!AY42","v":0},{"$f":"投入係数!AZ42","v":0},{"$f":"投入係数!BA42","v":0},{"$f":"投入係数!BB42","v":0},{"$f":"投入係数!BC42","v":0},{"$f":"投入係数!BD42","v":0},{"$f":"投入係数!BE42","v":0},{"$f":"投入係数!BF42","v":0},{"$f":"投入係数!BG42","v":0},{"$f":"投入係数!BH42","v":0},{"$f":"投入係数!BI42","v":0},{"$f":"投入係数!BJ42","v":0},{"$f":"投入係数!BK42","v":0},{"$f":"投入係数!BL42","v":0},{"$f":"投入係数!BM42","v":0},{"$f":"投入係数!BN42","v":0},{"$f":"投入係数!BO42","v":0},{"$f":"投入係数!BP42","v":0},{"$f":"投入係数!BQ42","v":0},{"$f":"投入係数!BR42","v":0},{"$f":"投入係数!BS42","v":0},{"$f":"投入係数!BT42","v":0},{"$f":"投入係数!BU42","v":0},{"$f":"投入係数!BV42","v":0},{"$f":"投入係数!BW42","v":0},{"$f":"投入係数!BX42","v":0},{"$f":"投入係数!BY42","v":0},{"$f":"投入係数!BZ42","v":1.6778245892410757E-5},{"$f":"投入係数!CA42","v":2.3090986336351144E-5},{"$f":"投入係数!CB42","v":0},{"$f":"投入係数!CC42","v":0},{"$f":"投入係数!CD42","v":1.6142115285133031E-4},{"$f":"投入係数!CE42","v":7.7626748193022788E-5},{"$f":"投入係数!CF42","v":0},{"$f":"投入係数!CG42","v":0},{"$f":"投入係数!CH42","v":0},{"$f":"投入係数!CI42","v":0}]
[null,"39","娯楽サービス",{"$f":"投入係数!D43-諸係数!$R48*投入係数!D43","v":0},{"$f":"投入係数!E43-諸係数!$R48*投入係数!E43","v":0},{"$f":"投入係数!F43-諸係数!$R48*投入係数!F43","v":0},{"$f":"投入係数!G43-諸係数!$R48*投入係数!G43","v":0},{"$f":"投入係数!H43-諸係数!$R48*投入係数!H43","v":0},{"$f":"投入係数!I43-諸係数!$R48*投入係数!I43","v":0},{"$f":"投入係数!J43-諸係数!$R48*投入係数!J43","v":0},{"$f":"投入係数!K43-諸係数!$R48*投入係数!K43","v":0},{"$f":"投入係数!L43-諸係数!$R48*投入係数!L43","v":0},{"$f":"投入係数!M43-諸係数!$R48*投入係数!M43","v":0},{"$f":"投入係数!N43-諸係数!$R48*投入係数!N43","v":0},{"$f":"投入係数!O43-諸係数!$R48*投入係数!O43","v":0},{"$f":"投入係数!P43-諸係数!$R48*投入係数!P43","v":0},{"$f":"投入係数!Q43-諸係数!$R48*投入係数!Q43","v":0},{"$f":"投入係数!R43-諸係数!$R48*投入係数!R43","v":0},{"$f":"投入係数!S43-諸係数!$R48*投入係数!S43","v":0},{"$f":"投入係数!T43-諸係数!$R48*投入係数!T43","v":0},{"$f":"投入係数!U43-諸係数!$R48*投入係数!U43","v":0},{"$f":"投入係数!V43-諸係数!$R48*投入係数!V43","v":0},{"$f":"投入係数!W43-諸係数!$R48*投入係数!W43","v":0},{"$f":"投入係数!X43-諸係数!$R48*投入係数!X43","v":0},{"$f":"投入係数!Y43-諸係数!$R48*投入係数!Y43","v":2.0881124743623772E-7},{"$f":"投入係数!Z43-諸係数!$R48*投入係数!Z43","v":0},{"$f":"投入係数!AA43-諸係数!$R48*投入係数!AA43","v":0},{"$f":"投入係数!AB43-諸係数!$R48*投入係数!AB43","v":0},{"$f":"投入係数!AC43-諸係数!$R48*投入係数!AC43","v":0},{"$f":"投入係数!AD43-諸係数!$R48*投入係数!AD43","v":1.1414877575012358E-5},{"$f":"投入係数!AE43-諸係数!$R48*投入係数!AE43","v":0},{"$f":"投入係数!AF43-諸係数!$R48*投入係数!AF43","v":0},{"$f":"投入係数!AG43-諸係数!$R48*投入係数!AG43","v":0},{"$f":"投入係数!AH43-諸係数!$R48*投入係数!AH43","v":6.8272062428904193E-3},{"$f":"投入係数!AI43-諸係数!$R48*投入係数!AI43","v":0},{"$f":"投入係数!AJ43-諸係数!$R48*投入係数!AJ43","v":7.4782686009080356E-5},{"$f":"投入係数!AK43-諸係数!$R48*投入係数!AK43","v":0},{"$f":"投入係数!AL43-諸係数!$R48*投入係数!AL43","v":0},{"$f":"投入係数!AM43-諸係数!$R48*投入係数!AM43","v":1.992289040593306E-4},{"$f":"投入係数!AN43-諸係数!$R48*投入係数!AN43","v":2.0405950939940912E-3},{"$f":"投入係数!AO43-諸係数!$R48*投入係数!AO43","v":1.9820947084895463E-4},{"$f":"投入係数!AP43-諸係数!$R48*投入係数!AP43","v":1.1181608258248016E-2},{"$f":"投入係数!AQ43-諸係数!$R48*投入係数!AQ43","v":5.8890248336062765E-4},{"$f":"投入係数!AR43-諸係数!$R48*投入係数!AR43","v":0},{"$f":"投入係数!AS43-諸係数!$R48*投入係数!AS43","v":3.8337836323562482E-4},{"$f":"投入係数!AT43","v":0},{"$f":"投入係数!AU43","v":0},{"$f":"投入係数!AV43","v":0},{"$f":"投入係数!AW43","v":0},{"$f":"投入係数!AX43","v":0},{"$f":"投入係数!AY43","v":0},{"$f":"投入係数!AZ43","v":0},{"$f":"投入係数!BA43","v":0},{"$f":"投入係数!BB43","v":0},{"$f":"投入係数!BC43","v":0},{"$f":"投入係数!BD43","v":0},{"$f":"投入係数!BE43","v":0},{"$f":"投入係数!BF43","v":0},{"$f":"投入係数!BG43","v":0},{"$f":"投入係数!BH43","v":0},{"$f":"投入係数!BI43","v":0},{"$f":"投入係数!BJ43","v":0},{"$f":"投入係数!BK43","v":0},{"$f":"投入係数!BL43","v":0},{"$f":"投入係数!BM43","v":0},{"$f":"投入係数!BN43","v":0},{"$f":"投入係数!BO43","v":3.3447811499950471E-6},{"$f":"投入係数!BP43","v":0},{"$f":"投入係数!BQ43","v":0},{"$f":"投入係数!BR43","v":0},{"$f":"投入係数!BS43","v":0},{"$f":"投入係数!BT43","v":1.634929800320513E-7},{"$f":"投入係数!BU43","v":0},{"$f":"投入係数!BV43","v":0},{"$f":"投入係数!BW43","v":0},{"$f":"投入係数!BX43","v":8.9567059303822153E-5},{"$f":"投入係数!BY43","v":0},{"$f":"投入係数!BZ43","v":6.5233166510675058E-7},{"$f":"投入係数!CA43","v":0},{"$f":"投入係数!CB43","v":0},{"$f":"投入係数!CC43","v":2.6456729423799483E-6},{"$f":"投入係数!CD43","v":2.6708254137292213E-5},{"$f":"投入係数!CE43","v":2.3553841523535956E-6},{"$f":"投入係数!CF43","v":1.9657034502892131E-4},{"$f":"投入係数!CG43","v":1.0430977193913149E-5},{"$f":"投入係数!CH43","v":0},{"$f":"投入係数!CI43","v":4.676915409246027E-6}]
[null,"40","その他の対個人サービス",{"$f":"投入係数!D44-諸係数!$R49*投入係数!D44","v":1.5987040058118422E-4},{"$f":"投入係数!E44-諸係数!$R49*投入係数!E44","v":4.5356922028719512E-5},{"$f":"投入係数!F44-諸係数!$R49*投入係数!F44","v":9.048937310101073E-4},{"$f":"投入係数!G44-諸係数!$R49*投入係数!G44","v":2.1103168061774433E-4},{"$f":"投入係数!H44-諸係数!$R49*投入係数!H44","v":1.4048767458723699E-4},{"$f":"投入係数!I44-諸係数!$R49*投入係数!I44","v":1.5675960012706975E-4},{"$f":"投入係数!J44-諸係数!$R49*投入係数!J44","v":8.6904104462486004E-5},{"$f":"投入係数!K44-諸係数!$R49*投入係数!K44","v":9.6540975526596644E-5},{"$f":"投入係数!L44-諸係数!$R49*投入係数!L44","v":4.057120840754803E-5},{"$f":"投入係数!M44-諸係数!$R49*投入係数!M44","v":9.7575964892407971E-5},{"$f":"投入係数!N44-諸係数!$R49*投入係数!N44","v":7.67692606334542E-5},{"$f":"投入係数!O44-諸係数!$R49*投入係数!O44","v":5.6915150594810229E-5},{"$f":"投入係数!P44-諸係数!$R49*投入係数!P44","v":8.9958433897642555E-5},{"$f":"投入係数!Q44-諸係数!$R49*投入係数!Q44","v":9.2732137514477418E-5},{"$f":"投入係数!R44-諸係数!$R49*投入係数!R44","v":1.2708018453513436E-4},{"$f":"投入係数!S44-諸係数!$R49*投入係数!S44","v":1.3101132002168639E-4},{"$f":"投入係数!T44-諸係数!$R49*投入係数!T44","v":9.9270052462188229E-5},{"$f":"投入係数!U44-諸係数!$R49*投入係数!U44","v":1.7132171813148437E-4},{"$f":"投入係数!V44-諸係数!$R49*投入係数!V44","v":1.2508140108246865E-4},{"$f":"投入係数!W44-諸係数!$R49*投入係数!W44","v":9.0528801505714349E-5},{"$f":"投入係数!X44-諸係数!$R49*投入係数!X44","v":8.8267704530078971E-5},{"$f":"投入係数!Y44-諸係数!$R49*投入係数!Y44","v":1.1531822839032522E-4},{"$f":"投入係数!Z44-諸係数!$R49*投入係数!Z44","v":2.3741371833076432E-4},{"$f":"投入係数!AA44-諸係数!$R49*投入係数!AA44","v":7.1245009781939364E-5},{"$f":"投入係数!AB44-諸係数!$R49*投入係数!AB44","v":2.5530528152078503E-4},{"$f":"投入係数!AC44-諸係数!$R49*投入係数!AC44","v":4.9556442714659818E-5},{"$f":"投入係数!AD44-諸係数!$R49*投入係数!AD44","v":7.6834005574111556E-4},{"$f":"投入係数!AE44-諸係数!$R49*投入係数!AE44","v":1.750690432994099E-4},{"$f":"投入係数!AF44-諸係数!$R49*投入係数!AF44","v":5.268163502502749E-4},{"$f":"投入係数!AG44-諸係数!$R49*投入係数!AG44","v":6.050149712404628E-4},{"$f":"投入係数!AH44-諸係数!$R49*投入係数!AH44","v":1.4902474907040151E-3},{"$f":"投入係数!AI44-諸係数!$R49*投入係数!AI44","v":5.2727325743632376E-4},{"$f":"投入係数!AJ44-諸係数!$R49*投入係数!AJ44","v":8.827533683463312E-4},{"$f":"投入係数!AK44-諸係数!$R49*投入係数!AK44","v":1.0434511506537049E-2},{"$f":"投入係数!AL44-諸係数!$R49*投入係数!AL44","v":2.2708388772145929E-3},{"$f":"投入係数!AM44-諸係数!$R49*投入係数!AM44","v":1.1226300794117568E-3},{"$f":"投入係数!AN44-諸係数!$R49*投入係数!AN44","v":1.2086005244845287E-2},{"$f":"投入係数!AO44-諸係数!$R49*投入係数!AO44","v":3.0875928166560615E-3},{"$f":"投入係数!AP44-諸係数!$R49*投入係数!AP44","v":3.2752005790276763E-3},{"$f":"投入係数!AQ44-諸係数!$R49*投入係数!AQ44","v":1.6960816419573348E-2},{"$f":"投入係数!AR44-諸係数!$R49*投入係数!AR44","v":0},{"$f":"投入係数!AS44-諸係数!$R49*投入係数!AS44","v":1.1613243124526113E-3},{"$f":"投入係数!AT44","v":4.5602039289605807E-7},{"$f":"投入係数!AU44","v":4.336176134658369E-7},{"$f":"投入係数!AV44","v":3.9249136825324574E-6},{"$f":"投入係数!AW44","v":7.4289104722147968E-7},{"$f":"投入係数!AX44","v":6.793986786228989E-7},{"$f":"投入係数!AY44","v":6.5570947493860302E-7},{"$f":"投入係数!AZ44","v":3.8079674230175936E-7},{"$f":"投入係数!BA44","v":4.1141507699740209E-7},{"$f":"投入係数!BB44","v":6.7610375842722719E-8},{"$f":"投入係数!BC44","v":3.5662190932225767E-7},{"$f":"投入係数!BD44","v":2.9442133988227529E-7},{"$f":"投入係数!BE44","v":2.4842475052869644E-7},{"$f":"投入係数!BF44","v":3.6939978277681679E-7},{"$f":"投入係数!BG44","v":3.7816405333794617E-7},{"$f":"投入係数!BH44","v":4.7825531192027338E-7},{"$f":"投入係数!BI44","v":5.4261664042695629E-7},{"$f":"投入係数!BJ44","v":4.3766044135595302E-7},{"$f":"投入係数!BK44","v":6.8007960016561089E-7},{"$f":"投入係数!BL44","v":5.0984485460341976E-7},{"$f":"投入係数!BM44","v":5.1585043914806825E-7},{"$f":"投入係数!BN44","v":3.9746406173175168E-7},{"$f":"投入係数!BO44","v":4.8093537452671263E-7},{"$f":"投入係数!BP44","v":1.0365639237352056E-6},{"$f":"投入係数!BQ44","v":3.2484231327375371E-7},{"$f":"投入係数!BR44","v":1.1145010632877943E-6},{"$f":"投入係数!BS44","v":1.9897298611502998E-7},{"$f":"投入係数!BT44","v":3.3442144120554687E-6},{"$f":"投入係数!BU44","v":8.0375623590313447E-7},{"$f":"投入係数!BV44","v":2.0837905231983771E-6},{"$f":"投入係数!BW44","v":2.7377764030525769E-6},{"$f":"投入係数!BX44","v":6.8875613996034104E-6},{"$f":"投入係数!BY44","v":1.9594102244808895E-6},{"$f":"投入係数!BZ44","v":5.4960189505754038E-6},{"$f":"投入係数!CA44","v":4.0819325449636895E-5},{"$f":"投入係数!CB44","v":1.0484343631364561E-5},{"$f":"投入係数!CC44","v":4.7589121756704394E-6},{"$f":"投入係数!CD44","v":5.4474622168001743E-5},{"$f":"投入係数!CE44","v":1.3129442748145952E-5},{"$f":"投入係数!CF44","v":1.2770279033134229E-5},{"$f":"投入係数!CG44","v":6.1546746100036919E-5},{"$f":"投入係数!CH44","v":0},{"$f":"投入係数!CI44","v":4.878239582491717E-6}]
[null,"41","事務用品",{"$f":"投入係数!D45-諸係数!$R50*投入係数!D45","v":6.9360172777840196E-4},{"$f":"投入係数!E45-諸係数!$R50*投入係数!E45","v":1.0035501130317617E-3},{"$f":"投入係数!F45-諸係数!$R50*投入係数!F45","v":1.1717109262288452E-3},{"$f":"投入係数!G45-諸係数!$R50*投入係数!G45","v":1.3526810885481832E-3},{"$f":"投入係数!H45-諸係数!$R50*投入係数!H45","v":5.5076338367399818E-4},{"$f":"投入係数!I45-諸係数!$R50*投入係数!I45","v":1.0408028142639308E-3},{"$f":"投入係数!J45-諸係数!$R50*投入係数!J45","v":9.1174020100128687E-4},{"$f":"投入係数!K45-諸係数!$R50*投入係数!K45","v":5.8903008942931025E-4},{"$f":"投入係数!L45-諸係数!$R50*投入係数!L45","v":6.6666122116659275E-5},{"$f":"投入係数!M45-諸係数!$R50*投入係数!M45","v":2.1861096092507917E-4},{"$f":"投入係数!N45-諸係数!$R50*投入係数!N45","v":1.1706497213039141E-3},{"$f":"投入係数!O45-諸係数!$R50*投入係数!O45","v":1.3078833780878622E-4},{"$f":"投入係数!P45-諸係数!$R50*投入係数!P45","v":2.894850110428734E-4},{"$f":"投入係数!Q45-諸係数!$R50*投入係数!Q45","v":4.0697040114396704E-4},{"$f":"投入係数!R45-諸係数!$R50*投入係数!R45","v":1.0852971841802976E-3},{"$f":"投入係数!S45-諸係数!$R50*投入係数!S45","v":1.074289683263778E-3},{"$f":"投入係数!T45-諸係数!$R50*投入係数!T45","v":1.3813732639406586E-3},{"$f":"投入係数!U45-諸係数!$R50*投入係数!U45","v":1.1280153213989971E-3},{"$f":"投入係数!V45-諸係数!$R50*投入係数!V45","v":8.5978039213851576E-4},{"$f":"投入係数!W45-諸係数!$R50*投入係数!W45","v":1.2652164974608188E-3},{"$f":"投入係数!X45-諸係数!$R50*投入係数!X45","v":1.9266023367339033E-4},{"$f":"投入係数!Y45-諸係数!$R50*投入係数!Y45","v":8.9270772376052207E-4},{"$f":"投入係数!Z45-諸係数!$R50*投入係数!Z45","v":8.2610062960140971E-4},{"$f":"投入係数!AA45-諸係数!$R50*投入係数!AA45","v":3.9543048094886625E-5},{"$f":"投入係数!AB45-諸係数!$R50*投入係数!AB45","v":8.960806249736032E-4},{"$f":"投入係数!AC45-諸係数!$R50*投入係数!AC45","v":3.3313526963109508E-3},{"$f":"投入係数!AD45-諸係数!$R50*投入係数!AD45","v":1.9150161044459624E-3},{"$f":"投入係数!AE45-諸係数!$R50*投入係数!AE45","v":3.2728763392243098E-3},{"$f":"投入係数!AF45-諸係数!$R50*投入係数!AF45","v":3.8639342747850351E-4},{"$f":"投入係数!AG45-諸係数!$R50*投入係数!AG45","v":2.1059117291197115E-3},{"$f":"投入係数!AH45-諸係数!$R50*投入係数!AH45","v":2.101522800558463E-3},{"$f":"投入係数!AI45-諸係数!$R50*投入係数!AI45","v":2.8887787236864344E-3},{"$f":"投入係数!AJ45-諸係数!$R50*投入係数!AJ45","v":3.2958090971434112E-3},{"$f":"投入係数!AK45-諸係数!$R50*投入係数!AK45","v":2.3048126013425576E-3},{"$f":"投入係数!AL45-諸係数!$R50*投入係数!AL45","v":4.6600142307436469E-3},{"$f":"投入係数!AM45-諸係数!$R50*投入係数!AM45","v":1.5468915494074012E-3},{"$f":"投入係数!AN45-諸係数!$R50*投入係数!AN45","v":2.0609572097879123E-3},{"$f":"投入係数!AO45-諸係数!$R50*投入係数!AO45","v":8.7406965038259467E-4},{"$f":"投入係数!AP45-諸係数!$R50*投入係数!AP45","v":2.1593009942938823E-3},{"$f":"投入係数!AQ45-諸係数!$R50*投入係数!AQ45","v":3.2383399654600481E-3},{"$f":"投入係数!AR45-諸係数!$R50*投入係数!AR45","v":0},{"$f":"投入係数!AS45-諸係数!$R50*投入係数!AS45","v":2.0166000828153517E-4},{"$f":"投入係数!AT45","v":0},{"$f":"投入係数!AU45","v":0},{"$f":"投入係数!AV45","v":0},{"$f":"投入係数!AW45","v":0},{"$f":"投入係数!AX45","v":0},{"$f":"投入係数!AY45","v":0},{"$f":"投入係数!AZ45","v":0},{"$f":"投入係数!BA45","v":0},{"$f":"投入係数!BB45","v":0},{"$f":"投入係数!BC45","v":0},{"$f":"投入係数!BD45","v":0},{"$f":"投入係数!BE45","v":0},{"$f":"投入係数!BF45","v":0},{"$f":"投入係数!BG45","v":0},{"$f":"投入係数!BH45","v":0},{"$f":"投入係数!BI45","v":0},{"$f":"投入係数!BJ45","v":0},{"$f":"投入係数!BK45","v":0},{"$f":"投入係数!BL45","v":0},{"$f":"投入係数!BM45","v":0},{"$f":"投入係数!BN45","v":0},{"$f":"投入係数!BO45","v":0},{"$f":"投入係数!BP45","v":0},{"$f":"投入係数!BQ45","v":0},{"$f":"投入係数!BR45","v":0},{"$f":"投入係数!BS45","v":0},{"$f":"投入係数!BT45","v":0},{"$f":"投入係数!BU45","v":0},{"$f":"投入係数!BV45","v":0},{"$f":"投入係数!BW45","v":0},{"$f":"投入係数!BX45","v":0},{"$f":"投入係数!BY45","v":0},{"$f":"投入係数!BZ45","v":0},{"$f":"投入係数!CA45","v":0},{"$f":"投入係数!CB45","v":0},{"$f":"投入係数!CC45","v":0},{"$f":"投入係数!CD45","v":0},{"$f":"投入係数!CE45","v":0},{"$f":"投入係数!CF45","v":0},{"$f":"投入係数!CG45","v":0},{"$f":"投入係数!CH45","v":0},{"$f":"投入係数!CI45","v":0}]
[null,"42","分類不明",{"$f":"投入係数!D46-諸係数!$R51*投入係数!D46","v":3.8211617597201392E-3},{"$f":"投入係数!E46-諸係数!$R51*投入係数!E46","v":1.4877664657526833E-3},{"$f":"投入係数!F46-諸係数!$R51*投入係数!F46","v":7.1556753893982162E-3},{"$f":"投入係数!G46-諸係数!$R51*投入係数!G46","v":1.3495263735749158E-2},{"$f":"投入係数!H46-諸係数!$R51*投入係数!H46","v":6.7172325337305225E-3},{"$f":"投入係数!I46-諸係数!$R51*投入係数!I46","v":3.0642500726548736E-3},{"$f":"投入係数!J46-諸係数!$R51*投入係数!J46","v":2.7279973188242697E-3},{"$f":"投入係数!K46-諸係数!$R51*投入係数!K46","v":1.5563756237053782E-3},{"$f":"投入係数!L46-諸係数!$R51*投入係数!L46","v":6.6382078908868076E-4},{"$f":"投入係数!M46-諸係数!$R51*投入係数!M46","v":2.9910438826934072E-3},{"$f":"投入係数!N46-諸係数!$R51*投入係数!N46","v":6.7923559982617024E-3},{"$f":"投入係数!O46-諸係数!$R51*投入係数!O46","v":2.8288623627561555E-3},{"$f":"投入係数!P46-諸係数!$R51*投入係数!P46","v":3.435622468376115E-3},{"$f":"投入係数!Q46-諸係数!$R51*投入係数!Q46","v":3.5768113233299297E-3},{"$f":"投入係数!R46-諸係数!$R51*投入係数!R46","v":7.76422878302724E-3},{"$f":"投入係数!S46-諸係数!$R51*投入係数!S46","v":6.2332508038745087E-3},{"$f":"投入係数!T46-諸係数!$R51*投入係数!T46","v":2.3339479876129622E-3},{"$f":"投入係数!U46-諸係数!$R51*投入係数!U46","v":9.7490845089208314E-4},{"$f":"投入係数!V46-諸係数!$R51*投入係数!V46","v":1.4564866382533576E-3},{"$f":"投入係数!W46-諸係数!$R51*投入係数!W46","v":2.8131796566054183E-3},{"$f":"投入係数!X46-諸係数!$R51*投入係数!X46","v":6.2850044627386361E-4},{"$f":"投入係数!Y46-諸係数!$R51*投入係数!Y46","v":1.9095411261741623E-3},{"$f":"投入係数!Z46-諸係数!$R51*投入係数!Z46","v":1.2952151624104451E-2},{"$f":"投入係数!AA46-諸係数!$R51*投入係数!AA46","v":2.533854769910659E-3},{"$f":"投入係数!AB46-諸係数!$R51*投入係数!AB46","v":8.241720147498988E-3},{"$f":"投入係数!AC46-諸係数!$R51*投入係数!AC46","v":2.0745526509883209E-2},{"$f":"投入係数!AD46-諸係数!$R51*投入係数!AD46","v":6.1993548871096833E-3},{"$f":"投入係数!AE46-諸係数!$R51*投入係数!AE46","v":4.2068288066588631E-3},{"$f":"投入係数!AF46-諸係数!$R51*投入係数!AF46","v":1.9329036706472759E-3},{"$f":"投入係数!AG46-諸係数!$R51*投入係数!AG46","v":7.8649025345079362E-3},{"$f":"投入係数!AH46-諸係数!$R51*投入係数!AH46","v":3.0957703918989485E-3},{"$f":"投入係数!AI46-諸係数!$R51*投入係数!AI46","v":1.0097292899350573E-3},{"$f":"投入係数!AJ46-諸係数!$R51*投入係数!AJ46","v":1.0424775558251557E-2},{"$f":"投入係数!AK46-諸係数!$R51*投入係数!AK46","v":3.7309402558189631E-3},{"$f":"投入係数!AL46-諸係数!$R51*投入係数!AL46","v":4.4641018507435466E-3},{"$f":"投入係数!AM46-諸係数!$R51*投入係数!AM46","v":3.5669223291776831E-3},{"$f":"投入係数!AN46-諸係数!$R51*投入係数!AN46","v":1.6386694647782779E-3},{"$f":"投入係数!AO46-諸係数!$R51*投入係数!AO46","v":1.5217327720564253E-3},{"$f":"投入係数!AP46-諸係数!$R51*投入係数!AP46","v":1.1894401466527585E-3},{"$f":"投入係数!AQ46-諸係数!$R51*投入係数!AQ46","v":7.6460623123046929E-3},{"$f":"投入係数!AR46-諸係数!$R51*投入係数!AR46","v":4.9422694607772219E-4},{"$f":"投入係数!AS46-諸係数!$R51*投入係数!AS46","v":0},{"$f":"投入係数!AT46","v":4.1325017189210233E-6},{"$f":"投入係数!AU46","v":4.1703811648037841E-6},{"$f":"投入係数!AV46","v":1.0472818460220751E-5},{"$f":"投入係数!AW46","v":1.5308426989465574E-5},{"$f":"投入係数!AX46","v":7.4644066276894701E-6},{"$f":"投入係数!AY46","v":3.3379003875107334E-6},{"$f":"投入係数!AZ46","v":3.7611132377231937E-6},{"$f":"投入係数!BA46","v":1.7610749800322421E-6},{"$f":"投入係数!BB46","v":4.3677499438219103E-7},{"$f":"投入係数!BC46","v":2.710178534953174E-6},{"$f":"投入係数!BD46","v":9.7791133173327468E-6},{"$f":"投入係数!BE46","v":4.4221960331079807E-6},{"$f":"投入係数!BF46","v":6.2107496188363873E-6},{"$f":"投入係数!BG46","v":4.7195926749531619E-6},{"$f":"投入係数!BH46","v":9.0907234391323227E-6},{"$f":"投入係数!BI46","v":7.2226674435209711E-6},{"$f":"投入係数!BJ46","v":3.1392322022840619E-6},{"$f":"投入係数!BK46","v":8.7686538247517248E-7},{"$f":"投入係数!BL46","v":2.9792673242912871E-6},{"$f":"投入係数!BM46","v":1.6797265189341012E-6},{"$f":"投入係数!BN46","v":2.1278495096756686E-6},{"$f":"投入係数!BO46","v":2.4855237674893471E-6},{"$f":"投入係数!BP46","v":1.7545628658595276E-5},{"$f":"投入係数!BQ46","v":3.5728473735360348E-6},{"$f":"投入係数!BR46","v":1.1314359870420646E-5},{"$f":"投入係数!BS46","v":2.6543843041302938E-5},{"$f":"投入係数!BT46","v":8.5720475444935991E-6},{"$f":"投入係数!BU46","v":5.8704102979071834E-6},{"$f":"投入係数!BV46","v":2.1673215051304608E-6},{"$f":"投入係数!BW46","v":1.0389782750602243E-5},{"$f":"投入係数!BX46","v":3.3002855265921948E-6},{"$f":"投入係数!BY46","v":1.1708543818801277E-6},{"$f":"投入係数!BZ46","v":1.2129521947696615E-5},{"$f":"投入係数!CA46","v":4.9091146467261022E-6},{"$f":"投入係数!CB46","v":5.7710695078002252E-6},{"$f":"投入係数!CC46","v":3.8017513422253197E-6},{"$f":"投入係数!CD46","v":2.2682556450842428E-6},{"$f":"投入係数!CE46","v":2.0374772237499406E-6},{"$f":"投入係数!CF46","v":1.4313295681189762E-6},{"$f":"投入係数!CG46","v":8.685293699463542E-6},{"$f":"投入係数!CH46","v":6.2349845364944022E-7},{"$f":"投入係数!CI46","v":0}]
["県外","01","農業",{"$f":"投入係数!D47","v":4.8050635535313101E-2},{"$f":"投入係数!E47","v":2.6350198498599326E-3},{"$f":"投入係数!F47","v":0},{"$f":"投入係数!G47","v":0},{"$f":"投入係数!H47","v":7.2169681255856682E-2},{"$f":"投入係数!I47","v":2.7255239961477755E-3},{"$f":"投入係数!J47","v":1.6412253490742186E-5},{"$f":"投入係数!K47","v":5.6082869277039723E-4},{"$f":"投入係数!L47","v":0},{"$f":"投入係数!M47","v":2.2588900771296709E-2},{"$f":"投入係数!N47","v":5.1066590666907917E-5},{"$f":"投入係数!O47","v":0},{"$f":"投入係数!P47","v":2.9093970959082757E-6},{"$f":"投入係数!Q47","v":0},{"$f":"投入係数!R47","v":0},{"$f":"投入係数!S47","v":0},{"$f":"投入係数!T47","v":0},{"$f":"投入係数!U47","v":0},{"$f":"投入係数!V47","v":0},{"$f":"投入係数!W47","v":0},{"$f":"投入係数!X47","v":0},{"$f":"投入係数!Y47","v":1.1885004322304263E-3},{"$f":"投入係数!Z47","v":4.4391850359590891E-4},{"$f":"投入係数!AA47","v":0},{"$f":"投入係数!AB47","v":0},{"$f":"投入係数!AC47","v":0},{"$f":"投入係数!AD47","v":4.8084418267217373E-5},{"$f":"投入係数!AE47","v":0},{"$f":"投入係数!AF47","v":8.9712282313006207E-7},{"$f":"投入係数!AG47","v":1.6606328582664309E-5},{"$f":"投入係数!AH47","v":0},{"$f":"投入係数!AI47","v":2.0108599574724767E-5},{"$f":"投入係数!AJ47","v":1.0822891532446424E-3},{"$f":"投入係数!AK47","v":1.1327716715671262E-3},{"$f":"投入係数!AL47","v":8.475330018201646E-4},{"$f":"投入係数!AM47","v":6.1891824087772295E-6},{"$f":"投入係数!AN47","v":5.6782561791550333E-3},{"$f":"投入係数!AO47","v":1.4244348854929666E-2},{"$f":"投入係数!AP47","v":2.1064192726223505E-3},{"$f":"投入係数!AQ47","v":1.985165226861037E-3},{"$f":"投入係数!AR47","v":0},{"$f":"投入係数!AS47","v":0},{"$f":"投入係数!AT47-諸係数!$R52*投入係数!AT47","v":0.10786355378978979},{"$f":"投入係数!AU47-諸係数!$R52*投入係数!AU47","v":1.8015092519512259E-3},{"$f":"投入係数!AV47-諸係数!$R52*投入係数!AV47","v":0},{"$f":"投入係数!AW47-諸係数!$R52*投入係数!AW47","v":0},{"$f":"投入係数!AX47-諸係数!$R52*投入係数!AX47","v":0.13492144857571037},{"$f":"投入係数!AY47-諸係数!$R52*投入係数!AY47","v":6.6089479457127932E-3},{"$f":"投入係数!AZ47-諸係数!$R52*投入係数!AZ47","v":2.2769254482079394E-4},{"$f":"投入係数!BA47-諸係数!$R52*投入係数!BA47","v":9.9873985092042744E-4},{"$f":"投入係数!BB47-諸係数!$R52*投入係数!BB47","v":0},{"$f":"投入係数!BC47-諸係数!$R52*投入係数!BC47","v":7.9412108256386865E-3},{"$f":"投入係数!BD47-諸係数!$R52*投入係数!BD47","v":1.1905828433590356E-4},{"$f":"投入係数!BE47-諸係数!$R52*投入係数!BE47","v":0},{"$f":"投入係数!BF47-諸係数!$R52*投入係数!BF47","v":1.0680128987369552E-5},{"$f":"投入係数!BG47-諸係数!$R52*投入係数!BG47","v":0},{"$f":"投入係数!BH47-諸係数!$R52*投入係数!BH47","v":0},{"$f":"投入係数!BI47-諸係数!$R52*投入係数!BI47","v":0},{"$f":"投入係数!BJ47-諸係数!$R52*投入係数!BJ47","v":0},{"$f":"投入係数!BK47-諸係数!$R52*投入係数!BK47","v":0},{"$f":"投入係数!BL47-諸係数!$R52*投入係数!BL47","v":0},{"$f":"投入係数!BM47-諸係数!$R52*投入係数!BM47","v":0},{"$f":"投入係数!BN47-諸係数!$R52*投入係数!BN47","v":0},{"$f":"投入係数!BO47-諸係数!$R52*投入係数!BO47","v":1.5663412757288776E-3},{"$f":"投入係数!BP47-諸係数!$R52*投入係数!BP47","v":8.1013390911598745E-4},{"$f":"投入係数!BQ47-諸係数!$R52*投入係数!BQ47","v":0},{"$f":"投入係数!BR47-諸係数!$R52*投入係数!BR47","v":0},{"$f":"投入係数!BS47-諸係数!$R52*投入係数!BS47","v":0},{"$f":"投入係数!BT47-諸係数!$R52*投入係数!BT47","v":9.6309690869935061E-5},{"$f":"投入係数!BU47-諸係数!$R52*投入係数!BU47","v":0},{"$f":"投入係数!BV47-諸係数!$R52*投入係数!BV47","v":1.8152408690939725E-6},{"$f":"投入係数!BW47-諸係数!$R52*投入係数!BW47","v":3.0196386072981222E-5},{"$f":"投入係数!BX47-諸係数!$R52*投入係数!BX47","v":0},{"$f":"投入係数!BY47-諸係数!$R52*投入係数!BY47","v":2.6577387116855675E-5},{"$f":"投入係数!BZ47-諸係数!$R52*投入係数!BZ47","v":1.6231325414585765E-3},{"$f":"投入係数!CA47-諸係数!$R52*投入係数!CA47","v":1.8316089918046946E-3},{"$f":"投入係数!CB47-諸係数!$R52*投入係数!CB47","v":1.6824885683874059E-3},{"$f":"投入係数!CC47-諸係数!$R52*投入係数!CC47","v":9.2816399071956589E-6},{"$f":"投入係数!CD47-諸係数!$R52*投入係数!CD47","v":1.0390870775000845E-2},{"$f":"投入係数!CE47-諸係数!$R52*投入係数!CE47","v":2.3527220295648552E-2},{"$f":"投入係数!CF47-諸係数!$R52*投入係数!CF47","v":3.3740185110386982E-3},{"$f":"投入係数!CG47-諸係数!$R52*投入係数!CG47","v":2.8076166798828442E-3},{"$f":"投入係数!CH47-諸係数!$R52*投入係数!CH47","v":0},{"$f":"投入係数!CI47-諸係数!$R52*投入係数!CI47","v":0}]
[null,"02","林業",{"$f":"投入係数!D48","v":1.0059412754283669E-4},{"$f":"投入係数!E48","v":5.4980343250268952E-2},{"$f":"投入係数!F48","v":1.2816097801501147E-4},{"$f":"投入係数!G48","v":2.9479118895256958E-5},{"$f":"投入係数!H48","v":1.4744638179536065E-4},{"$f":"投入係数!I48","v":1.4629758433428749E-6},{"$f":"投入係数!J48","v":1.3627935608173951E-2},{"$f":"投入係数!K48","v":6.2838259571794421E-5},{"$f":"投入係数!L48","v":0},{"$f":"投入係数!M48","v":0},{"$f":"投入係数!N48","v":6.6928690258070667E-8},{"$f":"投入係数!O48","v":2.1480326472393546E-8},{"$f":"投入係数!P48","v":0},{"$f":"投入係数!Q48","v":0},{"$f":"投入係数!R48","v":0},{"$f":"投入係数!S48","v":0},{"$f":"投入係数!T48","v":0},{"$f":"投入係数!U48","v":0},{"$f":"投入係数!V48","v":0},{"$f":"投入係数!W48","v":0},{"$f":"投入係数!X48","v":9.5341740790500302E-9},{"$f":"投入係数!Y48","v":9.0994009176147137E-5},{"$f":"投入係数!Z48","v":1.6627329068341283E-5},{"$f":"投入係数!AA48","v":0},{"$f":"投入係数!AB48","v":0},{"$f":"投入係数!AC48","v":0},{"$f":"投入係数!AD48","v":0},{"$f":"投入係数!AE48","v":0},{"$f":"投入係数!AF48","v":0},{"$f":"投入係数!AG48","v":0},{"$f":"投入係数!AH48","v":0},{"$f":"投入係数!AI48","v":2.6050116004376181E-6},{"$f":"投入係数!AJ48","v":3.1037558445655632E-5},{"$f":"投入係数!AK48","v":3.0859646725899305E-5},{"$f":"投入係数!AL48","v":0},{"$f":"投入係数!AM48","v":0},{"$f":"投入係数!AN48","v":4.9935611741747956E-4},{"$f":"投入係数!AO48","v":9.7259055943866798E-4},{"$f":"投入係数!AP48","v":0},{"$f":"投入係数!AQ48","v":4.669255755746006E-5},{"$f":"投入係数!AR48","v":0},{"$f":"投入係数!AS48","v":0},{"$f":"投入係数!AT48-諸係数!$R53*投入係数!AT48","v":1.2727907070278011E-4},{"$f":"投入係数!AU48-諸係数!$R53*投入係数!AU48","v":0.10560762131595369},{"$f":"投入係数!AV48-諸係数!$R53*投入係数!AV48","v":1.2875319582267438E-4},{"$f":"投入係数!AW48-諸係数!$R53*投入係数!AW48","v":6.2051199724336427E-5},{"$f":"投入係数!AX48-諸係数!$R53*投入係数!AX48","v":3.01886641316479E-4},{"$f":"投入係数!AY48-諸係数!$R53*投入係数!AY48","v":7.2264027665946172E-6},{"$f":"投入係数!AZ48-諸係数!$R53*投入係数!AZ48","v":2.495180036742816E-2},{"$f":"投入係数!BA48-諸係数!$R53*投入係数!BA48","v":1.733269783903618E-4},{"$f":"投入係数!BB48-諸係数!$R53*投入係数!BB48","v":0},{"$f":"投入係数!BC48-諸係数!$R53*投入係数!BC48","v":0},{"$f":"投入係数!BD48-諸係数!$R53*投入係数!BD48","v":1.3286233867851428E-7},{"$f":"投入係数!BE48-諸係数!$R53*投入係数!BE48","v":6.2364181317288837E-8},{"$f":"投入係数!BF48-諸係数!$R53*投入係数!BF48","v":0},{"$f":"投入係数!BG48-諸係数!$R53*投入係数!BG48","v":0},{"$f":"投入係数!BH48-諸係数!$R53*投入係数!BH48","v":0},{"$f":"投入係数!BI48-諸係数!$R53*投入係数!BI48","v":0},{"$f":"投入係数!BJ48-諸係数!$R53*投入係数!BJ48","v":0},{"$f":"投入係数!BK48-諸係数!$R53*投入係数!BK48","v":0},{"$f":"投入係数!BL48-諸係数!$R53*投入係数!BL48","v":0},{"$f":"投入係数!BM48-諸係数!$R53*投入係数!BM48","v":0},{"$f":"投入係数!BN48-諸係数!$R53*投入係数!BN48","v":2.2117677378394299E-7},{"$f":"投入係数!BO48-諸係数!$R53*投入係数!BO48","v":2.3968570480996013E-4},{"$f":"投入係数!BP48-諸係数!$R53*投入係数!BP48","v":3.2986107908631987E-5},{"$f":"投入係数!BQ48-諸係数!$R53*投入係数!BQ48","v":0},{"$f":"投入係数!BR48-諸係数!$R53*投入係数!BR48","v":0},{"$f":"投入係数!BS48-諸係数!$R53*投入係数!BS48","v":0},{"$f":"投入係数!BT48-諸係数!$R53*投入係数!BT48","v":0},{"$f":"投入係数!BU48-諸係数!$R53*投入係数!BU48","v":0},{"$f":"投入係数!BV48-諸係数!$R53*投入係数!BV48","v":0},{"$f":"投入係数!BW48-諸係数!$R53*投入係数!BW48","v":0},{"$f":"投入係数!BX48-諸係数!$R53*投入係数!BX48","v":0},{"$f":"投入係数!BY48-諸係数!$R53*投入係数!BY48","v":3.2438480896652949E-6},{"$f":"投入係数!BZ48-諸係数!$R53*投入係数!BZ48","v":3.7286990444404655E-5},{"$f":"投入係数!CA48-諸係数!$R53*投入係数!CA48","v":5.0485654402663272E-5},{"$f":"投入係数!CB48-諸係数!$R53*投入係数!CB48","v":0},{"$f":"投入係数!CC48-諸係数!$R53*投入係数!CC48","v":0},{"$f":"投入係数!CD48-諸係数!$R53*投入係数!CD48","v":8.6006619638000518E-4},{"$f":"投入係数!CE48-諸係数!$R53*投入係数!CE48","v":1.5525712712421845E-3},{"$f":"投入係数!CF48-諸係数!$R53*投入係数!CF48","v":0},{"$f":"投入係数!CG48-諸係数!$R53*投入係数!CG48","v":5.9806209074405639E-5},{"$f":"投入係数!CH48-諸係数!$R53*投入係数!CH48","v":0},{"$f":"投入係数!CI48-諸係数!$R53*投入係数!CI48","v":0}]
[null,"03","漁業",{"$f":"投入係数!D49","v":0},{"$f":"投入係数!E49","v":0},{"$f":"投入係数!F49","v":2.6974461723892333E-2},{"$f":"投入係数!G49","v":0},{"$f":"投入係数!H49","v":1.0196275082868515E-2},{"$f":"投入係数!I49","v":2.089965490489821E-7},{"$f":"投入係数!J49","v":0},{"$f":"投入係数!K49","v":1.899202253685488E-5},{"$f":"投入係数!L49","v":0},{"$f":"投入係数!M49","v":0},{"$f":"投入係数!N49","v":0},{"$f":"投入係数!O49","v":0},{"$f":"投入係数!P49","v":0},{"$f":"投入係数!Q49","v":0},{"$f":"投入係数!R49","v":0},{"$f":"投入係数!S49","v":0},{"$f":"投入係数!T49","v":0},{"$f":"投入係数!U49","v":0},{"$f":"投入係数!V49","v":0},{"$f":"投入係数!W49","v":0},{"$f":"投入係数!X49","v":0},{"$f":"投入係数!Y49","v":1.1391128208462622E-4},{"$f":"投入係数!Z49","v":0},{"$f":"投入係数!AA49","v":0},{"$f":"投入係数!AB49","v":0},{"$f":"投入係数!AC49","v":0},{"$f":"投入係数!AD49","v":0},{"$f":"投入係数!AE49","v":0},{"$f":"投入係数!AF49","v":0},{"$f":"投入係数!AG49","v":2.0510858101307143E-6},{"$f":"投入係数!AH49","v":0},{"$f":"投入係数!AI49","v":4.5009226219595521E-6},{"$f":"投入係数!AJ49","v":3.6846352474475238E-5},{"$f":"投入係数!AK49","v":3.1397435889158806E-4},{"$f":"投入係数!AL49","v":0},{"$f":"投入係数!AM49","v":0},{"$f":"投入係数!AN49","v":2.0483348110889735E-3},{"$f":"投入係数!AO49","v":3.7759863443492594E-3},{"$f":"投入係数!AP49","v":1.2638851392697098E-5},{"$f":"投入係数!AQ49","v":1.8091798487796521E-4},{"$f":"投入係数!AR49","v":0},{"$f":"投入係数!AS49","v":0},{"$f":"投入係数!AT49-諸係数!$R54*投入係数!AT49","v":0},{"$f":"投入係数!AU49-諸係数!$R54*投入係数!AU49","v":0},{"$f":"投入係数!AV49-諸係数!$R54*投入係数!AV49","v":3.4128294839141239E-2},{"$f":"投入係数!AW49-諸係数!$R54*投入係数!AW49","v":0},{"$f":"投入係数!AX49-諸係数!$R54*投入係数!AX49","v":2.429071413226408E-2},{"$f":"投入係数!AY49-諸係数!$R54*投入係数!AY49","v":7.2173972316727122E-7},{"$f":"投入係数!AZ49-諸係数!$R54*投入係数!AZ49","v":0},{"$f":"投入係数!BA49-諸係数!$R54*投入係数!BA49","v":3.1251011180670941E-5},{"$f":"投入係数!BB49-諸係数!$R54*投入係数!BB49","v":0},{"$f":"投入係数!BC49-諸係数!$R54*投入係数!BC49","v":0},{"$f":"投入係数!BD49-諸係数!$R54*投入係数!BD49","v":0},{"$f":"投入係数!BE49-諸係数!$R54*投入係数!BE49","v":0},{"$f":"投入係数!BF49-諸係数!$R54*投入係数!BF49","v":0},{"$f":"投入係数!BG49-諸係数!$R54*投入係数!BG49","v":0},{"$f":"投入係数!BH49-諸係数!$R54*投入係数!BH49","v":0},{"$f":"投入係数!BI49-諸係数!$R54*投入係数!BI49","v":0},{"$f":"投入係数!BJ49-諸係数!$R54*投入係数!BJ49","v":0},{"$f":"投入係数!BK49-諸係数!$R54*投入係数!BK49","v":0},{"$f":"投入係数!BL49-諸係数!$R54*投入係数!BL49","v":0},{"$f":"投入係数!BM49-諸係数!$R54*投入係数!BM49","v":0},{"$f":"投入係数!BN49-諸係数!$R54*投入係数!BN49","v":0},{"$f":"投入係数!BO49-諸係数!$R54*投入係数!BO49","v":4.2307995900598659E-3},{"$f":"投入係数!BP49-諸係数!$R54*投入係数!BP49","v":0},{"$f":"投入係数!BQ49-諸係数!$R54*投入係数!BQ49","v":0},{"$f":"投入係数!BR49-諸係数!$R54*投入係数!BR49","v":0},{"$f":"投入係数!BS49-諸係数!$R54*投入係数!BS49","v":0},{"$f":"投入係数!BT49-諸係数!$R54*投入係数!BT49","v":0},{"$f":"投入係数!BU49-諸係数!$R54*投入係数!BU49","v":0},{"$f":"投入係数!BV49-諸係数!$R54*投入係数!BV49","v":0},{"$f":"投入係数!BW49-諸係数!$R54*投入係数!BW49","v":3.2983634737944623E-6},{"$f":"投入係数!BX49-諸係数!$R54*投入係数!BX49","v":0},{"$f":"投入係数!BY49-諸係数!$R54*投入係数!BY49","v":5.2549940442401538E-6},{"$f":"投入係数!BZ49-諸係数!$R54*投入係数!BZ49","v":4.1601625452319585E-5},{"$f":"投入係数!CA49-諸係数!$R54*投入係数!CA49","v":4.5782332597345938E-4},{"$f":"投入係数!CB49-諸係数!$R54*投入係数!CB49","v":0},{"$f":"投入係数!CC49-諸係数!$R54*投入係数!CC49","v":0},{"$f":"投入係数!CD49-諸係数!$R54*投入係数!CD49","v":3.31351977809976E-3},{"$f":"投入係数!CE49-諸係数!$R54*投入係数!CE49","v":5.6522091838073999E-3},{"$f":"投入係数!CF49-諸係数!$R54*投入係数!CF49","v":2.5147378109882087E-5},{"$f":"投入係数!CG49-諸係数!$R54*投入係数!CG49","v":2.1759673290427443E-4},{"$f":"投入係数!CH49-諸係数!$R54*投入係数!CH49","v":0},{"$f":"投入係数!CI49-諸係数!$R54*投入係数!CI49","v":0}]
[null,"04","鉱業",{"$f":"投入係数!D50","v":1.6056524747459969E-7},{"$f":"投入係数!E50","v":1.2458722694373205E-5},{"$f":"投入係数!F50","v":0},{"$f":"投入係数!G50","v":1.186627823885027E-4},{"$f":"投入係数!H50","v":7.5146759006265059E-6},{"$f":"投入係数!I50","v":5.2249137262245524E-6},{"$f":"投入係数!J50","v":3.6079061498062141E-5},{"$f":"投入係数!K50","v":3.9997902185942959E-4},{"$f":"投入係数!L50","v":1.9661720584955616E-2},{"$f":"投入係数!M50","v":8.9990663986990743E-6},{"$f":"投入係数!N50","v":3.2895785905293026E-3},{"$f":"投入係数!O50","v":1.3003974843122329E-3},{"$f":"投入係数!P50","v":2.0710628797725879E-3},{"$f":"投入係数!Q50","v":7.3577234803291701E-6},{"$f":"投入係数!R50","v":1.3142934984374597E-6},{"$f":"投入係数!S50","v":1.5009800516808034E-6},{"$f":"投入係数!T50","v":5.8089708323829206E-6},{"$f":"投入係数!U50","v":5.1661467605566817E-6},{"$f":"投入係数!V50","v":3.0337020170682652E-6},{"$f":"投入係数!W50","v":1.0935319770620732E-6},{"$f":"投入係数!X50","v":2.2373528505504073E-6},{"$f":"投入係数!Y50","v":9.7353996541445993E-6},{"$f":"投入係数!Z50","v":1.8232223413685412E-4},{"$f":"投入係数!AA50","v":9.331235512809434E-3},{"$f":"投入係数!AB50","v":0},{"$f":"投入係数!AC50","v":5.6268097226770558E-8},{"$f":"投入係数!AD50","v":7.6923530697943115E-8},{"$f":"投入係数!AE50","v":3.0075778932598574E-8},{"$f":"投入係数!AF50","v":3.3782867816613214E-8},{"$f":"投入係数!AG50","v":2.1081824172649741E-7},{"$f":"投入係数!AH50","v":1.2155400030993839E-8},{"$f":"投入係数!AI50","v":4.3292456396957545E-7},{"$f":"投入係数!AJ50","v":7.3883783699898489E-7},{"$f":"投入係数!AK50","v":2.9951129141927505E-7},{"$f":"投入係数!AL50","v":2.0156860689888715E-6},{"$f":"投入係数!AM50","v":3.0964793015236898E-7},{"$f":"投入係数!AN50","v":2.5244797397878478E-6},{"$f":"投入係数!AO50","v":2.7273482252304162E-8},{"$f":"投入係数!AP50","v":1.0552361694092453E-6},{"$f":"投入係数!AQ50","v":3.2605366960446595E-6},{"$f":"投入係数!AR50","v":0},{"$f":"投入係数!AS50","v":6.7085061544760769E-6},{"$f":"投入係数!AT50-諸係数!$R55*投入係数!AT50","v":3.4131089107159316E-7},{"$f":"投入係数!AU50-諸係数!$R55*投入係数!AU50","v":1.4483752712128497E-5},{"$f":"投入係数!AV50-諸係数!$R55*投入係数!AV50","v":0},{"$f":"投入係数!AW50-諸係数!$R55*投入係数!AW50","v":6.2886043312472377E-5},{"$f":"投入係数!AX50-諸係数!$R55*投入係数!AX50","v":1.0695488665662099E-5},{"$f":"投入係数!AY50-諸係数!$R55*投入係数!AY50","v":1.3774725207973352E-5},{"$f":"投入係数!AZ50-諸係数!$R55*投入係数!AZ50","v":1.6701102682791565E-4},{"$f":"投入係数!BA50-諸係数!$R55*投入係数!BA50","v":1.8314458958859896E-4},{"$f":"投入係数!BB50-諸係数!$R55*投入係数!BB50","v":2.1568797511696047E-2},{"$f":"投入係数!BC50-諸係数!$R55*投入係数!BC50","v":4.1057606329405463E-6},{"$f":"投入係数!BD50-諸係数!$R55*投入係数!BD50","v":2.3044310224065029E-3},{"$f":"投入係数!BE50-諸係数!$R55*投入係数!BE50","v":1.8734499663983079E-3},{"$f":"投入係数!BF50-諸係数!$R55*投入係数!BF50","v":5.3387690328692561E-3},{"$f":"投入係数!BG50-諸係数!$R55*投入係数!BG50","v":9.4870514694732951E-6},{"$f":"投入係数!BH50-諸係数!$R55*投入係数!BH50","v":2.2426287558439427E-6},{"$f":"投入係数!BI50-諸係数!$R55*投入係数!BI50","v":2.088579737985236E-6},{"$f":"投入係数!BJ50-諸係数!$R55*投入係数!BJ50","v":1.9870087980898945E-6},{"$f":"投入係数!BK50-諸係数!$R55*投入係数!BK50","v":6.1735110620962847E-6},{"$f":"投入係数!BL50-諸係数!$R55*投入係数!BL50","v":1.6868118365304254E-6},{"$f":"投入係数!BM50-諸係数!$R55*投入係数!BM50","v":1.1036974690342347E-6},{"$f":"投入係数!BN50-諸係数!$R55*投入係数!BN50","v":4.0421413852856673E-6},{"$f":"投入係数!BO50-諸係数!$R55*投入係数!BO50","v":1.6902708075985711E-5},{"$f":"投入係数!BP50-諸係数!$R55*投入係数!BP50","v":2.3134680399280929E-4},{"$f":"投入係数!BQ50-諸係数!$R55*投入係数!BQ50","v":1.1429031229665987E-2},{"$f":"投入係数!BR50-諸係数!$R55*投入係数!BR50","v":0},{"$f":"投入係数!BS50-諸係数!$R55*投入係数!BS50","v":8.2901760967274899E-8},{"$f":"投入係数!BT50-諸係数!$R55*投入係数!BT50","v":1.0257943082059218E-7},{"$f":"投入係数!BU50-諸係数!$R55*投入係数!BU50","v":4.3918442701222894E-8},{"$f":"投入係数!BV50-諸係数!$R55*投入係数!BV50","v":3.5492537790867728E-8},{"$f":"投入係数!BW50-諸係数!$R55*投入係数!BW50","v":3.0079001676062027E-7},{"$f":"投入係数!BX50-諸係数!$R55*投入係数!BX50","v":1.2622039270484197E-8},{"$f":"投入係数!BY50-諸係数!$R55*投入係数!BY50","v":4.0708063182927535E-7},{"$f":"投入係数!BZ50-諸係数!$R55*投入係数!BZ50","v":1.4859864064374034E-6},{"$f":"投入係数!CA50-諸係数!$R55*投入係数!CA50","v":3.3215082258994287E-7},{"$f":"投入係数!CB50-諸係数!$R55*投入係数!CB50","v":2.3476032014678157E-6},{"$f":"投入係数!CC50-諸係数!$R55*投入係数!CC50","v":3.2229739233503301E-7},{"$f":"投入係数!CD50-諸係数!$R55*投入係数!CD50","v":1.4571595194114297E-6},{"$f":"投入係数!CE50-諸係数!$R55*投入係数!CE50","v":-1.0323529545151187E-6},{"$f":"投入係数!CF50-諸係数!$R55*投入係数!CF50","v":1.676409651501979E-6},{"$f":"投入係数!CG50-諸係数!$R55*投入係数!CG50","v":3.691676146444961E-6},{"$f":"投入係数!CH50-諸係数!$R55*投入係数!CH50","v":0},{"$f":"投入係数!CI50-諸係数!$R55*投入係数!CI50","v":8.1485498771395127E-6}]
[null,"05","飲食料品",{"$f":"投入係数!D51","v":4.1497325524884783E-2},{"$f":"投入係数!E51","v":3.9360219672198549E-2},{"$f":"投入係数!F51","v":7.203201350353633E-2},{"$f":"投入係数!G51","v":0},{"$f":"投入係数!H51","v":8.3232216429720784E-2},{"$f":"投入係数!I51","v":3.3042354404644071E-3},{"$f":"投入係数!J51","v":5.8121694302483873E-4},{"$f":"投入係数!K51","v":3.5017627999574517E-3},{"$f":"投入係数!L51","v":0},{"$f":"投入係数!M51","v":6.1998176341267828E-6},{"$f":"投入係数!N51","v":2.5135069626418439E-4},{"$f":"投入係数!O51","v":2.6850408090491932E-7},{"$f":"投入係数!P51","v":0},{"$f":"投入係数!Q51","v":0},{"$f":"投入係数!R51","v":0},{"$f":"投入係数!S51","v":0},{"$f":"投入係数!T51","v":0},{"$f":"投入係数!U51","v":0},{"$f":"投入係数!V51","v":0},{"$f":"投入係数!W51","v":0},{"$f":"投入係数!X51","v":0},{"$f":"投入係数!Y51","v":1.1175101821976493E-3},{"$f":"投入係数!Z51","v":9.5006124047479375E-6},{"$f":"投入係数!AA51","v":0},{"$f":"投入係数!AB51","v":0},{"$f":"投入係数!AC51","v":0},{"$f":"投入係数!AD51","v":7.505813507851799E-5},{"$f":"投入係数!AE51","v":0},{"$f":"投入係数!AF51","v":0},{"$f":"投入係数!AG51","v":8.7037189506124972E-5},{"$f":"投入係数!AH51","v":1.2763170032543531E-7},{"$f":"投入係数!AI51","v":2.137303787018073E-4},{"$f":"投入係数!AJ51","v":3.5308486993928644E-3},{"$f":"投入係数!AK51","v":5.0384421744165669E-3},{"$f":"投入係数!AL51","v":6.8545924383552797E-4},{"$f":"投入係数!AM51","v":3.2626318494103275E-6},{"$f":"投入係数!AN51","v":3.8051693491133888E-2},{"$f":"投入係数!AO51","v":0.14016809828962992},{"$f":"投入係数!AP51","v":6.3659520183634115E-4},{"$f":"投入係数!AQ51","v":3.0278890424313707E-3},{"$f":"投入係数!AR51","v":0},{"$f":"投入係数!AS51","v":1.722119795413695E-3},{"$f":"投入係数!AT51-諸係数!$R56*投入係数!AT51","v":0.10084906157571207},{"$f":"投入係数!AU51-諸係数!$R56*投入係数!AU51","v":2.2100885497422011E-2},{"$f":"投入係数!AV51-諸係数!$R56*投入係数!AV51","v":7.708357740408503E-2},{"$f":"投入係数!AW51-諸係数!$R56*投入係数!AW51","v":0},{"$f":"投入係数!AX51-諸係数!$R56*投入係数!AX51","v":0.14704738572704587},{"$f":"投入係数!AY51-諸係数!$R56*投入係数!AY51","v":1.7872475896482344E-3},{"$f":"投入係数!AZ51-諸係数!$R56*投入係数!AZ51","v":1.3397521700111389E-3},{"$f":"投入係数!BA51-諸係数!$R56*投入係数!BA51","v":5.7090776338034558E-3},{"$f":"投入係数!BB51-諸係数!$R56*投入係数!BB51","v":3.3554381751080841E-6},{"$f":"投入係数!BC51-諸係数!$R56*投入係数!BC51","v":1.3089872486170898E-5},{"$f":"投入係数!BD51-諸係数!$R56*投入係数!BD51","v":3.833618910343073E-4},{"$f":"投入係数!BE51-諸係数!$R56*投入係数!BE51","v":6.3293977761385387E-7},{"$f":"投入係数!BF51-諸係数!$R56*投入係数!BF51","v":0},{"$f":"投入係数!BG51-諸係数!$R56*投入係数!BG51","v":0},{"$f":"投入係数!BH51-諸係数!$R56*投入係数!BH51","v":0},{"$f":"投入係数!BI51-諸係数!$R56*投入係数!BI51","v":0},{"$f":"投入係数!BJ51-諸係数!$R56*投入係数!BJ51","v":0},{"$f":"投入係数!BK51-諸係数!$R56*投入係数!BK51","v":0},{"$f":"投入係数!BL51-諸係数!$R56*投入係数!BL51","v":0},{"$f":"投入係数!BM51-諸係数!$R56*投入係数!BM51","v":0},{"$f":"投入係数!BN51-諸係数!$R56*投入係数!BN51","v":0},{"$f":"投入係数!BO51-諸係数!$R56*投入係数!BO51","v":2.5323811740317883E-3},{"$f":"投入係数!BP51-諸係数!$R56*投入係数!BP51","v":2.0153862310937992E-5},{"$f":"投入係数!BQ51-諸係数!$R56*投入係数!BQ51","v":0},{"$f":"投入係数!BR51-諸係数!$R56*投入係数!BR51","v":0},{"$f":"投入係数!BS51-諸係数!$R56*投入係数!BS51","v":0},{"$f":"投入係数!BT51-諸係数!$R56*投入係数!BT51","v":1.1306437715276521E-4},{"$f":"投入係数!BU51-諸係数!$R56*投入係数!BU51","v":0},{"$f":"投入係数!BV51-諸係数!$R56*投入係数!BV51","v":0},{"$f":"投入係数!BW51-諸係数!$R56*投入係数!BW51","v":1.3189549652509026E-4},{"$f":"投入係数!BX51-諸係数!$R56*投入係数!BX51","v":2.4266324284960484E-7},{"$f":"投入係数!BY51-諸係数!$R56*投入係数!BY51","v":2.5747069429038E-4},{"$f":"投入係数!BZ51-諸係数!$R56*投入係数!BZ51","v":4.4717318290397948E-3},{"$f":"投入係数!CA51-諸係数!$R56*投入係数!CA51","v":6.8372057107694362E-3},{"$f":"投入係数!CB51-諸係数!$R56*投入係数!CB51","v":1.1342442418774083E-3},{"$f":"投入係数!CC51-諸係数!$R56*投入係数!CC51","v":4.2535522249269706E-6},{"$f":"投入係数!CD51-諸係数!$R56*投入係数!CD51","v":5.8040037339975085E-2},{"$f":"投入係数!CE51-諸係数!$R56*投入係数!CE51","v":0.19715346563030584},{"$f":"投入係数!CF51-諸係数!$R56*投入係数!CF51","v":9.7677297010813954E-4},{"$f":"投入係数!CG51-諸係数!$R56*投入係数!CG51","v":3.4335698192384783E-3},{"$f":"投入係数!CH51-諸係数!$R56*投入係数!CH51","v":0},{"$f":"投入係数!CI51-諸係数!$R56*投入係数!CI51","v":2.4480789670521916E-3}]
[null,"06","繊維製品",{"$f":"投入係数!D52","v":2.3056366711115142E-3},{"$f":"投入係数!E52","v":2.4581059875998334E-3},{"$f":"投入係数!F52","v":9.849807073703325E-3},{"$f":"投入係数!G52","v":1.7900168777284509E-3},{"$f":"投入係数!H52","v":4.2833652633571083E-4},{"$f":"投入係数!I52","v":0.12735560010433108},{"$f":"投入係数!J52","v":3.2556703638405974E-3},{"$f":"投入係数!K52","v":5.2082894131254222E-4},{"$f":"投入係数!L52","v":9.430616037047222E-5},{"$f":"投入係数!M52","v":6.1218533722394355E-3},{"$f":"投入係数!N52","v":1.0981659497544237E-3},{"$f":"投入係数!O52","v":1.7622459837951667E-4},{"$f":"投入係数!P52","v":3.3500851854355583E-4},{"$f":"投入係数!Q52","v":6.3553072333691243E-4},{"$f":"投入係数!R52","v":6.3372140039363867E-4},{"$f":"投入係数!S52","v":5.236654521481673E-4},{"$f":"投入係数!T52","v":7.1605247127173464E-4},{"$f":"投入係数!U52","v":2.1198788600871525E-3},{"$f":"投入係数!V52","v":1.3507284101296115E-3},{"$f":"投入係数!W52","v":1.2171010904700875E-3},{"$f":"投入係数!X52","v":1.2831345720227638E-3},{"$f":"投入係数!Y52","v":1.254018961289706E-3},{"$f":"投入係数!Z52","v":1.5331443524557611E-3},{"$f":"投入係数!AA52","v":7.1107498875052768E-5},{"$f":"投入係数!AB52","v":4.6418386091946485E-4},{"$f":"投入係数!AC52","v":1.0154140825543016E-3},{"$f":"投入係数!AD52","v":2.0108820545782736E-3},{"$f":"投入係数!AE52","v":6.9344720958928118E-4},{"$f":"投入係数!AF52","v":1.6696244005366175E-5},{"$f":"投入係数!AG52","v":9.6334273966263524E-4},{"$f":"投入係数!AH52","v":4.5103219585004189E-4},{"$f":"投入係数!AI52","v":1.6567351283619839E-3},{"$f":"投入係数!AJ52","v":2.1082355521264139E-4},{"$f":"投入係数!AK52","v":1.5596384920011151E-3},{"$f":"投入係数!AL52","v":1.2809684968424277E-2},{"$f":"投入係数!AM52","v":1.0126808983977019E-3},{"$f":"投入係数!AN52","v":4.7509306214062975E-3},{"$f":"投入係数!AO52","v":3.5217338516325291E-4},{"$f":"投入係数!AP52","v":3.3144008775535844E-3},{"$f":"投入係数!AQ52","v":3.1300943273266163E-3},{"$f":"投入係数!AR52","v":1.0143203023446245E-2},{"$f":"投入係数!AS52","v":2.598389495867329E-4},{"$f":"投入係数!AT52-諸係数!$R57*投入係数!AT52","v":1.4080049245298216E-3},{"$f":"投入係数!AU52-諸係数!$R57*投入係数!AU52","v":7.116109995285566E-4},{"$f":"投入係数!AV52-諸係数!$R57*投入係数!AV52","v":7.1095406377405228E-3},{"$f":"投入係数!AW52-諸係数!$R57*投入係数!AW52","v":1.3798737440203564E-3},{"$f":"投入係数!AX52-諸係数!$R57*投入係数!AX52","v":3.5160982733443481E-4},{"$f":"投入係数!AY52-諸係数!$R57*投入係数!AY52","v":8.3030195449119715E-2},{"$f":"投入係数!AZ52-諸係数!$R57*投入係数!AZ52","v":2.2999620653389079E-3},{"$f":"投入係数!BA52-諸係数!$R57*投入係数!BA52","v":3.4121675943409187E-4},{"$f":"投入係数!BB52-諸係数!$R57*投入係数!BB52","v":8.9150395781869008E-6},{"$f":"投入係数!BC52-諸係数!$R57*投入係数!BC52","v":1.8382740228868634E-3},{"$f":"投入係数!BD52-諸係数!$R57*投入係数!BD52","v":1.1294929472089629E-3},{"$f":"投入係数!BE52-諸係数!$R57*投入係数!BE52","v":1.1696041085382727E-4},{"$f":"投入係数!BF52-諸係数!$R57*投入係数!BF52","v":3.1177463358762639E-4},{"$f":"投入係数!BG52-諸係数!$R57*投入係数!BG52","v":4.3559915907441862E-4},{"$f":"投入係数!BH52-諸係数!$R57*投入係数!BH52","v":3.7896935574919762E-4},{"$f":"投入係数!BI52-諸係数!$R57*投入係数!BI52","v":4.6855575186198755E-4},{"$f":"投入係数!BJ52-諸係数!$R57*投入係数!BJ52","v":3.9488957442862732E-4},{"$f":"投入係数!BK52-諸係数!$R57*投入係数!BK52","v":1.2709234464862947E-3},{"$f":"投入係数!BL52-諸係数!$R57*投入係数!BL52","v":8.717304004984619E-4},{"$f":"投入係数!BM52-諸係数!$R57*投入係数!BM52","v":5.9168702194695145E-4},{"$f":"投入係数!BN52-諸係数!$R57*投入係数!BN52","v":5.7704681797648765E-4},{"$f":"投入係数!BO52-諸係数!$R57*投入係数!BO52","v":1.5704260315870678E-3},{"$f":"投入係数!BP52-諸係数!$R57*投入係数!BP52","v":1.1081125494658522E-3},{"$f":"投入係数!BQ52-諸係数!$R57*投入係数!BQ52","v":5.3621079918344058E-5},{"$f":"投入係数!BR52-諸係数!$R57*投入係数!BR52","v":3.3331104328164951E-4},{"$f":"投入係数!BS52-諸係数!$R57*投入係数!BS52","v":6.719129206573817E-4},{"$f":"投入係数!BT52-諸係数!$R57*投入係数!BT52","v":1.4831421186857845E-3},{"$f":"投入係数!BU52-諸係数!$R57*投入係数!BU52","v":5.320333574420303E-4},{"$f":"投入係数!BV52-諸係数!$R57*投入係数!BV52","v":9.5868743461580288E-6},{"$f":"投入係数!BW52-諸係数!$R57*投入係数!BW52","v":5.7335513353295032E-4},{"$f":"投入係数!BX52-諸係数!$R57*投入係数!BX52","v":3.7450102070410755E-4},{"$f":"投入係数!BY52-諸係数!$R57*投入係数!BY52","v":1.1632962219787738E-3},{"$f":"投入係数!BZ52-諸係数!$R57*投入係数!BZ52","v":1.7868500945336202E-4},{"$f":"投入係数!CA52-諸係数!$R57*投入係数!CA52","v":1.0315225123331043E-3},{"$f":"投入係数!CB52-諸係数!$R57*投入係数!CB52","v":8.8977075378235404E-3},{"$f":"投入係数!CC52-諸係数!$R57*投入係数!CC52","v":6.9742080134089796E-4},{"$f":"投入係数!CD52-諸係数!$R57*投入係数!CD52","v":3.5153100417440923E-3},{"$f":"投入係数!CE52-諸係数!$R57*投入係数!CE52","v":2.3769471060857751E-4},{"$f":"投入係数!CF52-諸係数!$R57*投入係数!CF52","v":2.107742023378433E-3},{"$f":"投入係数!CG52-諸係数!$R57*投入係数!CG52","v":1.9332497362266818E-3},{"$f":"投入係数!CH52-諸係数!$R57*投入係数!CH52","v":6.8695812566046399E-3},{"$f":"投入係数!CI52-諸係数!$R57*投入係数!CI52","v":1.7919761977437177E-4}]
[null,"07","パルプ・紙・木製品",{"$f":"投入係数!D53","v":1.7960507452013771E-2},{"$f":"投入係数!E53","v":1.4282056760694724E-2},{"$f":"投入係数!F53","v":2.4839749861077414E-3},{"$f":"投入係数!G53","v":1.0407248430236919E-3},{"$f":"投入係数!H53","v":8.4322726291662081E-3},{"$f":"投入係数!I53","v":3.2129039485300015E-3},{"$f":"投入係数!J53","v":0.16357274766229998},{"$f":"投入係数!K53","v":5.4242658797348945E-3},{"$f":"投入係数!L53","v":7.1946607036790712E-5},{"$f":"投入係数!M53","v":3.0867419802818844E-3},{"$f":"投入係数!N53","v":1.229797951319484E-2},{"$f":"投入係数!O53","v":1.9172802401096667E-4},{"$f":"投入係数!P53","v":1.1758242792610475E-3},{"$f":"投入係数!Q53","v":2.0227559083181739E-3},{"$f":"投入係数!R53","v":7.6723815755843229E-4},{"$f":"投入係数!S53","v":5.1830901353236533E-4},{"$f":"投入係数!T53","v":5.6854333860142442E-3},{"$f":"投入係数!U53","v":2.874209565805883E-3},{"$f":"投入係数!V53","v":4.6853151862883101E-3},{"$f":"投入係数!W53","v":2.282201236128547E-3},{"$f":"投入係数!X53","v":4.0942603747664544E-4},{"$f":"投入係数!Y53","v":6.0467277865005546E-2},{"$f":"投入係数!Z53","v":2.7439282486391041E-2},{"$f":"投入係数!AA53","v":1.5409190971772014E-3},{"$f":"投入係数!AB53","v":1.685579724203391E-3},{"$f":"投入係数!AC53","v":2.1016134314198803E-3},{"$f":"投入係数!AD53","v":4.7761339438286013E-3},{"$f":"投入係数!AE53","v":2.3613997828929767E-3},{"$f":"投入係数!AF53","v":2.7987979890470164E-4},{"$f":"投入係数!AG53","v":2.2848964163455082E-3},{"$f":"投入係数!AH53","v":8.49743903346677E-3},{"$f":"投入係数!AI53","v":7.5928997146967403E-4},{"$f":"投入係数!AJ53","v":3.5669689526137372E-3},{"$f":"投入係数!AK53","v":3.1071334650867974E-3},{"$f":"投入係数!AL53","v":9.8441068394243998E-3},{"$f":"投入係数!AM53","v":2.3172314043239028E-3},{"$f":"投入係数!AN53","v":2.6999310817031035E-3},{"$f":"投入係数!AO53","v":3.8720980958063789E-3},{"$f":"投入係数!AP53","v":4.5479959422332055E-3},{"$f":"投入係数!AQ53","v":2.6033922456578634E-3},{"$f":"投入係数!AR53","v":0.25898534900581921},{"$f":"投入係数!AS53","v":7.1451373740130978E-4},{"$f":"投入係数!AT53-諸係数!$R58*投入係数!AT53","v":2.0434271864804926E-2},{"$f":"投入係数!AU53-諸係数!$R58*投入係数!AU53","v":8.0563391453542712E-3},{"$f":"投入係数!AV53-諸係数!$R58*投入係数!AV53","v":2.6417178911493284E-3},{"$f":"投入係数!AW53-諸係数!$R58*投入係数!AW53","v":2.0322652685558621E-3},{"$f":"投入係数!AX53-諸係数!$R58*投入係数!AX53","v":1.3652400546882394E-2},{"$f":"投入係数!AY53-諸係数!$R58*投入係数!AY53","v":4.8845912414529303E-3},{"$f":"投入係数!AZ53-諸係数!$R58*投入係数!AZ53","v":0.2306621390762871},{"$f":"投入係数!BA53-諸係数!$R58*投入係数!BA53","v":1.1101896367176192E-2},{"$f":"投入係数!BB53-諸係数!$R58*投入係数!BB53","v":1.2040891929418218E-5},{"$f":"投入係数!BC53-諸係数!$R58*投入係数!BC53","v":5.3369142006921408E-3},{"$f":"投入係数!BD53-諸係数!$R58*投入係数!BD53","v":1.5686289976347245E-2},{"$f":"投入係数!BE53-諸係数!$R58*投入係数!BE53","v":2.6786865177207559E-4},{"$f":"投入係数!BF53-諸係数!$R58*投入係数!BF53","v":1.8755814229529108E-3},{"$f":"投入係数!BG53-諸係数!$R58*投入係数!BG53","v":2.8366519349725277E-3},{"$f":"投入係数!BH53-諸係数!$R58*投入係数!BH53","v":1.2973986949354134E-3},{"$f":"投入係数!BI53-諸係数!$R58*投入係数!BI53","v":9.2594246392938223E-4},{"$f":"投入係数!BJ53-諸係数!$R58*投入係数!BJ53","v":4.1050971941907167E-3},{"$f":"投入係数!BK53-諸係数!$R58*投入係数!BK53","v":4.8644981880301627E-3},{"$f":"投入係数!BL53-諸係数!$R58*投入係数!BL53","v":5.7803806550180952E-3},{"$f":"投入係数!BM53-諸係数!$R58*投入係数!BM53","v":4.7086630980290225E-3},{"$f":"投入係数!BN53-諸係数!$R58*投入係数!BN53","v":1.1519335373108071E-3},{"$f":"投入係数!BO53-諸係数!$R58*投入係数!BO53","v":6.8859364533411224E-2},{"$f":"投入係数!BP53-諸係数!$R58*投入係数!BP53","v":3.8043341336079568E-2},{"$f":"投入係数!BQ53-諸係数!$R58*投入係数!BQ53","v":2.0496864539583815E-3},{"$f":"投入係数!BR53-諸係数!$R58*投入係数!BR53","v":2.3017653214745444E-3},{"$f":"投入係数!BS53-諸係数!$R58*投入係数!BS53","v":2.7488165148716603E-3},{"$f":"投入係数!BT53-諸係数!$R58*投入係数!BT53","v":6.4687183008297188E-3},{"$f":"投入係数!BU53-諸係数!$R58*投入係数!BU53","v":3.5388573813144113E-3},{"$f":"投入係数!BV53-諸係数!$R58*投入係数!BV53","v":3.4619297639078435E-4},{"$f":"投入係数!BW53-諸係数!$R58*投入係数!BW53","v":3.6724048324792017E-3},{"$f":"投入係数!BX53-諸係数!$R58*投入係数!BX53","v":1.1260526556766414E-2},{"$f":"投入係数!BY53-諸係数!$R58*投入係数!BY53","v":1.0102353370468567E-3},{"$f":"投入係数!BZ53-諸係数!$R58*投入係数!BZ53","v":5.3668202476787582E-3},{"$f":"投入係数!CA53-諸係数!$R58*投入係数!CA53","v":4.4111228936850764E-3},{"$f":"投入係数!CB53-諸係数!$R58*投入係数!CB53","v":1.4726098446423665E-2},{"$f":"投入係数!CC53-諸係数!$R58*投入係数!CC53","v":2.7567543982822233E-3},{"$f":"投入係数!CD53-諸係数!$R58*投入係数!CD53","v":3.9688211385942064E-3},{"$f":"投入係数!CE53-諸係数!$R58*投入係数!CE53","v":5.1744682401367315E-3},{"$f":"投入係数!CF53-諸係数!$R58*投入係数!CF53","v":4.9817075576658E-3},{"$f":"投入係数!CG53-諸係数!$R58*投入係数!CG53","v":3.5485098716499918E-3},{"$f":"投入係数!CH53-諸係数!$R58*投入係数!CH53","v":0.34845877414606308},{"$f":"投入係数!CI53-諸係数!$R58*投入係数!CI53","v":9.78947996643738E-4}]
[null,"08","化学製品",{"$f":"投入係数!D54","v":4.4636657102196282E-2},{"$f":"投入係数!E54","v":4.7093971784730712E-4},{"$f":"投入係数!F54","v":9.5250021523217675E-3},{"$f":"投入係数!G54","v":1.3344712024457967E-2},{"$f":"投入係数!H54","v":5.8263556187146681E-3},{"$f":"投入係数!I54","v":6.5554066571252775E-2},{"$f":"投入係数!J54","v":1.7191998259278269E-2},{"$f":"投入係数!K54","v":0.24854625036449149},{"$f":"投入係数!L54","v":3.6594585572279565E-3},{"$f":"投入係数!M54","v":0.13947194763953347},{"$f":"投入係数!N54","v":1.2744025769419751E-2},{"$f":"投入係数!O54","v":2.8192176683589994E-3},{"$f":"投入係数!P54","v":4.1595821421206254E-3},{"$f":"投入係数!Q54","v":5.964317807624432E-3},{"$f":"投入係数!R54","v":3.1804356434541304E-3},{"$f":"投入係数!S54","v":2.8000047089570251E-3},{"$f":"投入係数!T54","v":9.599130668151698E-3},{"$f":"投入係数!U54","v":8.36963406350528E-3},{"$f":"投入係数!V54","v":6.5607643934905971E-3},{"$f":"投入係数!W54","v":3.6425550155937663E-3},{"$f":"投入係数!X54","v":4.7418659710279009E-3},{"$f":"投入係数!Y54","v":2.0465018115304795E-2},{"$f":"投入係数!Z54","v":3.2436016166793296E-3},{"$f":"投入係数!AA54","v":4.6729384693794515E-4},{"$f":"投入係数!AB54","v":5.3246424957198281E-3},{"$f":"投入係数!AC54","v":9.377809888105262E-3},{"$f":"投入係数!AD54","v":5.1995499031140913E-6},{"$f":"投入係数!AE54","v":1.2812281825286991E-5},{"$f":"投入係数!AF54","v":2.0063269831088626E-5},{"$f":"投入係数!AG54","v":2.6862196837988141E-4},{"$f":"投入係数!AH54","v":7.6670185695493643E-4},{"$f":"投入係数!AI54","v":6.2331433730012655E-4},{"$f":"投入係数!AJ54","v":3.0922783809252856E-3},{"$f":"投入係数!AK54","v":8.2184673697057495E-2},{"$f":"投入係数!AL54","v":1.425845933051003E-3},{"$f":"投入係数!AM54","v":2.6541472333010308E-3},{"$f":"投入係数!AN54","v":1.8740054601691792E-3},{"$f":"投入係数!AO54","v":1.6445273416886858E-3},{"$f":"投入係数!AP54","v":1.7712378929936321E-3},{"$f":"投入係数!AQ54","v":1.1165059988440978E-2},{"$f":"投入係数!AR54","v":6.0555058556487837E-3},{"$f":"投入係数!AS54","v":4.6566285824001189E-3},{"$f":"投入係数!AT54-諸係数!$R59*投入係数!AT54","v":4.6458092690593283E-2},{"$f":"投入係数!AU54-諸係数!$R59*投入係数!AU54","v":5.3758152073541982E-4},{"$f":"投入係数!AV54-諸係数!$R59*投入係数!AV54","v":7.593036146489659E-3},{"$f":"投入係数!AW54-諸係数!$R59*投入係数!AW54","v":1.0552349729794781E-2},{"$f":"投入係数!AX54-諸係数!$R59*投入係数!AX54","v":7.5076338388555246E-3},{"$f":"投入係数!AY54-諸係数!$R59*投入係数!AY54","v":7.9585747688861383E-2},{"$f":"投入係数!AZ54-諸係数!$R59*投入係数!AZ54","v":2.5503685207088823E-2},{"$f":"投入係数!BA54-諸係数!$R59*投入係数!BA54","v":0.24928900964594897},{"$f":"投入係数!BB54-諸係数!$R59*投入係数!BB54","v":1.3330351644240518E-3},{"$f":"投入係数!BC54-諸係数!$R59*投入係数!BC54","v":0.14027430345219064},{"$f":"投入係数!BD54-諸係数!$R59*投入係数!BD54","v":2.4285638412742009E-2},{"$f":"投入係数!BE54-諸係数!$R59*投入係数!BE54","v":2.6589928007311097E-3},{"$f":"投入係数!BF54-諸係数!$R59*投入係数!BF54","v":6.1632500171999232E-3},{"$f":"投入係数!BG54-諸係数!$R59*投入係数!BG54","v":6.3309100267211933E-3},{"$f":"投入係数!BH54-諸係数!$R59*投入係数!BH54","v":3.1308598627324325E-3},{"$f":"投入係数!BI54-諸係数!$R59*投入係数!BI54","v":2.8803686737675551E-3},{"$f":"投入係数!BJ54-諸係数!$R59*投入係数!BJ54","v":1.196938777639016E-2},{"$f":"投入係数!BK54-諸係数!$R59*投入係数!BK54","v":1.258385405087031E-2},{"$f":"投入係数!BL54-諸係数!$R59*投入係数!BL54","v":9.6976823771361444E-3},{"$f":"投入係数!BM54-諸係数!$R59*投入係数!BM54","v":7.3453040627272301E-3},{"$f":"投入係数!BN54-諸係数!$R59*投入係数!BN54","v":7.1472556215817513E-3},{"$f":"投入係数!BO54-諸係数!$R59*投入係数!BO54","v":2.4318121627325509E-2},{"$f":"投入係数!BP54-諸係数!$R59*投入係数!BP54","v":3.9365321026807541E-3},{"$f":"投入係数!BQ54-諸係数!$R59*投入係数!BQ54","v":5.4581282115210954E-4},{"$f":"投入係数!BR54-諸係数!$R59*投入係数!BR54","v":6.3852458238993163E-3},{"$f":"投入係数!BS54-諸係数!$R59*投入係数!BS54","v":1.0264063983745211E-2},{"$f":"投入係数!BT54-諸係数!$R59*投入係数!BT54","v":6.47945532762335E-6},{"$f":"投入係数!BU54-諸係数!$R59*投入係数!BU54","v":1.6598537696442214E-5},{"$f":"投入係数!BV54-諸係数!$R59*投入係数!BV54","v":2.5380905203064894E-5},{"$f":"投入係数!BW54-諸係数!$R59*投入係数!BW54","v":3.178543685507341E-4},{"$f":"投入係数!BX54-諸係数!$R59*投入係数!BX54","v":9.3509600666169242E-4},{"$f":"投入係数!BY54-諸係数!$R59*投入係数!BY54","v":6.5734034515891834E-4},{"$f":"投入係数!BZ54-諸係数!$R59*投入係数!BZ54","v":5.8221746009442174E-3},{"$f":"投入係数!CA54-諸係数!$R59*投入係数!CA54","v":9.4571156181938426E-2},{"$f":"投入係数!CB54-諸係数!$R59*投入係数!CB54","v":1.7220427354572004E-3},{"$f":"投入係数!CC54-諸係数!$R59*投入係数!CC54","v":3.0030259763482148E-3},{"$f":"投入係数!CD54-諸係数!$R59*投入係数!CD54","v":2.2930717857627403E-3},{"$f":"投入係数!CE54-諸係数!$R59*投入係数!CE54","v":1.8463639069215337E-3},{"$f":"投入係数!CF54-諸係数!$R59*投入係数!CF54","v":2.8434193067982585E-3},{"$f":"投入係数!CG54-諸係数!$R59*投入係数!CG54","v":1.2443052528284572E-2},{"$f":"投入係数!CH54-諸係数!$R59*投入係数!CH54","v":6.7822873460805615E-3},{"$f":"投入係数!CI54-諸係数!$R59*投入係数!CI54","v":5.3106525104382862E-3}]
[null,"09","石油・石炭製品",{"$f":"投入係数!D55","v":7.3617560314629205E-3},{"$f":"投入係数!E55","v":1.0401164641397469E-2},{"$f":"投入係数!F55","v":3.3153255745394683E-2},{"$f":"投入係数!G55","v":1.7278495206657953E-2},{"$f":"投入係数!H55","v":2.122987277048999E-3},{"$f":"投入係数!I55","v":2.8429800567133035E-3},{"$f":"投入係数!J55","v":1.5487495071674589E-3},{"$f":"投入係数!K55","v":7.5341741750804842E-3},{"$f":"投入係数!L55","v":6.7723044176454333E-2},{"$f":"投入係数!M55","v":2.6753353525938929E-3},{"$f":"投入係数!N55","v":1.4612072443212764E-2},{"$f":"投入係数!O55","v":2.4322275696241957E-2},{"$f":"投入係数!P55","v":1.6545056720407795E-3},{"$f":"投入係数!Q55","v":2.3131799695337275E-3},{"$f":"投入係数!R55","v":6.0387920684088219E-4},{"$f":"投入係数!S55","v":1.0908004638322669E-3},{"$f":"投入係数!T55","v":1.3054693783975217E-3},{"$f":"投入係数!U55","v":1.2832195602480616E-3},{"$f":"投入係数!V55","v":8.1347074809483516E-4},{"$f":"投入係数!W55","v":5.0630530537973991E-4},{"$f":"投入係数!X55","v":8.0295542870548815E-4},{"$f":"投入係数!Y55","v":1.7263634977940795E-3},{"$f":"投入係数!Z55","v":7.6427472797669536E-3},{"$f":"投入係数!AA55","v":3.6961621925095833E-2},{"$f":"投入係数!AB55","v":8.43454930822337E-3},{"$f":"投入係数!AC55","v":8.617290285988231E-3},{"$f":"投入係数!AD55","v":1.0485446469436625E-3},{"$f":"投入係数!AE55","v":2.9583538684068377E-4},{"$f":"投入係数!AF55","v":3.5668702571176156E-4},{"$f":"投入係数!AG55","v":7.9171727805084066E-2},{"$f":"投入係数!AH55","v":5.6889095455055813E-4},{"$f":"投入係数!AI55","v":9.188592479539015E-3},{"$f":"投入係数!AJ55","v":1.9558820947038645E-3},{"$f":"投入係数!AK55","v":1.6557583212240363E-3},{"$f":"投入係数!AL55","v":2.3526835836479481E-3},{"$f":"投入係数!AM55","v":1.644721414364199E-3},{"$f":"投入係数!AN55","v":1.6699433478696614E-3},{"$f":"投入係数!AO55","v":3.1474962193271624E-3},{"$f":"投入係数!AP55","v":6.6489951381672281E-3},{"$f":"投入係数!AQ55","v":4.0627750294054427E-3},{"$f":"投入係数!AR55","v":0},{"$f":"投入係数!AS55","v":1.4059987924688922E-2},{"$f":"投入係数!AT55-諸係数!$R60*投入係数!AT55","v":5.4665428391759141E-3},{"$f":"投入係数!AU55-諸係数!$R60*投入係数!AU55","v":7.9767624679321272E-3},{"$f":"投入係数!AV55-諸係数!$R60*投入係数!AV55","v":4.101061956962878E-2},{"$f":"投入係数!AW55-諸係数!$R60*投入係数!AW55","v":1.8198560940870821E-2},{"$f":"投入係数!AX55-諸係数!$R60*投入係数!AX55","v":3.3403055466956441E-3},{"$f":"投入係数!AY55-諸係数!$R60*投入係数!AY55","v":4.84518034910544E-3},{"$f":"投入係数!AZ55-諸係数!$R60*投入係数!AZ55","v":3.1634875511839904E-3},{"$f":"投入係数!BA55-諸係数!$R60*投入係数!BA55","v":6.4408432338343813E-2},{"$f":"投入係数!BB55-諸係数!$R60*投入係数!BB55","v":5.0201736469209127E-2},{"$f":"投入係数!BC55-諸係数!$R60*投入係数!BC55","v":1.5237677434246696E-3},{"$f":"投入係数!BD55-諸係数!$R60*投入係数!BD55","v":1.7454229073892807E-2},{"$f":"投入係数!BE55-諸係数!$R60*投入係数!BE55","v":1.8399708255598331E-2},{"$f":"投入係数!BF55-諸係数!$R60*投入係数!BF55","v":2.2084469575905205E-3},{"$f":"投入係数!BG55-諸係数!$R60*投入係数!BG55","v":2.4072534878183775E-3},{"$f":"投入係数!BH55-諸係数!$R60*投入係数!BH55","v":1.0503771518472699E-3},{"$f":"投入係数!BI55-諸係数!$R60*投入係数!BI55","v":8.7494609308376024E-4},{"$f":"投入係数!BJ55-諸係数!$R60*投入係数!BJ55","v":7.3841025434793735E-4},{"$f":"投入係数!BK55-諸係数!$R60*投入係数!BK55","v":1.0994370865527777E-3},{"$f":"投入係数!BL55-諸係数!$R60*投入係数!BL55","v":8.560577168614758E-4},{"$f":"投入係数!BM55-諸係数!$R60*投入係数!BM55","v":3.6175695825629622E-4},{"$f":"投入係数!BN55-諸係数!$R60*投入係数!BN55","v":1.6274596179733718E-3},{"$f":"投入係数!BO55-諸係数!$R60*投入係数!BO55","v":1.5454770633817334E-3},{"$f":"投入係数!BP55-諸係数!$R60*投入係数!BP55","v":1.0016927707420855E-2},{"$f":"投入係数!BQ55-諸係数!$R60*投入係数!BQ55","v":4.0618309016539442E-2},{"$f":"投入係数!BR55-諸係数!$R60*投入係数!BR55","v":9.3640571272547105E-3},{"$f":"投入係数!BS55-諸係数!$R60*投入係数!BS55","v":9.3831426004185332E-3},{"$f":"投入係数!BT55-諸係数!$R60*投入係数!BT55","v":1.2888919852188107E-3},{"$f":"投入係数!BU55-諸係数!$R60*投入係数!BU55","v":3.6065172516511169E-4},{"$f":"投入係数!BV55-諸係数!$R60*投入係数!BV55","v":3.2456905874101864E-4},{"$f":"投入係数!BW55-諸係数!$R60*投入係数!BW55","v":8.0571672048048215E-2},{"$f":"投入係数!BX55-諸係数!$R60*投入係数!BX55","v":6.3941358912534543E-4},{"$f":"投入係数!BY55-諸係数!$R60*投入係数!BY55","v":8.7224732012201531E-3},{"$f":"投入係数!BZ55-諸係数!$R60*投入係数!BZ55","v":2.8627344339212171E-3},{"$f":"投入係数!CA55-諸係数!$R60*投入係数!CA55","v":1.8330330274015732E-3},{"$f":"投入係数!CB55-諸係数!$R60*投入係数!CB55","v":2.8597234722366163E-3},{"$f":"投入係数!CC55-諸係数!$R60*投入係数!CC55","v":1.6776648436654606E-3},{"$f":"投入係数!CD55-諸係数!$R60*投入係数!CD55","v":2.0157906607380328E-3},{"$f":"投入係数!CE55-諸係数!$R60*投入係数!CE55","v":3.5085834856401509E-3},{"$f":"投入係数!CF55-諸係数!$R60*投入係数!CF55","v":6.2170040402894956E-3},{"$f":"投入係数!CG55-諸係数!$R60*投入係数!CG55","v":4.3104997433040882E-3},{"$f":"投入係数!CH55-諸係数!$R60*投入係数!CH55","v":0},{"$f":"投入係数!CI55-諸係数!$R60*投入係数!CI55","v":1.5817208020992551E-2}]
[null,"10","プラスチック・ゴム製品",{"$f":"投入係数!D56","v":6.2746490234361438E-3},{"$f":"投入係数!E56","v":1.7335066756950877E-2},{"$f":"投入係数!F56","v":8.1612128137498133E-3},{"$f":"投入係数!G56","v":2.3169094838057019E-3},{"$f":"投入係数!H56","v":8.6220796106528629E-3},{"$f":"投入係数!I56","v":5.5252417672079397E-3},{"$f":"投入係数!J56","v":9.6322725345354705E-3},{"$f":"投入係数!K56","v":8.2245628580097964E-3},{"$f":"投入係数!L56","v":5.3877447700715977E-5},{"$f":"投入係数!M56","v":8.0959872768959856E-2},{"$f":"投入係数!N56","v":3.4975260311611283E-3},{"$f":"投入係数!O56","v":3.3744518871806642E-4},{"$f":"投入係数!P56","v":1.4049820858152344E-3},{"$f":"投入係数!Q56","v":2.4601872846707041E-3},{"$f":"投入係数!R56","v":8.5330891942963383E-3},{"$f":"投入係数!S56","v":1.0569283473326701E-2},{"$f":"投入係数!T56","v":2.9858110078448213E-2},{"$f":"投入係数!U56","v":1.1662191598900071E-2},{"$f":"投入係数!V56","v":1.5576451630070228E-2},{"$f":"投入係数!W56","v":1.5644068463850018E-2},{"$f":"投入係数!X56","v":2.035396797149943E-2},{"$f":"投入係数!Y56","v":2.66774111369419E-2},{"$f":"投入係数!Z56","v":6.6233350893455901E-3},{"$f":"投入係数!AA56","v":0},{"$f":"投入係数!AB56","v":1.8894147605579233E-2},{"$f":"投入係数!AC56","v":7.3674070422899756E-3},{"$f":"投入係数!AD56","v":2.381453952134612E-3},{"$f":"投入係数!AE56","v":1.3487984325306042E-3},{"$f":"投入係数!AF56","v":3.2016399195002309E-4},{"$f":"投入係数!AG56","v":1.4115906340868977E-3},{"$f":"投入係数!AH56","v":1.3981870439650974E-3},{"$f":"投入係数!AI56","v":1.0893949514964754E-3},{"$f":"投入係数!AJ56","v":1.1894015317344003E-3},{"$f":"投入係数!AK56","v":1.1655248952354429E-3},{"$f":"投入係数!AL56","v":3.9218321981661286E-3},{"$f":"投入係数!AM56","v":5.6889461776160775E-3},{"$f":"投入係数!AN56","v":1.494071259331108E-3},{"$f":"投入係数!AO56","v":7.0051939165043239E-4},{"$f":"投入係数!AP56","v":3.8915191316595864E-3},{"$f":"投入係数!AQ56","v":1.456477561947898E-3},{"$f":"投入係数!AR56","v":2.4901672050983453E-2},{"$f":"投入係数!AS56","v":2.0329665245542891E-3},{"$f":"投入係数!AT56-諸係数!$R61*投入係数!AT56","v":6.3149812466589891E-3},{"$f":"投入係数!AU56-諸係数!$R61*投入係数!AU56","v":1.166265428034808E-2},{"$f":"投入係数!AV56-諸係数!$R61*投入係数!AV56","v":1.3278983744592462E-2},{"$f":"投入係数!AW56-諸係数!$R61*投入係数!AW56","v":3.938666947946908E-3},{"$f":"投入係数!AX56-諸係数!$R61*投入係数!AX56","v":1.5602369466605323E-2},{"$f":"投入係数!AY56-諸係数!$R61*投入係数!AY56","v":8.6421212913921231E-3},{"$f":"投入係数!AZ56-諸係数!$R61*投入係数!AZ56","v":1.7700064268200019E-2},{"$f":"投入係数!BA56-諸係数!$R61*投入係数!BA56","v":1.514986202319395E-2},{"$f":"投入係数!BB56-諸係数!$R61*投入係数!BB56","v":1.1294196966996104E-4},{"$f":"投入係数!BC56-諸係数!$R61*投入係数!BC56","v":0.17979152323498629},{"$f":"投入係数!BD56-諸係数!$R61*投入係数!BD56","v":6.2269167520026866E-3},{"$f":"投入係数!BE56-諸係数!$R61*投入係数!BE56","v":5.8394116566666998E-4},{"$f":"投入係数!BF56-諸係数!$R61*投入係数!BF56","v":4.5306883809369605E-3},{"$f":"投入係数!BG56-諸係数!$R61*投入係数!BG56","v":4.0325480147703676E-3},{"$f":"投入係数!BH56-諸係数!$R61*投入係数!BH56","v":1.0838269302066298E-2},{"$f":"投入係数!BI56-諸係数!$R61*投入係数!BI56","v":1.7082215558822555E-2},{"$f":"投入係数!BJ56-諸係数!$R61*投入係数!BJ56","v":3.2876797105313459E-2},{"$f":"投入係数!BK56-諸係数!$R61*投入係数!BK56","v":1.6350399132972641E-2},{"$f":"投入係数!BL56-諸係数!$R61*投入係数!BL56","v":3.2829489838095534E-2},{"$f":"投入係数!BM56-諸係数!$R61*投入係数!BM56","v":3.4070175680274789E-2},{"$f":"投入係数!BN56-諸係数!$R61*投入係数!BN56","v":3.057083677409728E-2},{"$f":"投入係数!BO56-諸係数!$R61*投入係数!BO56","v":4.7366134630987509E-2},{"$f":"投入係数!BP56-諸係数!$R61*投入係数!BP56","v":1.1330980118447548E-2},{"$f":"投入係数!BQ56-諸係数!$R61*投入係数!BQ56","v":0},{"$f":"投入係数!BR56-諸係数!$R61*投入係数!BR56","v":3.1745159014372651E-2},{"$f":"投入係数!BS56-諸係数!$R61*投入係数!BS56","v":1.1350904463749978E-2},{"$f":"投入係数!BT56-諸係数!$R61*投入係数!BT56","v":4.2798822077611395E-3},{"$f":"投入係数!BU56-諸係数!$R61*投入係数!BU56","v":2.349239161247331E-3},{"$f":"投入係数!BV56-諸係数!$R61*投入係数!BV56","v":4.8613303708886743E-4},{"$f":"投入係数!BW56-諸係数!$R61*投入係数!BW56","v":2.3660914746729948E-3},{"$f":"投入係数!BX56-諸係数!$R61*投入係数!BX56","v":3.3818982775238185E-3},{"$f":"投入係数!BY56-諸係数!$R61*投入係数!BY56","v":1.5867305979386222E-3},{"$f":"投入係数!BZ56-諸係数!$R61*投入係数!BZ56","v":3.2173915280222327E-3},{"$f":"投入係数!CA56-諸係数!$R61*投入係数!CA56","v":1.7423796967390756E-3},{"$f":"投入係数!CB56-諸係数!$R61*投入係数!CB56","v":6.5453541035739096E-3},{"$f":"投入係数!CC56-諸係数!$R61*投入係数!CC56","v":7.4867992239291267E-3},{"$f":"投入係数!CD56-諸係数!$R61*投入係数!CD56","v":2.5726928689861384E-3},{"$f":"投入係数!CE56-諸係数!$R61*投入係数!CE56","v":1.0871622874256345E-3},{"$f":"投入係数!CF56-諸係数!$R61*投入係数!CF56","v":5.8895784947872558E-3},{"$f":"投入係数!CG56-諸係数!$R61*投入係数!CG56","v":2.0831947588310792E-3},{"$f":"投入係数!CH56-諸係数!$R61*投入係数!CH56","v":3.9610708116229777E-2},{"$f":"投入係数!CI56-諸係数!$R61*投入係数!CI56","v":3.2928579117753412E-3}]
[null,"11","窯業・土石製品",{"$f":"投入係数!D57","v":1.0549939585318571E-3},{"$f":"投入係数!E57","v":7.556215314137349E-4},{"$f":"投入係数!F57","v":1.924045217019256E-5},{"$f":"投入係数!G57","v":6.492869225031279E-5},{"$f":"投入係数!H57","v":1.2732241987807517E-3},{"$f":"投入係数!I57","v":2.0711558010754125E-4},{"$f":"投入係数!J57","v":2.5462239728625945E-3},{"$f":"投入係数!K57","v":3.1074425501489253E-3},{"$f":"投入係数!L57","v":6.2144706903796731E-4},{"$f":"投入係数!M57","v":8.9320917801096779E-4},{"$f":"投入係数!N57","v":3.0181961372708774E-2},{"$f":"投入係数!O57","v":1.5834974470551435E-3},{"$f":"投入係数!P57","v":4.1012230591968178E-3},{"$f":"投入係数!Q57","v":1.5082155898917947E-3},{"$f":"投入係数!R57","v":3.9366955847314972E-3},{"$f":"投入係数!S57","v":1.4098028712865459E-3},{"$f":"投入係数!T57","v":5.7570773596136333E-3},{"$f":"投入係数!U57","v":1.3872020035562874E-2},{"$f":"投入係数!V57","v":3.6655892516595447E-3},{"$f":"投入係数!W57","v":1.1033737648556319E-3},{"$f":"投入係数!X57","v":4.3783596939739877E-3},{"$f":"投入係数!Y57","v":1.3878629412063582E-3},{"$f":"投入係数!Z57","v":2.1707667132017289E-2},{"$f":"投入係数!AA57","v":1.7748879640465926E-5},{"$f":"投入係数!AB57","v":1.8506531912754122E-3},{"$f":"投入係数!AC57","v":2.1438145043399583E-4},{"$f":"投入係数!AD57","v":7.842113568621869E-5},{"$f":"投入係数!AE57","v":3.6692450297770262E-6},{"$f":"投入係数!AF57","v":2.5806357359912874E-5},{"$f":"投入係数!AG57","v":1.4520106398912511E-5},{"$f":"投入係数!AH57","v":3.7803294096390837E-6},{"$f":"投入係数!AI57","v":7.3850959239913445E-5},{"$f":"投入係数!AJ57","v":8.3367659038618221E-4},{"$f":"投入係数!AK57","v":3.5093405225272657E-4},{"$f":"投入係数!AL57","v":1.9463968603673787E-4},{"$f":"投入係数!AM57","v":3.4167760995178843E-4},{"$f":"投入係数!AN57","v":7.6688084539777517E-4},{"$f":"投入係数!AO57","v":7.8795817575131959E-4},{"$f":"投入係数!AP57","v":5.7220181286216337E-4},{"$f":"投入係数!AQ57","v":2.4658853807650572E-4},{"$f":"投入係数!AR57","v":2.153534451648528E-3},{"$f":"投入係数!AS57","v":1.9961275726542785E-3},{"$f":"投入係数!AT57-諸係数!$R62*投入係数!AT57","v":2.154325684198777E-3},{"$f":"投入係数!AU57-諸係数!$R62*投入係数!AU57","v":6.672660891159064E-4},{"$f":"投入係数!AV57-諸係数!$R62*投入係数!AV57","v":4.1001565287913385E-5},{"$f":"投入係数!AW57-諸係数!$R62*投入係数!AW57","v":4.3861662003966589E-4},{"$f":"投入係数!AX57-諸係数!$R62*投入係数!AX57","v":2.3744010654641978E-3},{"$f":"投入係数!AY57-諸係数!$R62*投入係数!AY57","v":5.38530086555649E-4},{"$f":"投入係数!AZ57-諸係数!$R62*投入係数!AZ57","v":2.6215909388146589E-3},{"$f":"投入係数!BA57-諸係数!$R62*投入係数!BA57","v":5.5333347234536234E-3},{"$f":"投入係数!BB57-諸係数!$R62*投入係数!BB57","v":2.5481906717076124E-4},{"$f":"投入係数!BC57-諸係数!$R62*投入係数!BC57","v":2.5862712829301674E-3},{"$f":"投入係数!BD57-諸係数!$R62*投入係数!BD57","v":6.9802232970265637E-2},{"$f":"投入係数!BE57-諸係数!$R62*投入係数!BE57","v":4.2317949717780787E-3},{"$f":"投入係数!BF57-諸係数!$R62*投入係数!BF57","v":7.5745746742922841E-3},{"$f":"投入係数!BG57-諸係数!$R62*投入係数!BG57","v":3.0031293697421546E-3},{"$f":"投入係数!BH57-諸係数!$R62*投入係数!BH57","v":5.3562558648123145E-3},{"$f":"投入係数!BI57-諸係数!$R62*投入係数!BI57","v":3.716185734890633E-3},{"$f":"投入係数!BJ57-諸係数!$R62*投入係数!BJ57","v":1.5584931071386076E-2},{"$f":"投入係数!BK57-諸係数!$R62*投入係数!BK57","v":2.94123465827172E-2},{"$f":"投入係数!BL57-諸係数!$R62*投入係数!BL57","v":7.5955555298700735E-3},{"$f":"投入係数!BM57-諸係数!$R62*投入係数!BM57","v":2.3308210300706654E-3},{"$f":"投入係数!BN57-諸係数!$R62*投入係数!BN57","v":4.5550292277852797E-3},{"$f":"投入係数!BO57-諸係数!$R62*投入係数!BO57","v":3.8988754791488655E-3},{"$f":"投入係数!BP57-諸係数!$R62*投入係数!BP57","v":4.5640612233835927E-2},{"$f":"投入係数!BQ57-諸係数!$R62*投入係数!BQ57","v":3.6744143974821437E-5},{"$f":"投入係数!BR57-諸係数!$R62*投入係数!BR57","v":3.793580003934796E-3},{"$f":"投入係数!BS57-諸係数!$R62*投入係数!BS57","v":4.1136404014209505E-4},{"$f":"投入係数!BT57-諸係数!$R62*投入係数!BT57","v":1.7204125044989262E-4},{"$f":"投入係数!BU57-諸係数!$R62*投入係数!BU57","v":8.34740765446496E-6},{"$f":"投入係数!BV57-諸係数!$R62*投入係数!BV57","v":6.0354959348901079E-5},{"$f":"投入係数!BW57-諸係数!$R62*投入係数!BW57","v":2.4509139942025773E-5},{"$f":"投入係数!BX57-諸係数!$R62*投入係数!BX57","v":9.8182437522783068E-6},{"$f":"投入係数!BY57-諸係数!$R62*投入係数!BY57","v":1.5133465227203853E-4},{"$f":"投入係数!BZ57-諸係数!$R62*投入係数!BZ57","v":1.5414792182450699E-3},{"$f":"投入係数!CA57-諸係数!$R62*投入係数!CA57","v":6.969742018426273E-4},{"$f":"投入係数!CB57-諸係数!$R62*投入係数!CB57","v":3.9092496386273492E-4},{"$f":"投入係数!CC57-諸係数!$R62*投入係数!CC57","v":5.2734040222859641E-4},{"$f":"投入係数!CD57-諸係数!$R62*投入係数!CD57","v":1.5748627508007451E-3},{"$f":"投入係数!CE57-諸係数!$R62*投入係数!CE57","v":1.4285247917208684E-3},{"$f":"投入係数!CF57-諸係数!$R62*投入係数!CF57","v":9.843543686796504E-4},{"$f":"投入係数!CG57-諸係数!$R62*投入係数!CG57","v":4.7338963501155219E-4},{"$f":"投入係数!CH57-諸係数!$R62*投入係数!CH57","v":4.2357268792127716E-3},{"$f":"投入係数!CI57-諸係数!$R62*投入係数!CI57","v":3.9978499438553831E-3}]
[null,"12","鉄鋼",{"$f":"投入係数!D58","v":1.7220622791650815E-5},{"$f":"投入係数!E58","v":1.2458722694373205E-6},{"$f":"投入係数!F58","v":1.1902991596814041E-4},{"$f":"投入係数!G58","v":4.7017328870916161E-4},{"$f":"投入係数!H58","v":0},{"$f":"投入係数!I58","v":4.3889275300286243E-5},{"$f":"投入係数!J58","v":2.7444728365581318E-3},{"$f":"投入係数!K58","v":5.5774040867725726E-5},{"$f":"投入係数!L58","v":0},{"$f":"投入係数!M58","v":5.2822860946280862E-4},{"$f":"投入係数!N58","v":2.9357935338251407E-3},{"$f":"投入係数!O58","v":0.19335676976573593},{"$f":"投入係数!P58","v":1.8911081123403791E-4},{"$f":"投入係数!Q58","v":8.3005451101879416E-2},{"$f":"投入係数!R58","v":3.3206089106315985E-2},{"$f":"投入係数!S58","v":2.9878479477776665E-2},{"$f":"投入係数!T58","v":6.7968831386101764E-3},{"$f":"投入係数!U58","v":1.4469241256818719E-3},{"$f":"投入係数!V58","v":1.9651700305914125E-2},{"$f":"投入係数!W58","v":3.5452306696352417E-3},{"$f":"投入係数!X58","v":1.5782242514970204E-2},{"$f":"投入係数!Y58","v":5.4855779292094318E-4},{"$f":"投入係数!Z58","v":7.7303752151443609E-3},{"$f":"投入係数!AA58","v":0},{"$f":"投入係数!AB58","v":8.4128350987118298E-6},{"$f":"投入係数!AC58","v":0},{"$f":"投入係数!AD58","v":0},{"$f":"投入係数!AE58","v":0},{"$f":"投入係数!AF58","v":0},{"$f":"投入係数!AG58","v":6.1725824358837387E-5},{"$f":"投入係数!AH58","v":0},{"$f":"投入係数!AI58","v":1.507771757273349E-5},{"$f":"投入係数!AJ58","v":0},{"$f":"投入係数!AK58","v":8.7856645482987355E-7},{"$f":"投入係数!AL58","v":1.3227939827739468E-6},{"$f":"投入係数!AM58","v":4.7345923759151246E-5},{"$f":"投入係数!AN58","v":6.8020704099839238E-6},{"$f":"投入係数!AO58","v":8.5365999449712041E-6},{"$f":"投入係数!AP58","v":7.4346184662924112E-7},{"$f":"投入係数!AQ58","v":1.9416914042471078E-5},{"$f":"投入係数!AR58","v":8.0750332085740706E-6},{"$f":"投入係数!AS58","v":1.6875362895483789E-3},{"$f":"投入係数!AT58-諸係数!$R63*投入係数!AT58","v":3.1790603660202085E-5},{"$f":"投入係数!AU58-諸係数!$R63*投入係数!AU58","v":9.3638074998133958E-6},{"$f":"投入係数!AV58-諸係数!$R63*投入係数!AV58","v":2.0885771720433318E-4},{"$f":"投入係数!AW58-諸係数!$R63*投入係数!AW58","v":2.5194617966427728E-3},{"$f":"投入係数!AX58-諸係数!$R63*投入係数!AX58","v":0},{"$f":"投入係数!AY58-諸係数!$R63*投入係数!AY58","v":1.4284438877346778E-4},{"$f":"投入係数!AZ58-諸係数!$R63*投入係数!AZ58","v":8.9589982383152644E-3},{"$f":"投入係数!BA58-諸係数!$R63*投入係数!BA58","v":2.8670073886680108E-5},{"$f":"投入係数!BB58-諸係数!$R63*投入係数!BB58","v":-3.0945352269021176E-7},{"$f":"投入係数!BC58-諸係数!$R63*投入係数!BC58","v":1.8769477010669331E-3},{"$f":"投入係数!BD58-諸係数!$R63*投入係数!BD58","v":7.3004978118718245E-3},{"$f":"投入係数!BE58-諸係数!$R63*投入係数!BE58","v":0.48112345517179084},{"$f":"投入係数!BF58-諸係数!$R63*投入係数!BF58","v":1.1011971453692595E-3},{"$f":"投入係数!BG58-諸係数!$R63*投入係数!BG58","v":0.20870438318017998},{"$f":"投入係数!BH58-諸係数!$R63*投入係数!BH58","v":0.10571201889384622},{"$f":"投入係数!BI58-諸係数!$R63*投入係数!BI58","v":8.5029397905712123E-2},{"$f":"投入係数!BJ58-諸係数!$R63*投入係数!BJ58","v":2.0669496474314746E-2},{"$f":"投入係数!BK58-諸係数!$R63*投入係数!BK58","v":5.2485299659133225E-3},{"$f":"投入係数!BL58-諸係数!$R63*投入係数!BL58","v":4.0932563173708296E-2},{"$f":"投入係数!BM58-諸係数!$R63*投入係数!BM58","v":8.2655678830289916E-3},{"$f":"投入係数!BN58-諸係数!$R63*投入係数!BN58","v":4.9379721488331869E-2},{"$f":"投入係数!BO58-諸係数!$R63*投入係数!BO58","v":3.0708104962749966E-3},{"$f":"投入係数!BP58-諸係数!$R63*投入係数!BP58","v":2.1638194456215121E-2},{"$f":"投入係数!BQ58-諸係数!$R63*投入係数!BQ58","v":0},{"$f":"投入係数!BR58-諸係数!$R63*投入係数!BR58","v":2.3678950163866206E-5},{"$f":"投入係数!BS58-諸係数!$R63*投入係数!BS58","v":0},{"$f":"投入係数!BT58-諸係数!$R63*投入係数!BT58","v":0},{"$f":"投入係数!BU58-諸係数!$R63*投入係数!BU58","v":0},{"$f":"投入係数!BV58-諸係数!$R63*投入係数!BV58","v":0},{"$f":"投入係数!BW58-諸係数!$R63*投入係数!BW58","v":2.3138888440553122E-4},{"$f":"投入係数!BX58-諸係数!$R63*投入係数!BX58","v":0},{"$f":"投入係数!BY58-諸係数!$R63*投入係数!BY58","v":3.1631613691022996E-5},{"$f":"投入係数!BZ58-諸係数!$R63*投入係数!BZ58","v":0},{"$f":"投入係数!CA58-諸係数!$R63*投入係数!CA58","v":2.5003899023168664E-6},{"$f":"投入係数!CB58-諸係数!$R63*投入係数!CB58","v":4.1994340427167987E-6},{"$f":"投入係数!CC58-諸係数!$R63*投入係数!CC58","v":1.000215018191593E-4},{"$f":"投入係数!CD58-諸係数!$R63*投入係数!CD58","v":1.974304381137441E-5},{"$f":"投入係数!CE58-諸係数!$R63*投入係数!CE58","v":2.2678566023101631E-5},{"$f":"投入係数!CF58-諸係数!$R63*投入係数!CF58","v":2.9233315866078559E-6},{"$f":"投入係数!CG58-諸係数!$R63*投入係数!CG58","v":4.4400509808906504E-5},{"$f":"投入係数!CH58-諸係数!$R63*投入係数!CH58","v":2.1506002764246572E-5},{"$f":"投入係数!CI58-諸係数!$R63*投入係数!CI58","v":4.5521816925527137E-3}]
[null,"13","非鉄金属",{"$f":"投入係数!D59","v":0},{"$f":"投入係数!E59","v":0},{"$f":"投入係数!F59","v":0},{"$f":"投入係数!G59","v":2.929254219338824E-4},{"$f":"投入係数!H59","v":6.2501568838194892E-4},{"$f":"投入係数!I59","v":1.8809689414408389E-6},{"$f":"投入係数!J59","v":1.4127556220104591E-3},{"$f":"投入係数!K59","v":6.6707861047779716E-3},{"$f":"投入係数!L59","v":9.9009092252464263E-7},{"$f":"投入係数!M59","v":1.4255226171524488E-3},{"$f":"投入係数!N59","v":4.459224381479345E-3},{"$f":"投入係数!O59","v":5.4144760828352054E-3},{"$f":"投入係数!P59","v":0.2580865408723228},{"$f":"投入係数!Q59","v":3.865362371854577E-2},{"$f":"投入係数!R59","v":2.1485606244162025E-2},{"$f":"投入係数!S59","v":1.0409443813313398E-2},{"$f":"投入係数!T59","v":3.3178130541516131E-2},{"$f":"投入係数!U59","v":3.0117682991238549E-2},{"$f":"投入係数!V59","v":3.4869115129795666E-2},{"$f":"投入係数!W59","v":1.2142579073297261E-2},{"$f":"投入係数!X59","v":7.3183811741503822E-3},{"$f":"投入係数!Y59","v":4.6189852373678753E-3},{"$f":"投入係数!Z59","v":4.348046551371245E-3},{"$f":"投入係数!AA59","v":1.1711741005660759E-4},{"$f":"投入係数!AB59","v":1.1789337834275901E-4},{"$f":"投入係数!AC59","v":2.194455791844052E-6},{"$f":"投入係数!AD59","v":6.6562892657063895E-6},{"$f":"投入係数!AE59","v":0},{"$f":"投入係数!AF59","v":0},{"$f":"投入係数!AG59","v":6.8515928561111656E-6},{"$f":"投入係数!AH59","v":3.9268019800125594E-5},{"$f":"投入係数!AI59","v":1.3201213514423986E-4},{"$f":"投入係数!AJ59","v":2.8133161431245832E-5},{"$f":"投入係数!AK59","v":6.9989465788532397E-4},{"$f":"投入係数!AL59","v":1.0821714582884002E-4},{"$f":"投入係数!AM59","v":2.2081295994707045E-4},{"$f":"投入係数!AN59","v":3.1387698098028912E-4},{"$f":"投入係数!AO59","v":1.7495029748778045E-4},{"$f":"投入係数!AP59","v":0},{"$f":"投入係数!AQ59","v":2.4830240992955481E-4},{"$f":"投入係数!AR59","v":4.985371692817277E-4},{"$f":"投入係数!AS59","v":1.9792406433688731E-3},{"$f":"投入係数!AT59-諸係数!$R64*投入係数!AT59","v":0},{"$f":"投入係数!AU59-諸係数!$R64*投入係数!AU59","v":0},{"$f":"投入係数!AV59-諸係数!$R64*投入係数!AV59","v":0},{"$f":"投入係数!AW59-諸係数!$R64*投入係数!AW59","v":4.3581959158199557E-4},{"$f":"投入係数!AX59-諸係数!$R64*投入係数!AX59","v":9.1792426000756157E-4},{"$f":"投入係数!AY59-諸係数!$R64*投入係数!AY59","v":5.1314314994588569E-6},{"$f":"投入係数!AZ59-諸係数!$R64*投入係数!AZ59","v":1.5926309220319359E-3},{"$f":"投入係数!BA59-諸係数!$R64*投入係数!BA59","v":2.9999152751489615E-3},{"$f":"投入係数!BB59-諸係数!$R64*投入係数!BB59","v":7.3404013016049387E-6},{"$f":"投入係数!BC59-諸係数!$R64*投入係数!BC59","v":1.4796048323420744E-3},{"$f":"投入係数!BD59-諸係数!$R64*投入係数!BD59","v":6.1417712180511352E-3},{"$f":"投入係数!BE59-諸係数!$R64*投入係数!BE59","v":5.2418189972589166E-3},{"$f":"投入係数!BF59-諸係数!$R64*投入係数!BF59","v":0.2538223859217727},{"$f":"投入係数!BG59-諸係数!$R64*投入係数!BG59","v":4.1085617304812083E-2},{"$f":"投入係数!BH59-諸係数!$R64*投入係数!BH59","v":2.3519421438312572E-2},{"$f":"投入係数!BI59-諸係数!$R64*投入係数!BI59","v":1.219731609155901E-2},{"$f":"投入係数!BJ59-諸係数!$R64*投入係数!BJ59","v":2.3057861179274223E-2},{"$f":"投入係数!BK59-諸係数!$R64*投入係数!BK59","v":2.8834287598472987E-2},{"$f":"投入係数!BL59-諸係数!$R64*投入係数!BL59","v":4.067990700199349E-2},{"$f":"投入係数!BM59-諸係数!$R64*投入係数!BM59","v":2.5620707851394628E-2},{"$f":"投入係数!BN59-諸係数!$R64*投入係数!BN59","v":1.5388951923811695E-2},{"$f":"投入係数!BO59-諸係数!$R64*投入係数!BO59","v":7.9134281863850325E-3},{"$f":"投入係数!BP59-諸係数!$R64*投入係数!BP59","v":5.6825270073139096E-3},{"$f":"投入係数!BQ59-諸係数!$R64*投入係数!BQ59","v":1.6999842535167877E-4},{"$f":"投入係数!BR59-諸係数!$R64*投入係数!BR59","v":1.6184161792900069E-4},{"$f":"投入係数!BS59-諸係数!$R64*投入係数!BS59","v":2.3007572284424167E-6},{"$f":"投入係数!BT59-諸係数!$R64*投入係数!BT59","v":8.3502608477895485E-6},{"$f":"投入係数!BU59-諸係数!$R64*投入係数!BU59","v":0},{"$f":"投入係数!BV59-諸係数!$R64*投入係数!BV59","v":0},{"$f":"投入係数!BW59-諸係数!$R64*投入係数!BW59","v":8.3193426655539005E-6},{"$f":"投入係数!BX59-諸係数!$R64*投入係数!BX59","v":4.3892180307750128E-5},{"$f":"投入係数!BY59-諸係数!$R64*投入係数!BY59","v":1.2714936792185359E-4},{"$f":"投入係数!BZ59-諸係数!$R64*投入係数!BZ59","v":5.86398390619369E-5},{"$f":"投入係数!CA59-諸係数!$R64*投入係数!CA59","v":7.772178146523101E-4},{"$f":"投入係数!CB59-諸係数!$R64*投入係数!CB59","v":1.3834136871741841E-4},{"$f":"投入係数!CC59-諸係数!$R64*投入係数!CC59","v":2.1575682304905884E-4},{"$f":"投入係数!CD59-諸係数!$R64*投入係数!CD59","v":4.0822462521273662E-4},{"$f":"投入係数!CE59-諸係数!$R64*投入係数!CE59","v":2.1007449081844549E-4},{"$f":"投入係数!CF59-諸係数!$R64*投入係数!CF59","v":0},{"$f":"投入係数!CG59-諸係数!$R64*投入係数!CG59","v":3.0078703219428159E-4},{"$f":"投入係数!CH59-諸係数!$R64*投入係数!CH59","v":5.9352549192847443E-4},{"$f":"投入係数!CI59-諸係数!$R64*投入係数!CI59","v":2.3992743473338516E-3}]
[null,"14","金属製品",{"$f":"投入係数!D60","v":6.9649190223294475E-4},{"$f":"投入係数!E60","v":2.3983041186668419E-4},{"$f":"投入係数!F60","v":9.2908556326912878E-4},{"$f":"投入係数!G60","v":7.1380514600932954E-3},{"$f":"投入係数!H60","v":5.3927846450416393E-3},{"$f":"投入係数!I60","v":1.1862644124020223E-3},{"$f":"投入係数!J60","v":8.1736276938412667E-3},{"$f":"投入係数!K60","v":4.6533968831927374E-3},{"$f":"投入係数!L60","v":6.657536378209452E-4},{"$f":"投入係数!M60","v":4.3834991542640077E-3},{"$f":"投入係数!N60","v":4.02301664272237E-3},{"$f":"投入係数!O60","v":2.6587811099366922E-4},{"$f":"投入係数!P60","v":8.5313791312369137E-4},{"$f":"投入係数!Q60","v":3.1558217795737295E-2},{"$f":"投入係数!R60","v":1.1823075066414343E-2},{"$f":"投入係数!S60","v":1.5467717156496301E-2},{"$f":"投入係数!T60","v":1.4590585672057262E-2},{"$f":"投入係数!U60","v":9.1136691150416251E-3},{"$f":"投入係数!V60","v":1.3191815642147726E-2},{"$f":"投入係数!W60","v":1.1632993171986334E-2},{"$f":"投入係数!X60","v":2.9827218678184332E-3},{"$f":"投入係数!Y60","v":4.1539955465876187E-3},{"$f":"投入係数!Z60","v":4.3326861382715409E-2},{"$f":"投入係数!AA60","v":2.1822163532717967E-4},{"$f":"投入係数!AB60","v":3.6004660483270761E-4},{"$f":"投入係数!AC60","v":7.6805952714541814E-5},{"$f":"投入係数!AD60","v":1.3757148461640202E-3},{"$f":"投入係数!AE60","v":5.0898243213600992E-5},{"$f":"投入係数!AF60","v":1.4093461722695108E-4},{"$f":"投入係数!AG60","v":6.0831603650180822E-4},{"$f":"投入係数!AH60","v":2.0927952233362092E-4},{"$f":"投入係数!AI60","v":2.5763266159663234E-3},{"$f":"投入係数!AJ60","v":8.5552326091123827E-5},{"$f":"投入係数!AK60","v":1.5828173380537288E-4},{"$f":"投入係数!AL60","v":1.1285952280648002E-3},{"$f":"投入係数!AM60","v":5.9425213990509768E-4},{"$f":"投入係数!AN60","v":4.2495408953095444E-4},{"$f":"投入係数!AO60","v":1.2911266498240792E-3},{"$f":"投入係数!AP60","v":8.8999577833584305E-5},{"$f":"投入係数!AQ60","v":2.111531924709024E-3},{"$f":"投入係数!AR60","v":1.8264956067012779E-4},{"$f":"投入係数!AS60","v":2.8196545350658245E-3},{"$f":"投入係数!AT60-諸係数!$R65*投入係数!AT60","v":1.1582395243671709E-3},{"$f":"投入係数!AU60-諸係数!$R65*投入係数!AU60","v":5.7615219067861767E-4},{"$f":"投入係数!AV60-諸係数!$R65*投入係数!AV60","v":1.3296774431541107E-3},{"$f":"投入係数!AW60-諸係数!$R65*投入係数!AW60","v":1.8170379587124922E-2},{"$f":"投入係数!AX60-諸係数!$R65*投入係数!AX60","v":1.073144392710608E-2},{"$f":"投入係数!AY60-諸係数!$R65*投入係数!AY60","v":2.1196144526373227E-3},{"$f":"投入係数!AZ60-諸係数!$R65*投入係数!AZ60","v":1.0696668982576506E-2},{"$f":"投入係数!BA60-諸係数!$R65*投入係数!BA60","v":7.7045893745402716E-3},{"$f":"投入係数!BB60-諸係数!$R65*投入係数!BB60","v":4.1617918604779374E-4},{"$f":"投入係数!BC60-諸係数!$R65*投入係数!BC60","v":5.9802340236864669E-3},{"$f":"投入係数!BD60-諸係数!$R65*投入係数!BD60","v":9.2508236916095544E-3},{"$f":"投入係数!BE60-諸係数!$R65*投入係数!BE60","v":7.7083863168250159E-4},{"$f":"投入係数!BF60-諸係数!$R65*投入係数!BF60","v":1.4919059245107678E-3},{"$f":"投入係数!BG60-諸係数!$R65*投入係数!BG60","v":6.2168389265774504E-2},{"$f":"投入係数!BH60-諸係数!$R65*投入係数!BH60","v":3.1482792487586293E-2},{"$f":"投入係数!BI60-諸係数!$R65*投入係数!BI60","v":2.8563704547014585E-2},{"$f":"投入係数!BJ60-諸係数!$R65*投入係数!BJ60","v":3.4287249271493681E-2},{"$f":"投入係数!BK60-諸係数!$R65*投入係数!BK60","v":1.8106253677537237E-2},{"$f":"投入係数!BL60-諸係数!$R65*投入係数!BL60","v":2.4037775055794665E-2},{"$f":"投入係数!BM60-諸係数!$R65*投入係数!BM60","v":2.3642471174071544E-2},{"$f":"投入係数!BN60-諸係数!$R65*投入係数!BN60","v":8.9553559942944071E-3},{"$f":"投入係数!BO60-諸係数!$R65*投入係数!BO60","v":1.0014338268127981E-2},{"$f":"投入係数!BP60-諸係数!$R65*投入係数!BP60","v":8.479427453417944E-2},{"$f":"投入係数!BQ60-諸係数!$R65*投入係数!BQ60","v":4.2500463555603227E-4},{"$f":"投入係数!BR60-諸係数!$R65*投入係数!BR60","v":7.0596858359320736E-4},{"$f":"投入係数!BS60-諸係数!$R65*投入係数!BS60","v":1.3392177566036418E-4},{"$f":"投入係数!BT60-諸係数!$R65*投入係数!BT60","v":2.5611967290191349E-3},{"$f":"投入係数!BU60-諸係数!$R65*投入係数!BU60","v":1.0133305879661923E-4},{"$f":"投入係数!BV60-諸係数!$R65*投入係数!BV60","v":2.7784586406331047E-4},{"$f":"投入係数!BW60-諸係数!$R65*投入係数!BW60","v":1.1284758179139298E-3},{"$f":"投入係数!BX60-諸係数!$R65*投入係数!BX60","v":3.2769095363063204E-4},{"$f":"投入係数!BY60-諸係数!$R65*投入係数!BY60","v":3.8752592870289538E-3},{"$f":"投入係数!BZ60-諸係数!$R65*投入係数!BZ60","v":1.5804297564357169E-4},{"$f":"投入係数!CA60-諸係数!$R65*投入係数!CA60","v":2.9766496101634089E-4},{"$f":"投入係数!CB60-諸係数!$R65*投入係数!CB60","v":2.1486739717665026E-3},{"$f":"投入係数!CC60-諸係数!$R65*投入係数!CC60","v":8.9085024200181507E-4},{"$f":"投入係数!CD60-諸係数!$R65*投入係数!CD60","v":8.3011934373915599E-4},{"$f":"投入係数!CE60-諸係数!$R65*投入係数!CE60","v":2.3179825551840347E-3},{"$f":"投入係数!CF60-諸係数!$R65*投入係数!CF60","v":1.3626179532761016E-4},{"$f":"投入係数!CG60-諸係数!$R65*投入係数!CG60","v":3.8298209419647916E-3},{"$f":"投入係数!CH60-諸係数!$R65*投入係数!CH60","v":3.2666766954260549E-4},{"$f":"投入係数!CI60-諸係数!$R65*投入係数!CI60","v":5.1333559795644157E-3}]
[null,"15","はん用機械",{"$f":"投入係数!D61","v":0},{"$f":"投入係数!E61","v":9.9669781554985637E-6},{"$f":"投入係数!F61","v":0},{"$f":"投入係数!G61","v":1.3791749802135407E-3},{"$f":"投入係数!H61","v":0},{"$f":"投入係数!I61","v":0},{"$f":"投入係数!J61","v":3.0292928503946378E-3},{"$f":"投入係数!K61","v":2.7979484029465855E-5},{"$f":"投入係数!L61","v":0},{"$f":"投入係数!M61","v":1.9627917633660241E-4},{"$f":"投入係数!N61","v":1.1976219834779166E-3},{"$f":"投入係数!O61","v":5.5714596787770761E-5},{"$f":"投入係数!P61","v":2.4815445818041169E-6},{"$f":"投入係数!Q61","v":7.0828389311040723E-4},{"$f":"投入係数!R61","v":0.12943340188791305},{"$f":"投入係数!S61","v":3.2812630599979985E-2},{"$f":"投入係数!T61","v":7.7189604420704249E-3},{"$f":"投入係数!U61","v":1.632355818981002E-3},{"$f":"投入係数!V61","v":8.9722285414194618E-3},{"$f":"投入係数!W61","v":2.4331086489631131E-3},{"$f":"投入係数!X61","v":2.1896851582131832E-3},{"$f":"投入係数!Y61","v":6.5021099879870867E-5},{"$f":"投入係数!Z61","v":5.055251216309742E-3},{"$f":"投入係数!AA61","v":0},{"$f":"投入係数!AB61","v":7.9088039580342759E-3},{"$f":"投入係数!AC61","v":0},{"$f":"投入係数!AD61","v":3.026460160897199E-6},{"$f":"投入係数!AE61","v":2.0050519288399049E-8},{"$f":"投入係数!AF61","v":0},{"$f":"投入係数!AG61","v":6.5116484413271883E-5},{"$f":"投入係数!AH61","v":3.4460559087867535E-6},{"$f":"投入係数!AI61","v":3.1384045201146154E-4},{"$f":"投入係数!AJ61","v":0},{"$f":"投入係数!AK61","v":9.318129066377447E-8},{"$f":"投入係数!AL61","v":0},{"$f":"投入係数!AM61","v":6.2504738179760483E-3},{"$f":"投入係数!AN61","v":0},{"$f":"投入係数!AO61","v":0},{"$f":"投入係数!AP61","v":0},{"$f":"投入係数!AQ61","v":2.8968614491781397E-5},{"$f":"投入係数!AR61","v":0},{"$f":"投入係数!AS61","v":0},{"$f":"投入係数!AT61-諸係数!$R66*投入係数!AT61","v":0},{"$f":"投入係数!AU61-諸係数!$R66*投入係数!AU61","v":2.4549527956727183E-5},{"$f":"投入係数!AV61-諸係数!$R66*投入係数!AV61","v":0},{"$f":"投入係数!AW61-諸係数!$R66*投入係数!AW61","v":1.7954730374120896E-3},{"$f":"投入係数!AX61-諸係数!$R66*投入係数!AX61","v":0},{"$f":"投入係数!AY61-諸係数!$R66*投入係数!AY61","v":0},{"$f":"投入係数!AZ61-諸係数!$R66*投入係数!AZ61","v":8.6061609822192292E-4},{"$f":"投入係数!BA61-諸係数!$R66*投入係数!BA61","v":1.6803084553892105E-5},{"$f":"投入係数!BB61-諸係数!$R66*投入係数!BB61","v":0},{"$f":"投入係数!BC61-諸係数!$R66*投入係数!BC61","v":3.102998904510202E-4},{"$f":"投入係数!BD61-諸係数!$R66*投入係数!BD61","v":1.7203412094243362E-3},{"$f":"投入係数!BE61-諸係数!$R66*投入係数!BE61","v":9.9440175856455059E-5},{"$f":"投入係数!BF61-諸係数!$R66*投入係数!BF61","v":1.2442648145705359E-5},{"$f":"投入係数!BG61-諸係数!$R66*投入係数!BG61","v":8.4113345362894971E-4},{"$f":"投入係数!BH61-諸係数!$R66*投入係数!BH61","v":0.12641364600932636},{"$f":"投入係数!BI61-諸係数!$R66*投入係数!BI61","v":3.1821969073028498E-2},{"$f":"投入係数!BJ61-諸係数!$R66*投入係数!BJ61","v":1.2084240576775016E-2},{"$f":"投入係数!BK61-諸係数!$R66*投入係数!BK61","v":1.7844346557151735E-3},{"$f":"投入係数!BL61-諸係数!$R66*投入係数!BL61","v":1.0709698846177328E-2},{"$f":"投入係数!BM61-諸係数!$R66*投入係数!BM61","v":1.7626922325151622E-3},{"$f":"投入係数!BN61-諸係数!$R66*投入係数!BN61","v":6.5301408305159939E-3},{"$f":"投入係数!BO61-諸係数!$R66*投入係数!BO61","v":4.2547093366669534E-4},{"$f":"投入係数!BP61-諸係数!$R66*投入係数!BP61","v":5.2021795937327022E-3},{"$f":"投入係数!BQ61-諸係数!$R66*投入係数!BQ61","v":0},{"$f":"投入係数!BR61-諸係数!$R66*投入係数!BR61","v":8.3389961510090607E-3},{"$f":"投入係数!BS61-諸係数!$R66*投入係数!BS61","v":0},{"$f":"投入係数!BT61-諸係数!$R66*投入係数!BT61","v":3.4526858510300616E-6},{"$f":"投入係数!BU61-諸係数!$R66*投入係数!BU61","v":2.2825479963899805E-8},{"$f":"投入係数!BV61-諸係数!$R66*投入係数!BV61","v":0},{"$f":"投入係数!BW61-諸係数!$R66*投入係数!BW61","v":7.0042562250962495E-5},{"$f":"投入係数!BX61-諸係数!$R66*投入係数!BX61","v":4.6651481578055534E-6},{"$f":"投入係数!BY61-諸係数!$R66*投入係数!BY61","v":2.6741725993702144E-4},{"$f":"投入係数!BZ61-諸係数!$R66*投入係数!BZ61","v":0},{"$f":"投入係数!CA61-諸係数!$R66*投入係数!CA61","v":1.2074616594536551E-7},{"$f":"投入係数!CB61-諸係数!$R66*投入係数!CB61","v":0},{"$f":"投入係数!CC61-諸係数!$R66*投入係数!CC61","v":5.3091159483047148E-3},{"$f":"投入係数!CD61-諸係数!$R66*投入係数!CD61","v":0},{"$f":"投入係数!CE61-諸係数!$R66*投入係数!CE61","v":0},{"$f":"投入係数!CF61-諸係数!$R66*投入係数!CF61","v":0},{"$f":"投入係数!CG61-諸係数!$R66*投入係数!CG61","v":2.4695898994013096E-5},{"$f":"投入係数!CH61-諸係数!$R66*投入係数!CH61","v":0},{"$f":"投入係数!CI61-諸係数!$R66*投入係数!CI61","v":0}]
[null,"16","生産用機械",{"$f":"投入係数!D62","v":0},{"$f":"投入係数!E62","v":4.7966082373336838E-5},{"$f":"投入係数!F62","v":0},{"$f":"投入係数!G62","v":1.172821147946742E-3},{"$f":"投入係数!H62","v":0},{"$f":"投入係数!I62","v":0},{"$f":"投入係数!J62","v":8.7408035588088697E-5},{"$f":"投入係数!K62","v":0},{"$f":"投入係数!L62","v":9.1583410333529461E-6},{"$f":"投入係数!M62","v":1.1511755030483299E-3},{"$f":"投入係数!N62","v":1.2769659457788592E-3},{"$f":"投入係数!O62","v":5.8039842128407357E-5},{"$f":"投入係数!P62","v":1.0970138461630616E-4},{"$f":"投入係数!Q62","v":2.8321349220483043E-4},{"$f":"投入係数!R62","v":4.7719677586796332E-3},{"$f":"投入係数!S62","v":9.5784453378382359E-2},{"$f":"投入係数!T62","v":7.2689588349218281E-4},{"$f":"投入係数!U62","v":2.1102060746631319E-3},{"$f":"投入係数!V62","v":2.5558025728132346E-3},{"$f":"投入係数!W62","v":4.7677994199906397E-4},{"$f":"投入係数!X62","v":3.3431581408188932E-4},{"$f":"投入係数!Y62","v":2.1034148157859864E-5},{"$f":"投入係数!Z62","v":3.75799766481083E-5},{"$f":"投入係数!AA62","v":3.443394630563579E-6},{"$f":"投入係数!AB62","v":1.6746089324868278E-4},{"$f":"投入係数!AC62","v":0},{"$f":"投入係数!AD62","v":2.1490511388737855E-6},{"$f":"投入係数!AE62","v":0},{"$f":"投入係数!AF62","v":0},{"$f":"投入係数!AG62","v":3.4995828126598572E-5},{"$f":"投入係数!AH62","v":2.4128469061522772E-6},{"$f":"投入係数!AI62","v":1.3039986435428419E-5},{"$f":"投入係数!AJ62","v":0},{"$f":"投入係数!AK62","v":0},{"$f":"投入係数!AL62","v":0},{"$f":"投入係数!AM62","v":8.1072323168034869E-3},{"$f":"投入係数!AN62","v":0},{"$f":"投入係数!AO62","v":0},{"$f":"投入係数!AP62","v":2.3742813811708021E-6},{"$f":"投入係数!AQ62","v":2.2886459501082706E-5},{"$f":"投入係数!AR62","v":0},{"$f":"投入係数!AS62","v":0},{"$f":"投入係数!AT62-諸係数!$R67*投入係数!AT62","v":0},{"$f":"投入係数!AU62-諸係数!$R67*投入係数!AU62","v":1.2583795363687783E-4},{"$f":"投入係数!AV62-諸係数!$R67*投入係数!AV62","v":0},{"$f":"投入係数!AW62-諸係数!$R67*投入係数!AW62","v":1.7067743309996954E-3},{"$f":"投入係数!AX62-諸係数!$R67*投入係数!AX62","v":0},{"$f":"投入係数!AY62-諸係数!$R67*投入係数!AY62","v":0},{"$f":"投入係数!AZ62-諸係数!$R67*投入係数!AZ62","v":7.8956334707132474E-5},{"$f":"投入係数!BA62-諸係数!$R67*投入係数!BA62","v":0},{"$f":"投入係数!BB62-諸係数!$R67*投入係数!BB62","v":1.1496606015786008E-5},{"$f":"投入係数!BC62-諸係数!$R67*投入係数!BC62","v":2.086337972917171E-3},{"$f":"投入係数!BD62-諸係数!$R67*投入係数!BD62","v":1.0729238321225427E-3},{"$f":"投入係数!BE62-諸係数!$R67*投入係数!BE62","v":1.170325993744517E-4},{"$f":"投入係数!BF62-諸係数!$R67*投入係数!BF62","v":1.0382086715483589E-4},{"$f":"投入係数!BG62-諸係数!$R67*投入係数!BG62","v":4.0293222074235256E-4},{"$f":"投入係数!BH62-諸係数!$R67*投入係数!BH62","v":3.9267451837723694E-3},{"$f":"投入係数!BI62-諸係数!$R67*投入係数!BI62","v":0.11968451093452498},{"$f":"投入係数!BJ62-諸係数!$R67*投入係数!BJ62","v":1.5445720202383782E-3},{"$f":"投入係数!BK62-諸係数!$R67*投入係数!BK62","v":2.4505282912014631E-3},{"$f":"投入係数!BL62-諸係数!$R67*投入係数!BL62","v":1.893266497236229E-3},{"$f":"投入係数!BM62-諸係数!$R67*投入係数!BM62","v":7.3891993672142394E-4},{"$f":"投入係数!BN62-諸係数!$R67*投入係数!BN62","v":7.5096504179145585E-4},{"$f":"投入係数!BO62-諸係数!$R67*投入係数!BO62","v":1.0190187031776141E-4},{"$f":"投入係数!BP62-諸係数!$R67*投入係数!BP62","v":5.7833192966584904E-5},{"$f":"投入係数!BQ62-諸係数!$R67*投入係数!BQ62","v":4.4152107263775978E-6},{"$f":"投入係数!BR62-諸係数!$R67*投入係数!BR62","v":2.0225988575490192E-4},{"$f":"投入係数!BS62-諸係数!$R67*投入係数!BS62","v":0},{"$f":"投入係数!BT62-諸係数!$R67*投入係数!BT62","v":2.7251555438460965E-6},{"$f":"投入係数!BU62-諸係数!$R67*投入係数!BU62","v":0},{"$f":"投入係数!BV62-諸係数!$R67*投入係数!BV62","v":0},{"$f":"投入係数!BW62-諸係数!$R67*投入係数!BW62","v":3.5988583153918344E-5},{"$f":"投入係数!BX62-諸係数!$R67*投入係数!BX62","v":2.3506409968198534E-6},{"$f":"投入係数!BY62-諸係数!$R67*投入係数!BY62","v":1.3165491476364635E-5},{"$f":"投入係数!BZ62-諸係数!$R67*投入係数!BZ62","v":0},{"$f":"投入係数!CA62-諸係数!$R67*投入係数!CA62","v":0},{"$f":"投入係数!CB62-諸係数!$R67*投入係数!CB62","v":0},{"$f":"投入係数!CC62-諸係数!$R67*投入係数!CC62","v":7.8688884941749259E-3},{"$f":"投入係数!CD62-諸係数!$R67*投入係数!CD62","v":0},{"$f":"投入係数!CE62-諸係数!$R67*投入係数!CE62","v":0},{"$f":"投入係数!CF62-諸係数!$R67*投入係数!CF62","v":4.4739940313468726E-6},{"$f":"投入係数!CG62-諸係数!$R67*投入係数!CG62","v":2.6462873607821468E-5},{"$f":"投入係数!CH62-諸係数!$R67*投入係数!CH62","v":0},{"$f":"投入係数!CI62-諸係数!$R67*投入係数!CI62","v":0}]
[null,"17","業務用機械",{"$f":"投入係数!D63","v":5.2123493461441915E-4},{"$f":"投入係数!E63","v":1.8688084041559805E-5},{"$f":"投入係数!F63","v":1.2392155635039276E-5},{"$f":"投入係数!G63","v":0},{"$f":"投入係数!H63","v":5.22814836338642E-7},{"$f":"投入係数!I63","v":0},{"$f":"投入係数!J63","v":0},{"$f":"投入係数!K63","v":3.6985438241197433E-8},{"$f":"投入係数!L63","v":0},{"$f":"投入係数!M63","v":0},{"$f":"投入係数!N63","v":0},{"$f":"投入係数!O63","v":0},{"$f":"投入係数!P63","v":0},{"$f":"投入係数!Q63","v":1.4067967294389373E-5},{"$f":"投入係数!R63","v":2.811351104539987E-3},{"$f":"投入係数!S63","v":4.0294839571720364E-3},{"$f":"投入係数!T63","v":5.5066332637934978E-2},{"$f":"投入係数!U63","v":0},{"$f":"投入係数!V63","v":1.3876079924816822E-3},{"$f":"投入係数!W63","v":3.6633321231579455E-4},{"$f":"投入係数!X63","v":1.8167368707629832E-4},{"$f":"投入係数!Y63","v":1.2624041960283125E-4},{"$f":"投入係数!Z63","v":1.5754721205861786E-4},{"$f":"投入係数!AA63","v":0},{"$f":"投入係数!AB63","v":7.7136602898324012E-5},{"$f":"投入係数!AC63","v":2.3069919862975926E-5},{"$f":"投入係数!AD63","v":8.743224653541586E-4},{"$f":"投入係数!AE63","v":8.1806118696668121E-6},{"$f":"投入係数!AF63","v":0},{"$f":"投入係数!AG63","v":3.7912147137148445E-5},{"$f":"投入係数!AH63","v":1.2282423961317726E-4},{"$f":"投入係数!AI63","v":3.200447088661428E-3},{"$f":"投入係数!AJ63","v":0},{"$f":"投入係数!AK63","v":9.0428482384339905E-3},{"$f":"投入係数!AL63","v":0},{"$f":"投入係数!AM63","v":3.4861334596777453E-3},{"$f":"投入係数!AN63","v":2.7629028263233672E-5},{"$f":"投入係数!AO63","v":0},{"$f":"投入係数!AP63","v":3.8349920486755499E-3},{"$f":"投入係数!AQ63","v":2.2516513991339179E-4},{"$f":"投入係数!AR63","v":2.0002434045724299E-2},{"$f":"投入係数!AS63","v":0},{"$f":"投入係数!AT63-諸係数!$R68*投入係数!AT63","v":2.6383036065520861E-4},{"$f":"投入係数!AU63-諸係数!$R68*投入係数!AU63","v":2.786062184799004E-5},{"$f":"投入係数!AV63-諸係数!$R68*投入係数!AV63","v":6.4030489810947576E-6},{"$f":"投入係数!AW63-諸係数!$R68*投入係数!AW63","v":0},{"$f":"投入係数!AX63-諸係数!$R68*投入係数!AX63","v":1.4977410339469515E-7},{"$f":"投入係数!AY63-諸係数!$R68*投入係数!AY63","v":0},{"$f":"投入係数!AZ63-諸係数!$R68*投入係数!AZ63","v":0},{"$f":"投入係数!BA63-諸係数!$R68*投入係数!BA63","v":5.2738392011120625E-7},{"$f":"投入係数!BB63-諸係数!$R68*投入係数!BB63","v":0},{"$f":"投入係数!BC63-諸係数!$R68*投入係数!BC63","v":0},{"$f":"投入係数!BD63-諸係数!$R68*投入係数!BD63","v":0},{"$f":"投入係数!BE63-諸係数!$R68*投入係数!BE63","v":0},{"$f":"投入係数!BF63-諸係数!$R68*投入係数!BF63","v":0},{"$f":"投入係数!BG63-諸係数!$R68*投入係数!BG63","v":1.2733182861520598E-5},{"$f":"投入係数!BH63-諸係数!$R68*投入係数!BH63","v":1.8113124639038338E-3},{"$f":"投入係数!BI63-諸係数!$R68*投入係数!BI63","v":3.8611559330004328E-3},{"$f":"投入係数!BJ63-諸係数!$R68*投入係数!BJ63","v":5.8883412614365832E-2},{"$f":"投入係数!BK63-諸係数!$R68*投入係数!BK63","v":8.3846285690730509E-5},{"$f":"投入係数!BL63-諸係数!$R68*投入係数!BL63","v":6.319216812924797E-4},{"$f":"投入係数!BM63-諸係数!$R68*投入係数!BM63","v":8.6793110729587526E-4},{"$f":"投入係数!BN63-諸係数!$R68*投入係数!BN63","v":2.7129453269668255E-4},{"$f":"投入係数!BO63-諸係数!$R68*投入係数!BO63","v":1.202835397372776E-4},{"$f":"投入係数!BP63-諸係数!$R68*投入係数!BP63","v":1.3578943775626167E-4},{"$f":"投入係数!BQ63-諸係数!$R68*投入係数!BQ63","v":0},{"$f":"投入係数!BR63-諸係数!$R68*投入係数!BR63","v":6.7534924014537337E-5},{"$f":"投入係数!BS63-諸係数!$R68*投入係数!BS63","v":1.914282979149351E-5},{"$f":"投入係数!BT63-諸係数!$R68*投入係数!BT63","v":7.5288029005566963E-4},{"$f":"投入係数!BU63-諸係数!$R68*投入係数!BU63","v":8.078413369082546E-6},{"$f":"投入係数!BV63-諸係数!$R68*投入係数!BV63","v":0},{"$f":"投入係数!BW63-諸係数!$R68*投入係数!BW63","v":1.8041439922330995E-5},{"$f":"投入係数!BX63-諸係数!$R68*投入係数!BX63","v":1.3677970071389572E-4},{"$f":"投入係数!BY63-諸係数!$R68*投入係数!BY63","v":2.1973276551230589E-3},{"$f":"投入係数!BZ63-諸係数!$R68*投入係数!BZ63","v":0},{"$f":"投入係数!CA63-諸係数!$R68*投入係数!CA63","v":7.1685819495885296E-3},{"$f":"投入係数!CB63-諸係数!$R68*投入係数!CB63","v":0},{"$f":"投入係数!CC63-諸係数!$R68*投入係数!CC63","v":2.451283551868915E-3},{"$f":"投入係数!CD63-諸係数!$R68*投入係数!CD63","v":2.5780256190619406E-5},{"$f":"投入係数!CE63-諸係数!$R68*投入係数!CE63","v":0},{"$f":"投入係数!CF63-諸係数!$R68*投入係数!CF63","v":2.3185761018236612E-3},{"$f":"投入係数!CG63-諸係数!$R68*投入係数!CG63","v":2.171503221711031E-4},{"$f":"投入係数!CH63-諸係数!$R68*投入係数!CH63","v":1.7068365235884703E-2},{"$f":"投入係数!CI63-諸係数!$R68*投入係数!CI63","v":0}]
[null,"18","電子部品",{"$f":"投入係数!D64","v":0},{"$f":"投入係数!E64","v":0},{"$f":"投入係数!F64","v":1.6305467940841155E-6},{"$f":"投入係数!G64","v":1.6791903168184344E-5},{"$f":"投入係数!H64","v":6.3619636711087767E-7},{"$f":"投入係数!I64","v":2.089965490489821E-7},{"$f":"投入係数!J64","v":4.1844272355999906E-6},{"$f":"投入係数!K64","v":1.3314757766831074E-6},{"$f":"投入係数!L64","v":0},{"$f":"投入係数!M64","v":8.2940704135475349E-8},{"$f":"投入係数!N64","v":1.0039303538710599E-7},{"$f":"投入係数!O64","v":3.1683481546780476E-7},{"$f":"投入係数!P64","v":1.7456382575449653E-5},{"$f":"投入係数!Q64","v":3.7235966989249863E-4},{"$f":"投入係数!R64","v":4.2566100845276272E-3},{"$f":"投入係数!S64","v":5.770297076326307E-3},{"$f":"投入係数!T64","v":3.3927487778893532E-2},{"$f":"投入係数!U64","v":8.7642910366730831E-2},{"$f":"投入係数!V64","v":4.1650974264265124E-2},{"$f":"投入係数!W64","v":8.2924716884571148E-2},{"$f":"投入係数!X64","v":1.3261813679896748E-3},{"$f":"投入係数!Y64","v":5.9165647825115274E-4},{"$f":"投入係数!Z64","v":8.5767042529468805E-5},{"$f":"投入係数!AA64","v":1.3997539148632435E-6},{"$f":"投入係数!AB64","v":5.7980350004635584E-6},{"$f":"投入係数!AC64","v":0},{"$f":"投入係数!AD64","v":6.1707094781756237E-6},{"$f":"投入係数!AE64","v":1.1097962426128875E-5},{"$f":"投入係数!AF64","v":0},{"$f":"投入係数!AG64","v":2.3146086122888358E-6},{"$f":"投入係数!AH64","v":3.2259823912256095E-4},{"$f":"投入係数!AI64","v":7.756664627343163E-4},{"$f":"投入係数!AJ64","v":2.4872084081733071E-4},{"$f":"投入係数!AK64","v":1.0216662940635271E-6},{"$f":"投入係数!AL64","v":0},{"$f":"投入係数!AM64","v":3.4157036603451618E-3},{"$f":"投入係数!AN64","v":2.1037331164898734E-7},{"$f":"投入係数!AO64","v":0},{"$f":"投入係数!AP64","v":2.3982640213846486E-8},{"$f":"投入係数!AQ64","v":1.5592053687495614E-5},{"$f":"投入係数!AR64","v":1.0187038918007076E-2},{"$f":"投入係数!AS64","v":0},{"$f":"投入係数!AT64-諸係数!$R69*投入係数!AT64","v":0},{"$f":"投入係数!AU64-諸係数!$R69*投入係数!AU64","v":0},{"$f":"投入係数!AV64-諸係数!$R69*投入係数!AV64","v":4.5906828420069374E-6},{"$f":"投入係数!AW64-諸係数!$R69*投入係数!AW64","v":1.4392412337102358E-5},{"$f":"投入係数!AX64-諸係数!$R69*投入係数!AX64","v":1.0845911268423823E-6},{"$f":"投入係数!AY64-諸係数!$R69*投入係数!AY64","v":5.1131374157531172E-7},{"$f":"投入係数!AZ64-諸係数!$R69*投入係数!AZ64","v":6.2177934127074489E-6},{"$f":"投入係数!BA64-諸係数!$R69*投入係数!BA64","v":3.2038630455708249E-6},{"$f":"投入係数!BB64-諸係数!$R69*投入係数!BB64","v":3.646266683297361E-7},{"$f":"投入係数!BC64-諸係数!$R69*投入係数!BC64","v":3.0881902567036442E-7},{"$f":"投入係数!BD64-諸係数!$R69*投入係数!BD64","v":1.9308575629485776E-7},{"$f":"投入係数!BE64-諸係数!$R69*投入係数!BE64","v":6.6734660919295139E-7},{"$f":"投入係数!BF64-諸係数!$R69*投入係数!BF64","v":8.3409472803276741E-5},{"$f":"投入係数!BG64-諸係数!$R69*投入係数!BG64","v":1.640125347542731E-3},{"$f":"投入係数!BH64-諸係数!$R69*投入係数!BH64","v":4.5038718386104636E-3},{"$f":"投入係数!BI64-諸係数!$R69*投入係数!BI64","v":5.6432936472537512E-3},{"$f":"投入係数!BJ64-諸係数!$R69*投入係数!BJ64","v":8.2371619636978005E-2},{"$f":"投入係数!BK64-諸係数!$R69*投入係数!BK64","v":0.16876879003273887},{"$f":"投入係数!BL64-諸係数!$R69*投入係数!BL64","v":8.8522396173361856E-2},{"$f":"投入係数!BM64-諸係数!$R69*投入係数!BM64","v":0.19039804891922585},{"$f":"投入係数!BN64-諸係数!$R69*投入係数!BN64","v":6.740849187849526E-3},{"$f":"投入係数!BO64-諸係数!$R69*投入係数!BO64","v":4.38099951018181E-3},{"$f":"投入係数!BP64-諸係数!$R69*投入係数!BP64","v":1.8978486591270311E-4},{"$f":"投入係数!BQ64-諸係数!$R69*投入係数!BQ64","v":3.2718690502579348E-6},{"$f":"投入係数!BR64-諸係数!$R69*投入係数!BR64","v":1.2742602238762851E-5},{"$f":"投入係数!BS64-諸係数!$R69*投入係数!BS64","v":0},{"$f":"投入係数!BT64-諸係数!$R69*投入係数!BT64","v":1.50050686497652E-5},{"$f":"投入係数!BU64-諸係数!$R69*投入係数!BU64","v":2.7300217383348575E-5},{"$f":"投入係数!BV64-諸係数!$R69*投入係数!BV64","v":0},{"$f":"投入係数!BW64-諸係数!$R69*投入係数!BW64","v":3.2968847845197504E-6},{"$f":"投入係数!BX64-諸係数!$R69*投入係数!BX64","v":8.4957959898866319E-4},{"$f":"投入係数!BY64-諸係数!$R69*投入係数!BY64","v":1.338862287575673E-3},{"$f":"投入係数!BZ64-諸係数!$R69*投入係数!BZ64","v":9.1916620655884372E-4},{"$f":"投入係数!CA64-諸係数!$R69*投入係数!CA64","v":2.5955137009584865E-6},{"$f":"投入係数!CB64-諸係数!$R69*投入係数!CB64","v":0},{"$f":"投入係数!CC64-諸係数!$R69*投入係数!CC64","v":5.942086052388806E-3},{"$f":"投入係数!CD64-諸係数!$R69*投入係数!CD64","v":4.8185793291613778E-7},{"$f":"投入係数!CE64-諸係数!$R69*投入係数!CE64","v":0},{"$f":"投入係数!CF64-諸係数!$R69*投入係数!CF64","v":1.2988643939004004E-7},{"$f":"投入係数!CG64-諸係数!$R69*投入係数!CG64","v":3.2517028894239988E-5},{"$f":"投入係数!CH64-諸係数!$R69*投入係数!CH64","v":2.1921163480243061E-2},{"$f":"投入係数!CI64-諸係数!$R69*投入係数!CI64","v":0}]
[null,"19","電気機械",{"$f":"投入係数!D65","v":2.027136249366821E-5},{"$f":"投入係数!E65","v":0},{"$f":"投入係数!F65","v":7.3439827605548548E-4},{"$f":"投入係数!G65","v":4.888309588960331E-4},{"$f":"投入係数!H65","v":6.2989739317908687E-7},{"$f":"投入係数!I65","v":0},{"$f":"投入係数!J65","v":2.0526940272415511E-4},{"$f":"投入係数!K65","v":7.0272332658275113E-7},{"$f":"投入係数!L65","v":0},{"$f":"投入係数!M65","v":8.418481469750746E-6},{"$f":"投入係数!N65","v":2.8110049908389684E-5},{"$f":"投入係数!O65","v":0},{"$f":"投入係数!P65","v":6.6744992200248675E-6},{"$f":"投入係数!Q65","v":5.3066844829526103E-4},{"$f":"投入係数!R65","v":1.1268675144220518E-2},{"$f":"投入係数!S65","v":1.6699727469112184E-2},{"$f":"投入係数!T65","v":8.8528715485515705E-3},{"$f":"投入係数!U65","v":2.4808532891629008E-2},{"$f":"投入係数!V65","v":4.5203037269358239E-2},{"$f":"投入係数!W65","v":1.4070475948857694E-2},{"$f":"投入係数!X65","v":2.1103516135072106E-2},{"$f":"投入係数!Y65","v":2.6303344394026446E-4},{"$f":"投入係数!Z65","v":4.4773383687819676E-3},{"$f":"投入係数!AA65","v":1.6517096195386273E-6},{"$f":"投入係数!AB65","v":1.0652468226341869E-4},{"$f":"投入係数!AC65","v":0},{"$f":"投入係数!AD65","v":1.1945983931357133E-4},{"$f":"投入係数!AE65","v":1.2631827151691401E-6},{"$f":"投入係数!AF65","v":8.4870071259291635E-6},{"$f":"投入係数!AG65","v":1.3525307820765598E-4},{"$f":"投入係数!AH65","v":1.1344027078925E-4},{"$f":"投入係数!AI65","v":1.2595790904362395E-3},{"$f":"投入係数!AJ65","v":3.4796077476803052E-4},{"$f":"投入係数!AK65","v":4.4054783064537369E-5},{"$f":"投入係数!AL65","v":0},{"$f":"投入係数!AM65","v":4.0425216996360404E-3},{"$f":"投入係数!AN65","v":5.1541461354001897E-5},{"$f":"投入係数!AO65","v":2.4337037329806083E-5},{"$f":"投入係数!AP65","v":3.9437053567649162E-4},{"$f":"投入係数!AQ65","v":4.531309972451809E-5},{"$f":"投入係数!AR65","v":0},{"$f":"投入係数!AS65","v":6.597468811229577E-4},{"$f":"投入係数!AT65-諸係数!$R70*投入係数!AT65","v":2.7859070234205535E-5},{"$f":"投入係数!AU65-諸係数!$R70*投入係数!AU65","v":0},{"$f":"投入係数!AV65-諸係数!$R70*投入係数!AV65","v":1.0146258086146029E-3},{"$f":"投入係数!AW65-諸係数!$R70*投入係数!AW65","v":2.1805317469946931E-4},{"$f":"投入係数!AX65-諸係数!$R70*投入係数!AX65","v":2.4007564308084674E-7},{"$f":"投入係数!AY65-諸係数!$R70*投入係数!AY65","v":0},{"$f":"投入係数!AZ65-諸係数!$R70*投入係数!AZ65","v":9.2842483184008121E-5},{"$f":"投入係数!BA65-諸係数!$R70*投入係数!BA65","v":1.9441147127594363E-6},{"$f":"投入係数!BB65-諸係数!$R70*投入係数!BB65","v":0},{"$f":"投入係数!BC65-諸係数!$R70*投入係数!BC65","v":1.4554480284859213E-5},{"$f":"投入係数!BD65-諸係数!$R70*投入係数!BD65","v":2.7693253645495646E-5},{"$f":"投入係数!BE65-諸係数!$R70*投入係数!BE65","v":0},{"$f":"投入係数!BF65-諸係数!$R70*投入係数!BF65","v":1.4657930007401572E-5},{"$f":"投入係数!BG65-諸係数!$R70*投入係数!BG65","v":5.3606709450683236E-4},{"$f":"投入係数!BH65-諸係数!$R70*投入係数!BH65","v":1.5536664342448287E-2},{"$f":"投入係数!BI65-諸係数!$R70*投入係数!BI65","v":1.5042373201846454E-2},{"$f":"投入係数!BJ65-諸係数!$R70*投入係数!BJ65","v":1.2782850267779243E-2},{"$f":"投入係数!BK65-諸係数!$R70*投入係数!BK65","v":1.3193189860290191E-2},{"$f":"投入係数!BL65-諸係数!$R70*投入係数!BL65","v":7.6955652653426465E-2},{"$f":"投入係数!BM65-諸係数!$R70*投入係数!BM65","v":1.2459410748030468E-2},{"$f":"投入係数!BN65-諸係数!$R70*投入係数!BN65","v":2.0808160552496485E-2},{"$f":"投入係数!BO65-諸係数!$R70*投入係数!BO65","v":8.8148184358725218E-4},{"$f":"投入係数!BP65-諸係数!$R70*投入係数!BP65","v":5.3076480107570791E-3},{"$f":"投入係数!BQ65-諸係数!$R70*投入係数!BQ65","v":2.0828798867481309E-6},{"$f":"投入係数!BR65-諸係数!$R70*投入係数!BR65","v":1.222339082706148E-4},{"$f":"投入係数!BS65-諸係数!$R70*投入係数!BS65","v":0},{"$f":"投入係数!BT65-諸係数!$R70*投入係数!BT65","v":1.4475362110536892E-4},{"$f":"投入係数!BU65-諸係数!$R70*投入係数!BU65","v":1.6748099838065011E-6},{"$f":"投入係数!BV65-諸係数!$R70*投入係数!BV65","v":8.0971989975610482E-6},{"$f":"投入係数!BW65-諸係数!$R70*投入係数!BW65","v":1.3420892362947252E-4},{"$f":"投入係数!BX65-諸係数!$R70*投入係数!BX65","v":1.6002710470138708E-4},{"$f":"投入係数!BY65-諸係数!$R70*投入係数!BY65","v":1.2164149618751664E-3},{"$f":"投入係数!BZ65-諸係数!$R70*投入係数!BZ65","v":3.0487656721075128E-4},{"$f":"投入係数!CA65-諸係数!$R70*投入係数!CA65","v":4.7982382269337965E-5},{"$f":"投入係数!CB65-諸係数!$R70*投入係数!CB65","v":0},{"$f":"投入係数!CC65-諸係数!$R70*投入係数!CC65","v":3.7341247053580013E-3},{"$f":"投入係数!CD65-諸係数!$R70*投入係数!CD65","v":6.4573187904656278E-5},{"$f":"投入係数!CE65-諸係数!$R70*投入係数!CE65","v":2.8258698799201138E-5},{"$f":"投入係数!CF65-諸係数!$R70*投入係数!CF65","v":4.8545721503903563E-4},{"$f":"投入係数!CG65-諸係数!$R70*投入係数!CG65","v":5.0078115709433236E-5},{"$f":"投入係数!CH65-諸係数!$R70*投入係数!CH65","v":0},{"$f":"投入係数!CI65-諸係数!$R70*投入係数!CI65","v":7.7019078076438947E-4}]
[null,"20","情報通信機器",{"$f":"投入係数!D66","v":3.9338485631276923E-6},{"$f":"投入係数!E66","v":2.3048636984590427E-5},{"$f":"投入係数!F66","v":2.0544889605459852E-5},{"$f":"投入係数!G66","v":7.4630680747485973E-6},{"$f":"投入係数!H66","v":9.6248321677764464E-6},{"$f":"投入係数!I66","v":3.7619378828816778E-6},{"$f":"投入係数!J66","v":4.4633890513066569E-6},{"$f":"投入係数!K66","v":1.5496898623061724E-5},{"$f":"投入係数!L66","v":2.6402424600657141E-6},{"$f":"投入係数!M66","v":1.9408124767701231E-5},{"$f":"投入係数!N66","v":7.8975854504523393E-6},{"$f":"投入係数!O66","v":4.0812620297547737E-7},{"$f":"投入係数!P66","v":9.4127553102914795E-7},{"$f":"投入係数!Q66","v":3.0902438617382516E-5},{"$f":"投入係数!R66","v":1.1238755639285502E-3},{"$f":"投入係数!S66","v":7.0075166726509656E-5},{"$f":"投入係数!T66","v":1.7426912497148763E-5},{"$f":"投入係数!U66","v":3.9167453099539665E-5},{"$f":"投入係数!V66","v":2.624334997897608E-5},{"$f":"投入係数!W66","v":1.5832155963904696E-2},{"$f":"投入係数!X66","v":7.322232980478318E-3},{"$f":"投入係数!Y66","v":1.5420304561674289E-5},{"$f":"投入係数!Z66","v":9.0342324215333914E-4},{"$f":"投入係数!AA66","v":7.3627055921806601E-6},{"$f":"投入係数!AB66","v":5.1727567160998414E-6},{"$f":"投入係数!AC66","v":1.0916010861993488E-5},{"$f":"投入係数!AD66","v":1.5590957356272482E-4},{"$f":"投入係数!AE66","v":6.9234443102841916E-5},{"$f":"投入係数!AF66","v":4.1680551581741464E-5},{"$f":"投入係数!AG66","v":5.718444806831242E-5},{"$f":"投入係数!AH66","v":1.0151582335884504E-4},{"$f":"投入係数!AI66","v":1.1160123479639842E-3},{"$f":"投入係数!AJ66","v":4.4317531636542558E-5},{"$f":"投入係数!AK66","v":1.3235071177493966E-5},{"$f":"投入係数!AL66","v":3.7857103983197236E-5},{"$f":"投入係数!AM66","v":7.8893761169699435E-4},{"$f":"投入係数!AN66","v":6.100826037820633E-6},{"$f":"投入係数!AO66","v":9.2238916977292675E-5},{"$f":"投入係数!AP66","v":1.8658494086372566E-4},{"$f":"投入係数!AQ66","v":1.1850796837546935E-5},{"$f":"投入係数!AR66","v":0},{"$f":"投入係数!AS66","v":0},{"$f":"投入係数!AT66-諸係数!$R71*投入係数!AT66","v":1.6504742654583895E-6},{"$f":"投入係数!AU66-諸係数!$R71*投入係数!AU66","v":3.2371480310548481E-5},{"$f":"投入係数!AV66-諸係数!$R71*投入係数!AV66","v":1.7487770676938218E-5},{"$f":"投入係数!AW66-諸係数!$R71*投入係数!AW66","v":4.7399294864335315E-6},{"$f":"投入係数!AX66-諸係数!$R71*投入係数!AX66","v":6.868034260160868E-6},{"$f":"投入係数!AY66-諸係数!$R71*投入係数!AY66","v":2.7604047262822503E-6},{"$f":"投入係数!AZ66-諸係数!$R71*投入係数!AZ66","v":2.3774296983734935E-6},{"$f":"投入係数!BA66-諸係数!$R71*投入係数!BA66","v":1.2044335467149622E-5},{"$f":"投入係数!BB66-諸係数!$R71*投入係数!BB66","v":1.0823360707887928E-6},{"$f":"投入係数!BC66-諸係数!$R71*投入係数!BC66","v":2.9626084241533946E-6},{"$f":"投入係数!BD66-諸係数!$R71*投入係数!BD66","v":4.7250437051651665E-6},{"$f":"投入係数!BE66-諸係数!$R71*投入係数!BE66","v":3.0994918695814313E-7},{"$f":"投入係数!BF66-諸係数!$R71*投入係数!BF66","v":1.1289950794553181E-6},{"$f":"投入係数!BG66-諸係数!$R71*投入係数!BG66","v":1.9320622465436134E-5},{"$f":"投入係数!BH66-諸係数!$R71*投入係数!BH66","v":2.7011821948341562E-4},{"$f":"投入係数!BI66-諸係数!$R71*投入係数!BI66","v":8.9123976595200982E-5},{"$f":"投入係数!BJ66-諸係数!$R71*投入係数!BJ66","v":1.2203833767583209E-5},{"$f":"投入係数!BK66-諸係数!$R71*投入係数!BK66","v":2.1673637057551738E-5},{"$f":"投入係数!BL66-諸係数!$R71*投入係数!BL66","v":1.6852129317376185E-5},{"$f":"投入係数!BM66-諸係数!$R71*投入係数!BM66","v":9.5144968743221085E-3},{"$f":"投入係数!BN66-諸係数!$R71*投入係数!BN66","v":2.1215870041522704E-3},{"$f":"投入係数!BO66-諸係数!$R71*投入係数!BO66","v":1.4494986033766854E-5},{"$f":"投入係数!BP66-諸係数!$R71*投入係数!BP66","v":6.1851860314031826E-4},{"$f":"投入係数!BQ66-諸係数!$R71*投入係数!BQ66","v":5.4523386792163632E-6},{"$f":"投入係数!BR66-諸係数!$R71*投入係数!BR66","v":4.2152766697366587E-6},{"$f":"投入係数!BS66-諸係数!$R71*投入係数!BS66","v":7.6240105141750224E-6},{"$f":"投入係数!BT66-諸係数!$R71*投入係数!BT66","v":1.1409679108633549E-4},{"$f":"投入係数!BU66-諸係数!$R71*投入係数!BU66","v":5.4207775715338878E-5},{"$f":"投入係数!BV66-諸係数!$R71*投入係数!BV66","v":2.4327642467095501E-5},{"$f":"投入係数!BW66-諸係数!$R71*投入係数!BW66","v":3.8787043119183767E-5},{"$f":"投入係数!BX66-諸係数!$R71*投入係数!BX66","v":8.9282697341780068E-5},{"$f":"投入係数!BY66-諸係数!$R71*投入係数!BY66","v":6.1122198790843269E-4},{"$f":"投入係数!BZ66-諸係数!$R71*投入係数!BZ66","v":4.4965228216842953E-5},{"$f":"投入係数!CA66-諸係数!$R71*投入係数!CA66","v":9.7203821881135087E-6},{"$f":"投入係数!CB66-諸係数!$R71*投入係数!CB66","v":2.7828503742510878E-5},{"$f":"投入係数!CC66-諸係数!$R71*投入係数!CC66","v":5.0114083310180821E-4},{"$f":"投入係数!CD66-諸係数!$R71*投入係数!CD66","v":4.6295782940437068E-6},{"$f":"投入係数!CE66-諸係数!$R71*投入係数!CE66","v":6.2297172594934929E-5},{"$f":"投入係数!CF66-諸係数!$R71*投入係数!CF66","v":1.0839111690113208E-4},{"$f":"投入係数!CG66-諸係数!$R71*投入係数!CG66","v":9.8200993009552971E-6},{"$f":"投入係数!CH66-諸係数!$R71*投入係数!CH66","v":0},{"$f":"投入係数!CI66-諸係数!$R71*投入係数!CI66","v":0}]
[null,"21","輸送機械",{"$f":"投入係数!D67","v":0},{"$f":"投入係数!E67","v":0},{"$f":"投入係数!F67","v":3.1227906090940161E-2},{"$f":"投入係数!G67","v":2.2389204224245789E-5},{"$f":"投入係数!H67","v":0},{"$f":"投入係数!I67","v":0},{"$f":"投入係数!J67","v":0},{"$f":"投入係数!K67","v":0},{"$f":"投入係数!L67","v":0},{"$f":"投入係数!M67","v":0},{"$f":"投入係数!N67","v":0},{"$f":"投入係数!O67","v":0},{"$f":"投入係数!P67","v":0},{"$f":"投入係数!Q67","v":0},{"$f":"投入係数!R67","v":0},{"$f":"投入係数!S67","v":4.9043787414135103E-4},{"$f":"投入係数!T67","v":0},{"$f":"投入係数!U67","v":0},{"$f":"投入係数!V67","v":0},{"$f":"投入係数!W67","v":0},{"$f":"投入係数!X67","v":0.40332733458990572},{"$f":"投入係数!Y67","v":0},{"$f":"投入係数!Z67","v":0},{"$f":"投入係数!AA67","v":0},{"$f":"投入係数!AB67","v":0},{"$f":"投入係数!AC67","v":0},{"$f":"投入係数!AD67","v":0},{"$f":"投入係数!AE67","v":0},{"$f":"投入係数!AF67","v":0},{"$f":"投入係数!AG67","v":1.4549221276504279E-2},{"$f":"投入係数!AH67","v":0},{"$f":"投入係数!AI67","v":4.8327518360256113E-3},{"$f":"投入係数!AJ67","v":4.5183755307506885E-5},{"$f":"投入係数!AK67","v":0},{"$f":"投入係数!AL67","v":0},{"$f":"投入係数!AM67","v":2.1840809062612491E-2},{"$f":"投入係数!AN67","v":0},{"$f":"投入係数!AO67","v":0},{"$f":"投入係数!AP67","v":8.4418893552739627E-6},{"$f":"投入係数!AQ67","v":9.6060427275777271E-5},{"$f":"投入係数!AR67","v":0},{"$f":"投入係数!AS67","v":0},{"$f":"投入係数!AT67-諸係数!$R72*投入係数!AT67","v":0},{"$f":"投入係数!AU67-諸係数!$R72*投入係数!AU67","v":0},{"$f":"投入係数!AV67-諸係数!$R72*投入係数!AV67","v":3.9075068840084742E-2},{"$f":"投入係数!AW67-諸係数!$R72*投入係数!AW67","v":3.1757011818547959E-5},{"$f":"投入係数!AX67-諸係数!$R72*投入係数!AX67","v":0},{"$f":"投入係数!AY67-諸係数!$R72*投入係数!AY67","v":0},{"$f":"投入係数!AZ67-諸係数!$R72*投入係数!AZ67","v":0},{"$f":"投入係数!BA67-諸係数!$R72*投入係数!BA67","v":0},{"$f":"投入係数!BB67-諸係数!$R72*投入係数!BB67","v":0},{"$f":"投入係数!BC67-諸係数!$R72*投入係数!BC67","v":0},{"$f":"投入係数!BD67-諸係数!$R72*投入係数!BD67","v":0},{"$f":"投入係数!BE67-諸係数!$R72*投入係数!BE67","v":0},{"$f":"投入係数!BF67-諸係数!$R72*投入係数!BF67","v":0},{"$f":"投入係数!BG67-諸係数!$R72*投入係数!BG67","v":0},{"$f":"投入係数!BH67-諸係数!$R72*投入係数!BH67","v":0},{"$f":"投入係数!BI67-諸係数!$R72*投入係数!BI67","v":4.3663509411382795E-4},{"$f":"投入係数!BJ67-諸係数!$R72*投入係数!BJ67","v":0},{"$f":"投入係数!BK67-諸係数!$R72*投入係数!BK67","v":0},{"$f":"投入係数!BL67-諸係数!$R72*投入係数!BL67","v":0},{"$f":"投入係数!BM67-諸係数!$R72*投入係数!BM67","v":0},{"$f":"投入係数!BN67-諸係数!$R72*投入係数!BN67","v":0.38213873862548264},{"$f":"投入係数!BO67-諸係数!$R72*投入係数!BO67","v":0},{"$f":"投入係数!BP67-諸係数!$R72*投入係数!BP67","v":0},{"$f":"投入係数!BQ67-諸係数!$R72*投入係数!BQ67","v":0},{"$f":"投入係数!BR67-諸係数!$R72*投入係数!BR67","v":0},{"$f":"投入係数!BS67-諸係数!$R72*投入係数!BS67","v":0},{"$f":"投入係数!BT67-諸係数!$R72*投入係数!BT67","v":0},{"$f":"投入係数!BU67-諸係数!$R72*投入係数!BU67","v":0},{"$f":"投入係数!BV67-諸係数!$R72*投入係数!BV67","v":0},{"$f":"投入係数!BW67-諸係数!$R72*投入係数!BW67","v":1.2626611534395376E-2},{"$f":"投入係数!BX67-諸係数!$R72*投入係数!BX67","v":0},{"$f":"投入係数!BY67-諸係数!$R72*投入係数!BY67","v":4.6665442018990417E-3},{"$f":"投入係数!BZ67-諸係数!$R72*投入係数!BZ67","v":5.8272880781103299E-5},{"$f":"投入係数!CA67-諸係数!$R72*投入係数!CA67","v":0},{"$f":"投入係数!CB67-諸係数!$R72*投入係数!CB67","v":0},{"$f":"投入係数!CC67-諸係数!$R72*投入係数!CC67","v":2.0440837576086768E-2},{"$f":"投入係数!CD67-諸係数!$R72*投入係数!CD67","v":0},{"$f":"投入係数!CE67-諸係数!$R72*投入係数!CE67","v":0},{"$f":"投入係数!CF67-諸係数!$R72*投入係数!CF67","v":1.3884270934977037E-5},{"$f":"投入係数!CG67-諸係数!$R72*投入係数!CG67","v":9.3576021932055157E-5},{"$f":"投入係数!CH67-諸係数!$R72*投入係数!CH67","v":0},{"$f":"投入係数!CI67-諸係数!$R72*投入係数!CI67","v":0}]
[null,"22","その他の製造工業製品",{"$f":"投入係数!D68","v":5.8237015259037309E-4},{"$f":"投入係数!E68","v":9.2194547938361706E-3},{"$f":"投入係数!F68","v":3.7046023161591097E-3},{"$f":"投入係数!G68","v":2.7053621770963664E-3},{"$f":"投入係数!H68","v":4.8449376862980597E-3},{"$f":"投入係数!I68","v":1.0373543712046226E-2},{"$f":"投入係数!J68","v":6.1606857253379155E-3},{"$f":"投入係数!K68","v":2.2074758814258685E-3},{"$f":"投入係数!L68","v":1.0334486541735343E-2},{"$f":"投入係数!M68","v":1.1525647598425992E-3},{"$f":"投入係数!N68","v":6.8714013070704698E-3},{"$f":"投入係数!O68","v":4.3318300380552448E-3},{"$f":"投入係数!P68","v":1.8099872756662305E-2},{"$f":"投入係数!Q68","v":1.2537855119420119E-3},{"$f":"投入係数!R68","v":8.2413933490254818E-4},{"$f":"投入係数!S68","v":1.4088905108629751E-3},{"$f":"投入係数!T68","v":3.4563376452678382E-3},{"$f":"投入係数!U68","v":3.4009733386890276E-3},{"$f":"投入係数!V68","v":1.8753030046954398E-3},{"$f":"投入係数!W68","v":3.7978365563365798E-3},{"$f":"投入係数!X68","v":1.1602803828981514E-3},{"$f":"投入係数!Y68","v":2.5597279204511259E-2},{"$f":"投入係数!Z68","v":1.899423388771578E-3},{"$f":"投入係数!AA68","v":5.5016907697525326E-3},{"$f":"投入係数!AB68","v":2.1362916802688376E-3},{"$f":"投入係数!AC68","v":2.4822108410617561E-3},{"$f":"投入係数!AD68","v":3.4295538849164271E-3},{"$f":"投入係数!AE68","v":8.8803248665337182E-3},{"$f":"投入係数!AF68","v":5.0246385399242725E-5},{"$f":"投入係数!AG68","v":1.5598134262074358E-3},{"$f":"投入係数!AH68","v":1.3916152269383406E-2},{"$f":"投入係数!AI68","v":5.786999681397377E-3},{"$f":"投入係数!AJ68","v":9.0126878774653245E-3},{"$f":"投入係数!AK68","v":2.4680329435531104E-3},{"$f":"投入係数!AL68","v":2.5483374117381462E-2},{"$f":"投入係数!AM68","v":6.1457637270590348E-3},{"$f":"投入係数!AN68","v":1.786139540337119E-3},{"$f":"投入係数!AO68","v":1.6783828243245461E-3},{"$f":"投入係数!AP68","v":9.0777171126234617E-3},{"$f":"投入係数!AQ68","v":6.8788127900989366E-3},{"$f":"投入係数!AR68","v":9.0850852790798783E-2},{"$f":"投入係数!AS68","v":1.0110759749888385E-3},{"$f":"投入係数!AT68-諸係数!$R73*投入係数!AT68","v":9.8996222707621834E-4},{"$f":"投入係数!AU68-諸係数!$R73*投入係数!AU68","v":4.3684321265926749E-3},{"$f":"投入係数!AV68-諸係数!$R73*投入係数!AV68","v":4.8891075741781713E-3},{"$f":"投入係数!AW68-諸係数!$R73*投入係数!AW68","v":3.0062198653426644E-3},{"$f":"投入係数!AX68-諸係数!$R73*投入係数!AX68","v":5.9967603481671065E-3},{"$f":"投入係数!AY68-諸係数!$R73*投入係数!AY68","v":1.1495661507085538E-2},{"$f":"投入係数!AZ68-諸係数!$R73*投入係数!AZ68","v":1.0227465825346792E-2},{"$f":"投入係数!BA68-諸係数!$R73*投入係数!BA68","v":2.5733684947880221E-3},{"$f":"投入係数!BB68-諸係数!$R73*投入係数!BB68","v":8.3028584542246592E-4},{"$f":"投入係数!BC68-諸係数!$R73*投入係数!BC68","v":1.4728178117144083E-3},{"$f":"投入係数!BD68-諸係数!$R73*投入係数!BD68","v":6.8394605933327426E-3},{"$f":"投入係数!BE68-諸係数!$R73*投入係数!BE68","v":5.6647568371108337E-3},{"$f":"投入係数!BF68-諸係数!$R73*投入係数!BF68","v":2.2988108921762188E-2},{"$f":"投入係数!BG68-諸係数!$R73*投入係数!BG68","v":2.0765053687891674E-3},{"$f":"投入係数!BH68-諸係数!$R73*投入係数!BH68","v":9.5875105191987442E-4},{"$f":"投入係数!BI68-諸係数!$R73*投入係数!BI68","v":2.1799828578400993E-3},{"$f":"投入係数!BJ68-諸係数!$R73*投入係数!BJ68","v":4.918588272606713E-3},{"$f":"投入係数!BK68-諸係数!$R73*投入係数!BK68","v":3.8400587409987302E-3},{"$f":"投入係数!BL68-諸係数!$R73*投入係数!BL68","v":2.8651114847110695E-3},{"$f":"投入係数!BM68-諸係数!$R73*投入係数!BM68","v":5.3799972346601941E-3},{"$f":"投入係数!BN68-諸係数!$R73*投入係数!BN68","v":1.1805087745588349E-3},{"$f":"投入係数!BO68-諸係数!$R73*投入係数!BO68","v":3.6941100480783848E-2},{"$f":"投入係数!BP68-諸係数!$R73*投入係数!BP68","v":2.4623170863144065E-3},{"$f":"投入係数!BQ68-諸係数!$R73*投入係数!BQ68","v":6.4023608878818489E-3},{"$f":"投入係数!BR68-諸係数!$R73*投入係数!BR68","v":2.5808500711947072E-3},{"$f":"投入係数!BS68-諸係数!$R73*投入係数!BS68","v":2.74524308151814E-3},{"$f":"投入係数!BT68-諸係数!$R73*投入係数!BT68","v":4.3545743984650413E-3},{"$f":"投入係数!BU68-諸係数!$R73*投入係数!BU68","v":1.1312493117927059E-2},{"$f":"投入係数!BV68-諸係数!$R73*投入係数!BV68","v":5.0174298764115015E-5},{"$f":"投入係数!BW68-諸係数!$R73*投入係数!BW68","v":1.64633778618782E-3},{"$f":"投入係数!BX68-諸係数!$R73*投入係数!BX68","v":1.6666162335935791E-2},{"$f":"投入係数!BY68-諸係数!$R73*投入係数!BY68","v":6.2528056004030512E-3},{"$f":"投入係数!BZ68-諸係数!$R73*投入係数!BZ68","v":1.2430660472340867E-2},{"$f":"投入係数!CA68-諸係数!$R73*投入係数!CA68","v":2.9589351963786904E-3},{"$f":"投入係数!CB68-諸係数!$R73*投入係数!CB68","v":3.3647049426684186E-2},{"$f":"投入係数!CC68-諸係数!$R73*投入係数!CC68","v":7.0357914674765189E-3},{"$f":"投入係数!CD68-諸係数!$R73*投入係数!CD68","v":2.2322939439243534E-3},{"$f":"投入係数!CE68-諸係数!$R73*投入係数!CE68","v":1.887221703146426E-3},{"$f":"投入係数!CF68-諸係数!$R73*投入係数!CF68","v":8.9145077525778875E-3},{"$f":"投入係数!CG68-諸係数!$R73*投入係数!CG68","v":7.6932385778086731E-3},{"$f":"投入係数!CH68-諸係数!$R73*投入係数!CH68","v":0.10392779146217954},{"$f":"投入係数!CI68-諸係数!$R73*投入係数!CI68","v":1.1776740603819614E-3}]
[null,"23","建設",{"$f":"投入係数!D69","v":0},{"$f":"投入係数!E69","v":0},{"$f":"投入係数!F69","v":0},{"$f":"投入係数!G69","v":0},{"$f":"投入係数!H69","v":0},{"$f":"投入係数!I69","v":0},{"$f":"投入係数!J69","v":0},{"$f":"投入係数!K69","v":0},{"$f":"投入係数!L69","v":0},{"$f":"投入係数!M69","v":0},{"$f":"投入係数!N69","v":0},{"$f":"投入係数!O69","v":0},{"$f":"投入係数!P69","v":0},{"$f":"投入係数!Q69","v":0},{"$f":"投入係数!R69","v":0},{"$f":"投入係数!S69","v":0},{"$f":"投入係数!T69","v":0},{"$f":"投入係数!U69","v":0},{"$f":"投入係数!V69","v":0},{"$f":"投入係数!W69","v":0},{"$f":"投入係数!X69","v":0},{"$f":"投入係数!Y69","v":0},{"$f":"投入係数!Z69","v":0},{"$f":"投入係数!AA69","v":0},{"$f":"投入係数!AB69","v":0},{"$f":"投入係数!AC69","v":0},{"$f":"投入係数!AD69","v":0},{"$f":"投入係数!AE69","v":0},{"$f":"投入係数!AF69","v":0},{"$f":"投入係数!AG69","v":0},{"$f":"投入係数!AH69","v":0},{"$f":"投入係数!AI69","v":0},{"$f":"投入係数!AJ69","v":0},{"$f":"投入係数!AK69","v":0},{"$f":"投入係数!AL69","v":0},{"$f":"投入係数!AM69","v":0},{"$f":"投入係数!AN69","v":0},{"$f":"投入係数!AO69","v":0},{"$f":"投入係数!AP69","v":0},{"$f":"投入係数!AQ69","v":0},{"$f":"投入係数!AR69","v":0},{"$f":"投入係数!AS69","v":0},{"$f":"投入係数!AT69-諸係数!$R74*投入係数!AT69","v":2.6496200736403799E-3},{"$f":"投入係数!AU69-諸係数!$R74*投入係数!AU69","v":1.2754096892544416E-3},{"$f":"投入係数!AV69-諸係数!$R74*投入係数!AV69","v":7.483119169620499E-4},{"$f":"投入係数!AW69-諸係数!$R74*投入係数!AW69","v":3.0849342341086198E-3},{"$f":"投入係数!AX69-諸係数!$R74*投入係数!AX69","v":4.7016510831306629E-4},{"$f":"投入係数!AY69-諸係数!$R74*投入係数!AY69","v":2.254990536981743E-3},{"$f":"投入係数!AZ69-諸係数!$R74*投入係数!AZ69","v":3.5043207822215931E-3},{"$f":"投入係数!BA69-諸係数!$R74*投入係数!BA69","v":3.0835370697203037E-3},{"$f":"投入係数!BB69-諸係数!$R74*投入係数!BB69","v":3.3626349502428708E-4},{"$f":"投入係数!BC69-諸係数!$R74*投入係数!BC69","v":2.9757664129453458E-3},{"$f":"投入係数!BD69-諸係数!$R74*投入係数!BD69","v":5.3125087156825667E-3},{"$f":"投入係数!BE69-諸係数!$R74*投入係数!BE69","v":3.9284638113451361E-3},{"$f":"投入係数!BF69-諸係数!$R74*投入係数!BF69","v":2.9964237382836831E-3},{"$f":"投入係数!BG69-諸係数!$R74*投入係数!BG69","v":3.6619792489380951E-3},{"$f":"投入係数!BH69-諸係数!$R74*投入係数!BH69","v":1.6592109600193721E-3},{"$f":"投入係数!BI69-諸係数!$R74*投入係数!BI69","v":1.6090557095583327E-3},{"$f":"投入係数!BJ69-諸係数!$R74*投入係数!BJ69","v":1.2123441409197875E-3},{"$f":"投入係数!BK69-諸係数!$R74*投入係数!BK69","v":3.1755932405790758E-3},{"$f":"投入係数!BL69-諸係数!$R74*投入係数!BL69","v":1.6910350466669039E-3},{"$f":"投入係数!BM69-諸係数!$R74*投入係数!BM69","v":1.5660283091524798E-3},{"$f":"投入係数!BN69-諸係数!$R74*投入係数!BN69","v":6.2028229986456536E-4},{"$f":"投入係数!BO69-諸係数!$R74*投入係数!BO69","v":1.3903002113659145E-3},{"$f":"投入係数!BP69-諸係数!$R74*投入係数!BP69","v":6.2555783154859225E-4},{"$f":"投入係数!BQ69-諸係数!$R74*投入係数!BQ69","v":1.4525634665885011E-2},{"$f":"投入係数!BR69-諸係数!$R74*投入係数!BR69","v":2.9359711152264958E-2},{"$f":"投入係数!BS69-諸係数!$R74*投入係数!BS69","v":2.8417279542270685E-3},{"$f":"投入係数!BT69-諸係数!$R74*投入係数!BT69","v":2.9086671421357899E-3},{"$f":"投入係数!BU69-諸係数!$R74*投入係数!BU69","v":2.4545600809615033E-3},{"$f":"投入係数!BV69-諸係数!$R74*投入係数!BV69","v":8.9742617352359753E-3},{"$f":"投入係数!BW69-諸係数!$R74*投入係数!BW69","v":6.5316396710061071E-3},{"$f":"投入係数!BX69-諸係数!$R74*投入係数!BX69","v":3.4039987063095925E-3},{"$f":"投入係数!BY69-諸係数!$R74*投入係数!BY69","v":8.1758209357476134E-3},{"$f":"投入係数!BZ69-諸係数!$R74*投入係数!BZ69","v":5.2511637547630356E-3},{"$f":"投入係数!CA69-諸係数!$R74*投入係数!CA69","v":2.2451935864812862E-3},{"$f":"投入係数!CB69-諸係数!$R74*投入係数!CB69","v":1.656472467884279E-3},{"$f":"投入係数!CC69-諸係数!$R74*投入係数!CC69","v":1.1906014791690997E-3},{"$f":"投入係数!CD69-諸係数!$R74*投入係数!CD69","v":1.7546001339353266E-3},{"$f":"投入係数!CE69-諸係数!$R74*投入係数!CE69","v":1.2517466240424668E-3},{"$f":"投入係数!CF69-諸係数!$R74*投入係数!CF69","v":4.2268539259092399E-3},{"$f":"投入係数!CG69-諸係数!$R74*投入係数!CG69","v":2.6339378439282591E-3},{"$f":"投入係数!CH69-諸係数!$R74*投入係数!CH69","v":0},{"$f":"投入係数!CI69-諸係数!$R74*投入係数!CI69","v":0}]
[null,"24","電力・ガス・熱供給",{"$f":"投入係数!D70","v":2.2267188519777483E-3},{"$f":"投入係数!E70","v":3.5295561393159287E-3},{"$f":"投入係数!F70","v":1.3481360893487467E-3},{"$f":"投入係数!G70","v":7.9153300000783626E-3},{"$f":"投入係数!H70","v":2.2009685743245699E-3},{"$f":"投入係数!I70","v":5.6506396966373293E-3},{"$f":"投入係数!J70","v":4.0564302558265828E-3},{"$f":"投入係数!K70","v":8.1504070543361954E-3},{"$f":"投入係数!L70","v":2.1391739456913675E-3},{"$f":"投入係数!M70","v":7.1442219617653723E-3},{"$f":"投入係数!N70","v":1.6112981786595128E-2},{"$f":"投入係数!O70","v":7.8829898309610534E-3},{"$f":"投入係数!P70","v":7.3438316930894126E-3},{"$f":"投入係数!Q70","v":4.6318046544428981E-3},{"$f":"投入係数!R70","v":2.2550957091718978E-3},{"$f":"投入係数!S70","v":2.0508685082612768E-3},{"$f":"投入係数!T70","v":2.1764277385328012E-3},{"$f":"投入係数!U70","v":5.695951598554197E-3},{"$f":"投入係数!V70","v":1.9991730786212756E-3},{"$f":"投入係数!W70","v":1.4303398259971917E-3},{"$f":"投入係数!X70","v":1.8828817924654061E-3},{"$f":"投入係数!Y70","v":4.2745865919385914E-3},{"$f":"投入係数!Z70","v":6.2490290665829877E-4},{"$f":"投入係数!AA70","v":1.6169789254030405E-2},{"$f":"投入係数!AB70","v":8.1891560033508087E-3},{"$f":"投入係数!AC70","v":1.537553890770119E-2},{"$f":"投入係数!AD70","v":3.9647998308143867E-3},{"$f":"投入係数!AE70","v":9.2288530180643143E-4},{"$f":"投入係数!AF70","v":9.7225216750223024E-4},{"$f":"投入係数!AG70","v":2.3721312479532517E-3},{"$f":"投入係数!AH70","v":1.3276067136851314E-3},{"$f":"投入係数!AI70","v":2.54587261215605E-3},{"$f":"投入係数!AJ70","v":4.9487103550524079E-3},{"$f":"投入係数!AK70","v":2.4836308260295786E-3},{"$f":"投入係数!AL70","v":8.3386413066483369E-4},{"$f":"投入係数!AM70","v":1.1077730225086404E-3},{"$f":"投入係数!AN70","v":1.0576167620966756E-2},{"$f":"投入係数!AO70","v":7.352912632899701E-3},{"$f":"投入係数!AP70","v":7.3666276812861566E-3},{"$f":"投入係数!AQ70","v":6.3793654510689163E-3},{"$f":"投入係数!AR70","v":0},{"$f":"投入係数!AS70","v":9.0738328934249711E-4},{"$f":"投入係数!AT70-諸係数!$R75*投入係数!AT70","v":9.7448961851008247E-3},{"$f":"投入係数!AU70-諸係数!$R75*投入係数!AU70","v":7.2896779338925931E-3},{"$f":"投入係数!AV70-諸係数!$R75*投入係数!AV70","v":6.9361319682385942E-3},{"$f":"投入係数!AW70-諸係数!$R75*投入係数!AW70","v":3.7780784314834809E-2},{"$f":"投入係数!AX70-諸係数!$R75*投入係数!AX70","v":1.3389316469254496E-2},{"$f":"投入係数!AY70-諸係数!$R75*投入係数!AY70","v":3.0735454430307972E-2},{"$f":"投入係数!AZ70-諸係数!$R75*投入係数!AZ70","v":4.301019612796788E-2},{"$f":"投入係数!BA70-諸係数!$R75*投入係数!BA70","v":2.8723065542804491E-2},{"$f":"投入係数!BB70-諸係数!$R75*投入係数!BB70","v":7.636050735351483E-3},{"$f":"投入係数!BC70-諸係数!$R75*投入係数!BC70","v":3.2363599607894887E-2},{"$f":"投入係数!BD70-諸係数!$R75*投入係数!BD70","v":5.3268354800465517E-2},{"$f":"投入係数!BE70-諸係数!$R75*投入係数!BE70","v":4.3296335480644335E-2},{"$f":"投入係数!BF70-諸係数!$R75*投入係数!BF70","v":3.557783004268722E-2},{"$f":"投入係数!BG70-諸係数!$R75*投入係数!BG70","v":2.3283742544487493E-2},{"$f":"投入係数!BH70-諸係数!$R75*投入係数!BH70","v":1.3564665848270192E-2},{"$f":"投入係数!BI70-諸係数!$R75*投入係数!BI70","v":1.0755041914729317E-2},{"$f":"投入係数!BJ70-諸係数!$R75*投入係数!BJ70","v":9.7409198274699803E-3},{"$f":"投入係数!BK70-諸係数!$R75*投入係数!BK70","v":2.824891954838565E-2},{"$f":"投入係数!BL70-諸係数!$R75*投入係数!BL70","v":9.1612916394214813E-3},{"$f":"投入係数!BM70-諸係数!$R75*投入係数!BM70","v":5.5530522856078613E-3},{"$f":"投入係数!BN70-諸係数!$R75*投入係数!BN70","v":1.240969837204922E-2},{"$f":"投入係数!BO70-諸係数!$R75*投入係数!BO70","v":1.7752300574992937E-2},{"$f":"投入係数!BP70-諸係数!$R75*投入係数!BP70","v":3.2523839633950904E-3},{"$f":"投入係数!BQ70-諸係数!$R75*投入係数!BQ70","v":8.6366022146517091E-2},{"$f":"投入係数!BR70-諸係数!$R75*投入係数!BR70","v":4.2313912395702195E-2},{"$f":"投入係数!BS70-諸係数!$R75*投入係数!BS70","v":7.3680204174352004E-2},{"$f":"投入係数!BT70-諸係数!$R75*投入係数!BT70","v":2.2679332193604049E-2},{"$f":"投入係数!BU70-諸係数!$R75*投入係数!BU70","v":5.0146185281638445E-3},{"$f":"投入係数!BV70-諸係数!$R75*投入係数!BV70","v":3.9938866220258131E-3},{"$f":"投入係数!BW70-諸係数!$R75*投入係数!BW70","v":1.2699090896435068E-2},{"$f":"投入係数!BX70-諸係数!$R75*投入係数!BX70","v":5.6977599146466849E-3},{"$f":"投入係数!BY70-諸係数!$R75*投入係数!BY70","v":1.1982252325977131E-2},{"$f":"投入係数!BZ70-諸係数!$R75*投入係数!BZ70","v":1.9135501313313472E-2},{"$f":"投入係数!CA70-諸係数!$R75*投入係数!CA70","v":1.2560117530222965E-2},{"$f":"投入係数!CB70-諸係数!$R75*投入係数!CB70","v":4.6331877848887412E-3},{"$f":"投入係数!CC70-諸係数!$R75*投入係数!CC70","v":5.3696665337605986E-3},{"$f":"投入係数!CD70-諸係数!$R75*投入係数!CD70","v":5.6741414643682209E-2},{"$f":"投入係数!CE70-諸係数!$R75*投入係数!CE70","v":3.6169263123547152E-2},{"$f":"投入係数!CF70-諸係数!$R75*投入係数!CF70","v":3.2519356344371933E-2},{"$f":"投入係数!CG70-諸係数!$R75*投入係数!CG70","v":2.9210518201250854E-2},{"$f":"投入係数!CH70-諸係数!$R75*投入係数!CH70","v":0},{"$f":"投入係数!CI70-諸係数!$R75*投入係数!CI70","v":4.5378105951333321E-3}]
[null,"25","水道",{"$f":"投入係数!D71","v":3.1029234074466391E-5},{"$f":"投入係数!E71","v":2.2425700849871769E-5},{"$f":"投入係数!F71","v":1.3370483711489744E-5},{"$f":"投入係数!G71","v":1.3582783896042447E-4},{"$f":"投入係数!H71","v":9.3161824451186952E-5},{"$f":"投入係数!I71","v":5.8310037184666007E-5},{"$f":"投入係数!J71","v":4.3378562342386575E-5},{"$f":"投入係数!K71","v":1.583161683914456E-4},{"$f":"投入係数!L71","v":1.0948755451585007E-4},{"$f":"投入係数!M71","v":3.8671103303165375E-5},{"$f":"投入係数!N71","v":6.2879504497457392E-5},{"$f":"投入係数!O71","v":5.163333475801599E-5},{"$f":"投入係数!P71","v":4.6550353534532412E-5},{"$f":"投入係数!Q71","v":3.5787967008321082E-5},{"$f":"投入係数!R71","v":3.5253990311028327E-5},{"$f":"投入係数!S71","v":2.6105280506683773E-5},{"$f":"投入係数!T71","v":3.3304766105662082E-5},{"$f":"投入係数!U71","v":5.5984909575394392E-5},{"$f":"投入係数!V71","v":3.2164551506265948E-5},{"$f":"投入係数!W71","v":2.405770349536561E-5},{"$f":"投入係数!X71","v":2.2354460157345973E-5},{"$f":"投入係数!Y71","v":4.782426253459354E-5},{"$f":"投入係数!Z71","v":3.8947984363349931E-5},{"$f":"投入係数!AA71","v":4.0452888139547737E-5},{"$f":"投入係数!AB71","v":4.5358255182548005E-3},{"$f":"投入係数!AC71","v":5.3432185126541323E-4},{"$f":"投入係数!AD71","v":1.1251508680774767E-4},{"$f":"投入係数!AE71","v":6.4843379378682538E-5},{"$f":"投入係数!AF71","v":2.7183947636434767E-5},{"$f":"投入係数!AG71","v":1.9598630001169779E-4},{"$f":"投入係数!AH71","v":1.3837707395283387E-4},{"$f":"投入係数!AI71","v":2.3439133030642427E-4},{"$f":"投入係数!AJ71","v":5.5316024541110205E-4},{"$f":"投入係数!AK71","v":2.7911457247362245E-4},{"$f":"投入係数!AL71","v":1.1508307650133337E-4},{"$f":"投入係数!AM71","v":4.2032818421049017E-5},{"$f":"投入係数!AN71","v":6.1162534140082252E-4},{"$f":"投入係数!AO71","v":5.3323294267554951E-4},{"$f":"投入係数!AP71","v":3.2254252823602143E-4},{"$f":"投入係数!AQ71","v":5.4578458169111661E-4},{"$f":"投入係数!AR71","v":0},{"$f":"投入係数!AS71","v":7.8535787567056146E-5},{"$f":"投入係数!AT71-諸係数!$R76*投入係数!AT71","v":6.450303941832377E-4},{"$f":"投入係数!AU71-諸係数!$R76*投入係数!AU71","v":2.0338628709232242E-4},{"$f":"投入係数!AV71-諸係数!$R76*投入係数!AV71","v":1.7892755570926376E-4},{"$f":"投入係数!AW71-諸係数!$R76*投入係数!AW71","v":2.5630706953323353E-3},{"$f":"投入係数!AX71-諸係数!$R76*投入係数!AX71","v":1.8399953407074435E-3},{"$f":"投入係数!AY71-諸係数!$R76*投入係数!AY71","v":1.6200340273003118E-3},{"$f":"投入係数!AZ71-諸係数!$R76*投入係数!AZ71","v":1.9876806203966728E-3},{"$f":"投入係数!BA71-諸係数!$R76*投入係数!BA71","v":2.4052660552109535E-3},{"$f":"投入係数!BB71-諸係数!$R76*投入係数!BB71","v":4.6837054040653752E-4},{"$f":"投入係数!BC71-諸係数!$R76*投入係数!BC71","v":9.4008339271252513E-4},{"$f":"投入係数!BD71-諸係数!$R76*投入係数!BD71","v":1.2392790880297398E-3},{"$f":"投入係数!BE71-諸係数!$R76*投入係数!BE71","v":9.5816639139921316E-4},{"$f":"投入係数!BF71-諸係数!$R76*投入係数!BF71","v":7.7882045725210993E-4},{"$f":"投入係数!BG71-諸係数!$R76*投入係数!BG71","v":6.6741876838940573E-4},{"$f":"投入係数!BH71-諸係数!$R76*投入係数!BH71","v":6.1534259293166466E-4},{"$f":"投入係数!BI71-諸係数!$R76*投入係数!BI71","v":5.657364818057142E-4},{"$f":"投入係数!BJ71-諸係数!$R76*投入係数!BJ71","v":6.3905766302856202E-4},{"$f":"投入係数!BK71-諸係数!$R76*投入係数!BK71","v":1.7264626390843989E-3},{"$f":"投入係数!BL71-諸係数!$R76*投入係数!BL71","v":5.793064836968736E-4},{"$f":"投入係数!BM71-諸係数!$R76*投入係数!BM71","v":2.5229664318773809E-4},{"$f":"投入係数!BN71-諸係数!$R76*投入係数!BN71","v":3.7539821240668018E-4},{"$f":"投入係数!BO71-諸係数!$R76*投入係数!BO71","v":8.016313275253453E-4},{"$f":"投入係数!BP71-諸係数!$R76*投入係数!BP71","v":7.3834670526514486E-4},{"$f":"投入係数!BQ71-諸係数!$R76*投入係数!BQ71","v":7.6611090527546415E-4},{"$f":"投入係数!BR71-諸係数!$R76*投入係数!BR71","v":9.0001980801743084E-2},{"$f":"投入係数!BS71-諸係数!$R76*投入係数!BS71","v":9.0121597260448185E-3},{"$f":"投入係数!BT71-諸係数!$R76*投入係数!BT71","v":2.2585861026018705E-3},{"$f":"投入係数!BU71-諸係数!$R76*投入係数!BU71","v":1.24405858693435E-3},{"$f":"投入係数!BV71-諸係数!$R76*投入係数!BV71","v":3.9628670533709844E-4},{"$f":"投入係数!BW71-諸係数!$R76*投入係数!BW71","v":3.5996817337778375E-3},{"$f":"投入係数!BX71-諸係数!$R76*投入係数!BX71","v":1.749977705266333E-3},{"$f":"投入係数!BY71-諸係数!$R76*投入係数!BY71","v":3.9812470549110508E-3},{"$f":"投入係数!BZ71-諸係数!$R76*投入係数!BZ71","v":8.8098768318520121E-3},{"$f":"投入係数!CA71-諸係数!$R76*投入係数!CA71","v":4.747293034590901E-3},{"$f":"投入係数!CB71-諸係数!$R76*投入係数!CB71","v":2.2561766000890522E-3},{"$f":"投入係数!CC71-諸係数!$R76*投入係数!CC71","v":7.278069437532805E-4},{"$f":"投入係数!CD71-諸係数!$R76*投入係数!CD71","v":1.1548109289332868E-2},{"$f":"投入係数!CE71-諸係数!$R76*投入係数!CE71","v":9.2031344918507181E-3},{"$f":"投入係数!CF71-諸係数!$R76*投入係数!CF71","v":4.5684626879136866E-3},{"$f":"投入係数!CG71-諸係数!$R76*投入係数!CG71","v":9.1293219902979332E-3},{"$f":"投入係数!CH71-諸係数!$R76*投入係数!CH71","v":0},{"$f":"投入係数!CI71-諸係数!$R76*投入係数!CI71","v":1.3824975419724885E-3}]
[null,"26","廃棄物処理",{"$f":"投入係数!D72","v":1.485228539140047E-6},{"$f":"投入係数!E72","v":1.2458722694373205E-6},{"$f":"投入係数!F72","v":0},{"$f":"投入係数!G72","v":8.9556816896983164E-6},{"$f":"投入係数!H72","v":2.7652495560561909E-6},{"$f":"投入係数!I72","v":8.3598619619592838E-7},{"$f":"投入係数!J72","v":1.5807836223377744E-6},{"$f":"投入係数!K72","v":9.3758085941435489E-6},{"$f":"投入係数!L72","v":7.4256819189348202E-7},{"$f":"投入係数!M72","v":7.4646633721927813E-7},{"$f":"投入係数!N72","v":9.8050531228073532E-6},{"$f":"投入係数!O72","v":5.0478767210124827E-7},{"$f":"投入係数!P72","v":3.4228201128332649E-7},{"$f":"投入係数!Q72","v":3.8260162097711688E-7},{"$f":"投入係数!R72","v":1.1596707339154056E-6},{"$f":"投入係数!S72","v":1.4715490702752974E-7},{"$f":"投入係数!T72","v":7.7452944431772284E-7},{"$f":"投入係数!U72","v":2.784589743278779E-6},{"$f":"投入係数!V72","v":1.3158225616199705E-6},{"$f":"投入係数!W72","v":1.0935319770620732E-6},{"$f":"投入係数!X72","v":7.7544615842940246E-7},{"$f":"投入係数!Y72","v":1.7765327836030289E-6},{"$f":"投入係数!Z72","v":7.8761032428985008E-6},{"$f":"投入係数!AA72","v":3.7499407379186294E-5},{"$f":"投入係数!AB72","v":7.7307133339514106E-6},{"$f":"投入係数!AC72","v":0},{"$f":"投入係数!AD72","v":5.475993841559825E-6},{"$f":"投入係数!AE72","v":1.2812281825286991E-5},{"$f":"投入係数!AF72","v":6.3812083653602742E-8},{"$f":"投入係数!AG72","v":1.9931107936559277E-5},{"$f":"投入係数!AH72","v":2.1162551453960273E-5},{"$f":"投入係数!AI72","v":1.1586703459482275E-4},{"$f":"投入係数!AJ72","v":2.7107705467824826E-5},{"$f":"投入係数!AK72","v":1.6070444736263103E-5},{"$f":"投入係数!AL72","v":1.2598037931180447E-7},{"$f":"投入係数!AM72","v":1.5180300966006381E-6},{"$f":"投入係数!AN72","v":1.9424469108923165E-4},{"$f":"投入係数!AO72","v":7.1629255555301504E-5},{"$f":"投入係数!AP72","v":5.2497999428109962E-5},{"$f":"投入係数!AQ72","v":6.5461544435973547E-5},{"$f":"投入係数!AR72","v":0},{"$f":"投入係数!AS72","v":6.3615144568307636E-5},{"$f":"投入係数!AT72-諸係数!$R77*投入係数!AT72","v":4.6151342645833499E-4},{"$f":"投入係数!AU72-諸係数!$R77*投入係数!AU72","v":1.6263464173424657E-4},{"$f":"投入係数!AV72-諸係数!$R77*投入係数!AV72","v":4.1186667644089125E-5},{"$f":"投入係数!AW72-諸係数!$R77*投入係数!AW72","v":2.3001261959436237E-3},{"$f":"投入係数!AX72-諸係数!$R77*投入係数!AX72","v":7.9342873670527208E-4},{"$f":"投入係数!AY72-諸係数!$R77*投入係数!AY72","v":2.2985129051136344E-4},{"$f":"投入係数!AZ72-諸係数!$R77*投入係数!AZ72","v":7.5923201218140311E-4},{"$f":"投入係数!BA72-諸係数!$R77*投入係数!BA72","v":2.2731307481639435E-3},{"$f":"投入係数!BB72-諸係数!$R77*投入係数!BB72","v":1.0876210293289683E-5},{"$f":"投入係数!BC72-諸係数!$R77*投入係数!BC72","v":7.0109531743419142E-5},{"$f":"投入係数!BD72-諸係数!$R77*投入係数!BD72","v":2.3865474568913782E-3},{"$f":"投入係数!BE72-諸係数!$R77*投入係数!BE72","v":1.3656301996310598E-4},{"$f":"投入係数!BF72-諸係数!$R77*投入係数!BF72","v":1.7171522411849621E-4},{"$f":"投入係数!BG72-諸係数!$R77*投入係数!BG72","v":8.3329484303135316E-5},{"$f":"投入係数!BH72-諸係数!$R77*投入係数!BH72","v":2.7545193517630279E-4},{"$f":"投入係数!BI72-諸係数!$R77*投入係数!BI72","v":2.4307453031050471E-5},{"$f":"投入係数!BJ72-諸係数!$R77*投入係数!BJ72","v":4.9619868485110724E-4},{"$f":"投入係数!BK72-諸係数!$R77*投入係数!BK72","v":7.4562648071940828E-4},{"$f":"投入係数!BL72-諸係数!$R77*投入係数!BL72","v":2.3250947158873146E-4},{"$f":"投入係数!BM72-諸係数!$R77*投入係数!BM72","v":1.8157528328919457E-4},{"$f":"投入係数!BN72-諸係数!$R77*投入係数!BN72","v":3.7144166088557665E-4},{"$f":"投入係数!BO72-諸係数!$R77*投入係数!BO72","v":3.3464675737095953E-4},{"$f":"投入係数!BP72-諸係数!$R77*投入係数!BP72","v":1.8977062207080669E-3},{"$f":"投入係数!BQ72-諸係数!$R77*投入係数!BQ72","v":1.020294999543149E-2},{"$f":"投入係数!BR72-諸係数!$R77*投入係数!BR72","v":1.9765314925171474E-3},{"$f":"投入係数!BS72-諸係数!$R77*投入係数!BS72","v":0},{"$f":"投入係数!BT72-諸係数!$R77*投入係数!BT72","v":1.3257160596787626E-3},{"$f":"投入係数!BU72-諸係数!$R77*投入係数!BU72","v":3.1387549636473413E-3},{"$f":"投入係数!BV72-諸係数!$R77*投入係数!BV72","v":1.2602905505726115E-5},{"$f":"投入係数!BW72-諸係数!$R77*投入係数!BW72","v":4.9575641840629613E-3},{"$f":"投入係数!BX72-諸係数!$R77*投入係数!BX72","v":3.5007927535397089E-3},{"$f":"投入係数!BY72-諸係数!$R77*投入係数!BY72","v":2.7260611570922792E-2},{"$f":"投入係数!BZ72-諸係数!$R77*投入係数!BZ72","v":4.6724954857787493E-3},{"$f":"投入係数!CA72-諸係数!$R77*投入係数!CA72","v":3.6274277665796981E-3},{"$f":"投入係数!CB72-諸係数!$R77*投入係数!CB72","v":3.5227988372497371E-5},{"$f":"投入係数!CC72-諸係数!$R77*投入係数!CC72","v":2.9101959116355143E-4},{"$f":"投入係数!CD72-諸係数!$R77*投入係数!CD72","v":4.6919088833908482E-2},{"$f":"投入係数!CE72-諸係数!$R77*投入係数!CE72","v":1.5776718511259502E-2},{"$f":"投入係数!CF72-諸係数!$R77*投入係数!CF72","v":1.1328528134764594E-2},{"$f":"投入係数!CG72-諸係数!$R77*投入係数!CG72","v":1.3192334170472862E-2},{"$f":"投入係数!CH72-諸係数!$R77*投入係数!CH72","v":0},{"$f":"投入係数!CI72-諸係数!$R77*投入係数!CI72","v":1.4325730258866881E-2}]
[null,"27","商業",{"$f":"投入係数!D73","v":2.7655999072896259E-2},{"$f":"投入係数!E73","v":2.1083273479553053E-2},{"$f":"投入係数!F73","v":2.7041314142449785E-2},{"$f":"投入係数!G73","v":7.7944282972674346E-3},{"$f":"投入係数!H73","v":2.2169219856016165E-2},{"$f":"投入係数!I73","v":2.7910444142746314E-2},{"$f":"投入係数!J73","v":3.1268876416196148E-2},{"$f":"投入係数!K73","v":1.5480662015673836E-2},{"$f":"投入係数!L73","v":8.7900272101737766E-3},{"$f":"投入係数!M73","v":2.2807014087996978E-2},{"$f":"投入係数!N73","v":1.2199326623754444E-2},{"$f":"投入係数!O73","v":8.1793861157903758E-3},{"$f":"投入係数!P73","v":1.5260900184575576E-2},{"$f":"投入係数!Q73","v":1.7503818143445649E-2},{"$f":"投入係数!R73","v":1.5527991127127281E-2},{"$f":"投入係数!S73","v":1.4900905885607661E-2},{"$f":"投入係数!T73","v":1.8851659409971213E-2},{"$f":"投入係数!U73","v":1.5978818651724361E-2},{"$f":"投入係数!V73","v":1.8488842117082478E-2},{"$f":"投入係数!W73","v":1.4268405236705931E-2},{"$f":"投入係数!X73","v":1.0523185736850153E-2},{"$f":"投入係数!Y73","v":2.4110285733979851E-2},{"$f":"投入係数!Z73","v":2.0104990769770299E-2},{"$f":"投入係数!AA73","v":6.7369036119236019E-3},{"$f":"投入係数!AB73","v":6.6513124846984449E-3},{"$f":"投入係数!AC73","v":5.8594783047097518E-3},{"$f":"投入係数!AD73","v":3.9321025225470922E-3},{"$f":"投入係数!AE73","v":1.8581417740138051E-3},{"$f":"投入係数!AF73","v":5.2051516636243754E-4},{"$f":"投入係数!AG73","v":1.0360192540651533E-2},{"$f":"投入係数!AH73","v":4.2151523795477949E-3},{"$f":"投入係数!AI73","v":4.0669008181468116E-3},{"$f":"投入係数!AJ73","v":5.9241482707669216E-3},{"$f":"投入係数!AK73","v":1.9196234426902083E-2},{"$f":"投入係数!AL73","v":1.3565819205053727E-2},{"$f":"投入係数!AM73","v":8.081410700384194E-3},{"$f":"投入係数!AN73","v":1.8595177514402855E-2},{"$f":"投入係数!AO73","v":4.7642318826007501E-2},{"$f":"投入係数!AP73","v":8.4307853928549514E-3},{"$f":"投入係数!AQ73","v":1.255375600868841E-2},{"$f":"投入係数!AR73","v":8.8041318022301321E-2},{"$f":"投入係数!AS73","v":3.8369763606122789E-3},{"$f":"投入係数!AT73-諸係数!$R78*投入係数!AT73","v":6.7389576009144914E-2},{"$f":"投入係数!AU73-諸係数!$R78*投入係数!AU73","v":2.3647533601070254E-2},{"$f":"投入係数!AV73-諸係数!$R78*投入係数!AV73","v":5.8531849416633142E-2},{"$f":"投入係数!AW73-諸係数!$R78*投入係数!AW73","v":2.0062088321096253E-2},{"$f":"投入係数!AX73-諸係数!$R78*投入係数!AX73","v":7.0276832145317228E-2},{"$f":"投入係数!AY73-諸係数!$R78*投入係数!AY73","v":7.1471417994184494E-2},{"$f":"投入係数!AZ73-諸係数!$R78*投入係数!AZ73","v":7.5720744438651164E-2},{"$f":"投入係数!BA73-諸係数!$R78*投入係数!BA73","v":3.730048170106854E-2},{"$f":"投入係数!BB73-諸係数!$R78*投入係数!BB73","v":1.0193276743808899E-2},{"$f":"投入係数!BC73-諸係数!$R78*投入係数!BC73","v":5.4889856337201677E-2},{"$f":"投入係数!BD73-諸係数!$R78*投入係数!BD73","v":3.5381855052938796E-2},{"$f":"投入係数!BE73-諸係数!$R78*投入係数!BE73","v":2.2021927140145232E-2},{"$f":"投入係数!BF73-諸係数!$R78*投入係数!BF73","v":3.7078650894748537E-2},{"$f":"投入係数!BG73-諸係数!$R78*投入係数!BG73","v":4.3083539508032537E-2},{"$f":"投入係数!BH73-諸係数!$R78*投入係数!BH73","v":4.2107097429546936E-2},{"$f":"投入係数!BI73-諸係数!$R78*投入係数!BI73","v":3.8833432286328594E-2},{"$f":"投入係数!BJ73-諸係数!$R78*投入係数!BJ73","v":4.6226599828806232E-2},{"$f":"投入係数!BK73-諸係数!$R78*投入係数!BK73","v":4.0157353085153669E-2},{"$f":"投入係数!BL73-諸係数!$R78*投入係数!BL73","v":4.9009339810518256E-2},{"$f":"投入係数!BM73-諸係数!$R78*投入係数!BM73","v":4.1267118911176313E-2},{"$f":"投入係数!BN73-諸係数!$R78*投入係数!BN73","v":3.8240070827332238E-2},{"$f":"投入係数!BO73-諸係数!$R78*投入係数!BO73","v":6.836569266072523E-2},{"$f":"投入係数!BP73-諸係数!$R78*投入係数!BP73","v":5.4112992952652983E-2},{"$f":"投入係数!BQ73-諸係数!$R78*投入係数!BQ73","v":1.730436670902076E-2},{"$f":"投入係数!BR73-諸係数!$R78*投入係数!BR73","v":1.7363143063796944E-2},{"$f":"投入係数!BS73-諸係数!$R78*投入係数!BS73","v":1.4306778035793661E-2},{"$f":"投入係数!BT73-諸係数!$R78*投入係数!BT73","v":1.054317836479605E-2},{"$f":"投入係数!BU73-諸係数!$R78*投入係数!BU73","v":5.182331136143194E-3},{"$f":"投入係数!BV73-諸係数!$R78*投入係数!BV73","v":1.2076550102812749E-3},{"$f":"投入係数!BW73-諸係数!$R78*投入係数!BW73","v":2.638175677270466E-2},{"$f":"投入係数!BX73-諸係数!$R78*投入係数!BX73","v":1.1797922055767247E-2},{"$f":"投入係数!BY73-諸係数!$R78*投入係数!BY73","v":9.5661735819793838E-3},{"$f":"投入係数!BZ73-諸係数!$R78*投入係数!BZ73","v":1.8512360486846655E-2},{"$f":"投入係数!CA73-諸係数!$R78*投入係数!CA73","v":4.8854585193033533E-2},{"$f":"投入係数!CB73-諸係数!$R78*投入係数!CB73","v":3.7262072860087848E-2},{"$f":"投入係数!CC73-諸係数!$R78*投入係数!CC73","v":1.7915087811313721E-2},{"$f":"投入係数!CD73-諸係数!$R78*投入係数!CD73","v":5.092319980622962E-2},{"$f":"投入係数!CE73-諸係数!$R78*投入係数!CE73","v":0.11989561713416917},{"$f":"投入係数!CF73-諸係数!$R78*投入係数!CF73","v":1.988549870469172E-2},{"$f":"投入係数!CG73-諸係数!$R78*投入係数!CG73","v":2.9949903759647668E-2},{"$f":"投入係数!CH73-諸係数!$R78*投入係数!CH73","v":0.22068347540146704},{"$f":"投入係数!CI73-諸係数!$R78*投入係数!CI73","v":9.7932528229051612E-3}]
[null,"28","金融・保険",{"$f":"投入係数!D74","v":6.538618290284385E-4},{"$f":"投入係数!E74","v":9.7551798696942195E-4},{"$f":"投入係数!F74","v":1.1195334288181535E-3},{"$f":"投入係数!G74","v":4.3278331765467118E-3},{"$f":"投入係数!H74","v":7.034190169109499E-4},{"$f":"投入係数!I74","v":1.9823322677295953E-3},{"$f":"投入係数!J74","v":1.3494312898450461E-3},{"$f":"投入係数!K74","v":7.7299565924102631E-4},{"$f":"投入係数!L74","v":6.1963190234667215E-4},{"$f":"投入係数!M74","v":5.6053401372357621E-4},{"$f":"投入係数!N74","v":1.1963168740178841E-3},{"$f":"投入係数!O74","v":4.517903366122353E-4},{"$f":"投入係数!P74","v":8.5861442530422462E-4},{"$f":"投入係数!Q74","v":1.337163234421102E-3},{"$f":"投入係数!R74","v":7.385556347395913E-4},{"$f":"投入係数!S74","v":7.7123886773128336E-4},{"$f":"投入係数!T74","v":1.6474241280637963E-3},{"$f":"投入係数!U74","v":5.7443155256743021E-4},{"$f":"投入係数!V74","v":6.8700557967247135E-4},{"$f":"投入係数!W74","v":1.253187645713136E-3},{"$f":"投入係数!X74","v":4.3658572136983265E-4},{"$f":"投入係数!Y74","v":1.4738471279327448E-3},{"$f":"投入係数!Z74","v":1.3463157399628168E-3},{"$f":"投入係数!AA74","v":1.7528838325049426E-3},{"$f":"投入係数!AB74","v":2.6119579242284362E-3},{"$f":"投入係数!AC74","v":3.3460949377843645E-3},{"$f":"投入係数!AD74","v":1.8476142645322238E-3},{"$f":"投入係数!AE74","v":4.6112785775038788E-3},{"$f":"投入係数!AF74","v":8.2547536633419284E-3},{"$f":"投入係数!AG74","v":2.6375118858665879E-3},{"$f":"投入係数!AH74","v":7.1151634081422443E-4},{"$f":"投入係数!AI74","v":2.6051384921201609E-3},{"$f":"投入係数!AJ74","v":1.1031294756813723E-3},{"$f":"投入係数!AK74","v":9.0006470974730141E-4},{"$f":"投入係数!AL74","v":2.5281112618396363E-3},{"$f":"投入係数!AM74","v":1.1100274104879205E-3},{"$f":"投入係数!AN74","v":2.0789090657152929E-3},{"$f":"投入係数!AO74","v":6.488725074253192E-4},{"$f":"投入係数!AP74","v":1.0968460501802691E-3},{"$f":"投入係数!AQ74","v":4.4138470478891745E-4},{"$f":"投入係数!AR74","v":0},{"$f":"投入係数!AS74","v":3.2038900082584024E-4},{"$f":"投入係数!AT74-諸係数!$R79*投入係数!AT74","v":5.341190133565217E-3},{"$f":"投入係数!AU74-諸係数!$R79*投入係数!AU74","v":8.0355658731726728E-3},{"$f":"投入係数!AV74-諸係数!$R79*投入係数!AV74","v":9.5691879810392219E-3},{"$f":"投入係数!AW74-諸係数!$R79*投入係数!AW74","v":3.8892640337681847E-2},{"$f":"投入係数!AX74-諸係数!$R79*投入係数!AX74","v":5.4877537978103678E-3},{"$f":"投入係数!AY74-諸係数!$R79*投入係数!AY74","v":1.7447518059599685E-2},{"$f":"投入係数!AZ74-諸係数!$R79*投入係数!AZ74","v":9.10267913338768E-3},{"$f":"投入係数!BA74-諸係数!$R79*投入係数!BA74","v":6.2337041798105168E-3},{"$f":"投入係数!BB74-諸係数!$R79*投入係数!BB74","v":3.2259344367095719E-3},{"$f":"投入係数!BC74-諸係数!$R79*投入係数!BC74","v":3.8039533097774542E-3},{"$f":"投入係数!BD74-諸係数!$R79*投入係数!BD74","v":1.0354995224681141E-2},{"$f":"投入係数!BE74-諸係数!$R79*投入係数!BE74","v":4.0917212134318447E-3},{"$f":"投入係数!BF74-諸係数!$R79*投入係数!BF74","v":7.7399129793541844E-3},{"$f":"投入係数!BG74-諸係数!$R79*投入係数!BG74","v":1.0916264055140309E-2},{"$f":"投入係数!BH74-諸係数!$R79*投入係数!BH74","v":6.4288383263134677E-3},{"$f":"投入係数!BI74-諸係数!$R79*投入係数!BI74","v":6.6902597514330682E-3},{"$f":"投入係数!BJ74-諸係数!$R79*投入係数!BJ74","v":1.0397246123346162E-2},{"$f":"投入係数!BK74-諸係数!$R79*投入係数!BK74","v":6.0019024379638023E-3},{"$f":"投入係数!BL74-諸係数!$R79*投入係数!BL74","v":5.807968895801683E-3},{"$f":"投入係数!BM74-諸係数!$R79*投入係数!BM74","v":6.0156244268954736E-3},{"$f":"投入係数!BN74-諸係数!$R79*投入係数!BN74","v":4.2076942957839109E-3},{"$f":"投入係数!BO74-諸係数!$R79*投入係数!BO74","v":1.4047114892393927E-2},{"$f":"投入係数!BP74-諸係数!$R79*投入係数!BP74","v":1.2048871562010795E-2},{"$f":"投入係数!BQ74-諸係数!$R79*投入係数!BQ74","v":1.5769782309620825E-2},{"$f":"投入係数!BR74-諸係数!$R79*投入係数!BR74","v":2.2723582649788798E-2},{"$f":"投入係数!BS74-諸係数!$R79*投入係数!BS74","v":2.5850650126918343E-2},{"$f":"投入係数!BT74-諸係数!$R79*投入係数!BT74","v":1.6467876975399316E-2},{"$f":"投入係数!BU74-諸係数!$R79*投入係数!BU74","v":4.4463013540118008E-2},{"$f":"投入係数!BV74-諸係数!$R79*投入係数!BV74","v":7.3118438455979901E-2},{"$f":"投入係数!BW74-諸係数!$R79*投入係数!BW74","v":2.1873708546277945E-2},{"$f":"投入係数!BX74-諸係数!$R79*投入係数!BX74","v":5.3441989129632697E-3},{"$f":"投入係数!BY74-諸係数!$R79*投入係数!BY74","v":2.0149161432746216E-2},{"$f":"投入係数!BZ74-諸係数!$R79*投入係数!BZ74","v":6.9911934211657669E-3},{"$f":"投入係数!CA74-諸係数!$R79*投入係数!CA74","v":8.384339079127754E-3},{"$f":"投入係数!CB74-諸係数!$R79*投入係数!CB74","v":2.4876505306412462E-2},{"$f":"投入係数!CC74-諸係数!$R79*投入係数!CC74","v":8.3693478723986751E-3},{"$f":"投入係数!CD74-諸係数!$R79*投入係数!CD74","v":1.9093956662807009E-2},{"$f":"投入係数!CE74-諸係数!$R79*投入係数!CE74","v":5.4430149441260008E-3},{"$f":"投入係数!CF74-諸係数!$R79*投入係数!CF74","v":8.4540870809867337E-3},{"$f":"投入係数!CG74-諸係数!$R79*投入係数!CG74","v":3.7568647656664716E-3},{"$f":"投入係数!CH74-諸係数!$R79*投入係数!CH74","v":0},{"$f":"投入係数!CI74-諸係数!$R79*投入係数!CI74","v":2.7424521116664624E-3}]
[null,"29","不動産",{"$f":"投入係数!D75","v":3.5003223949462731E-5},{"$f":"投入係数!E75","v":1.9311020176278466E-5},{"$f":"投入係数!F75","v":8.1527339704205765E-6},{"$f":"投入係数!G75","v":4.4032101641016717E-5},{"$f":"投入係数!H75","v":2.00055412073678E-5},{"$f":"投入係数!I75","v":3.761937882881678E-5},{"$f":"投入係数!J75","v":2.9383977921102159E-5},{"$f":"投入係数!K75","v":2.1839901281427083E-5},{"$f":"投入係数!L75","v":7.3431743420577665E-6},{"$f":"投入係数!M75","v":2.6188527330776343E-5},{"$f":"投入係数!N75","v":2.760808473145415E-5},{"$f":"投入係数!O75","v":1.071331282810628E-5},{"$f":"投入係数!P75","v":9.755037321574805E-6},{"$f":"投入係数!Q75","v":4.0761788081023601E-5},{"$f":"投入係数!R75","v":3.1311109815715947E-5},{"$f":"投入係数!S75","v":3.043163477329315E-5},{"$f":"投入係数!T75","v":1.626511833067218E-5},{"$f":"投入係数!U75","v":1.3813030700211838E-5},{"$f":"投入係数!V75","v":2.3904109869429466E-5},{"$f":"投入係数!W75","v":2.077710756417939E-5},{"$f":"投入係数!X75","v":8.6093591933821777E-6},{"$f":"投入係数!Y75","v":3.1977590104854523E-5},{"$f":"投入係数!Z75","v":4.2921242065706141E-5},{"$f":"投入係数!AA75","v":4.9887229525726E-5},{"$f":"投入係数!AB75","v":1.1709756961720519E-5},{"$f":"投入係数!AC75","v":1.8737276376514597E-5},{"$f":"投入係数!AD75","v":2.5853037123444957E-4},{"$f":"投入係数!AE75","v":1.3277453872777851E-4},{"$f":"投入係数!AF75","v":3.3733319610482182E-4},{"$f":"投入係数!AG75","v":2.1029119612218117E-4},{"$f":"投入係数!AH75","v":1.9151440518832343E-4},{"$f":"投入係数!AI75","v":1.8369437102226298E-5},{"$f":"投入係数!AJ75","v":4.8221907447580292E-5},{"$f":"投入係数!AK75","v":1.5555285315021949E-4},{"$f":"投入係数!AL75","v":1.6402645386396939E-4},{"$f":"投入係数!AM75","v":8.5111642654929807E-5},{"$f":"投入係数!AN75","v":9.4738114679260635E-5},{"$f":"投入係数!AO75","v":9.9648212989168652E-5},{"$f":"投入係数!AP75","v":7.5017698588911806E-5},{"$f":"投入係数!AQ75","v":2.5216907203704371E-4},{"$f":"投入係数!AR75","v":0},{"$f":"投入係数!AS75","v":3.0118879355613284E-4},{"$f":"投入係数!AT75-諸係数!$R80*投入係数!AT75","v":2.0139249314737344E-3},{"$f":"投入係数!AU75-諸係数!$R80*投入係数!AU75","v":9.660275858551727E-4},{"$f":"投入係数!AV75-諸係数!$R80*投入係数!AV75","v":6.9404335469374799E-4},{"$f":"投入係数!AW75-諸係数!$R80*投入係数!AW75","v":8.3882594028728934E-3},{"$f":"投入係数!AX75-諸係数!$R80*投入係数!AX75","v":2.2988621418157124E-3},{"$f":"投入係数!AY75-諸係数!$R80*投入係数!AY75","v":3.7246976051937158E-3},{"$f":"投入係数!AZ75-諸係数!$R80*投入係数!AZ75","v":2.3501299150179575E-3},{"$f":"投入係数!BA75-諸係数!$R80*投入係数!BA75","v":2.405076605565673E-3},{"$f":"投入係数!BB75-諸係数!$R80*投入係数!BB75","v":3.6000529381392951E-4},{"$f":"投入係数!BC75-諸係数!$R80*投入係数!BC75","v":3.1640746740838649E-3},{"$f":"投入係数!BD75-諸係数!$R80*投入係数!BD75","v":3.2356785846002246E-3},{"$f":"投入係数!BE75-諸係数!$R80*投入係数!BE75","v":1.2207238858634611E-3},{"$f":"投入係数!BF75-諸係数!$R80*投入係数!BF75","v":9.8125594463284319E-4},{"$f":"投入係数!BG75-諸係数!$R80*投入係数!BG75","v":4.0696480336445797E-3},{"$f":"投入係数!BH75-諸係数!$R80*投入係数!BH75","v":2.6629322998398841E-3},{"$f":"投入係数!BI75-諸係数!$R80*投入係数!BI75","v":2.5225039970070014E-3},{"$f":"投入係数!BJ75-諸係数!$R80*投入係数!BJ75","v":1.9096475074145977E-3},{"$f":"投入係数!BK75-諸係数!$R80*投入係数!BK75","v":1.6141300859468246E-3},{"$f":"投入係数!BL75-諸係数!$R80*投入係数!BL75","v":2.5687269298006171E-3},{"$f":"投入係数!BM75-諸係数!$R80*投入係数!BM75","v":2.4576368445743289E-3},{"$f":"投入係数!BN75-諸係数!$R80*投入係数!BN75","v":7.6638196101148296E-4},{"$f":"投入係数!BO75-諸係数!$R80*投入係数!BO75","v":2.9865527476816297E-3},{"$f":"投入係数!BP75-諸係数!$R80*投入係数!BP75","v":4.5394884579262832E-3},{"$f":"投入係数!BQ75-諸係数!$R80*投入係数!BQ75","v":5.6499104558413822E-3},{"$f":"投入係数!BR75-諸係数!$R80*投入係数!BR75","v":1.3880447918140279E-3},{"$f":"投入係数!BS75-諸係数!$R80*投入係数!BS75","v":1.8294630800180854E-3},{"$f":"投入係数!BT75-諸係数!$R80*投入係数!BT75","v":2.7845137895537421E-2},{"$f":"投入係数!BU75-諸係数!$R80*投入係数!BU75","v":1.530002533575695E-2},{"$f":"投入係数!BV75-諸係数!$R80*投入係数!BV75","v":2.9641154112737628E-2},{"$f":"投入係数!BW75-諸係数!$R80*投入係数!BW75","v":1.9156597861081846E-2},{"$f":"投入係数!BX75-諸係数!$R80*投入係数!BX75","v":2.322322814209557E-2},{"$f":"投入係数!BY75-諸係数!$R80*投入係数!BY75","v":1.5868443456278265E-3},{"$f":"投入係数!BZ75-諸係数!$R80*投入係数!BZ75","v":7.9068781346464719E-3},{"$f":"投入係数!CA75-諸係数!$R80*投入係数!CA75","v":1.6093747614018807E-2},{"$f":"投入係数!CB75-諸係数!$R80*投入係数!CB75","v":1.8388468264619023E-2},{"$f":"投入係数!CC75-諸係数!$R80*投入係数!CC75","v":7.6850179090866928E-3},{"$f":"投入係数!CD75-諸係数!$R80*投入係数!CD75","v":1.0628984344425576E-2},{"$f":"投入係数!CE75-諸係数!$R80*投入係数!CE75","v":9.9827155983223254E-3},{"$f":"投入係数!CF75-諸係数!$R80*投入係数!CF75","v":7.5781861844100651E-3},{"$f":"投入係数!CG75-諸係数!$R80*投入係数!CG75","v":2.4372432377751285E-2},{"$f":"投入係数!CH75-諸係数!$R80*投入係数!CH75","v":0},{"$f":"投入係数!CI75-諸係数!$R80*投入係数!CI75","v":3.1483634192732139E-2}]
[null,"30","運輸・郵便",{"$f":"投入係数!D76","v":5.7954019010363319E-3},{"$f":"投入係数!E76","v":6.4361761439131974E-3},{"$f":"投入係数!F76","v":4.88511819507601E-3},{"$f":"投入係数!G76","v":2.729990301743037E-2},{"$f":"投入係数!H76","v":3.0789951486247624E-3},{"$f":"投入係数!I76","v":2.5656416361253044E-3},{"$f":"投入係数!J76","v":4.1438847850506222E-3},{"$f":"投入係数!K76","v":2.6753231824578954E-3},{"$f":"投入係数!L76","v":4.05755761565974E-3},{"$f":"投入係数!M76","v":1.8549066424618046E-3},{"$f":"投入係数!N76","v":6.2489644876704128E-3},{"$f":"投入係数!O76","v":1.9601603418301825E-3},{"$f":"投入係数!P76","v":2.5015680794641918E-3},{"$f":"投入係数!Q76","v":3.086682723573772E-3},{"$f":"投入係数!R76","v":2.1876028724580211E-3},{"$f":"投入係数!S76","v":1.9517155319061269E-3},{"$f":"投入係数!T76","v":2.5137353115331691E-3},{"$f":"投入係数!U76","v":1.8378292305639941E-3},{"$f":"投入係数!V76","v":2.0051308307752771E-3},{"$f":"投入係数!W76","v":1.930083939514559E-3},{"$f":"投入係数!X76","v":1.8905758709471996E-3},{"$f":"投入係数!Y76","v":1.2159407576059588E-2},{"$f":"投入係数!Z76","v":4.394624196411144E-3},{"$f":"投入係数!AA76","v":3.8567839542401404E-3},{"$f":"投入係数!AB76","v":2.0167498409945743E-3},{"$f":"投入係数!AC76","v":6.621573413549132E-3},{"$f":"投入係数!AD76","v":5.5444028989536402E-3},{"$f":"投入係数!AE76","v":3.3971294072545188E-3},{"$f":"投入係数!AF76","v":3.3311784493170443E-4},{"$f":"投入係数!AG76","v":1.1763196723434779E-2},{"$f":"投入係数!AH76","v":2.8050955874524331E-3},{"$f":"投入係数!AI76","v":3.9836748028319715E-3},{"$f":"投入係数!AJ76","v":2.8589393795592703E-3},{"$f":"投入係数!AK76","v":1.588055457750328E-3},{"$f":"投入係数!AL76","v":3.6739658018701536E-3},{"$f":"投入係数!AM76","v":1.7797279119106321E-3},{"$f":"投入係数!AN76","v":1.0535004576320771E-2},{"$f":"投入係数!AO76","v":2.700556574497903E-3},{"$f":"投入係数!AP76","v":4.1112960465792756E-3},{"$f":"投入係数!AQ76","v":4.1365133208390676E-3},{"$f":"投入係数!AR76","v":5.217240503520619E-3},{"$f":"投入係数!AS76","v":9.6074482924538556E-3},{"$f":"投入係数!AT76-諸係数!$R81*投入係数!AT76","v":5.3584198063630871E-2},{"$f":"投入係数!AU76-諸係数!$R81*投入係数!AU76","v":5.323847577111894E-2},{"$f":"投入係数!AV76-諸係数!$R81*投入係数!AV76","v":3.9204014493210357E-2},{"$f":"投入係数!AW76-諸係数!$R81*投入係数!AW76","v":0.18886246204501694},{"$f":"投入係数!AX76-諸係数!$R81*投入係数!AX76","v":3.0219058701815186E-2},{"$f":"投入係数!AY76-諸係数!$R81*投入係数!AY76","v":2.3904255844399452E-2},{"$f":"投入係数!AZ76-諸係数!$R81*投入係数!AZ76","v":3.6341086671189606E-2},{"$f":"投入係数!BA76-諸係数!$R81*投入係数!BA76","v":2.3143625676010582E-2},{"$f":"投入係数!BB76-諸係数!$R81*投入係数!BB76","v":1.7963090206296217E-2},{"$f":"投入係数!BC76-諸係数!$R81*投入係数!BC76","v":1.7653638932289016E-2},{"$f":"投入係数!BD76-諸係数!$R81*投入係数!BD76","v":5.4519596567028476E-2},{"$f":"投入係数!BE76-諸係数!$R81*投入係数!BE76","v":1.8858384799292645E-2},{"$f":"投入係数!BF76-諸係数!$R81*投入係数!BF76","v":2.8357079286704456E-2},{"$f":"投入係数!BG76-諸係数!$R81*投入係数!BG76","v":2.6344270064932944E-2},{"$f":"投入係数!BH76-諸係数!$R81*投入係数!BH76","v":1.9259848918867492E-2},{"$f":"投入係数!BI76-諸係数!$R81*投入係数!BI76","v":1.7263801965330249E-2},{"$f":"投入係数!BJ76-諸係数!$R81*投入係数!BJ76","v":2.1800319091151672E-2},{"$f":"投入係数!BK76-諸係数!$R81*投入係数!BK76","v":1.7632673330584183E-2},{"$f":"投入係数!BL76-諸係数!$R81*投入係数!BL76","v":1.9191253888579608E-2},{"$f":"投入係数!BM76-諸係数!$R81*投入係数!BM76","v":1.9576900168992703E-2},{"$f":"投入係数!BN76-諸係数!$R81*投入係数!BN76","v":1.4351915025107728E-2},{"$f":"投入係数!BO76-諸係数!$R81*投入係数!BO76","v":8.3131978746711715E-2},{"$f":"投入係数!BP76-諸係数!$R81*投入係数!BP76","v":4.029382542633269E-2},{"$f":"投入係数!BQ76-諸係数!$R81*投入係数!BQ76","v":3.5477604256176888E-2},{"$f":"投入係数!BR76-諸係数!$R81*投入係数!BR76","v":1.8122889406265365E-2},{"$f":"投入係数!BS76-諸係数!$R81*投入係数!BS76","v":5.6680526693660291E-2},{"$f":"投入係数!BT76-諸係数!$R81*投入係数!BT76","v":4.9315662990004575E-2},{"$f":"投入係数!BU76-諸係数!$R81*投入係数!BU76","v":3.276466223820864E-2},{"$f":"投入係数!BV76-諸係数!$R81*投入係数!BV76","v":2.4042608518061747E-3},{"$f":"投入係数!BW76-諸係数!$R81*投入係数!BW76","v":0.11105169875646471},{"$f":"投入係数!BX76-諸係数!$R81*投入係数!BX76","v":2.5053969682285786E-2},{"$f":"投入係数!BY76-諸係数!$R81*投入係数!BY76","v":3.1623200014908114E-2},{"$f":"投入係数!BZ76-諸係数!$R81*投入係数!BZ76","v":2.412826278574056E-2},{"$f":"投入係数!CA76-諸係数!$R81*投入係数!CA76","v":1.4120285243910581E-2},{"$f":"投入係数!CB76-諸係数!$R81*投入係数!CB76","v":3.5162250050767598E-2},{"$f":"投入係数!CC76-諸係数!$R81*投入係数!CC76","v":1.4487968447987823E-2},{"$f":"投入係数!CD76-諸係数!$R81*投入係数!CD76","v":9.893344084387469E-2},{"$f":"投入係数!CE76-諸係数!$R81*投入係数!CE76","v":2.399284342651594E-2},{"$f":"投入係数!CF76-諸係数!$R81*投入係数!CF76","v":3.2925082700002273E-2},{"$f":"投入係数!CG76-諸係数!$R81*投入係数!CG76","v":3.2874137019455345E-2},{"$f":"投入係数!CH76-諸係数!$R81*投入係数!CH76","v":4.6568932604703517E-2},{"$f":"投入係数!CI76-諸係数!$R81*投入係数!CI76","v":8.6798398881881456E-2}]
[null,"31","情報通信",{"$f":"投入係数!D77","v":5.5736211529620416E-4},{"$f":"投入係数!E77","v":1.6570101183516363E-4},{"$f":"投入係数!F77","v":7.13201167732392E-4},{"$f":"投入係数!G77","v":1.0605019734217756E-3},{"$f":"投入係数!H77","v":5.6903670705012351E-4},{"$f":"投入係数!I77","v":7.7767615901126242E-4},{"$f":"投入係数!J77","v":9.0211601835940688E-4},{"$f":"投入係数!K77","v":1.616060231230001E-3},{"$f":"投入係数!L77","v":1.3044447904262169E-4},{"$f":"投入係数!M77","v":9.796126565440994E-4},{"$f":"投入係数!N77","v":8.1756741584746231E-4},{"$f":"投入係数!O77","v":3.3201603620216889E-4},{"$f":"投入係数!P77","v":4.9245824373388603E-4},{"$f":"投入係数!Q77","v":8.9764226460015877E-4},{"$f":"投入係数!R77","v":9.7883941080686336E-4},{"$f":"投入係数!S77","v":1.3164183672868756E-3},{"$f":"投入係数!T77","v":1.2264673750771141E-3},{"$f":"投入係数!U77","v":1.1917677707845901E-3},{"$f":"投入係数!V77","v":1.7631656819440489E-3},{"$f":"投入係数!W77","v":3.2084228207001227E-3},{"$f":"投入係数!X77","v":3.7237305894743071E-4},{"$f":"投入係数!Y77","v":9.3790271777538319E-4},{"$f":"投入係数!Z77","v":1.0954925312612897E-3},{"$f":"投入係数!AA77","v":1.4047090437218593E-3},{"$f":"投入係数!AB77","v":5.2384109359580313E-3},{"$f":"投入係数!AC77","v":1.3639386767769184E-3},{"$f":"投入係数!AD77","v":4.7597275970469302E-3},{"$f":"投入係数!AE77","v":7.1913092227175587E-3},{"$f":"投入係数!AF77","v":5.7195521309120058E-4},{"$f":"投入係数!AG77","v":1.6265286156204671E-3},{"$f":"投入係数!AH77","v":2.7642072528281755E-2},{"$f":"投入係数!AI77","v":4.487524353126356E-3},{"$f":"投入係数!AJ77","v":2.8906775600917355E-3},{"$f":"投入係数!AK77","v":1.6889974187650999E-3},{"$f":"投入係数!AL77","v":8.8621527728785406E-3},{"$f":"投入係数!AM77","v":9.6874374520621587E-3},{"$f":"投入係数!AN77","v":3.2321054357378255E-3},{"$f":"投入係数!AO77","v":2.2439348434690762E-3},{"$f":"投入係数!AP77","v":5.0222526524620198E-3},{"$f":"投入係数!AQ77","v":2.4225369634086687E-3},{"$f":"投入係数!AR77","v":0},{"$f":"投入係数!AS77","v":1.0283619447265359E-2},{"$f":"投入係数!AT77-諸係数!$R82*投入係数!AT77","v":3.5481067351304713E-3},{"$f":"投入係数!AU77-諸係数!$R82*投入係数!AU77","v":1.4456930458667107E-3},{"$f":"投入係数!AV77-諸係数!$R82*投入係数!AV77","v":4.9065943718210308E-3},{"$f":"投入係数!AW77-諸係数!$R82*投入係数!AW77","v":7.6649545501936778E-3},{"$f":"投入係数!AX77-諸係数!$R82*投入係数!AX77","v":4.3899216291380634E-3},{"$f":"投入係数!AY77-諸係数!$R82*投入係数!AY77","v":5.3273786908048211E-3},{"$f":"投入係数!AZ77-諸係数!$R82*投入係数!AZ77","v":5.9425472585907819E-3},{"$f":"投入係数!BA77-諸係数!$R82*投入係数!BA77","v":1.1824688522021823E-2},{"$f":"投入係数!BB77-諸係数!$R82*投入係数!BB77","v":6.8088854513893024E-4},{"$f":"投入係数!BC77-諸係数!$R82*投入係数!BC77","v":5.9581944375775957E-3},{"$f":"投入係数!BD77-諸係数!$R82*投入係数!BD77","v":6.084611288066916E-3},{"$f":"投入係数!BE77-諸係数!$R82*投入係数!BE77","v":2.4963837591728305E-3},{"$f":"投入係数!BF77-諸係数!$R82*投入係数!BF77","v":3.3777850722685031E-3},{"$f":"投入係数!BG77-諸係数!$R82*投入係数!BG77","v":5.9102589840393481E-3},{"$f":"投入係数!BH77-諸係数!$R82*投入係数!BH77","v":6.4800740633402677E-3},{"$f":"投入係数!BI77-諸係数!$R82*投入係数!BI77","v":1.0031352018194974E-2},{"$f":"投入係数!BJ77-諸係数!$R82*投入係数!BJ77","v":7.4172088741915774E-3},{"$f":"投入係数!BK77-諸係数!$R82*投入係数!BK77","v":8.7848094262044842E-3},{"$f":"投入係数!BL77-諸係数!$R82*投入係数!BL77","v":1.196653099865458E-2},{"$f":"投入係数!BM77-諸係数!$R82*投入係数!BM77","v":1.8300703408630218E-2},{"$f":"投入係数!BN77-諸係数!$R82*投入係数!BN77","v":2.7270491888520317E-3},{"$f":"投入係数!BO77-諸係数!$R82*投入係数!BO77","v":6.5460237843097523E-3},{"$f":"投入係数!BP77-諸係数!$R82*投入係数!BP77","v":8.403300166566742E-3},{"$f":"投入係数!BQ77-諸係数!$R82*投入係数!BQ77","v":1.0618182440357527E-2},{"$f":"投入係数!BR77-諸係数!$R82*投入係数!BR77","v":3.7485583717175266E-2},{"$f":"投入係数!BS77-諸係数!$R82*投入係数!BS77","v":9.2088766959093175E-3},{"$f":"投入係数!BT77-諸係数!$R82*投入係数!BT77","v":3.5600441556810372E-2},{"$f":"投入係数!BU77-諸係数!$R82*投入係数!BU77","v":5.5023753914802541E-2},{"$f":"投入係数!BV77-諸係数!$R82*投入係数!BV77","v":3.2340666429027621E-3},{"$f":"投入係数!BW77-諸係数!$R82*投入係数!BW77","v":9.7241391639172683E-3},{"$f":"投入係数!BX77-諸係数!$R82*投入係数!BX77","v":0.15977255598957713},{"$f":"投入係数!BY77-諸係数!$R82*投入係数!BY77","v":2.8803903122983917E-2},{"$f":"投入係数!BZ77-諸係数!$R82*投入係数!BZ77","v":2.7861070523503301E-2},{"$f":"投入係数!CA77-諸係数!$R82*投入係数!CA77","v":1.1994581611990247E-2},{"$f":"投入係数!CB77-諸係数!$R82*投入係数!CB77","v":6.6391351247895219E-2},{"$f":"投入係数!CC77-諸係数!$R82*投入係数!CC77","v":7.2760801314790124E-2},{"$f":"投入係数!CD77-諸係数!$R82*投入係数!CD77","v":2.4220440024511344E-2},{"$f":"投入係数!CE77-諸係数!$R82*投入係数!CE77","v":1.5645048553602599E-2},{"$f":"投入係数!CF77-諸係数!$R82*投入係数!CF77","v":3.0848307104337398E-2},{"$f":"投入係数!CG77-諸係数!$R82*投入係数!CG77","v":1.6158902027491238E-2},{"$f":"投入係数!CH77-諸係数!$R82*投入係数!CH77","v":0},{"$f":"投入係数!CI77-諸係数!$R82*投入係数!CI77","v":7.1822561883176136E-2}]
[null,"32","公務",{"$f":"投入係数!D78","v":0},{"$f":"投入係数!E78","v":0},{"$f":"投入係数!F78","v":0},{"$f":"投入係数!G78","v":0},{"$f":"投入係数!H78","v":0},{"$f":"投入係数!I78","v":0},{"$f":"投入係数!J78","v":0},{"$f":"投入係数!K78","v":0},{"$f":"投入係数!L78","v":0},{"$f":"投入係数!M78","v":0},{"$f":"投入係数!N78","v":0},{"$f":"投入係数!O78","v":0},{"$f":"投入係数!P78","v":0},{"$f":"投入係数!Q78","v":0},{"$f":"投入係数!R78","v":0},{"$f":"投入係数!S78","v":0},{"$f":"投入係数!T78","v":0},{"$f":"投入係数!U78","v":0},{"$f":"投入係数!V78","v":0},{"$f":"投入係数!W78","v":0},{"$f":"投入係数!X78","v":0},{"$f":"投入係数!Y78","v":0},{"$f":"投入係数!Z78","v":0},{"$f":"投入係数!AA78","v":0},{"$f":"投入係数!AB78","v":0},{"$f":"投入係数!AC78","v":0},{"$f":"投入係数!AD78","v":0},{"$f":"投入係数!AE78","v":0},{"$f":"投入係数!AF78","v":0},{"$f":"投入係数!AG78","v":0},{"$f":"投入係数!AH78","v":0},{"$f":"投入係数!AI78","v":0},{"$f":"投入係数!AJ78","v":0},{"$f":"投入係数!AK78","v":0},{"$f":"投入係数!AL78","v":0},{"$f":"投入係数!AM78","v":0},{"$f":"投入係数!AN78","v":0},{"$f":"投入係数!AO78","v":0},{"$f":"投入係数!AP78","v":0},{"$f":"投入係数!AQ78","v":0},{"$f":"投入係数!AR78","v":0},{"$f":"投入係数!AS78","v":0},{"$f":"投入係数!AT78-諸係数!$R83*投入係数!AT78","v":0},{"$f":"投入係数!AU78-諸係数!$R83*投入係数!AU78","v":0},{"$f":"投入係数!AV78-諸係数!$R83*投入係数!AV78","v":0},{"$f":"投入係数!AW78-諸係数!$R83*投入係数!AW78","v":0},{"$f":"投入係数!AX78-諸係数!$R83*投入係数!AX78","v":0},{"$f":"投入係数!AY78-諸係数!$R83*投入係数!AY78","v":0},{"$f":"投入係数!AZ78-諸係数!$R83*投入係数!AZ78","v":0},{"$f":"投入係数!BA78-諸係数!$R83*投入係数!BA78","v":0},{"$f":"投入係数!BB78-諸係数!$R83*投入係数!BB78","v":0},{"$f":"投入係数!BC78-諸係数!$R83*投入係数!BC78","v":0},{"$f":"投入係数!BD78-諸係数!$R83*投入係数!BD78","v":0},{"$f":"投入係数!BE78-諸係数!$R83*投入係数!BE78","v":0},{"$f":"投入係数!BF78-諸係数!$R83*投入係数!BF78","v":0},{"$f":"投入係数!BG78-諸係数!$R83*投入係数!BG78","v":0},{"$f":"投入係数!BH78-諸係数!$R83*投入係数!BH78","v":0},{"$f":"投入係数!BI78-諸係数!$R83*投入係数!BI78","v":0},{"$f":"投入係数!BJ78-諸係数!$R83*投入係数!BJ78","v":0},{"$f":"投入係数!BK78-諸係数!$R83*投入係数!BK78","v":0},{"$f":"投入係数!BL78-諸係数!$R83*投入係数!BL78","v":0},{"$f":"投入係数!BM78-諸係数!$R83*投入係数!BM78","v":0},{"$f":"投入係数!BN78-諸係数!$R83*投入係数!BN78","v":0},{"$f":"投入係数!BO78-諸係数!$R83*投入係数!BO78","v":0},{"$f":"投入係数!BP78-諸係数!$R83*投入係数!BP78","v":0},{"$f":"投入係数!BQ78-諸係数!$R83*投入係数!BQ78","v":0},{"$f":"投入係数!BR78-諸係数!$R83*投入係数!BR78","v":0},{"$f":"投入係数!BS78-諸係数!$R83*投入係数!BS78","v":0},{"$f":"投入係数!BT78-諸係数!$R83*投入係数!BT78","v":0},{"$f":"投入係数!BU78-諸係数!$R83*投入係数!BU78","v":0},{"$f":"投入係数!BV78-諸係数!$R83*投入係数!BV78","v":0},{"$f":"投入係数!BW78-諸係数!$R83*投入係数!BW78","v":0},{"$f":"投入係数!BX78-諸係数!$R83*投入係数!BX78","v":0},{"$f":"投入係数!BY78-諸係数!$R83*投入係数!BY78","v":0},{"$f":"投入係数!BZ78-諸係数!$R83*投入係数!BZ78","v":0},{"$f":"投入係数!CA78-諸係数!$R83*投入係数!CA78","v":0},{"$f":"投入係数!CB78-諸係数!$R83*投入係数!CB78","v":0},{"$f":"投入係数!CC78-諸係数!$R83*投入係数!CC78","v":0},{"$f":"投入係数!CD78-諸係数!$R83*投入係数!CD78","v":0},{"$f":"投入係数!CE78-諸係数!$R83*投入係数!CE78","v":0},{"$f":"投入係数!CF78-諸係数!$R83*投入係数!CF78","v":0},{"$f":"投入係数!CG78-諸係数!$R83*投入係数!CG78","v":0},{"$f":"投入係数!CH78-諸係数!$R83*投入係数!CH78","v":0},{"$f":"投入係数!CI78-諸係数!$R83*投入係数!CI78","v":0.24676251260709672}]
[null,"33","教育・研究",{"$f":"投入係数!D79","v":9.2325017297894817E-7},{"$f":"投入係数!E79","v":6.2293613471866023E-7},{"$f":"投入係数!F79","v":0},{"$f":"投入係数!G79","v":1.0821448708385466E-5},{"$f":"投入係数!H79","v":2.695960842806492E-6},{"$f":"投入係数!I79","v":2.089965490489821E-7},{"$f":"投入係数!J79","v":2.3711754335066616E-6},{"$f":"投入係数!K79","v":4.5492089036672835E-6},{"$f":"投入係数!L79","v":8.2507576877053566E-8},{"$f":"投入係数!M79","v":1.1611698578966549E-6},{"$f":"投入係数!N79","v":7.362155928387774E-6},{"$f":"投入係数!O79","v":8.1625240595095474E-7},{"$f":"投入係数!P79","v":2.5671150846249486E-7},{"$f":"投入係数!Q79","v":5.7978861024993858E-6},{"$f":"投入係数!R79","v":1.1519395956893029E-5},{"$f":"投入係数!S79","v":6.2099370765617546E-6},{"$f":"投入係数!T79","v":5.0344413880651981E-6},{"$f":"投入係数!U79","v":1.4802292845850351E-5},{"$f":"投入係数!V79","v":1.7105693301059618E-5},{"$f":"投入係数!W79","v":1.6402979655931097E-5},{"$f":"投入係数!X79","v":2.1165866455491068E-6},{"$f":"投入係数!Y79","v":4.9742917940884815E-7},{"$f":"投入係数!Z79","v":2.132482614935482E-6},{"$f":"投入係数!AA79","v":7.1667400440998071E-6},{"$f":"投入係数!AB79","v":1.3074000491241357E-6},{"$f":"投入係数!AC79","v":2.0819195973905107E-6},{"$f":"投入係数!AD79","v":2.7500162224514661E-6},{"$f":"投入係数!AE79","v":2.8772495178852639E-6},{"$f":"投入係数!AF79","v":1.8768259898118453E-8},{"$f":"投入係数!AG79","v":1.4647475753288936E-5},{"$f":"投入係数!AH79","v":6.0138841653342018E-5},{"$f":"投入係数!AI79","v":2.3213713688713443E-6},{"$f":"投入係数!AJ79","v":1.9107875094801332E-8},{"$f":"投入係数!AK79","v":1.2912264563408747E-6},{"$f":"投入係数!AL79","v":0},{"$f":"投入係数!AM79","v":6.9670784284283021E-6},{"$f":"投入係数!AN79","v":2.9452263630858229E-6},{"$f":"投入係数!AO79","v":6.2183539535253491E-6},{"$f":"投入係数!AP79","v":2.7100383441646527E-6},{"$f":"投入係数!AQ79","v":9.5307995730536192E-6},{"$f":"投入係数!AR79","v":0},{"$f":"投入係数!AS79","v":2.1976140850869908E-6},{"$f":"投入係数!AT79-諸係数!$R84*投入係数!AT79","v":3.5446325378892896E-5},{"$f":"投入係数!AU79-諸係数!$R84*投入係数!AU79","v":1.3369985003271103E-4},{"$f":"投入係数!AV79-諸係数!$R84*投入係数!AV79","v":1.2119128723580896E-6},{"$f":"投入係数!AW79-諸係数!$R84*投入係数!AW79","v":2.727543633012909E-4},{"$f":"投入係数!AX79-諸係数!$R84*投入係数!AX79","v":2.5779893411357816E-4},{"$f":"投入係数!AY79-諸係数!$R84*投入係数!AY79","v":2.0810332580165013E-5},{"$f":"投入係数!AZ79-諸係数!$R84*投入係数!AZ79","v":1.4893793047767213E-4},{"$f":"投入係数!BA79-諸係数!$R84*投入係数!BA79","v":2.9612939827878881E-4},{"$f":"投入係数!BB79-諸係数!$R84*投入係数!BB79","v":6.5248189591212693E-6},{"$f":"投入係数!BC79-諸係数!$R84*投入係数!BC79","v":1.1743710638185623E-4},{"$f":"投入係数!BD79-諸係数!$R84*投入係数!BD79","v":3.594427706757363E-4},{"$f":"投入係数!BE79-諸係数!$R84*投入係数!BE79","v":5.7910038417418104E-5},{"$f":"投入係数!BF79-諸係数!$R84*投入係数!BF79","v":1.6033839498235695E-5},{"$f":"投入係数!BG79-諸係数!$R84*投入係数!BG79","v":3.7100085683859971E-4},{"$f":"投入係数!BH79-諸係数!$R84*投入係数!BH79","v":5.9595268130132478E-4},{"$f":"投入係数!BI79-諸係数!$R84*投入係数!BI79","v":3.7494883061137932E-4},{"$f":"投入係数!BJ79-諸係数!$R84*投入係数!BJ79","v":3.0214556409861041E-4},{"$f":"投入係数!BK79-諸係数!$R84*投入係数!BK79","v":1.071394573984271E-3},{"$f":"投入係数!BL79-諸係数!$R84*投入係数!BL79","v":1.0387060894469094E-3},{"$f":"投入係数!BM79-諸係数!$R84*投入係数!BM79","v":1.4237475223042564E-3},{"$f":"投入係数!BN79-諸係数!$R84*投入係数!BN79","v":1.811496559922958E-4},{"$f":"投入係数!BO79-諸係数!$R84*投入係数!BO79","v":4.6554087018449265E-5},{"$f":"投入係数!BP79-諸係数!$R84*投入係数!BP79","v":1.4892532294950788E-4},{"$f":"投入係数!BQ79-諸係数!$R84*投入係数!BQ79","v":5.2952398175302984E-4},{"$f":"投入係数!BR79-諸係数!$R84*投入係数!BR79","v":1.0117591804885361E-4},{"$f":"投入係数!BS79-諸係数!$R84*投入係数!BS79","v":1.3798938035341883E-4},{"$f":"投入係数!BT79-諸係数!$R84*投入係数!BT79","v":2.0035102540757836E-4},{"$f":"投入係数!BU79-諸係数!$R84*投入係数!BU79","v":2.1066616145686793E-4},{"$f":"投入係数!BV79-諸係数!$R84*投入係数!BV79","v":1.0691118232617294E-6},{"$f":"投入係数!BW79-諸係数!$R84*投入係数!BW79","v":1.1500563092434572E-3},{"$f":"投入係数!BX79-諸係数!$R84*投入係数!BX79","v":3.9109055669825947E-3},{"$f":"投入係数!BY79-諸係数!$R84*投入係数!BY79","v":1.2174915793974886E-4},{"$f":"投入係数!BZ79-諸係数!$R84*投入係数!BZ79","v":1.0439779855828099E-6},{"$f":"投入係数!CA79-諸係数!$R84*投入係数!CA79","v":8.7811688284327092E-5},{"$f":"投入係数!CB79-諸係数!$R84*投入係数!CB79","v":0},{"$f":"投入係数!CC79-諸係数!$R84*投入係数!CC79","v":4.9344505618911143E-4},{"$f":"投入係数!CD79-諸係数!$R84*投入係数!CD79","v":2.1666551487765754E-4},{"$f":"投入係数!CE79-諸係数!$R84*投入係数!CE79","v":4.0458049225865477E-4},{"$f":"投入係数!CF79-諸係数!$R84*投入係数!CF79","v":2.1163740501631108E-4},{"$f":"投入係数!CG79-諸係数!$R84*投入係数!CG79","v":6.6334334866059177E-4},{"$f":"投入係数!CH79-諸係数!$R84*投入係数!CH79","v":0},{"$f":"投入係数!CI79-諸係数!$R84*投入係数!CI79","v":1.4979622331470679E-4}]
[null,"34","医療・福祉",{"$f":"投入係数!D80","v":8.9916538585775832E-6},{"$f":"投入係数!E80","v":0},{"$f":"投入係数!F80","v":0},{"$f":"投入係数!G80","v":0},{"$f":"投入係数!H80","v":0},{"$f":"投入係数!I80","v":0},{"$f":"投入係数!J80","v":0},{"$f":"投入係数!K80","v":1.6643447208538842E-7},{"$f":"投入係数!L80","v":0},{"$f":"投入係数!M80","v":0},{"$f":"投入係数!N80","v":0},{"$f":"投入係数!O80","v":2.6850408090491934E-8},{"$f":"投入係数!P80","v":0},{"$f":"投入係数!Q80","v":0},{"$f":"投入係数!R80","v":0},{"$f":"投入係数!S80","v":0},{"$f":"投入係数!T80","v":0},{"$f":"投入係数!U80","v":0},{"$f":"投入係数!V80","v":0},{"$f":"投入係数!W80","v":0},{"$f":"投入係数!X80","v":0},{"$f":"投入係数!Y80","v":1.7765327836030289E-7},{"$f":"投入係数!Z80","v":1.0058880259129632E-8},{"$f":"投入係数!AA80","v":1.8196800893222165E-7},{"$f":"投入係数!AB80","v":2.8421740198350775E-6},{"$f":"投入係数!AC80","v":0},{"$f":"投入係数!AD80","v":2.6442463677417945E-7},{"$f":"投入係数!AE80","v":1.6240920623603232E-6},{"$f":"投入係数!AF80","v":9.0087647510968571E-8},{"$f":"投入係数!AG80","v":1.4190702896214858E-5},{"$f":"投入係数!AH80","v":8.0407971205024251E-6},{"$f":"投入係数!AI80","v":3.4335396452759437E-7},{"$f":"投入係数!AJ80","v":2.1018662604281468E-7},{"$f":"投入係数!AK80","v":1.8235245792576864E-4},{"$f":"投入係数!AL80","v":1.2598037931180447E-7},{"$f":"投入係数!AM80","v":4.1538136971659262E-7},{"$f":"投入係数!AN80","v":7.0124437216329115E-8},{"$f":"投入係数!AO80","v":1.1091216115937026E-6},{"$f":"投入係数!AP80","v":1.1271840900507848E-6},{"$f":"投入係数!AQ80","v":5.0162103016071682E-7},{"$f":"投入係数!AR80","v":0},{"$f":"投入係数!AS80","v":2.6660528769081657E-5},{"$f":"投入係数!AT80-諸係数!$R85*投入係数!AT80","v":4.6191708242044612E-4},{"$f":"投入係数!AU80-諸係数!$R85*投入係数!AU80","v":0},{"$f":"投入係数!AV80-諸係数!$R85*投入係数!AV80","v":0},{"$f":"投入係数!AW80-諸係数!$R85*投入係数!AW80","v":0},{"$f":"投入係数!AX80-諸係数!$R85*投入係数!AX80","v":0},{"$f":"投入係数!AY80-諸係数!$R85*投入係数!AY80","v":0},{"$f":"投入係数!AZ80-諸係数!$R85*投入係数!AZ80","v":3.1237290115990587E-6},{"$f":"投入係数!BA80-諸係数!$R85*投入係数!BA80","v":1.6330483479618412E-5},{"$f":"投入係数!BB80-諸係数!$R85*投入係数!BB80","v":0},{"$f":"投入係数!BC80-諸係数!$R85*投入係数!BC80","v":1.0098814011057062E-6},{"$f":"投入係数!BD80-諸係数!$R85*投入係数!BD80","v":0},{"$f":"投入係数!BE80-諸係数!$R85*投入係数!BE80","v":1.8311023783932794E-6},{"$f":"投入係数!BF80-諸係数!$R85*投入係数!BF80","v":0},{"$f":"投入係数!BG80-諸係数!$R85*投入係数!BG80","v":0},{"$f":"投入係数!BH80-諸係数!$R85*投入係数!BH80","v":0},{"$f":"投入係数!BI80-諸係数!$R85*投入係数!BI80","v":0},{"$f":"投入係数!BJ80-諸係数!$R85*投入係数!BJ80","v":0},{"$f":"投入係数!BK80-諸係数!$R85*投入係数!BK80","v":0},{"$f":"投入係数!BL80-諸係数!$R85*投入係数!BL80","v":0},{"$f":"投入係数!BM80-諸係数!$R85*投入係数!BM80","v":0},{"$f":"投入係数!BN80-諸係数!$R85*投入係数!BN80","v":0},{"$f":"投入係数!BO80-諸係数!$R85*投入係数!BO80","v":1.1274428480943895E-5},{"$f":"投入係数!BP80-諸係数!$R85*投入係数!BP80","v":1.2689581631992575E-6},{"$f":"投入係数!BQ80-諸係数!$R85*投入係数!BQ80","v":2.7559533777241217E-5},{"$f":"投入係数!BR80-諸係数!$R85*投入係数!BR80","v":2.9485555772236537E-4},{"$f":"投入係数!BS80-諸係数!$R85*投入係数!BS80","v":0},{"$f":"投入係数!BT80-諸係数!$R85*投入係数!BT80","v":2.6015672689607279E-5},{"$f":"投入係数!BU80-諸係数!$R85*投入係数!BU80","v":1.607673094321987E-4},{"$f":"投入係数!BV80-諸係数!$R85*投入係数!BV80","v":6.6283152424670656E-6},{"$f":"投入係数!BW80-諸係数!$R85*投入係数!BW80","v":1.1378518138216464E-3},{"$f":"投入係数!BX80-諸係数!$R85*投入係数!BX80","v":5.5703415329215326E-4},{"$f":"投入係数!BY80-諸係数!$R85*投入係数!BY80","v":2.7432357243539171E-5},{"$f":"投入係数!BZ80-諸係数!$R85*投入係数!BZ80","v":2.4371724427345992E-5},{"$f":"投入係数!CA80-諸係数!$R85*投入係数!CA80","v":1.5770748961688019E-2},{"$f":"投入係数!CB80-諸係数!$R85*投入係数!CB80","v":1.3341080777120427E-5},{"$f":"投入係数!CC80-諸係数!$R85*投入係数!CC80","v":4.0669879681208546E-5},{"$f":"投入係数!CD80-諸係数!$R85*投入係数!CD80","v":3.9403510416443686E-6},{"$f":"投入係数!CE80-諸係数!$R85*投入係数!CE80","v":9.9252711770624188E-5},{"$f":"投入係数!CF80-諸係数!$R85*投入係数!CF80","v":9.6082610165401324E-5},{"$f":"投入係数!CG80-諸係数!$R85*投入係数!CG80","v":5.1410735253279339E-5},{"$f":"投入係数!CH80-諸係数!$R85*投入係数!CH80","v":0},{"$f":"投入係数!CI80-諸係数!$R85*投入係数!CI80","v":2.4365092441071246E-3}]
[null,"35","他に分類されない会員制団体",{"$f":"投入係数!D81","v":0},{"$f":"投入係数!E81","v":0},{"$f":"投入係数!F81","v":0},{"$f":"投入係数!G81","v":0},{"$f":"投入係数!H81","v":0},{"$f":"投入係数!I81","v":0},{"$f":"投入係数!J81","v":0},{"$f":"投入係数!K81","v":0},{"$f":"投入係数!L81","v":0},{"$f":"投入係数!M81","v":0},{"$f":"投入係数!N81","v":0},{"$f":"投入係数!O81","v":0},{"$f":"投入係数!P81","v":0},{"$f":"投入係数!Q81","v":0},{"$f":"投入係数!R81","v":0},{"$f":"投入係数!S81","v":0},{"$f":"投入係数!T81","v":0},{"$f":"投入係数!U81","v":0},{"$f":"投入係数!V81","v":0},{"$f":"投入係数!W81","v":0},{"$f":"投入係数!X81","v":0},{"$f":"投入係数!Y81","v":0},{"$f":"投入係数!Z81","v":0},{"$f":"投入係数!AA81","v":0},{"$f":"投入係数!AB81","v":0},{"$f":"投入係数!AC81","v":0},{"$f":"投入係数!AD81","v":0},{"$f":"投入係数!AE81","v":0},{"$f":"投入係数!AF81","v":0},{"$f":"投入係数!AG81","v":0},{"$f":"投入係数!AH81","v":0},{"$f":"投入係数!AI81","v":0},{"$f":"投入係数!AJ81","v":0},{"$f":"投入係数!AK81","v":0},{"$f":"投入係数!AL81","v":0},{"$f":"投入係数!AM81","v":0},{"$f":"投入係数!AN81","v":0},{"$f":"投入係数!AO81","v":0},{"$f":"投入係数!AP81","v":0},{"$f":"投入係数!AQ81","v":0},{"$f":"投入係数!AR81","v":0},{"$f":"投入係数!AS81","v":0},{"$f":"投入係数!AT81-諸係数!$R86*投入係数!AT81","v":1.1216517397545211E-4},{"$f":"投入係数!AU81-諸係数!$R86*投入係数!AU81","v":1.1742137085798622E-4},{"$f":"投入係数!AV81-諸係数!$R86*投入係数!AV81","v":7.6849621797247256E-3},{"$f":"投入係数!AW81-諸係数!$R86*投入係数!AW81","v":2.8467071394161036E-3},{"$f":"投入係数!AX81-諸係数!$R86*投入係数!AX81","v":8.848098916370131E-4},{"$f":"投入係数!AY81-諸係数!$R86*投入係数!AY81","v":6.5456181571117939E-4},{"$f":"投入係数!AZ81-諸係数!$R86*投入係数!AZ81","v":9.7079418899495042E-4},{"$f":"投入係数!BA81-諸係数!$R86*投入係数!BA81","v":1.6862691028438704E-3},{"$f":"投入係数!BB81-諸係数!$R86*投入係数!BB81","v":1.4975614957033259E-4},{"$f":"投入係数!BC81-諸係数!$R86*投入係数!BC81","v":5.4255746713810526E-4},{"$f":"投入係数!BD81-諸係数!$R86*投入係数!BD81","v":9.1561238499994588E-4},{"$f":"投入係数!BE81-諸係数!$R86*投入係数!BE81","v":6.5926883319557044E-4},{"$f":"投入係数!BF81-諸係数!$R86*投入係数!BF81","v":3.5367101837898525E-4},{"$f":"投入係数!BG81-諸係数!$R86*投入係数!BG81","v":8.0066943983146514E-4},{"$f":"投入係数!BH81-諸係数!$R86*投入係数!BH81","v":2.1058867931204187E-3},{"$f":"投入係数!BI81-諸係数!$R86*投入係数!BI81","v":1.730733834289203E-3},{"$f":"投入係数!BJ81-諸係数!$R86*投入係数!BJ81","v":1.4041818780571231E-3},{"$f":"投入係数!BK81-諸係数!$R86*投入係数!BK81","v":6.862380333611225E-4},{"$f":"投入係数!BL81-諸係数!$R86*投入係数!BL81","v":5.9737129852858984E-4},{"$f":"投入係数!BM81-諸係数!$R86*投入係数!BM81","v":7.6697404103583935E-4},{"$f":"投入係数!BN81-諸係数!$R86*投入係数!BN81","v":2.0883468060115437E-4},{"$f":"投入係数!BO81-諸係数!$R86*投入係数!BO81","v":7.7260059574836201E-4},{"$f":"投入係数!BP81-諸係数!$R86*投入係数!BP81","v":1.0679191659222001E-3},{"$f":"投入係数!BQ81-諸係数!$R86*投入係数!BQ81","v":1.4459243511195706E-3},{"$f":"投入係数!BR81-諸係数!$R86*投入係数!BR81","v":8.9014549135911693E-3},{"$f":"投入係数!BS81-諸係数!$R86*投入係数!BS81","v":1.8705621635663168E-3},{"$f":"投入係数!BT81-諸係数!$R86*投入係数!BT81","v":5.5698031234493442E-4},{"$f":"投入係数!BU81-諸係数!$R86*投入係数!BU81","v":2.868632055834066E-3},{"$f":"投入係数!BV81-諸係数!$R86*投入係数!BV81","v":3.1364319844438972E-4},{"$f":"投入係数!BW81-諸係数!$R86*投入係数!BW81","v":1.1967042190959871E-3},{"$f":"投入係数!BX81-諸係数!$R86*投入係数!BX81","v":1.2576895708369361E-3},{"$f":"投入係数!BY81-諸係数!$R86*投入係数!BY81","v":2.7099100167440736E-6},{"$f":"投入係数!BZ81-諸係数!$R86*投入係数!BZ81","v":1.9990258768621005E-3},{"$f":"投入係数!CA81-諸係数!$R86*投入係数!CA81","v":9.5790528488514303E-4},{"$f":"投入係数!CB81-諸係数!$R86*投入係数!CB81","v":0},{"$f":"投入係数!CC81-諸係数!$R86*投入係数!CC81","v":1.9420130412168772E-3},{"$f":"投入係数!CD81-諸係数!$R86*投入係数!CD81","v":1.4484105445951537E-3},{"$f":"投入係数!CE81-諸係数!$R86*投入係数!CE81","v":1.482157962750933E-3},{"$f":"投入係数!CF81-諸係数!$R86*投入係数!CF81","v":7.5960527805639232E-3},{"$f":"投入係数!CG81-諸係数!$R86*投入係数!CG81","v":2.0302279741970975E-3},{"$f":"投入係数!CH81-諸係数!$R86*投入係数!CH81","v":0},{"$f":"投入係数!CI81-諸係数!$R86*投入係数!CI81","v":4.6776309258569904E-3}]
[null,"36","対事業所サービス",{"$f":"投入係数!D82","v":2.1892268666924295E-3},{"$f":"投入係数!E82","v":2.767082310420289E-3},{"$f":"投入係数!F82","v":1.4691226614697878E-3},{"$f":"投入係数!G82","v":4.3326841707952979E-3},{"$f":"投入係数!H82","v":3.8073832982013314E-3},{"$f":"投入係数!I82","v":3.7343503384072124E-3},{"$f":"投入係数!J82","v":3.0711836163865884E-3},{"$f":"投入係数!K82","v":4.4675080705924792E-3},{"$f":"投入係数!L82","v":1.3709458973891219E-3},{"$f":"投入係数!M82","v":4.2640438051328887E-3},{"$f":"投入係数!N82","v":5.5179693326717653E-3},{"$f":"投入係数!O82","v":1.0567783616255814E-3},{"$f":"投入係数!P82","v":1.7288664389920822E-3},{"$f":"投入係数!Q82","v":3.2862830461481418E-3},{"$f":"投入係数!R82","v":5.3476283109952409E-3},{"$f":"投入係数!S82","v":4.199889339509915E-3},{"$f":"投入係数!T82","v":3.6650733305114641E-3},{"$f":"投入係数!U82","v":5.2015770011060317E-3},{"$f":"投入係数!V82","v":4.706953157301616E-3},{"$f":"投入係数!W82","v":4.0810613383956574E-3},{"$f":"投入係数!X82","v":2.8162774348044037E-3},{"$f":"投入係数!Y82","v":4.8164646215931878E-3},{"$f":"投入係数!Z82","v":1.0014208771898837E-2},{"$f":"投入係数!AA82","v":6.1103037719350715E-3},{"$f":"投入係数!AB82","v":1.4642937393670718E-2},{"$f":"投入係数!AC82","v":7.0519680892367001E-3},{"$f":"投入係数!AD82","v":8.7475203519590001E-3},{"$f":"投入係数!AE82","v":1.1723147642800802E-2},{"$f":"投入係数!AF82","v":3.6729071718900053E-3},{"$f":"投入係数!AG82","v":1.3548019094264927E-2},{"$f":"投入係数!AH82","v":1.7080980843053085E-2},{"$f":"投入係数!AI82","v":1.0944332977150868E-2},{"$f":"投入係数!AJ82","v":7.2309422177920819E-3},{"$f":"投入係数!AK82","v":5.2598309373239806E-3},{"$f":"投入係数!AL82","v":8.1107428004732821E-3},{"$f":"投入係数!AM82","v":1.4897607510554349E-2},{"$f":"投入係数!AN82","v":2.6366788393339747E-3},{"$f":"投入係数!AO82","v":3.5835992005415055E-3},{"$f":"投入係数!AP82","v":5.7481112411742986E-3},{"$f":"投入係数!AQ82","v":4.6348320125512276E-3},{"$f":"投入係数!AR82","v":0},{"$f":"投入係数!AS82","v":4.4344960639575099E-3},{"$f":"投入係数!AT82-諸係数!$R87*投入係数!AT82","v":1.9130410453907898E-2},{"$f":"投入係数!AU82-諸係数!$R87*投入係数!AU82","v":2.1660164469810887E-2},{"$f":"投入係数!AV82-諸係数!$R87*投入係数!AV82","v":1.097966433062229E-2},{"$f":"投入係数!AW82-諸係数!$R87*投入係数!AW82","v":4.6917264341389299E-2},{"$f":"投入係数!AX82-諸係数!$R87*投入係数!AX82","v":3.2106848742994326E-2},{"$f":"投入係数!AY82-諸係数!$R87*投入係数!AY82","v":3.1096427867297813E-2},{"$f":"投入係数!AZ82-諸係数!$R87*投入係数!AZ82","v":2.0801827786689202E-2},{"$f":"投入係数!BA82-諸係数!$R87*投入係数!BA82","v":4.5204715890417885E-2},{"$f":"投入係数!BB82-諸係数!$R87*投入係数!BB82","v":4.511282064864966E-3},{"$f":"投入係数!BC82-諸係数!$R87*投入係数!BC82","v":3.565552116810336E-2},{"$f":"投入係数!BD82-諸係数!$R87*投入係数!BD82","v":5.0070240668943986E-2},{"$f":"投入係数!BE82-諸係数!$R87*投入係数!BE82","v":1.0386429503841523E-2},{"$f":"投入係数!BF82-諸係数!$R87*投入係数!BF82","v":1.4628945737867292E-2},{"$f":"投入係数!BG82-諸係数!$R87*投入係数!BG82","v":2.7276123936167126E-2},{"$f":"投入係数!BH82-諸係数!$R87*投入係数!BH82","v":3.7092855020486856E-2},{"$f":"投入係数!BI82-諸係数!$R87*投入係数!BI82","v":3.1853694974824709E-2},{"$f":"投入係数!BJ82-諸係数!$R87*投入係数!BJ82","v":3.1542385729794731E-2},{"$f":"投入係数!BK82-諸係数!$R87*投入係数!BK82","v":4.2435515622097041E-2},{"$f":"投入係数!BL82-諸係数!$R87*投入係数!BL82","v":3.6623479391659157E-2},{"$f":"投入係数!BM82-諸係数!$R87*投入係数!BM82","v":3.3890725634427847E-2},{"$f":"投入係数!BN82-諸係数!$R87*投入係数!BN82","v":2.6026665777537629E-2},{"$f":"投入係数!BO82-諸係数!$R87*投入係数!BO82","v":3.6944546116183641E-2},{"$f":"投入係数!BP82-諸係数!$R87*投入係数!BP82","v":8.7678231144622379E-2},{"$f":"投入係数!BQ82-諸係数!$R87*投入係数!BQ82","v":6.024893052136069E-2},{"$f":"投入係数!BR82-諸係数!$R87*投入係数!BR82","v":0.12688803988384681},{"$f":"投入係数!BS82-諸係数!$R87*投入係数!BS82","v":5.8390271847644233E-2},{"$f":"投入係数!BT82-諸係数!$R87*投入係数!BT82","v":8.036362624069264E-2},{"$f":"投入係数!BU82-諸係数!$R87*投入係数!BU82","v":0.1093226563247348},{"$f":"投入係数!BV82-諸係数!$R87*投入係数!BV82","v":2.5817539297620297E-2},{"$f":"投入係数!BW82-諸係数!$R87*投入係数!BW82","v":0.10802544419931552},{"$f":"投入係数!BX82-諸係数!$R87*投入係数!BX82","v":0.15524342229145804},{"$f":"投入係数!BY82-諸係数!$R87*投入係数!BY82","v":8.6153055976412651E-2},{"$f":"投入係数!BZ82-諸係数!$R87*投入係数!BZ82","v":6.6808023181284149E-2},{"$f":"投入係数!CA82-諸係数!$R87*投入係数!CA82","v":4.4269874092882508E-2},{"$f":"投入係数!CB82-諸係数!$R87*投入係数!CB82","v":7.3378169627335024E-2},{"$f":"投入係数!CC82-諸係数!$R87*投入係数!CC82","v":0.1304789816043293},{"$f":"投入係数!CD82-諸係数!$R87*投入係数!CD82","v":2.4069651327957312E-2},{"$f":"投入係数!CE82-諸係数!$R87*投入係数!CE82","v":3.0008440504496071E-2},{"$f":"投入係数!CF82-諸係数!$R87*投入係数!CF82","v":4.6073962600191976E-2},{"$f":"投入係数!CG82-諸係数!$R87*投入係数!CG82","v":3.8473975096438101E-2},{"$f":"投入係数!CH82-諸係数!$R87*投入係数!CH82","v":0},{"$f":"投入係数!CI82-諸係数!$R87*投入係数!CI82","v":3.7728785370216469E-2}]
[null,"37","宿泊業",{"$f":"投入係数!D83","v":0},{"$f":"投入係数!E83","v":0},{"$f":"投入係数!F83","v":0},{"$f":"投入係数!G83","v":0},{"$f":"投入係数!H83","v":0},{"$f":"投入係数!I83","v":0},{"$f":"投入係数!J83","v":0},{"$f":"投入係数!K83","v":0},{"$f":"投入係数!L83","v":0},{"$f":"投入係数!M83","v":0},{"$f":"投入係数!N83","v":0},{"$f":"投入係数!O83","v":0},{"$f":"投入係数!P83","v":0},{"$f":"投入係数!Q83","v":0},{"$f":"投入係数!R83","v":0},{"$f":"投入係数!S83","v":0},{"$f":"投入係数!T83","v":0},{"$f":"投入係数!U83","v":0},{"$f":"投入係数!V83","v":0},{"$f":"投入係数!W83","v":0},{"$f":"投入係数!X83","v":0},{"$f":"投入係数!Y83","v":0},{"$f":"投入係数!Z83","v":0},{"$f":"投入係数!AA83","v":0},{"$f":"投入係数!AB83","v":0},{"$f":"投入係数!AC83","v":0},{"$f":"投入係数!AD83","v":0},{"$f":"投入係数!AE83","v":0},{"$f":"投入係数!AF83","v":0},{"$f":"投入係数!AG83","v":0},{"$f":"投入係数!AH83","v":0},{"$f":"投入係数!AI83","v":0},{"$f":"投入係数!AJ83","v":0},{"$f":"投入係数!AK83","v":0},{"$f":"投入係数!AL83","v":0},{"$f":"投入係数!AM83","v":0},{"$f":"投入係数!AN83","v":0},{"$f":"投入係数!AO83","v":0},{"$f":"投入係数!AP83","v":0},{"$f":"投入係数!AQ83","v":0},{"$f":"投入係数!AR83","v":0},{"$f":"投入係数!AS83","v":0},{"$f":"投入係数!AT83-諸係数!$R88*投入係数!AT83","v":0},{"$f":"投入係数!AU83-諸係数!$R88*投入係数!AU83","v":0},{"$f":"投入係数!AV83-諸係数!$R88*投入係数!AV83","v":0},{"$f":"投入係数!AW83-諸係数!$R88*投入係数!AW83","v":0},{"$f":"投入係数!AX83-諸係数!$R88*投入係数!AX83","v":0},{"$f":"投入係数!AY83-諸係数!$R88*投入係数!AY83","v":0},{"$f":"投入係数!AZ83-諸係数!$R88*投入係数!AZ83","v":0},{"$f":"投入係数!BA83-諸係数!$R88*投入係数!BA83","v":0},{"$f":"投入係数!BB83-諸係数!$R88*投入係数!BB83","v":0},{"$f":"投入係数!BC83-諸係数!$R88*投入係数!BC83","v":0},{"$f":"投入係数!BD83-諸係数!$R88*投入係数!BD83","v":0},{"$f":"投入係数!BE83-諸係数!$R88*投入係数!BE83","v":0},{"$f":"投入係数!BF83-諸係数!$R88*投入係数!BF83","v":0},{"$f":"投入係数!BG83-諸係数!$R88*投入係数!BG83","v":0},{"$f":"投入係数!BH83-諸係数!$R88*投入係数!BH83","v":0},{"$f":"投入係数!BI83-諸係数!$R88*投入係数!BI83","v":0},{"$f":"投入係数!BJ83-諸係数!$R88*投入係数!BJ83","v":0},{"$f":"投入係数!BK83-諸係数!$R88*投入係数!BK83","v":0},{"$f":"投入係数!BL83-諸係数!$R88*投入係数!BL83","v":0},{"$f":"投入係数!BM83-諸係数!$R88*投入係数!BM83","v":0},{"$f":"投入係数!BN83-諸係数!$R88*投入係数!BN83","v":0},{"$f":"投入係数!BO83-諸係数!$R88*投入係数!BO83","v":0},{"$f":"投入係数!BP83-諸係数!$R88*投入係数!BP83","v":0},{"$f":"投入係数!BQ83-諸係数!$R88*投入係数!BQ83","v":0},{"$f":"投入係数!BR83-諸係数!$R88*投入係数!BR83","v":0},{"$f":"投入係数!BS83-諸係数!$R88*投入係数!BS83","v":0},{"$f":"投入係数!BT83-諸係数!$R88*投入係数!BT83","v":0},{"$f":"投入係数!BU83-諸係数!$R88*投入係数!BU83","v":0},{"$f":"投入係数!BV83-諸係数!$R88*投入係数!BV83","v":0},{"$f":"投入係数!BW83-諸係数!$R88*投入係数!BW83","v":0},{"$f":"投入係数!BX83-諸係数!$R88*投入係数!BX83","v":0},{"$f":"投入係数!BY83-諸係数!$R88*投入係数!BY83","v":0},{"$f":"投入係数!BZ83-諸係数!$R88*投入係数!BZ83","v":0},{"$f":"投入係数!CA83-諸係数!$R88*投入係数!CA83","v":0},{"$f":"投入係数!CB83-諸係数!$R88*投入係数!CB83","v":0},{"$f":"投入係数!CC83-諸係数!$R88*投入係数!CC83","v":0},{"$f":"投入係数!CD83-諸係数!$R88*投入係数!CD83","v":0},{"$f":"投入係数!CE83-諸係数!$R88*投入係数!CE83","v":0},{"$f":"投入係数!CF83-諸係数!$R88*投入係数!CF83","v":0},{"$f":"投入係数!CG83-諸係数!$R88*投入係数!CG83","v":0},{"$f":"投入係数!CH83-諸係数!$R88*投入係数!CH83","v":0},{"$f":"投入係数!CI83-諸係数!$R88*投入係数!CI83","v":0}]
[null,"38","飲食サービス",{"$f":"投入係数!D84","v":0},{"$f":"投入係数!E84","v":0},{"$f":"投入係数!F84","v":0},{"$f":"投入係数!G84","v":0},{"$f":"投入係数!H84","v":0},{"$f":"投入係数!I84","v":0},{"$f":"投入係数!J84","v":0},{"$f":"投入係数!K84","v":0},{"$f":"投入係数!L84","v":0},{"$f":"投入係数!M84","v":0},{"$f":"投入係数!N84","v":0},{"$f":"投入係数!O84","v":0},{"$f":"投入係数!P84","v":0},{"$f":"投入係数!Q84","v":0},{"$f":"投入係数!R84","v":0},{"$f":"投入係数!S84","v":0},{"$f":"投入係数!T84","v":0},{"$f":"投入係数!U84","v":0},{"$f":"投入係数!V84","v":0},{"$f":"投入係数!W84","v":0},{"$f":"投入係数!X84","v":0},{"$f":"投入係数!Y84","v":0},{"$f":"投入係数!Z84","v":0},{"$f":"投入係数!AA84","v":0},{"$f":"投入係数!AB84","v":0},{"$f":"投入係数!AC84","v":0},{"$f":"投入係数!AD84","v":0},{"$f":"投入係数!AE84","v":0},{"$f":"投入係数!AF84","v":0},{"$f":"投入係数!AG84","v":0},{"$f":"投入係数!AH84","v":0},{"$f":"投入係数!AI84","v":0},{"$f":"投入係数!AJ84","v":9.8373710279735528E-5},{"$f":"投入係数!AK84","v":1.0990733233792197E-4},{"$f":"投入係数!AL84","v":0},{"$f":"投入係数!AM84","v":0},{"$f":"投入係数!AN84","v":6.602917008289549E-4},{"$f":"投入係数!AO84","v":3.454095615646815E-4},{"$f":"投入係数!AP84","v":0},{"$f":"投入係数!AQ84","v":0},{"$f":"投入係数!AR84","v":0},{"$f":"投入係数!AS84","v":0},{"$f":"投入係数!AT84-諸係数!$R89*投入係数!AT84","v":0},{"$f":"投入係数!AU84-諸係数!$R89*投入係数!AU84","v":0},{"$f":"投入係数!AV84-諸係数!$R89*投入係数!AV84","v":0},{"$f":"投入係数!AW84-諸係数!$R89*投入係数!AW84","v":0},{"$f":"投入係数!AX84-諸係数!$R89*投入係数!AX84","v":0},{"$f":"投入係数!AY84-諸係数!$R89*投入係数!AY84","v":0},{"$f":"投入係数!AZ84-諸係数!$R89*投入係数!AZ84","v":0},{"$f":"投入係数!BA84-諸係数!$R89*投入係数!BA84","v":0},{"$f":"投入係数!BB84-諸係数!$R89*投入係数!BB84","v":0},{"$f":"投入係数!BC84-諸係数!$R89*投入係数!BC84","v":0},{"$f":"投入係数!BD84-諸係数!$R89*投入係数!BD84","v":0},{"$f":"投入係数!BE84-諸係数!$R89*投入係数!BE84","v":0},{"$f":"投入係数!BF84-諸係数!$R89*投入係数!BF84","v":0},{"$f":"投入係数!BG84-諸係数!$R89*投入係数!BG84","v":0},{"$f":"投入係数!BH84-諸係数!$R89*投入係数!BH84","v":0},{"$f":"投入係数!BI84-諸係数!$R89*投入係数!BI84","v":0},{"$f":"投入係数!BJ84-諸係数!$R89*投入係数!BJ84","v":0},{"$f":"投入係数!BK84-諸係数!$R89*投入係数!BK84","v":0},{"$f":"投入係数!BL84-諸係数!$R89*投入係数!BL84","v":0},{"$f":"投入係数!BM84-諸係数!$R89*投入係数!BM84","v":0},{"$f":"投入係数!BN84-諸係数!$R89*投入係数!BN84","v":0},{"$f":"投入係数!BO84-諸係数!$R89*投入係数!BO84","v":0},{"$f":"投入係数!BP84-諸係数!$R89*投入係数!BP84","v":0},{"$f":"投入係数!BQ84-諸係数!$R89*投入係数!BQ84","v":0},{"$f":"投入係数!BR84-諸係数!$R89*投入係数!BR84","v":0},{"$f":"投入係数!BS84-諸係数!$R89*投入係数!BS84","v":0},{"$f":"投入係数!BT84-諸係数!$R89*投入係数!BT84","v":0},{"$f":"投入係数!BU84-諸係数!$R89*投入係数!BU84","v":0},{"$f":"投入係数!BV84-諸係数!$R89*投入係数!BV84","v":0},{"$f":"投入係数!BW84-諸係数!$R89*投入係数!BW84","v":0},{"$f":"投入係数!BX84-諸係数!$R89*投入係数!BX84","v":0},{"$f":"投入係数!BY84-諸係数!$R89*投入係数!BY84","v":0},{"$f":"投入係数!BZ84-諸係数!$R89*投入係数!BZ84","v":1.4895799954730987E-3},{"$f":"投入係数!CA84-諸係数!$R89*投入係数!CA84","v":2.050009237668422E-3},{"$f":"投入係数!CB84-諸係数!$R89*投入係数!CB84","v":0},{"$f":"投入係数!CC84-諸係数!$R89*投入係数!CC84","v":0},{"$f":"投入係数!CD84-諸係数!$R89*投入係数!CD84","v":1.4330957785789245E-2},{"$f":"投入係数!CE84-諸係数!$R89*投入係数!CE84","v":6.8916773784782753E-3},{"$f":"投入係数!CF84-諸係数!$R89*投入係数!CF84","v":0},{"$f":"投入係数!CG84-諸係数!$R89*投入係数!CG84","v":0},{"$f":"投入係数!CH84-諸係数!$R89*投入係数!CH84","v":0},{"$f":"投入係数!CI84-諸係数!$R89*投入係数!CI84","v":0}]
[null,"39","娯楽サービス",{"$f":"投入係数!D85","v":0},{"$f":"投入係数!E85","v":0},{"$f":"投入係数!F85","v":0},{"$f":"投入係数!G85","v":0},{"$f":"投入係数!H85","v":0},{"$f":"投入係数!I85","v":0},{"$f":"投入係数!J85","v":0},{"$f":"投入係数!K85","v":0},{"$f":"投入係数!L85","v":0},{"$f":"投入係数!M85","v":0},{"$f":"投入係数!N85","v":0},{"$f":"投入係数!O85","v":0},{"$f":"投入係数!P85","v":0},{"$f":"投入係数!Q85","v":0},{"$f":"投入係数!R85","v":0},{"$f":"投入係数!S85","v":0},{"$f":"投入係数!T85","v":0},{"$f":"投入係数!U85","v":0},{"$f":"投入係数!V85","v":0},{"$f":"投入係数!W85","v":0},{"$f":"投入係数!X85","v":0},{"$f":"投入係数!Y85","v":3.5530655672060579E-8},{"$f":"投入係数!Z85","v":0},{"$f":"投入係数!AA85","v":0},{"$f":"投入係数!AB85","v":0},{"$f":"投入係数!AC85","v":0},{"$f":"投入係数!AD85","v":1.7115485580292343E-6},{"$f":"投入係数!AE85","v":0},{"$f":"投入係数!AF85","v":0},{"$f":"投入係数!AG85","v":0},{"$f":"投入係数!AH85","v":1.0245725909124551E-3},{"$f":"投入係数!AI85","v":0},{"$f":"投入係数!AJ85","v":1.1222691972346651E-5},{"$f":"投入係数!AK85","v":0},{"$f":"投入係数!AL85","v":0},{"$f":"投入係数!AM85","v":2.9899906231054367E-5},{"$f":"投入係数!AN85","v":3.0623341732370927E-4},{"$f":"投入係数!AO85","v":2.9746277976513074E-5},{"$f":"投入係数!AP85","v":1.678041353122625E-3},{"$f":"投入係数!AQ85","v":8.8368904813312956E-5},{"$f":"投入係数!AR85","v":0},{"$f":"投入係数!AS85","v":5.7542789859514625E-5},{"$f":"投入係数!AT85-諸係数!$R90*投入係数!AT85","v":0},{"$f":"投入係数!AU85-諸係数!$R90*投入係数!AU85","v":0},{"$f":"投入係数!AV85-諸係数!$R90*投入係数!AV85","v":0},{"$f":"投入係数!AW85-諸係数!$R90*投入係数!AW85","v":0},{"$f":"投入係数!AX85-諸係数!$R90*投入係数!AX85","v":0},{"$f":"投入係数!AY85-諸係数!$R90*投入係数!AY85","v":0},{"$f":"投入係数!AZ85-諸係数!$R90*投入係数!AZ85","v":0},{"$f":"投入係数!BA85-諸係数!$R90*投入係数!BA85","v":0},{"$f":"投入係数!BB85-諸係数!$R90*投入係数!BB85","v":0},{"$f":"投入係数!BC85-諸係数!$R90*投入係数!BC85","v":0},{"$f":"投入係数!BD85-諸係数!$R90*投入係数!BD85","v":0},{"$f":"投入係数!BE85-諸係数!$R90*投入係数!BE85","v":0},{"$f":"投入係数!BF85-諸係数!$R90*投入係数!BF85","v":0},{"$f":"投入係数!BG85-諸係数!$R90*投入係数!BG85","v":0},{"$f":"投入係数!BH85-諸係数!$R90*投入係数!BH85","v":0},{"$f":"投入係数!BI85-諸係数!$R90*投入係数!BI85","v":0},{"$f":"投入係数!BJ85-諸係数!$R90*投入係数!BJ85","v":0},{"$f":"投入係数!BK85-諸係数!$R90*投入係数!BK85","v":0},{"$f":"投入係数!BL85-諸係数!$R90*投入係数!BL85","v":0},{"$f":"投入係数!BM85-諸係数!$R90*投入係数!BM85","v":0},{"$f":"投入係数!BN85-諸係数!$R90*投入係数!BN85","v":0},{"$f":"投入係数!BO85-諸係数!$R90*投入係数!BO85","v":3.163998015055911E-4},{"$f":"投入係数!BP85-諸係数!$R90*投入係数!BP85","v":0},{"$f":"投入係数!BQ85-諸係数!$R90*投入係数!BQ85","v":0},{"$f":"投入係数!BR85-諸係数!$R90*投入係数!BR85","v":0},{"$f":"投入係数!BS85-諸係数!$R90*投入係数!BS85","v":0},{"$f":"投入係数!BT85-諸係数!$R90*投入係数!BT85","v":1.5467840670995896E-5},{"$f":"投入係数!BU85-諸係数!$R90*投入係数!BU85","v":0},{"$f":"投入係数!BV85-諸係数!$R90*投入係数!BV85","v":0},{"$f":"投入係数!BW85-諸係数!$R90*投入係数!BW85","v":0},{"$f":"投入係数!BX85-諸係数!$R90*投入係数!BX85","v":8.473621561323556E-3},{"$f":"投入係数!BY85-諸係数!$R90*投入係数!BY85","v":0},{"$f":"投入係数!BZ85-諸係数!$R90*投入係数!BZ85","v":6.1723873759217138E-5},{"$f":"投入係数!CA85-諸係数!$R90*投入係数!CA85","v":0},{"$f":"投入係数!CB85-諸係数!$R90*投入係数!CB85","v":0},{"$f":"投入係数!CC85-諸係数!$R90*投入係数!CC85","v":2.5029947333995675E-4},{"$f":"投入係数!CD85-諸係数!$R90*投入係数!CD85","v":2.526783977681695E-3},{"$f":"投入係数!CE85-諸係数!$R90*投入係数!CE85","v":2.2283657719584477E-4},{"$f":"投入係数!CF85-諸係数!$R90*投入係数!CF85","v":1.8596822983317433E-2},{"$f":"投入係数!CG85-諸係数!$R90*投入係数!CG85","v":9.8687046248437148E-4},{"$f":"投入係数!CH85-諸係数!$R90*投入係数!CH85","v":0},{"$f":"投入係数!CI85-諸係数!$R90*投入係数!CI85","v":4.4246461792770764E-4}]
[null,"40","その他の対個人サービス",{"$f":"投入係数!D86","v":3.1310223257546938E-6},{"$f":"投入係数!E86","v":6.2293613471866023E-7},{"$f":"投入係数!F86","v":1.7609905376108445E-5},{"$f":"投入係数!G86","v":4.1046874411117282E-6},{"$f":"投入係数!H86","v":2.7337546863972366E-6},{"$f":"投入係数!I86","v":3.1349482357347312E-6},{"$f":"投入係数!J86","v":1.6737708942399962E-6},{"$f":"投入係数!K86","v":1.8862573503010689E-6},{"$f":"投入係数!L86","v":8.2507576877053563E-7},{"$f":"投入係数!M86","v":1.9076361951159328E-6},{"$f":"投入係数!N86","v":1.50589553080659E-6},{"$f":"投入係数!O86","v":1.1062368133282675E-6},{"$f":"投入係数!P86","v":1.7969805592374642E-6},{"$f":"投入係数!Q86","v":1.7952845292003175E-6},{"$f":"投入係数!R86","v":2.4739642323528652E-6},{"$f":"投入係数!S86","v":2.5604953822790176E-6},{"$f":"投入係数!T86","v":1.9363236107943071E-6},{"$f":"投入係数!U86","v":3.3341798241890644E-6},{"$f":"投入係数!V86","v":2.4488919896816121E-6},{"$f":"投入係数!W86","v":2.1870639541241463E-6},{"$f":"投入係数!X86","v":1.7193293922553555E-6},{"$f":"投入係数!Y86","v":2.2384313073398163E-6},{"$f":"投入係数!Z86","v":4.622055479070065E-6},{"$f":"投入係数!AA86","v":1.385756375714611E-6},{"$f":"投入係数!AB86","v":4.9453827945130345E-6},{"$f":"投入係数!AC86","v":9.5655765285509966E-7},{"$f":"投入係数!AD86","v":1.4964030581084246E-5},{"$f":"投入係数!AE86","v":3.4085882790278384E-6},{"$f":"投入係数!AF86","v":1.0258730860311547E-5},{"$f":"投入係数!AG86","v":1.1783861303170677E-5},{"$f":"投入係数!AH86","v":2.9021017573997791E-5},{"$f":"投入係数!AI86","v":1.027076206934717E-5},{"$f":"投入係数!AJ86","v":1.7190718293622932E-5},{"$f":"投入係数!AK86","v":2.0321508332474012E-4},{"$f":"投入係数!AL86","v":4.4219113138443361E-5},{"$f":"投入係数!AM86","v":2.1864164824173373E-5},{"$f":"投入係数!AN86","v":2.3540773573521684E-4},{"$f":"投入係数!AO86","v":6.0128937205579918E-5},{"$f":"投入係数!AP86","v":6.3793822968831663E-5},{"$f":"投入係数!AQ86","v":3.3031744836083202E-4},{"$f":"投入係数!AR86","v":0},{"$f":"投入係数!AS86","v":2.2612292296552986E-5},{"$f":"投入係数!AT86-諸係数!$R91*投入係数!AT86","v":1.1228839681185922E-4},{"$f":"投入係数!AU86-諸係数!$R91*投入係数!AU86","v":1.0559554354958938E-4},{"$f":"投入係数!AV86-諸係数!$R91*投入係数!AV86","v":9.6639092717488041E-4},{"$f":"投入係数!AW86-諸係数!$R91*投入係数!AW86","v":1.8193414381956671E-4},{"$f":"投入係数!AX86-諸係数!$R91*投入係数!AX86","v":1.6738683680765594E-4},{"$f":"投入係数!AY86-諸係数!$R91*投入係数!AY86","v":1.6143042659858554E-4},{"$f":"投入係数!AZ86-諸係数!$R91*投入係数!AZ86","v":9.3861780316971061E-5},{"$f":"投入係数!BA86-諸係数!$R91*投入係数!BA86","v":1.0140550057523881E-4},{"$f":"投入係数!BB86-諸係数!$R91*投入係数!BB86","v":1.6718718969412748E-5},{"$f":"投入係数!BC86-諸係数!$R91*投入係数!BC86","v":8.784769200351432E-5},{"$f":"投入係数!BD86-諸係数!$R91*投入係数!BD86","v":7.2546599632646982E-5},{"$f":"投入係数!BE86-諸係数!$R91*投入係数!BE86","v":6.1185669819481447E-5},{"$f":"投入係数!BF86-諸係数!$R91*投入係数!BF86","v":9.0896748222522018E-5},{"$f":"投入係数!BG86-諸係数!$R91*投入係数!BG86","v":9.3261599344718481E-5},{"$f":"投入係数!BH86-諸係数!$R91*投入係数!BH86","v":1.1786571050351909E-4},{"$f":"投入係数!BI86-諸係数!$R91*投入係数!BI86","v":1.3366124114903656E-4},{"$f":"投入係数!BJ86-諸係数!$R91*投入係数!BJ86","v":1.0792799958361037E-4},{"$f":"投入係数!BK86-諸係数!$R91*投入係数!BK86","v":1.675246073403803E-4},{"$f":"投入係数!BL86-諸係数!$R91*投入係数!BL86","v":1.255952292385949E-4},{"$f":"投入係数!BM86-諸係数!$R91*投入係数!BM86","v":1.2727642513792186E-4},{"$f":"投入係数!BN86-諸係数!$R91*投入係数!BN86","v":9.7907276320383901E-5},{"$f":"投入係数!BO86-諸係数!$R91*投入係数!BO86","v":1.1842003585218416E-4},{"$f":"投入係数!BP86-諸係数!$R91*投入係数!BP86","v":2.55390942362127E-4},{"$f":"投入係数!BQ86-諸係数!$R91*投入係数!BQ86","v":8.0076673803703639E-5},{"$f":"投入係数!BR86-諸係数!$R91*投入係数!BR86","v":2.7472449627470054E-4},{"$f":"投入係数!BS86-諸係数!$R91*投入係数!BS86","v":4.9048400673095419E-5},{"$f":"投入係数!BT86-諸係数!$R91*投入係数!BT86","v":8.2395371608859379E-4},{"$f":"投入係数!BU86-諸係数!$R91*投入係数!BU86","v":1.9804337285002436E-4},{"$f":"投入係数!BV86-諸係数!$R91*投入係数!BV86","v":5.1340363702608721E-4},{"$f":"投入係数!BW86-諸係数!$R91*投入係数!BW86","v":6.7453777180158533E-4},{"$f":"投入係数!BX86-諸係数!$R91*投入係数!BX86","v":1.69694209840722E-3},{"$f":"投入係数!BY86-諸係数!$R91*投入係数!BY86","v":4.8275241491480388E-4},{"$f":"投入係数!BZ86-諸係数!$R91*投入係数!BZ86","v":1.3541216253598598E-3},{"$f":"投入係数!CA86-諸係数!$R91*投入係数!CA86","v":1.0057088581953562E-2},{"$f":"投入係数!CB86-諸係数!$R91*投入係数!CB86","v":2.5830378897771416E-3},{"$f":"投入係数!CC86-諸係数!$R91*投入係数!CC86","v":1.172520019242376E-3},{"$f":"投入係数!CD86-諸係数!$R91*投入係数!CD86","v":1.3421387231942451E-2},{"$f":"投入係数!CE86-諸係数!$R91*投入係数!CE86","v":3.2348614590562842E-3},{"$f":"投入係数!CF86-諸係数!$R91*投入係数!CF86","v":3.1462722951999438E-3},{"$f":"投入係数!CG86-諸係数!$R91*投入係数!CG86","v":1.5164022113954814E-2},{"$f":"投入係数!CH86-諸係数!$R91*投入係数!CH86","v":0},{"$f":"投入係数!CI86-諸係数!$R91*投入係数!CI86","v":1.20190020324694E-3}]
[null,"41","事務用品",{"$f":"投入係数!D87","v":0},{"$f":"投入係数!E87","v":0},{"$f":"投入係数!F87","v":0},{"$f":"投入係数!G87","v":0},{"$f":"投入係数!H87","v":0},{"$f":"投入係数!I87","v":0},{"$f":"投入係数!J87","v":0},{"$f":"投入係数!K87","v":0},{"$f":"投入係数!L87","v":0},{"$f":"投入係数!M87","v":0},{"$f":"投入係数!N87","v":0},{"$f":"投入係数!O87","v":0},{"$f":"投入係数!P87","v":0},{"$f":"投入係数!Q87","v":0},{"$f":"投入係数!R87","v":0},{"$f":"投入係数!S87","v":0},{"$f":"投入係数!T87","v":0},{"$f":"投入係数!U87","v":0},{"$f":"投入係数!V87","v":0},{"$f":"投入係数!W87","v":0},{"$f":"投入係数!X87","v":0},{"$f":"投入係数!Y87","v":0},{"$f":"投入係数!Z87","v":0},{"$f":"投入係数!AA87","v":0},{"$f":"投入係数!AB87","v":0},{"$f":"投入係数!AC87","v":0},{"$f":"投入係数!AD87","v":0},{"$f":"投入係数!AE87","v":0},{"$f":"投入係数!AF87","v":0},{"$f":"投入係数!AG87","v":0},{"$f":"投入係数!AH87","v":0},{"$f":"投入係数!AI87","v":0},{"$f":"投入係数!AJ87","v":0},{"$f":"投入係数!AK87","v":0},{"$f":"投入係数!AL87","v":0},{"$f":"投入係数!AM87","v":0},{"$f":"投入係数!AN87","v":0},{"$f":"投入係数!AO87","v":0},{"$f":"投入係数!AP87","v":0},{"$f":"投入係数!AQ87","v":0},{"$f":"投入係数!AR87","v":0},{"$f":"投入係数!AS87","v":0},{"$f":"投入係数!AT87-諸係数!$R92*投入係数!AT87","v":6.101308734683253E-4},{"$f":"投入係数!AU87-諸係数!$R92*投入係数!AU87","v":1.8312564558807662E-3},{"$f":"投入係数!AV87-諸係数!$R92*投入係数!AV87","v":1.1181664253259579E-3},{"$f":"投入係数!AW87-諸係数!$R92*投入係数!AW87","v":7.8886504235690729E-4},{"$f":"投入係数!AX87-諸係数!$R92*投入係数!AX87","v":6.3667111342670185E-4},{"$f":"投入係数!AY87-諸係数!$R92*投入係数!AY87","v":1.1413301731452872E-3},{"$f":"投入係数!AZ87-諸係数!$R92*投入係数!AZ87","v":7.6575924762332991E-4},{"$f":"投入係数!BA87-諸係数!$R92*投入係数!BA87","v":4.9360634319387062E-4},{"$f":"投入係数!BB87-諸係数!$R92*投入係数!BB87","v":2.3269935728098871E-5},{"$f":"投入係数!BC87-諸係数!$R92*投入係数!BC87","v":1.6999248966836919E-4},{"$f":"投入係数!BD87-諸係数!$R92*投入係数!BD87","v":1.1539287178556623E-3},{"$f":"投入係数!BE87-諸係数!$R92*投入係数!BE87","v":1.5715710778114349E-4},{"$f":"投入係数!BF87-諸係数!$R92*投入係数!BF87","v":3.535386076802035E-4},{"$f":"投入係数!BG87-諸係数!$R92*投入係数!BG87","v":4.1051594423046771E-4},{"$f":"投入係数!BH87-諸係数!$R92*投入係数!BH87","v":8.3439287376969775E-4},{"$f":"投入係数!BI87-諸係数!$R92*投入係数!BI87","v":9.6021025172706993E-4},{"$f":"投入係数!BJ87-諸係数!$R92*投入係数!BJ87","v":7.8856378784683751E-4},{"$f":"投入係数!BK87-諸係数!$R92*投入係数!BK87","v":8.0532357203069976E-4},{"$f":"投入係数!BL87-諸係数!$R92*投入係数!BL87","v":8.6805171588545487E-4},{"$f":"投入係数!BM87-諸係数!$R92*投入係数!BM87","v":8.6839658108868207E-4},{"$f":"投入係数!BN87-諸係数!$R92*投入係数!BN87","v":3.4256922035032038E-4},{"$f":"投入係数!BO87-諸係数!$R92*投入係数!BO87","v":1.1457196974514333E-3},{"$f":"投入係数!BP87-諸係数!$R92*投入係数!BP87","v":8.8358527094268267E-4},{"$f":"投入係数!BQ87-諸係数!$R92*投入係数!BQ87","v":4.5099568268219024E-5},{"$f":"投入係数!BR87-諸係数!$R92*投入係数!BR87","v":9.1800102366121686E-4},{"$f":"投入係数!BS87-諸係数!$R92*投入係数!BS87","v":3.2481175779636487E-3},{"$f":"投入係数!BT87-諸係数!$R92*投入係数!BT87","v":2.0587585767511156E-3},{"$f":"投入係数!BU87-諸係数!$R92*投入係数!BU87","v":3.6322110040028278E-3},{"$f":"投入係数!BV87-諸係数!$R92*投入係数!BV87","v":3.2280650459656128E-4},{"$f":"投入係数!BW87-諸係数!$R92*投入係数!BW87","v":1.8050544596976384E-3},{"$f":"投入係数!BX87-諸係数!$R92*投入係数!BX87","v":1.8075475536993152E-3},{"$f":"投入係数!BY87-諸係数!$R92*投入係数!BY87","v":2.8606199151859336E-3},{"$f":"投入係数!BZ87-諸係数!$R92*投入係数!BZ87","v":3.7906351888805116E-3},{"$f":"投入係数!CA87-諸係数!$R92*投入係数!CA87","v":2.3327628455083751E-3},{"$f":"投入係数!CB87-諸係数!$R92*投入係数!CB87","v":5.0442330245347774E-3},{"$f":"投入係数!CC87-諸係数!$R92*投入係数!CC87","v":1.5330039002636384E-3},{"$f":"投入係数!CD87-諸係数!$R92*投入係数!CD87","v":2.2263162265884497E-3},{"$f":"投入係数!CE87-諸係数!$R92*投入係数!CE87","v":8.6649672607178475E-4},{"$f":"投入係数!CF87-諸係数!$R92*投入係数!CF87","v":2.4157633461725871E-3},{"$f":"投入係数!CG87-諸係数!$R92*投入係数!CG87","v":3.2704920005169284E-3},{"$f":"投入係数!CH87-諸係数!$R92*投入係数!CH87","v":0},{"$f":"投入係数!CI87-諸係数!$R92*投入係数!CI87","v":2.0445022881487849E-4}]
[null,"42","分類不明",{"$f":"投入係数!D88","v":0},{"$f":"投入係数!E88","v":0},{"$f":"投入係数!F88","v":0},{"$f":"投入係数!G88","v":0},{"$f":"投入係数!H88","v":0},{"$f":"投入係数!I88","v":0},{"$f":"投入係数!J88","v":0},{"$f":"投入係数!K88","v":0},{"$f":"投入係数!L88","v":0},{"$f":"投入係数!M88","v":0},{"$f":"投入係数!N88","v":0},{"$f":"投入係数!O88","v":0},{"$f":"投入係数!P88","v":0},{"$f":"投入係数!Q88","v":0},{"$f":"投入係数!R88","v":0},{"$f":"投入係数!S88","v":0},{"$f":"投入係数!T88","v":0},{"$f":"投入係数!U88","v":0},{"$f":"投入係数!V88","v":0},{"$f":"投入係数!W88","v":0},{"$f":"投入係数!X88","v":0},{"$f":"投入係数!Y88","v":0},{"$f":"投入係数!Z88","v":0},{"$f":"投入係数!AA88","v":0},{"$f":"投入係数!AB88","v":0},{"$f":"投入係数!AC88","v":0},{"$f":"投入係数!AD88","v":0},{"$f":"投入係数!AE88","v":0},{"$f":"投入係数!AF88","v":0},{"$f":"投入係数!AG88","v":0},{"$f":"投入係数!AH88","v":0},{"$f":"投入係数!AI88","v":0},{"$f":"投入係数!AJ88","v":0},{"$f":"投入係数!AK88","v":0},{"$f":"投入係数!AL88","v":0},{"$f":"投入係数!AM88","v":0},{"$f":"投入係数!AN88","v":0},{"$f":"投入係数!AO88","v":0},{"$f":"投入係数!AP88","v":0},{"$f":"投入係数!AQ88","v":0},{"$f":"投入係数!AR88","v":0},{"$f":"投入係数!AS88","v":0},{"$f":"投入係数!AT88-諸係数!$R93*投入係数!AT88","v":3.2529505548467581E-3},{"$f":"投入係数!AU88-諸係数!$R93*投入係数!AU88","v":3.2860834084460101E-3},{"$f":"投入係数!AV88-諸係数!$R93*投入係数!AV88","v":8.2459424161445555E-3},{"$f":"投入係数!AW88-諸係数!$R93*投入係数!AW88","v":1.2055264925186094E-2},{"$f":"投入係数!AX88-諸係数!$R93*投入係数!AX88","v":5.876174071511771E-3},{"$f":"投入係数!AY88-諸係数!$R93*投入係数!AY88","v":2.6276858765163138E-3},{"$f":"投入係数!AZ88-諸係数!$R93*投入係数!AZ88","v":2.9610843872146077E-3},{"$f":"投入係数!BA88-諸係数!$R93*投入係数!BA88","v":1.386296447041318E-3},{"$f":"投入係数!BB88-諸係数!$R93*投入係数!BB88","v":3.4397578307455187E-4},{"$f":"投入係数!BC88-諸係数!$R93*投入係数!BC88","v":2.1336500317628774E-3},{"$f":"投入係数!BD88-諸係数!$R93*投入係数!BD88","v":7.698088037718976E-3},{"$f":"投入係数!BE88-諸係数!$R93*投入係数!BE88","v":3.4812649473913906E-3},{"$f":"投入係数!BF88-諸係数!$R93*投入係数!BF88","v":4.8896567935742159E-3},{"$f":"投入係数!BG88-諸係数!$R93*投入係数!BG88","v":3.715586959967568E-3},{"$f":"投入係数!BH88-諸係数!$R93*投入係数!BH88","v":7.156502154766169E-3},{"$f":"投入係数!BI88-諸係数!$R93*投入係数!BI88","v":5.6862053780913089E-3},{"$f":"投入係数!BJ88-諸係数!$R93*投入係数!BJ88","v":2.4708065228457561E-3},{"$f":"投入係数!BK88-諸係数!$R93*投入係数!BK88","v":6.9027887868361871E-4},{"$f":"投入係数!BL88-諸係数!$R93*投入係数!BL88","v":2.3451801369053704E-3},{"$f":"投入係数!BM88-諸係数!$R93*投入係数!BM88","v":1.3218685140554652E-3},{"$f":"投入係数!BN88-諸係数!$R93*投入係数!BN88","v":1.675144311438498E-3},{"$f":"投入係数!BO88-諸係数!$R93*投入係数!BO88","v":1.9563271832298188E-3},{"$f":"投入係数!BP88-諸係数!$R93*投入係数!BP88","v":1.3812628510392883E-2},{"$f":"投入係数!BQ88-諸係数!$R93*投入係数!BQ88","v":2.8125862601591817E-3},{"$f":"投入係数!BR88-諸係数!$R93*投入係数!BR88","v":8.9066207366894235E-3},{"$f":"投入係数!BS88-諸係数!$R93*投入係数!BS88","v":2.0896383039333249E-2},{"$f":"投入係数!BT88-諸係数!$R93*投入係数!BT88","v":6.7482921318195634E-3},{"$f":"投入係数!BU88-諸係数!$R93*投入係数!BU88","v":4.6213984934030325E-3},{"$f":"投入係数!BV88-諸係数!$R93*投入係数!BV88","v":1.7062143827239157E-3},{"$f":"投入係数!BW88-諸係数!$R93*投入係数!BW88","v":8.1792895989962391E-3},{"$f":"投入係数!BX88-諸係数!$R93*投入係数!BX88","v":2.598101131689276E-3},{"$f":"投入係数!BY88-諸係数!$R93*投入係数!BY88","v":9.2183379844098731E-4},{"$f":"投入係数!BZ88-諸係数!$R93*投入係数!BZ88","v":9.5488115008440701E-3},{"$f":"投入係数!CA88-諸係数!$R93*投入係数!CA88","v":3.8646006891804997E-3},{"$f":"投入係数!CB88-諸係数!$R93*投入係数!CB88","v":4.5433596881245654E-3},{"$f":"投入係数!CC88-諸係数!$R93*投入係数!CC88","v":2.9928440702757472E-3},{"$f":"投入係数!CD88-諸係数!$R93*投入係数!CD88","v":1.7856554440145117E-3},{"$f":"投入係数!CE88-諸係数!$R93*投入係数!CE88","v":1.6040589535007753E-3},{"$f":"投入係数!CF88-諸係数!$R93*投入係数!CF88","v":1.1270833422221431E-3},{"$f":"投入係数!CG88-諸係数!$R93*投入係数!CG88","v":6.8375509755101895E-3},{"$f":"投入係数!CH88-諸係数!$R93*投入係数!CH88","v":4.92855101336227E-4},{"$f":"投入係数!CI88-諸係数!$R93*投入係数!CI88","v":0}]

{"sheet":"逆行列係数","index":8,"n_rows":88,"n_cols":87,"rows_kept":88,"cut":false,"hidden":false,"merged":[[4,0,45,0],[46,0,87,0]]}
["逆行列係数〔Ｉ－（Ａ－ＭＡ※）〕－1"]
[null,null,null,"福岡県",null,null,null,null,null,null,null,null,null,null,null,null,null,null,null,null,null,null,null,null,null,null,null,null,null,null,null,null,null,null,null,null,null,null,null,null,null,null,null,null,null,"県外"]
[null,null,null,"01","02","03","04","05","06","07","08","09","10","11","12","13","14","15","16","17","18","19","20","21","22","23","24","25","26","27","28","29","30","31","32","33","34","35","36","37","38","39","40","41","42","01","02","03","04","05","06","07","08","09","10","11","12","13","14","15","16","17","18","19","20","21","22","23","24","25","26","27","28","29","30","31","32","33","34","35","36","37","38","39","40","41","42"]
[null,null,null,"農業","林業","漁業","鉱業","飲食料品","繊維製品","パルプ・紙・木製品","化学製品","石油・石炭製品","プラスチック・ゴム製品","窯業・土石製品","鉄鋼","非鉄金属","金属製品","はん用機械","生産用機械","業務用機械","電子部品","電気機械","情報通信機器","輸送機械","その他の製造工業製品","建設","電力・ガス・熱供給","水道","廃棄物処理","商業","金融・保険","不動産","運輸・郵便","情報通信","公務","教育・研究","医療・福祉","他に分類されない会員制団体","対事業所サービス","宿泊業","飲食サービス","娯楽サービス","その他の対個人サービス","事務用品","分類不明","農業","林業","漁業","鉱業","飲食料品","繊維製品","パルプ・紙・木製品","化学製品","石油・石炭製品","プラスチック・ゴム製品","窯業・土石製品","鉄鋼","非鉄金属","金属製品","はん用機械","生産用機械","業務用機械","電子部品","電気機械","情報通信機器","輸送機械","その他の製造工業製品","建設","電力・ガス・熱供給","水道","廃棄物処理","商業","金融・保険","不動産","運輸・郵便","情報通信","公務","教育・研究","医療・福祉","他に分類されない会員制団体","対事業所サービス","宿泊業","飲食サービス","娯楽サービス","その他の対個人サービス","事務用品","分類不明"]
["福岡県","01","農業",1.0277961978591921,2.6430675512086397E-3,1.8490595015550825E-3,4.2431139262896348E-5,4.2241595601710272E-2,1.6969113287219973E-3,1.4621839614548666E-4,5.0710763843022266E-4,1.05703149502026E-5,1.3200818940171848E-2,8.3132562667821572E-5,1.6321512357178136E-5,3.0782923061447127E-5,3.3281817937563615E-5,8.0655729130511901E-5,9.655429456631841E-5,2.4362755990920394E-4,1.0957530858863379E-4,1.3591622369070323E-4,1.366452051636928E-4,1.9492042908270907E-4,9.2169339524117942E-4,3.1808424995848213E-4,1.6991479908756859E-5,1.85131757885888E-4,7.4363048249278697E-5,6.1579768602398538E-5,2.9955723171497953E-5,1.152070390940857E-5,4.6344725219423782E-5,5.5152189173355484E-5,4.5258789796366693E-5,7.3746960138367814E-4,8.3593271556829283E-4,5.4954046403857856E-4,7.0463608883956634E-5,4.2732972900758051E-3,1.141489524597307E-2,1.257883440049965E-3,1.2299217815681682E-3,2.6403119777403713E-4,8.7912827335533329E-5,2.064983057431594E-3,1.4489906753546443E-4,3.3524902939842611E-4,6.483871625363033E-6,2.6757873406259634E-3,1.3430571304333774E-4,3.686157366197293E-5,6.7164361734382583E-5,7.8987072877205366E-7,2.2898824394716402E-4,1.3023801361369643E-5,4.4049315807660936E-6,8.7390219335271251E-6,6.1407607715568257E-6,1.0606974039202193E-5,1.4508511505107607E-5,2.4378175869862028E-5,1.6022984453357649E-5,2.4634794836507384E-5,2.5098705697847153E-5,3.4460836983248929E-5,7.0960093017497593E-5,2.4412180005137199E-5,2.8390334156022265E-6,2.3268749819397454E-5,9.5684238589344845E-6,7.2641881808948553E-6,5.0595994507459727E-6,1.3514864064393445E-6,6.2522798188454699E-6,8.4518253374451489E-6,5.7287656884694766E-6,5.0542734519319809E-5,7.050290206738323E-5,4.1470913708630466E-5,9.0606677330514633E-6,4.190504726539891E-4,1.1690350240570269E-3,6.3964425006636709E-5,6.3093058099668509E-5,4.8474550942830695E-5,1.6164221406908503E-5]
[null,"02","林業",1.2073862391482781E-4,1.0286741562163852,8.7015904507752395E-5,2.660139460505723E-5,1.2109296613232965E-4,2.0017144759640488E-5,7.5825283223962762E-3,6.1175108151111584E-5,4.0386509474891742E-6,2.0600600040449632E-5,4.6293423545780153E-5,5.8194478357105604E-6,1.1165343818601027E-5,1.1507260436955534E-5,7.897393715284732E-6,6.9672581478087344E-6,2.4467705292696402E-5,1.6198351875550707E-5,2.0657675782590551E-5,1.3606157350476405E-5,7.244985712689284E-6,2.338619137712533E-4,9.9782789126022205E-5,1.0291643986806634E-5,1.5454594117321998E-5,1.4077177505313671E-5,1.918389267631411E-5,1.5986557247548499E-5,3.9323484663534464E-6,1.4565930818813671E-5,3.6930852952077919E-5,1.1823722159033797E-5,3.6278286448210123E-5,3.5828201586320034E-5,4.3117316113077447E-5,1.5028787321421184E-5,2.8670278458014825E-4,5.4116274485152104E-4,2.2319202774166796E-5,4.0993881654381906E-5,8.153471320460681E-4,1.0977587902331979E-5,2.7437076794147205E-5,2.1576423870510396E-3,9.9487921642954369E-6,6.0812797374520642E-6,2.788471715674193E-5,9.211392876287635E-6,6.9141677710942025E-4,1.9357161901595633E-5,5.8571485811721492E-7,1.0658615282163466E-5,1.6623906157125857E-5,3.3171241617684713E-6,6.0597170927425357E-6,5.1637929544969314E-6,4.0503558617921258E-6,3.7964760375481436E-6,7.4084216676929272E-6,8.3024460025435005E-6,8.806498131237195E-6,8.1313473612810021E-6,4.9643986465793568E-6,6.476441138064139E-5,3.4070304901797004E-5,4.1159395990652859E-6,6.5261647300447039E-6,5.3193723092896714E-6,7.8685255389627065E-6,6.8364774286020655E-6,1.4841890879299592E-6,5.9202742424287963E-6,1.4499259057962695E-5,4.0997174910601299E-6,8.9423501855426899E-6,9.1778748667072945E-6,1.78246658549266E-5,5.783938163456861E-6,2.6898459384967043E-5,4.5469061787318908E-5,7.3468406089311675E-6,7.4829230385208532E-6,2.8240494252928004E-4,4.4645743010928529E-6]
[null,"03","漁業",9.1714871826558534E-5,8.5714705437151822E-5,1.0082321518001045,9.7963892086675659E-7,3.2355396301848977E-3,9.1706355264816774E-6,3.5082920804019769E-6,1.5367595045102575E-5,9.6579264787850937E-7,4.2200115235970437E-6,1.6417966613021942E-6,1.0194245566836363E-6,2.2731476563923363E-6,7.2104436777184794E-7,6.0915024895030783E-7,6.0744661116789219E-7,9.0904584891344867E-7,8.3479077938947183E-7,7.4294451082839897E-7,7.8599346447899552E-7,7.5651571575788794E-7,3.9390300967041579E-5,8.4428043309915248E-7,7.1853537121702262E-7,8.0667513314911787E-7,7.2901121672709483E-7,8.2891043982675369E-7,1.0920275894150806E-6,1.9252351474267753E-7,1.59516596357995E-6,2.0588495143777741E-6,2.6167482585067724E-6,2.2237393660267003E-5,1.1114888227195642E-4,4.0916297168543968E-6,1.0200013259319199E-6,7.1249492148316987E-4,1.432524221517909E-3,6.6963907724365912E-6,6.2698498213327447E-5,8.4562298883500978E-6,5.0409613839501489E-6,5.9774380363580253E-5,1.3690114828959734E-5,5.0879787714462968E-4,5.6556407427707056E-7,4.1874061492790565E-4,2.9393363495021211E-6,2.7350292370274737E-6,5.211649430485854E-6,1.1223043073085882E-7,1.8462619475562918E-6,1.1276989480572808E-6,9.5450781790442833E-7,2.1808345143299968E-6,6.4517143205296635E-7,4.9513239303173738E-7,5.4501440528351911E-7,8.0678820436979768E-7,7.4419697208315178E-7,7.2558078977776478E-7,8.3274384634321723E-7,6.2299792113075032E-7,6.2399991107548906E-5,7.1866001946641204E-7,6.2366178544820021E-7,6.5244517036907708E-7,5.1912707943899072E-7,6.0746332160926047E-7,1.0373798256826761E-6,1.331125691443642E-7,5.386610841977788E-7,1.5966234293426012E-6,8.4782378536199758E-7,4.3661674298566545E-6,1.1492429903428338E-5,3.2235010946519237E-6,8.1209105009709799E-7,7.9794930633785219E-5,1.8369246925924125E-4,1.9406617478672958E-6,5.8051646643375516E-6,7.8782250976352231E-6,1.8944779228339509E-6]
[null,"04","鉱業",1.6467719240761787E-4,2.2796564246641444E-4,1.9767545134429499E-4,1.0005732601608142,1.4893533205399169E-4,2.7345140500905236E-4,2.7483297912295809E-4,7.7442683977929562E-4,1.8776859075889316E-2,3.6228066798119996E-4,3.9081575696926531E-3,2.2716399323730926E-3,2.4214819351685334E-3,6.0252399078160562E-4,2.9560280514095771E-4,2.6207683737564086E-4,2.1065805517782603E-4,3.4149370896647353E-4,2.433928412266926E-4,1.2897131784499273E-4,2.3003651840762014E-4,2.6154679403815655E-4,4.0459551419602826E-4,9.5163548790495843E-3,4.1437174081039509E-4,6.4707194550017927E-4,1.889377837692478E-4,6.8578324263360825E-5,5.198735682786038E-5,3.9048555573398713E-4,1.0517708796358729E-4,1.7466867119639965E-4,2.3018069656809099E-4,1.4803122997582291E-4,8.0550498401520975E-5,8.4043750155194684E-5,4.990824628730631E-4,3.5090891569016219E-4,3.4423593561760181E-4,3.0621938317310321E-4,1.066908887135844E-4,1.9861459284527063E-4,2.0603405946081758E-5,1.3872780851437357E-5,3.3393714326574153E-5,3.6847512154724875E-5,2.0285114209555678E-5,2.4086442588797733E-5,3.7075639862139429E-5,7.0816222995613519E-5,4.2255768284090589E-4,3.3154360850267447E-5,9.3743458562924625E-5,1.9063344074751423E-4,1.6165326311751461E-4,8.1713117129870563E-5,5.283386564964291E-5,4.423641449578212E-5,3.1748279777854531E-5,3.606262613188345E-5,3.8412698940775161E-5,2.5553868907500253E-5,4.8608247791758459E-5,2.4961381501473347E-5,4.3126552335904112E-5,2.5545472244387627E-4,2.6183163136939575E-5,3.059298452681269E-5,1.2230037738962152E-5,6.4721270876879635E-6,2.7215755451885381E-6,5.4072953079982482E-5,8.4645763332355987E-6,1.3442661501793552E-5,1.1897520754742982E-5,1.6307959566746165E-5,9.9785194226536144E-6,9.113116978777636E-6,2.8596741918829492E-5,2.2904868522100965E-5,1.7298946032670675E-5,1.6368760805205378E-5,2.8763155866390835E-5,2.3407859463338292E-5]
[null,"05","飲食料品",2.3235233468035958E-2,2.1942452998110176E-2,3.924586964686809E-2,5.0846229587052834E-5,1.0462396773499267,1.9346416430292533E-3,5.610600471754009E-4,2.0807719065868064E-3,1.1459293920876819E-5,5.3128894087502469E-4,1.7769139313574014E-4,1.8933104001235971E-5,2.5488736374624587E-5,2.2273656703437199E-5,2.6679645814351053E-5,2.4206136321909546E-5,3.6077785285470453E-5,2.9125438287414936E-5,2.8126274821196255E-5,2.6114265291661317E-5,2.9228777110387933E-5,6.9553942248867578E-4,5.6283618667964511E-5,1.5466972607548574E-5,3.8374708092287938E-5,4.2607655631925982E-5,6.243128875884706E-5,2.0147498839119319E-5,6.6117055850595701E-6,7.934025134741682E-5,4.363621094183623E-5,1.3165235241799917E-4,2.0928409626526498E-3,3.0364232977427423E-3,4.2270760504520293E-4,2.6649572887747378E-5,2.1645033869830414E-2,7.6354372222397882E-2,4.1319672588548373E-4,1.7291241132132778E-3,1.5305429115789452E-4,9.8813555503110117E-4,4.6050570451651547E-3,1.0550085713281316E-3,3.2364824701603262E-3,1.1268652731492412E-5,6.6741505752053575E-3,1.5355479206516655E-4,1.4171512970304062E-4,3.3073837882209556E-4,1.6887708422927834E-6,1.1640800986260622E-4,3.572313189674126E-5,8.0840891955452378E-6,1.2900907545930293E-5,8.8342509665545453E-6,8.7225151907923427E-6,9.1885695964586012E-6,1.597392782577484E-5,1.4855565267291736E-5,1.543511609999426E-5,1.4802631010670343E-5,1.6264185135649397E-5,1.6094848736968612E-4,2.1049228510392152E-5,4.6784806443159042E-6,1.3528168545457189E-5,1.1174660802102268E-5,1.1014844249388818E-5,6.5914258498348503E-6,1.5194192088156337E-6,1.2405098765283885E-5,1.1851963284738741E-5,1.5412877846492892E-5,2.1049071736225895E-4,3.4927329576508911E-4,6.8987774857188824E-5,8.1815511364358344E-6,2.535053763101096E-3,8.1286883008018299E-3,6.5157148327348261E-5,1.6553942820194E-4,8.2949052453568366E-5,1.0942481086920751E-4]
[null,"06","繊維製品",2.9931871404474106E-4,3.1958420457401179E-4,1.1482005203288582E-3,2.5773810760625022E-4,1.0065232821935248E-4,1.0140635162934049,4.2557058388184062E-4,9.4170950427148158E-5,3.010581213515844E-5,7.4193078315391316E-4,1.626536278013759E-4,5.101095133430637E-5,6.2740158764470984E-5,1.0486616043574516E-4,1.0681831579265413E-4,9.4009764192192017E-5,1.2642485984946551E-4,2.7919272967360137E-4,1.9216510072545296E-4,1.7728429728824401E-4,1.9788204993111941E-4,2.0215953480761203E-4,2.1914399750914686E-4,3.804759478752389E-5,1.1893121159504958E-4,1.5275435308244399E-4,2.5388180157065069E-4,1.158518709293412E-4,1.8704043073154458E-5,1.5680056629655971E-4,1.0833355523003158E-4,2.2002421760389717E-4,5.5646045620196913E-5,2.0920173863527659E-4,1.4539891792176123E-3,1.5540129421502883E-4,5.7951712525500807E-4,9.4971677623106806E-5,4.1673150619414231E-4,3.86066932685904E-4,1.2308785035980568E-3,1.2162174911502284E-4,2.776430652833897E-5,1.4540607753827239E-5,9.5209720718649219E-5,2.2692208729775335E-5,1.9955738872786212E-5,9.8174882136045465E-4,4.4831391354033088E-5,1.2273492533487723E-5,1.5951816043013986E-6,3.6767433451974931E-5,2.0754040521240007E-5,8.4078208180472044E-6,1.0297166919990001E-5,1.1857925260780389E-5,1.2190584035776115E-5,1.3538644532503091E-5,1.5078593283322932E-5,2.6276894462835587E-5,2.1598886488954647E-5,1.9326592468610411E-5,2.3359697720049326E-5,3.1571900446203006E-5,2.2772631680006213E-5,4.7201929156625466E-6,1.2903942368184285E-5,1.2816159460680448E-5,2.1776065133253286E-5,1.1434797566796031E-5,1.9014488736999813E-6,1.2913094117364577E-5,1.191303545138638E-5,1.8035607309314419E-5,6.8779831868845182E-6,1.803676894547994E-5,1.1162992068363737E-4,1.4455979197785791E-5,4.992375288034079E-5,1.4764657803722306E-5,3.0517114808643484E-5,2.7597933588856443E-5,1.1206876984697276E-4,1.1263093967355136E-5]
[null,"07","パルプ・紙・木製品",6.667462435909096E-3,5.3365379678769675E-3,1.4386586642949708E-3,1.0838324397642639E-3,3.6310315846207076E-3,1.6292081362548878E-3,1.0523351060000536,2.3597374251047849E-3,2.8033890127188014E-4,1.5866179173095467E-3,4.8155013951636187E-3,4.3541871813830601E-4,8.6207536325038606E-4,1.0855998471076698E-3,6.8318759455408135E-4,5.8523004138244842E-4,2.4158839668973345E-3,1.5151892225028344E-3,2.0300561006110994E-3,1.2668851157001306E-3,4.6571026704011722E-4,1.9636245014730682E-2,9.7523079701785243E-3,9.8843095810207467E-4,1.5032159291731384E-3,1.4135072982919921E-3,1.9443013348516551E-3,1.5971590529183996E-3,3.8995360982978325E-4,1.4737338654967501E-3,3.6464235795622716E-3,1.0093916005462704E-3,1.9119147403165952E-3,1.6375077287073369E-3,4.3777399682170606E-3,1.4641973102021331E-3,1.7309759959808679E-3,2.1709064898483006E-3,2.2478000154564051E-3,1.5869704546155937E-3,8.7851478920747308E-2,1.0075226899675137E-3,5.0860819885975074E-4,2.2647517858885889E-4,1.4937327716075101E-4,1.0831864694198603E-4,4.4200265176995961E-4,1.924663187297986E-4,3.8824639832127062E-3,3.1753231811615222E-4,1.3369178011574445E-5,2.219143294744538E-4,3.6188246880406111E-4,8.7158104894005233E-5,1.4163053392411356E-4,1.2069244255128768E-4,9.7096081720117306E-5,9.1697540008855869E-5,1.6940643651564016E-4,1.908219960476588E-4,1.9937357641233738E-4,1.8574510852735357E-4,1.2071546797272731E-4,1.2808278055913276E-3,7.1192597305763769E-4,9.1031681395455037E-5,1.440062186934941E-4,1.1539525499715264E-4,1.744658594288561E-4,1.5060344418640914E-4,3.2332245239804058E-5,1.305926816431986E-4,3.2318980398539268E-4,9.0160713576827283E-5,1.7591091301562295E-4,1.6549385278051437E-4,3.8632140946425348E-4,1.2964809978913686E-4,1.8627444696256434E-4,2.7198526735239302E-4,1.5989806581982296E-4,1.3524804743923188E-4,5.9194521007766799E-3,1.0069210732786548E-4]
[null,"08","化学製品",8.5535805596149601E-3,6.0745832100550902E-4,2.1147843398750237E-3,2.5987654508507888E-3,1.8424560175492829E-3,1.2344674520720305E-2,3.6769209590717493E-3,1.0441756446585844,-3.7692470497640901E-4,2.6658649300619976E-2,2.6046929465053069E-3,6.9359193653661304E-4,9.8749627518059449E-4,1.3524823116979388E-3,9.3453128402838192E-4,9.01685462979265E-4,2.4850639730511987E-3,1.9986328633740569E-3,1.7031605328951139E-3,1.1683537421876083E-3,1.7185863523326889E-3,4.4359192305684489E-3,1.0176535912170433E-3,2.3095022280055427E-4,1.6080324266194216E-3,1.9605657060927399E-3,1.7858192847024974E-4,1.8862785975949807E-4,6.3922323367265638E-5,2.7987252682638256E-4,4.5154038601359924E-4,3.3441719467504024E-4,7.4258407295811472E-4,1.5124700925227537E-2,5.7328834103338071E-4,7.8238206809769901E-4,6.9633656540815951E-4,7.3507975178774005E-4,5.8030374418193179E-4,2.2366777904499059E-3,2.3697141432486159E-3,1.1268383117206857E-3,1.1399763934009321E-3,1.1012546265280147E-4,3.1200821951141519E-4,2.6477970088794917E-4,5.0377419108782776E-4,1.7478815785711606E-3,7.9159809653528846E-4,4.8571386930071243E-3,4.1827275861543574E-5,3.4357647000323541E-3,5.8709659838455019E-4,1.7595078766813953E-4,2.4131477458180697E-4,2.2703924828637196E-4,1.9805142206173247E-4,2.1845994386187942E-4,4.9155062059878958E-4,4.5618237007128218E-4,4.5466216153981748E-4,4.2306745760342163E-4,5.2751320692538564E-4,7.838863643474562E-4,2.4696980671919024E-4,5.0892615896544736E-5,3.3228332175348405E-4,2.7884799138619805E-4,5.9759918886360442E-5,5.9549021822624201E-5,1.5794882290559749E-5,7.2657456398829732E-5,1.111640884530959E-4,6.9785289629016242E-5,1.7543913989434277E-4,1.8797942552208657E-3,1.5421559844570578E-4,1.5408820508688674E-4,1.6346361110139161E-4,2.2052039225683596E-4,1.3055692519499892E-4,2.9674150431332574E-4,7.2467226186453645E-4,1.7448064671142765E-4]
[null,"09","石油・石炭製品",1.8581599928985549E-3,2.3485219403938168E-3,5.2951835711542942E-3,5.4556799054604026E-3,9.1328920801429531E-4,9.6983644393774742E-4,9.2551305703204975E-4,1.7983565071599946E-3,1.0099265656308942,9.9924559284122875E-4,3.2583345243731776E-3,-2.3335442152410636E-3,8.1076378897773096E-4,5.335680426933417E-4,3.7187055422603399E-4,4.1028337140573061E-4,6.1755853256069827E-4,6.7204084502553094E-4,4.2868998718042947E-4,4.2265507112268887E-4,4.4584532056325682E-4,1.7315933581333949E-3,1.741142831336267E-3,6.0213500515895616E-3,1.9239865447564922E-3,2.3948071401431459E-3,9.1606354566632002E-4,5.5241703894041484E-4,1.9005639839350677E-4,1.2300938401495801E-2,6.6020116747371568E-4,1.9093871511055148E-3,8.3697306166158109E-4,6.5215330272957301E-4,8.8076286914831495E-4,5.9942329803057035E-4,1.8151830597781635E-3,1.1691746886957842E-3,1.6708559599964204E-3,1.3186521390336739E-3,8.6742438656618856E-4,3.5147789652157447E-3,1.2398240900781543E-4,9.5622015829197206E-5,2.5060091428304014E-4,2.2323994112575734E-4,1.028763856410151E-4,1.0755092293331011E-4,1.0712630639753499E-4,4.8076393332724209E-4,2.4792713888705257E-4,1.3577980019784729E-4,1.7222778768947403E-4,2.579317407944627E-4,7.332903144133287E-5,9.1008290051271934E-5,6.6675582802941115E-5,6.051820631686029E-5,6.378625985547377E-5,6.7744603497907308E-5,6.4724085738583062E-5,5.5559565243623908E-5,8.4426314607024725E-5,1.091468190234479E-4,1.1733267011412308E-4,2.3871294189047883E-4,9.7969057172630654E-5,1.1209830455466198E-4,5.2503288166461208E-5,3.6481509495833949E-5,9.7911119394044298E-6,4.4714968969387079E-4,4.2079937195384058E-5,7.5786398431701391E-5,4.9574311873024161E-5,8.1939787706886849E-5,5.7493379257500784E-5,3.7406247283675437E-5,1.132394495205952E-4,8.8940552651725177E-5,7.1624526339085872E-5,6.6800175431526725E-5,1.1610900023219112E-4,1.5851710970859532E-4]
[null,"10","プラスチック・ゴム製品",4.3250167547556071E-3,1.110563258511625E-2,5.6860520257368237E-3,2.2029437274023391E-3,6.0076009295534664E-3,3.9230141679200293E-3,6.6659579340203829E-3,5.5999673587920681E-3,3.4896310293263419E-4,1.0474542259527491,2.7553205611904005E-3,6.4845461825169563E-4,1.3515624431503165E-3,1.956930060140864E-3,5.6646622697957734E-3,6.9551718316487468E-3,1.8255630539128345E-2,7.7505586497153963E-3,9.9024348226936388E-3,9.9915536962808024E-3,1.4392518737653993E-2,1.6592247006250865E-2,4.7266839468583224E-3,5.5532075104692971E-4,1.2896008703370371E-2,5.0429024758398399E-3,1.9407080587583469E-3,1.5725439129107197E-3,4.9814920919365234E-4,1.8113248642818646E-3,2.0840703761761639E-3,1.5293979319971802E-3,1.427449416994144E-3,1.375614497990729E-3,3.1888691489136258E-3,4.3288191466291726E-3,1.9023289668494742E-3,1.6231903662202989E-3,3.0240077628294428E-3,1.586381297449434E-3,1.6559753999724661E-2,2.1707997083224352E-3,4.414314720622588E-4,4.8615097183443473E-4,6.3716495188438063E-4,2.3427659316271546E-4,7.616768854427845E-4,4.3920520172655627E-4,8.461792757333827E-4,7.194965683792803E-4,2.4764100062030546E-5,5.425784858231128E-3,3.2911341734982182E-4,1.3653627720042563E-4,3.0259076387145712E-4,2.3674424371623144E-4,5.0362561090473647E-4,7.2577170760196221E-4,1.2219025971532986E-3,7.4735509421955068E-4,1.2417474606819042E-3,1.2748567498890601E-3,1.8630352056612479E-3,1.6159413375698161E-3,5.0691176449133674E-4,8.6005436670205407E-5,1.1533547822997596E-3,4.2586880204072288E-4,2.2059394129062443E-4,1.8840670650256417E-4,4.9374349301296579E-5,2.1145696991906358E-4,2.8189439692475726E-4,1.6561894900677402E-4,2.1122071958126193E-4,2.1603433058314892E-4,3.675688099098611E-4,4.0141985777616409E-4,2.6305794883663022E-4,3.326738326272604E-4,2.7628788428825298E-4,1.6725043797626615E-4,1.800616200391369E-3,2.2586255950916091E-4]
[null,"11","窯業・土石製品",1.4101675034691782E-3,1.0262326583038591E-3,2.8324988992001074E-4,3.470795988294548E-4,1.6150289794528117E-3,4.3629291131999258E-4,3.0779984339452007E-3,3.6990670544996868E-3,7.5440355326903384E-4,1.3116859032609328E-3,1.0322371602708313,2.8511011647141134E-3,4.8174776913815776E-3,2.3289669722808231E-3,4.6814474811960266E-3,1.994137375060608E-3,6.6959887216722887E-3,1.5622463412784091E-2,4.6115287183800691E-3,2.0495953236723194E-3,5.6686890203553157E-3,1.7508700785449137E-3,2.3272863513992555E-2,4.4525531404381394E-4,2.9704952766315398E-3,4.9196886786213282E-4,2.7200471848194528E-4,1.8411426378784325E-4,2.7177180904258496E-4,3.6521426437379823E-4,3.0663453749910682E-4,4.133484826081009E-4,1.1644925030478556E-3,6.2798425088497821E-4,4.0124986798022584E-4,6.2240831267803512E-4,1.0068428277622719E-3,1.0469432573893451E-3,8.4903025359321638E-4,4.9305963194329957E-4,2.8545852239775953E-3,2.3382099808611353E-3,1.6748862113965895E-4,5.6231839362321066E-5,6.9805953263806514E-5,6.1073690762104E-5,1.8070192762680685E-4,8.3477529529874187E-5,2.0490312436416332E-4,3.4373072044775445E-4,1.6389299488369358E-5,2.2422062357396364E-4,2.7705102589460286E-3,4.4703352651633281E-4,4.4677183598561076E-4,2.9643743603408371E-4,3.84879206245358E-4,3.0522972953058862E-4,8.8854199187443248E-4,1.5203714641641034E-3,5.9443288108476926E-4,5.1075079857669352E-4,5.2393972000219237E-4,2.3534934093443925E-4,1.8590813774394268E-3,4.705944767908255E-5,2.6241985626589349E-4,5.1007367580186288E-5,3.4555574034760335E-5,2.8238304370122903E-5,2.5549890124652293E-5,4.8293885555041494E-5,4.3756331448729376E-5,5.0040234615231704E-5,9.7636318400139138E-5,9.3854806169240847E-5,5.3167519722156432E-5,8.2362676397853616E-5,1.1077580714318714E-4,1.3353116931649945E-4,7.1029690813806279E-5,5.1001052785011105E-5,3.5918789123760858E-4,1.9268291347134743E-4]
[null,"12","鉄鋼",6.9123797638921095E-4,4.9922137820328336E-4,1.6682350614264422E-3,3.4134666966349667E-3,1.5339852358801777E-3,7.2745530529517543E-4,1.0347620302888364E-2,1.6216536904537784E-3,3.8532700658370752E-4,2.9281992369274835E-3,9.7973640416974487E-3,1.5217027653733091,1.1436289459271283E-3,0.23165025203423975,9.5718883342117603E-2,8.8059916008320666E-2,2.255094666739791E-2,7.3415654836747274E-3,5.7922510155980572E-2,1.3054766988726535E-2,5.3951553224111451E-2,3.0905823199476553E-3,3.0705008793729633E-2,7.4322442984162324E-4,1.642026962528868E-3,5.2628060239878511E-4,6.7691326186310825E-4,3.942467462113927E-4,3.978461509590147E-4,1.2753792606086307E-3,6.6484292554287608E-4,1.2566398692305232E-3,5.1056207818852889E-4,4.329538790297178E-4,6.6141725501378198E-4,1.6884939187458514E-3,5.4830473558854754E-4,7.7644203392425622E-4,4.6538390260481629E-4,8.7444259736968455E-4,1.9526191608633837E-3,5.7809641873829325E-3,2.6766365584450345E-4,1.3348182869216875E-4,6.6335715907461302E-4,9.7537450250903958E-4,5.4850416610328293E-4,2.3413311973502119E-4,1.7744935948444784E-3,4.6239227334973293E-4,5.5794155331634018E-5,6.7550487298567144E-4,1.3181521871890416E-3,4.8954434693426752E-2,3.567215860704734E-4,2.2988881927027558E-2,1.3759694208560153E-2,1.176101757734857E-2,3.8354693638842571E-3,1.6380205440887131E-3,5.7999376747291352E-3,2.0829745926375315E-3,9.9845679765599108E-3,9.2673150090373838E-4,4.8873341221087694E-3,1.9266214869576197E-4,5.0914819943951651E-4,1.5109175262422928E-4,2.1160224244745997E-4,1.5333815556910354E-4,8.8557484068266116E-5,3.9343132557784183E-4,2.359668213770206E-4,3.3194522408923295E-4,1.5646213178431892E-4,1.8161543400472264E-4,2.4230954298471786E-4,6.5228763428355502E-4,2.0386659144205237E-4,2.984611099855784E-4,1.4238111822310716E-4,2.2876839664723325E-4,9.9284160673555541E-4,7.9409599070801951E-4]
[null,"13","非鉄金属",4.9002379304345287E-5,3.4797452178433036E-5,7.3677198483892102E-5,1.4947020755245197E-4,1.9658978449972928E-4,5.5007647425958002E-5,4.0391566392866186E-4,1.4536305670317176E-3,2.1274864275379207E-5,3.9765869961998045E-4,9.9007543076561435E-4,1.693703268923796E-3,1.0510572563704272,7.4353787665063084E-3,4.3521838425776673E-3,2.4363601777031489E-3,6.8233510493994395E-3,2.5513150689110927E-3,7.2192869408107185E-3,2.6975488642035097E-3,2.0200426530970626E-3,9.149907578343444E-4,1.2418635183707577E-3,6.2390699792998333E-5,1.1184418629162119E-4,3.9616218799738603E-5,3.7762637412169415E-5,2.998927233648179E-5,1.9765792584386205E-5,5.9296372233701032E-5,5.7774173133540693E-5,8.9344089067185136E-5,4.1998532833626491E-5,1.9676364573289578E-4,6.7033032967328689E-5,1.359190295816882E-4,9.6666308458551262E-5,8.3825513290916652E-5,3.466179249296181E-5,9.453081833178808E-5,2.4876033958338474E-4,4.6014430355630694E-4,1.9519029325445051E-5,8.1522306236266319E-6,3.5426141235969008E-5,3.6563880936513917E-5,4.248663162709872E-5,1.9752436826335524E-5,6.3755884987041239E-5,8.7301622026842072E-5,2.7665574028548216E-6,6.249396439479403E-5,1.2825719002467633E-4,2.2112410669647889E-4,3.8635303745217543E-3,7.6821124615067079E-4,5.2138734116781102E-4,3.2573536284682806E-4,5.1241694073122439E-4,6.8071179673227713E-4,8.0513719034356907E-4,5.8056895356846231E-4,5.0692268640635876E-4,1.6060792491446368E-4,1.9569539543101729E-4,1.3081036970065427E-5,2.9076534203173725E-5,1.0404783838257846E-5,1.1676106873137415E-5,1.0771484782843819E-5,4.4516651178985458E-6,1.9494964632637321E-5,1.7611316345432297E-5,2.0944491821106049E-5,1.2736600325546138E-5,3.2695001966516059E-5,1.9148022647186539E-5,4.1704337849440209E-5,1.8822402208669901E-5,2.2113608622417834E-5,1.0632985700721655E-5,1.7184796361691045E-5,8.538039171207067E-5,5.5491920819203366E-5]
[null,"14","金属製品",1.0864501935956184E-3,6.4886264219780312E-4,1.249031241588978E-3,6.1945246648317407E-3,4.8063171202166778E-3,1.3141730365342752E-3,7.2617987691044571E-3,4.2566738452239697E-3,8.1565907645511279E-4,4.0899817773536644E-3,3.8673134944822779E-3,6.9012160281940857E-4,1.0281839534183354E-3,1.0255703738948747,1.0005101500783268E-2,1.309765675876739E-2,1.2206392325943264E-2,8.052921777603814E-3,1.1169546554199836E-2,9.9106327088062385E-3,3.1813521127604491E-3,3.8783798753783388E-3,3.4984301786447243E-2,9.0269944013551318E-4,1.6544655112468696E-3,4.7211886148128691E-4,1.4049469755891097E-3,3.2489804148815038E-4,4.8455642764573889E-4,1.0241987611924446E-3,6.4830313000298963E-4,2.5356460882102654E-3,4.9112022893247156E-4,5.0603531108810444E-4,1.2395628409965901E-3,8.5308793999825142E-4,8.2996072938872393E-4,1.740782732984628E-3,4.6448016394266535E-4,2.0540632889557236E-3,1.3835637113216248E-3,3.0915562622720705E-3,1.3954788996863198E-4,5.3617733071221129E-5,1.1986148879873961E-4,4.0776545652557205E-4,3.4514768163792164E-4,1.121515094823504E-4,3.6562500514831283E-4,2.7394402267296776E-4,2.6476816984082977E-5,2.5583504705911257E-4,2.6655849804011844E-4,9.6768269554644982E-5,9.2768159905428678E-5,1.2899985213000603E-3,8.0595162874120098E-4,7.8224613126913749E-4,8.6046154681527977E-4,5.4374198430842083E-4,6.6290878371990237E-4,6.63350583385675E-4,4.4632851492635092E-4,3.0206966468781621E-4,1.7578975072154699E-3,6.3247851621380918E-5,1.2598172425733542E-4,4.1552627937321109E-5,8.3092046672684214E-5,3.4428664146430156E-5,2.8682986163767459E-5,7.4660649994181437E-5,5.6957550981747068E-5,1.1998668176561827E-4,4.5052080091608511E-5,7.4004098628951853E-5,9.263965230062567E-5,8.3689017178563196E-5,8.827933266500527E-5,1.8293475407980161E-4,4.0920016046525892E-5,1.1245800437407238E-4,2.8403172499041684E-4,1.5922584900723201E-4]
[null,"15","はん用機械",2.9392974276591928E-5,3.1712244011205593E-5,3.2107984251494573E-5,1.7889051640270889E-4,3.4921518473809038E-5,3.3732153141198902E-5,3.1486299149961766E-4,4.4352077787791702E-5,1.9925441641816186E-5,5.7841746626246313E-5,1.6022375545776655E-4,3.1924849084575579E-5,2.341133423016368E-5,9.9185081234012552E-5,1.0113313395349446,3.0328867221229199E-3,7.3059265757921435E-4,2.0953659150430351E-4,8.4988020213495224E-4,2.6417722042079429E-4,3.4630003055111986E-4,5.8467361388319899E-5,5.1630461651449905E-4,5.1194000697012643E-5,8.5283649484189212E-4,5.9486961302230837E-5,6.0068892766263248E-5,7.3561206560841696E-5,2.992016084839838E-5,1.0069357486611278E-4,1.1657399660824338E-4,1.0403210558995416E-4,5.6730678909794933E-5,4.470081344435551E-5,5.9717513007546312E-5,6.5337299973161275E-4,4.5967647944477771E-5,4.4785171758759714E-5,5.0894582645850808E-5,4.7956848178566552E-5,6.1125858711142634E-5,6.8612518473358213E-5,1.0258008362158128E-5,7.6566327302844494E-6,1.5652452383677307E-5,4.7771724320462536E-5,1.2511662135085201E-5,1.0408209961754549E-5,3.2036303163014498E-5,1.4595505183989998E-5,2.8767101579160371E-6,2.1091959420682557E-5,4.7100357030651232E-5,1.2862902424047599E-5,8.7365566962304116E-6,2.7147662491413781E-5,2.2286141699165082E-3,6.5773676264330313E-4,2.4509942405094977E-4,5.8124525118993341E-5,2.2276667447540446E-4,5.5968480213858834E-5,2.120523471442672E-4,2.2798859878797158E-5,1.1376774583267758E-4,1.3850169880617265E-5,1.8725975476579249E-4,1.4213044264076954E-5,1.5503575058321559E-5,1.8961884342259016E-5,6.3410407081415576E-6,2.4673877570183191E-5,2.8086594930199988E-5,2.277898319871912E-5,1.4485220318592655E-5,1.3105870729235285E-5,1.6208596372139309E-5,1.2594540210303352E-4,1.3453889281510201E-5,1.3490730555425655E-5,1.2116658517889263E-5,1.143656653300906E-5,2.6836508947739508E-5,1.6835499098274554E-5]
[null,"16","生産用機械",7.8686318873231258E-5,1.0162183206335525E-4,6.9060926075478868E-5,4.5108376805022229E-4,1.027814379617387E-4,1.0032857137622408E-4,1.2246484908294894E-4,1.1860369049273186E-4,5.436222589310019E-5,4.0814092190703252E-4,4.6275063989596992E-4,8.1877735007433161E-5,9.0648881635322165E-5,1.7042459642905601E-4,1.3172194611014354E-3,1.0233068224524797,3.0100378522170579E-4,6.7529736035530511E-4,7.6553078261283668E-4,2.5437612083715002E-4,2.1102933477582837E-4,1.5122242923305387E-4,2.3375429065853603E-4,1.4448404827883249E-4,3.6610694800677935E-4,1.6872268426640529E-4,1.8825486361905428E-4,2.3983525498600598E-4,8.6326665235076782E-5,2.928861975255665E-4,3.7478882733736038E-4,2.2900371321657784E-4,1.5532922602569252E-4,1.2187998958391206E-4,1.8604930738479194E-4,2.2617497285820323E-3,1.1507675071044604E-4,1.1586304206468978E-4,1.4262447862289942E-4,1.2469568568151336E-4,8.1208472582917378E-5,1.9057440244057251E-4,1.8490648328004341E-5,1.7633577012359665E-5,1.6016853909419686E-5,7.3441368646949898E-5,2.3624033843947877E-5,1.9767739807205665E-5,2.4676627534476788E-5,2.7005947229600729E-5,5.2398346822691359E-6,9.3276158474490237E-5,5.7073951243406805E-5,2.2532755084676355E-5,1.8525617111031272E-5,3.2250842288546606E-5,1.4870833989293173E-4,3.2377266228367074E-3,7.9581744573890427E-5,1.0973442172072711E-4,9.2690465717379031E-5,6.4683958536094563E-5,6.8006175059540417E-5,3.083096376148723E-5,4.1575991443776992E-5,2.4519427408209899E-5,5.773721731547013E-5,2.5307719771857134E-5,2.9508588654617631E-5,3.772759111278534E-5,1.1073963852796449E-5,4.0868107177717645E-5,5.5641015523385662E-5,3.1103854041873134E-5,2.5107770497414438E-5,2.1071500790232381E-5,3.0957022550373727E-5,2.5784360895279629E-4,2.1692777598238097E-5,2.3259153137073591E-5,2.0897537885927615E-5,1.871699065785278E-5,3.1149666901394009E-5,2.8912112994178928E-5]
[null,"17","業務用機械",3.0072795262177057E-5,9.5784118640835271E-6,8.6597455121815575E-6,1.5338963946542302E-5,1.0669574526712941E-5,1.0109579030568446E-5,1.0143669769117662E-5,1.0062291793126136E-5,4.181612126952824E-6,1.0258890462290493E-5,1.2639915846220314E-5,5.4172367611763805E-6,5.8548625730662762E-6,9.3719950978866552E-6,1.2617148002217287E-4,1.7682335753611142E-4,1.0022067448616983,1.1711714201087031E-5,6.6936667069629119E-5,2.493666244611222E-5,1.6789168031579012E-5,1.8011124256139589E-5,2.4327429459772506E-5,1.1172432609572474E-5,2.8572683584955053E-5,1.7201557422952096E-5,5.0962981300679811E-5,2.1266594950768253E-5,7.0027417101833189E-6,2.5717853580788023E-5,3.710901663429221E-5,1.4718962098584238E-4,1.5001961537537362E-5,3.790227185239804E-4,1.8922524559856191E-5,1.6351802584730048E-4,1.3832317423310443E-5,1.2980942619348426E-5,1.6798320475717971E-4,2.2003833949879462E-5,8.0894554287836882E-4,4.7756710203491565E-5,2.5663212773877944E-6,1.0798621990008297E-6,1.2508357888452851E-6,1.650662948882595E-6,1.8849204465474503E-6,1.4199282124559758E-6,1.5583676208452902E-6,1.5531218319625402E-6,2.5127578192024508E-7,1.6050757964005811E-6,1.5615005496266784E-6,1.0862401981971808E-6,9.8782995658087224E-7,1.3145286039699901E-6,9.6227023630932706E-6,1.8773012404037058E-5,2.2292287972399544E-4,2.0235483492516011E-6,4.3467491196439045E-6,4.9131955177138891E-6,3.6641007101487339E-6,2.1343707949574369E-6,2.690659576022057E-6,1.2885610022856657E-6,2.9445240925804908E-6,1.6314681545666126E-6,4.4935507518896372E-6,2.1987387745378999E-6,5.9858160691947878E-7,2.3364844206864853E-6,3.635669416191461E-6,1.0019055877877194E-5,1.6071519218690048E-6,2.8826197767223216E-5,2.0961885524800753E-6,1.1875763161221752E-5,1.7430271487992943E-6,1.9653314110318317E-6,1.0221059001450219E-5,2.124862311232776E-6,6.6583126864684132E-5,3.7383206224900669E-6]
[null,"18","電子部品",7.2443045827493612E-5,7.985183215763267E-5,9.470061007118164E-5,1.6477180954131351E-4,9.0981942503001576E-5,9.2360852272749529E-5,9.5009563615221007E-5,1.032635653932979E-4,4.2159826670559461E-5,9.7497896834752748E-5,1.2836609523579233E-4,5.3449440619167037E-5,6.735569149157233E-5,2.5638066177696738E-4,2.1222216434126145E-3,2.8531442008854781E-3,1.5083783112416687E-2,1.0384121132604895,1.858786241549433E-2,3.6355387417902799E-2,1.1620285772336483E-3,3.8844904169441958E-4,2.6880000398208628E-4,1.2100358103254098E-4,2.7809780646978965E-4,1.5719215047186826E-4,1.7599849706273311E-4,2.2607282045091569E-4,7.5529978943622442E-5,2.5817731762958843E-4,4.903919916563218E-4,5.7098688974637748E-4,2.5907067111713308E-4,1.4265189832378581E-4,1.8941761938721797E-4,1.8158624524084541E-3,1.1240932400471349E-4,1.0657763810551009E-4,1.5024403100637635E-4,1.267199099808259E-4,4.5729032816180185E-3,2.6790504505752355E-4,1.9956898268676706E-5,1.5312028010489393E-5,3.7537565545522519E-5,3.1694386068979932E-5,2.5074184217859873E-5,2.1782915614707858E-5,2.4103068354722832E-5,2.6474613013103059E-5,4.1108050441569499E-6,2.4885004974672292E-5,2.7446271350963632E-5,1.729011562630904E-5,2.1474047628901956E-5,6.9834579966063926E-5,2.303668969764245E-4,2.7773725992119808E-4,2.4757037352068486E-3,4.7040420160005605E-3,2.6879222832849369E-3,5.3478403736804984E-3,4.637084095479283E-4,1.5363459783612624E-4,6.5247353009397735E-5,2.4844691738838744E-5,5.1980338014929611E-5,2.7120204405888447E-5,3.4612514283399639E-5,4.2725665026203717E-5,1.1689564616462933E-5,4.6645411539761164E-5,8.5831745124430065E-5,8.4076960652215612E-5,5.5346796253483743E-5,4.0980278046455669E-5,3.9598832104942807E-5,2.4206153278224726E-4,2.5057314327575704E-5,2.5550550163280429E-5,3.1494991075115313E-5,2.3189830178803554E-5,6.8442382583880107E-4,4.638942086093177E-5]
[null,"19","電気機械",7.1266757902251095E-5,6.8824819287402044E-5,3.6310816162403057E-4,2.9474218248796524E-4,7.7839605204673416E-5,7.4988166106193898E-5,1.439996795618245E-4,8.6483287458503336E-5,4.1114712144775177E-5,8.7087466167112658E-5,1.2638198345299131E-4,5.1659877197352599E-5,5.2194999281524859E-5,2.4413111745926375E-4,3.6179461760904473E-3,5.3448828634075204E-3,2.911202450021333E-3,7.9469406578230317E-3,1.0139824612713157,4.6566341476633284E-3,7.5471926093088164E-3,1.9242360512870466E-4,1.5229199388885981E-3,1.2195802282303487E-4,2.9872762609998505E-4,1.3065350568421875E-4,1.7506448242100601E-4,1.7138837046302066E-4,7.4053221444877386E-5,2.914800820419693E-4,3.0618467331969371E-4,5.6760695862129314E-4,2.2656867120046325E-4,1.0661626382347859E-4,1.3639739163086678E-4,1.5203402089462128E-3,1.0979114643678072E-4,9.6446008526615874E-5,2.3085577241296917E-4,1.0782853825608856E-4,1.0957144776147323E-4,4.4011612947861517E-4,1.0975632463671869E-5,7.4104047156003936E-6,5.9799331346166516E-5,2.0838794048945824E-5,1.3678312333790958E-5,1.00384501924718E-5,1.38950797855526E-5,1.2782487846719179E-5,2.3942900753878896E-6,1.3452371462716622E-5,1.4734538097499691E-5,9.7585093338088653E-6,8.7002251743147339E-6,2.0658352132819364E-5,3.0481495128932703E-4,3.140281605382519E-4,2.7139779702039808E-4,2.9982083207876165E-4,1.272160330026368E-3,2.9965976961445493E-4,6.8126897948221784E-4,3.0136606570006104E-5,1.0411873367885078E-4,1.2780050933227687E-5,2.9714616113678282E-5,1.2629884293164558E-5,1.6661199385627626E-5,1.7570281844784341E-5,5.8521631317722449E-6,3.2938886829542434E-5,2.8703895094971714E-5,3.9335114451607258E-5,1.7624306102819527E-5,1.2853719328436807E-5,1.5350547412923971E-5,1.0525407565976489E-4,1.3626868611504841E-5,1.3389024025935638E-5,1.8814131697931653E-5,1.0319912911104905E-5,3.1467030286566775E-5,3.2932424324229673E-5]
[null,"20","情報通信機器",9.9846486173443237E-7,1.3554663697182944E-6,2.622455112145439E-6,2.0760297819362082E-6,1.1979190339395731E-6,1.0955656493092879E-6,1.1536183726194621E-6,1.3857063585044951E-6,5.6257361620297422E-7,1.4386637989135228E-6,1.5815207569836224E-6,6.9903149117273139E-7,6.8901642755493657E-7,1.5626556836061319E-6,2.0786439250948884E-5,2.3589734184721481E-6,1.2982629739906293E-6,1.8490132597916555E-6,1.5721587420892851E-6,1.0002734728670606,1.4520186284557509E-4,1.7257420885668631E-6,1.7463722686802205E-5,1.6009794887483038E-6,3.1964722360655899E-6,1.8333309486192845E-6,4.3990987348667872E-6,3.2860286890802434E-6,1.6498935895114766E-6,4.2458024942346188E-6,5.1489632826987367E-6,2.1440611988150665E-5,2.2291138308853599E-6,1.39610109466429E-6,2.3979339664664726E-6,1.7061289978286783E-5,1.4493322454118694E-6,2.8934240197762753E-6,4.6199906641658955E-6,1.4211794455031807E-6,1.0902068492196193E-6,6.5786972535366499E-6,1.5792968144746767E-7,1.586382744349555E-7,6.1641345231281035E-7,2.3015377178200999E-7,1.995997869784634E-7,1.4804165037538433E-7,1.7150766687066777E-7,1.9517403804520147E-7,3.3751675903711623E-8,1.7741752933663087E-7,1.8185390369933597E-7,1.3188285653692722E-7,1.1384115081561627E-7,1.7347407517613972E-7,6.7051154632802964E-7,3.3759841414689322E-7,1.823018442537571E-7,2.0668852329154408E-7,2.0146820178007648E-7,1.4778154953909619E-5,7.9018098976485148E-6,2.0912834507243452E-7,1.1832086323227733E-6,1.7047500015517228E-7,3.2051751990971811E-7,1.7513635524440191E-7,3.5782950674032488E-7,3.0719953057423814E-7,1.1473768902558253E-7,4.6273662873320874E-7,4.7095990188944959E-7,1.1773326672832567E-6,2.2684291427104707E-7,1.564942263346363E-7,2.4366023922921481E-7,1.2674658384608938E-6,1.8795433874711014E-7,2.9184636220413298E-7,3.0600773808233867E-7,1.4096326110152326E-7,2.3884826162771911E-7,4.4404089333296617E-7]
[null,"21","輸送機械",5.6799436351498238E-4,6.2130925448417539E-4,1.046713298524969E-2,1.78466044347387E-3,6.0197259838103167E-4,5.0505818514025389E-4,5.7029058161018036E-4,5.6957403954013082E-4,3.7394912536030568E-4,5.2162498273048427E-4,8.173048030239912E-4,3.7225060985327175E-4,3.652774752022518E-4,5.233712344151569E-4,5.7617450608093903E-4,6.5520364848142712E-4,4.8873129104149663E-4,5.5136215270616749E-4,5.2755969218272014E-4,4.8298515255362084E-4,1.1275621774557079,1.0491452868159636E-3,9.8346507195296202E-4,7.0780723850871773E-4,1.2562007140492866E-3,9.1802204880224415E-4,9.2355702024617256E-4,1.0230321688249968E-3,3.386789836582206E-4,6.1199774684062031E-3,1.4987703250962797E-3,2.5180918992715904E-3,7.1593905883224503E-4,5.3415083028929148E-4,8.5135609681308148E-4,8.0313426120911923E-3,9.2110864931067675E-4,6.2577635301251373E-4,7.1056092875713495E-4,6.654154684070918E-4,5.6887150297361218E-4,1.5163525962484342E-3,1.5010961475562458E-4,1.1354744180168831E-4,2.1372066585906725E-3,2.8283392013284575E-4,2.1264480877633592E-4,1.2018891009568227E-4,1.415205737083639E-4,1.5147919074561745E-4,3.7312383367014889E-5,1.3797447924827604E-4,1.6967083694725097E-4,1.1136149162946586E-4,1.0256127110613466E-4,1.2236330080429625E-4,1.2875786989508699E-4,1.4374047432567404E-4,1.2391287573257917E-4,1.3627708395120566E-4,1.3217408252870407E-4,1.2784434840084857E-4,1.9254895386407459E-2,1.9738067794240576E-4,2.0918824153660524E-4,1.4936292427657576E-4,2.5047433476734355E-4,1.6812551394548543E-4,1.8102531962572611E-4,2.0942970184547967E-4,5.7433955278215666E-5,9.0989460548103528E-4,2.8996564028416991E-4,4.0535763152950801E-4,1.45187781628405E-4,1.1766894270389165E-4,1.8031143288598189E-4,1.2467903064498581E-3,2.0223858555950031E-4,1.7160597205254319E-4,1.2810083930958399E-4,1.218213059948309E-4,1.8007097051425121E-4,2.7056475572746926E-4]
[null,"22","その他の製造工業製品",6.919693323267351E-4,4.0202129590912608E-3,2.0083338121242786E-3,1.9046442428695919E-3,2.3456477855955272E-3,4.4756790943414476E-3,3.0339880231228101E-3,1.4223812510696101E-3,4.1338273328071062E-3,9.5388989875400197E-4,3.3450413804378735E-3,2.913595692652191E-3,7.6605966355934871E-3,1.4140783367568824E-3,1.008248729925198E-3,1.1733546545867933E-3,1.9226176967681399E-3,1.9064858094879151E-3,1.3879951165599261E-3,2.0369272570851479E-3,9.6740544452613418E-4,1.0102662913859763,1.4969735537787492E-3,2.6787174524040922E-3,1.9600813201048426E-3,1.7560396753001709E-3,2.0113517873644161E-3,4.3075481001572033E-3,4.7093170741275913E-4,1.4840639121045695E-3,7.0890721142900385E-3,2.9959025075462354E-3,4.0391584142047514E-3,1.5084803033329317E-3,1.0541916351817754E-2,3.316454084425205E-3,1.5782723493932152E-3,1.4596380627494429E-3,4.2556131759273405E-3,3.2667535899157793E-3,3.483868727049514E-2,1.9504667712310685E-3,1.3194146723598965E-4,1.7052425413028037E-4,2.0728556242656762E-4,1.6300711218845374E-4,2.6866343135419681E-4,3.6788475376302494E-4,4.1132588656467512E-4,1.7166245281345719E-4,3.6366184598302577E-5,1.3873988851703949E-4,2.6609777412917095E-4,4.0881223544930745E-4,7.8361859982122527E-4,2.4974754551876149E-4,1.7961636975277924E-4,1.9280479918878525E-4,2.4870356146014153E-4,2.3215563369066857E-4,2.2700654632618205E-4,2.6463614267293115E-4,1.9744341322316787E-4,9.577065865224297E-4,1.9676809087811167E-4,2.1586170874753757E-4,1.8870958582748842E-4,1.4415515705881062E-4,1.7911042110991938E-4,3.6189142155090229E-4,4.3683648288177401E-5,1.2955932625276033E-4,5.4731945499756588E-4,2.2100201488572447E-4,3.5812220093271149E-4,1.484921652843777E-4,8.7943914311714474E-4,2.7341314685634183E-4,1.7015235926678409E-4,1.9033069236121971E-4,2.8488600765871224E-4,2.4519558254461213E-4,2.6029727924719104E-3,1.7191453323221563E-4]
[null,"23","建設",4.2384866971342684E-3,3.321783157272936E-3,1.9800251449417685E-3,5.3986744394453707E-3,1.3979939028335028E-3,2.9084572272365986E-3,3.8464525456672898E-3,4.1442109823579499E-3,2.2552812444364087E-3,3.5058828787054167E-3,8.4911516661440138E-3,6.2408246057387012E-3,3.6830531951620913E-3,5.962381809918575E-3,2.8103515398377652E-3,2.6772987401057348E-3,2.575301432014628E-3,4.0755195606360034E-3,2.7900982009865572E-3,2.670165977428445E-3,1.305771516031575E-3,2.9280334712990849E-3,1.0019258413146468,1.5364161815102778E-2,3.0448282358623294E-2,4.9237975684187207E-3,3.9916800182365894E-3,3.2653589688945448E-3,9.0471377194337455E-3,7.8898789321720491E-3,5.8376978931109933E-3,8.8815321225683471E-3,6.7924292486476988E-3,3.3057943224098943E-3,2.827260677320417E-3,2.2320847472999538E-3,4.0302570302583772E-3,2.9655534580311834E-3,5.8365321039981315E-3,4.4289821592233391E-3,1.4210936449096088E-3,3.7686832746282694E-3,4.6252854532079006E-5,2.6052960746842099E-5,3.3339083544765351E-5,4.0024124012914556E-5,5.2216643527314996E-5,3.235910288650191E-5,5.6035138539710507E-5,4.5727972862752581E-5,8.3363955107866492E-6,5.5220257514100623E-5,5.2480087250505404E-5,2.2079826518552875E-4,3.8067623870030919E-5,1.2289291931862848E-4,8.8911851296463352E-5,8.2555712104641054E-5,6.1186431466431654E-5,6.1442536459528545E-5,7.0070090966002023E-5,5.95943999558471E-5,9.3322810510101402E-5,4.886590307573877E-5,6.9431477116581371E-5,1.6133499722077195E-5,3.0431606172769044E-5,1.8874900540487585E-5,1.692887713964176E-5,1.5596673388180135E-5,4.2114971854115967E-6,2.8622428251286231E-5,2.4469751882625807E-5,1.5877101067857693E-5,1.6232436635045428E-5,2.5003481136197491E-5,2.4678368120677648E-5,2.2140060932322103E-5,3.6436372122924815E-5,4.6564637920436191E-5,1.7656541256391413E-5,1.8291157169169326E-5,9.1848386146840027E-5,2.9487924648365166E-5]
[null,"24","電力・ガス・熱供給",1.2365091568610547E-2,1.7768083503846375E-2,8.4045796717829926E-3,3.7746766255334852E-2,1.2286420091378796E-2,2.6355342368684254E-2,2.0996512293658336E-2,3.7836535172243155E-2,1.0814027523584199E-2,3.4117041846651007E-2,7.2330125639550921E-2,5.161032462996256E-2,3.405640556148444E-2,2.953025846400844E-2,1.5030811904498365E-2,1.3806969067127807E-2,1.3234859720181172E-2,2.8016882881518684E-2,1.3392739960036646E-2,9.4286262884844454E-3,1.2737998853353126E-2,2.2010812520951037E-2,8.4781125069569446E-3,1.0700199144902132,3.99646886939874E-2,6.6791551926968187E-2,1.8715058206472138E-2,6.0701115783238129E-3,5.0407499679727182E-3,1.3471460469496186E-2,9.6970094998809642E-3,1.4365000257941013E-2,2.3126516090473462E-2,1.3447869979892967E-2,6.1354398911623344E-3,7.1274425197162339E-3,5.1110387433895482E-2,3.5860550034144768E-2,3.409729868923142E-2,3.0378392586436286E-2,6.59195634669051E-3,1.1051890726143022E-2,2.3713549431842471E-4,1.2264714761577687E-4,1.9142761813808841E-4,1.4431880071002335E-4,2.7653617806454322E-4,1.9591961843127526E-4,3.1637994184880569E-4,3.1637441297697972E-4,3.852524498081872E-5,4.1256145261035445E-4,3.4957861901588973E-4,1.7639034584317811E-3,2.5966871292791013E-4,9.2500690146312607E-4,6.3652355207248674E-4,5.7613836709585569E-4,4.1118582647349023E-4,4.1482938365001748E-4,4.7739949845609193E-4,3.8955853973439604E-4,7.2724017895313387E-4,2.6729632319865554E-4,4.459997646128473E-4,7.4667670453227016E-5,1.5024242641425401E-4,8.290044744419237E-5,6.4266157675086527E-5,5.9249788421419115E-5,1.7626680820232835E-5,1.0441738753563519E-4,9.6211727255193029E-5,7.1774303106881683E-5,7.5674204997259206E-5,1.5050898954017773E-4,1.1113712856417489E-4,1.1389546503634531E-4,1.6415174330021773E-4,2.5711354887677661E-4,8.0944320718421143E-5,8.4926452859956816E-5,5.0553072370945426E-4,1.2020881675311094E-4]
[null,"25","水道",1.0568190000214215E-3,8.7191874765599772E-4,7.4391544149443687E-4,3.64782046936412E-3,2.1030014358166659E-3,1.4304568377134449E-3,1.2572663140064182E-3,3.2818137349626838E-3,2.2429121314837481E-3,1.1181515335532254E-3,1.7018582184229404E-3,1.6747189254085765E-3,1.1505787973265205E-3,1.2228023542244246E-3,1.0509459962028888E-3,8.6264519498244826E-4,9.6854765956050598E-4,1.3680137925973558E-3,9.8065580482279433E-4,8.0530973256126267E-4,7.3803296487676183E-4,1.5648605254596749E-3,1.2573582106280028E-3,1.229250161378193E-3,1.0804974421900095,9.9832839342807404E-3,2.4897968263908649E-3,1.665130612133528E-3,6.9433452108060131E-4,4.2633914648376233E-3,3.4990681662544218E-3,4.819170023419134E-3,1.0195988864926639E-2,5.5041228603437999E-3,2.5900731210904337E-3,1.2652428204917186E-3,1.2159110020230741E-2,1.0258745343301488E-2,6.3502558882650535E-3,1.0350797632205842E-2,7.280028107764726E-4,3.3905885763767505E-3,3.3250807928779259E-5,1.4723821142344155E-5,2.3953941147822333E-5,2.8254421131637803E-5,3.9425796698165098E-5,2.4491164864647433E-5,3.2371588418199499E-5,3.64976244278325E-5,6.5419554408355196E-6,3.2914582687242671E-5,2.4105365456157836E-5,6.9398886891259857E-5,1.9888275758635741E-5,4.1697038061798475E-5,3.2786934164691424E-5,3.0663593804889355E-5,2.6144810669870248E-5,2.8454107563293249E-5,2.9222504783274871E-5,2.5888779588307372E-5,4.1461434514327691E-5,2.8084420159658524E-5,2.7796669385427814E-5,1.2106796108469109E-5,1.9720917264782776E-4,2.9782002943866898E-5,1.4633332930389624E-5,1.2233940988428343E-5,3.2933692454608958E-6,2.5048146038103907E-5,1.9257855771128818E-5,1.8225860107102012E-5,2.7968406103771305E-5,2.7960960282081588E-5,1.9416481254972974E-5,1.3946536899185123E-5,5.2316363800692633E-5,5.7746633034096888E-5,2.111472050638904E-5,3.0745541404171357E-5,4.9194874121635145E-5,2.2379215689794676E-5]
[null,"26","廃棄物処理",1.0124882297625722E-3,9.8781321973029335E-4,6.9822205579897273E-4,4.10309638292875E-3,1.2536527627842471E-3,8.5230210318590122E-4,1.0606680692439021E-3,2.8717900320129035E-3,6.0168180723617316E-4,8.9033924617274026E-4,3.5111341294893328E-3,9.7740205058043789E-4,7.2798442554207932E-4,8.3310260229847559E-4,8.8508506476465422E-4,5.997581658756982E-4,7.0740423684751612E-4,1.2407864165980937E-3,8.0012400972063005E-4,7.8649232406924449E-4,5.7191245950900154E-4,1.4148734147356548E-3,2.622371839732037E-3,9.3737501533093862E-3,3.0256533069717923E-3,1.0015820323177804,2.099603006192002E-3,3.6390031101777732E-3,4.3072745787469427E-4,5.5464641389439814E-3,6.3083390571846837E-3,2.6303188703353707E-2,6.8533012044826626E-3,4.3403851145801956E-3,9.1736909240156623E-4,1.1319343756992458E-3,4.4596756857841612E-2,1.6858376297188289E-2,1.2631668125170107E-2,1.5579474985040913E-2,7.1524351866886964E-4,2.1424313058311668E-2,3.0636429637687836E-5,1.5900936849678544E-5,2.1637915332492883E-5,3.537848834660736E-5,3.3254838607270591E-5,2.1886604396893038E-5,3.0671033759352503E-5,3.7168848142335464E-5,6.2614203102289387E-6,3.0320156346944405E-5,3.5460759207817269E-5,4.7790558992689554E-5,2.0047119929809529E-5,3.1418735095746606E-5,2.7206799142877628E-5,2.4646801386955088E-5,2.5772487576850171E-5,2.889354916610098E-5,2.6579468969078866E-5,2.5170740157992413E-5,3.5769373072176616E-5,2.8798217340683073E-5,3.3723713909150961E-5,4.0245838487287732E-5,2.3686175572497848E-5,1.6870842486592713E-5,1.6721763571596473E-5,2.0688674683530614E-5,3.6314881874641231E-6,3.3662734322288344E-5,3.0202055537763353E-5,8.1190489305100859E-5,2.455678786486114E-5,2.8409203890099772E-5,1.7641643458196962E-5,1.5316872849319966E-5,1.5265200503099925E-4,7.4518967882181012E-5,4.4790530774056356E-5,4.8496934916531505E-5,4.6830862326871934E-5,7.5269559140116817E-5]
[null,"27","商業",4.9151092635681855E-2,3.8717312184637392E-2,4.7900956506191479E-2,1.982474121090445E-2,4.1796238274562275E-2,4.8106092158194932E-2,5.6030826722513728E-2,2.9051824570356804E-2,1.5945600586093293E-2,4.1819532702244908E-2,2.4630080241640675E-2,2.2323393442589354E-2,2.8041068590468555E-2,3.4297638921231541E-2,2.9470976027381544E-2,2.8578841082094658E-2,3.4454313713150532E-2,3.0080926844341094E-2,3.423353180973189E-2,2.6852756219774215E-2,2.3059199817451338E-2,4.4577911140453383E-2,3.7696626694952058E-2,1.4474692064257631E-2,1.7333435942319234E-2,1.4040376023828655E-2,1.0099646348951921,6.9903637619612557E-3,2.4231189766284172E-3,2.2126807076432563E-2,1.3072638291496522E-2,1.0766977098863414E-2,1.3185284048019281E-2,3.433778049820755E-2,2.6053807828501113E-2,1.7180874641217907E-2,3.6702619834749421E-2,8.2647015828636733E-2,1.758952203407177E-2,2.3984783607309483E-2,0.14893556851937179,1.2876281809203829E-2,3.017687862975434E-3,1.1670524867534093E-3,2.4125578080152811E-3,1.0848026337876618E-3,3.4291486954708852E-3,2.5936310842827504E-3,3.3651140276184208E-3,1.9105592969642399E-3,3.7272216545420348E-4,2.6278516558688736E-3,1.5744971446602799E-3,2.1441911359142206E-3,1.7748261987948464E-3,2.1896219699828533E-3,2.134711785797808E-3,2.0451520724226162E-3,2.1735618401239653E-3,2.0102711608236336E-3,2.3563843567433631E-3,2.0969058781831829E-3,2.8714960745475286E-3,2.7699392608768465E-3,2.301393397668443E-3,7.7538953460764908E-4,1.0815107781035923E-3,7.5601220624925294E-4,6.0507858633672418E-4,4.9155441520890714E-4,1.3951807780196598E-4,1.1718614198824274E-3,8.4031931436034143E-4,5.8954595037792959E-4,8.4600953618070845E-4,1.7948673936411597E-3,1.5060761050995364E-3,9.488473527139731E-4,2.1503548554226539E-3,4.4590855738567917E-3,8.7757129794482729E-4,1.1334105241981216E-3,7.9878187653977546E-3,7.6922706401934705E-4]
[null,"28","金融・保険",8.5401999529241719E-3,1.0995904434735354E-2,1.1840856531994699E-2,4.1413678643118526E-2,8.5765333668400244E-3,1.8340892926474079E-2,1.4300906490994634E-2,9.1061279502653806E-3,7.2568443154428603E-3,7.4471268590128609E-3,1.3928211718221346E-2,7.813353759683719E-3,9.255315318767162E-3,1.424805859388188E-2,8.6827936626147281E-3,8.7974860189203429E-3,1.5357180229503529E-2,7.2729433797577995E-3,8.1510415644592531E-3,1.2078798574202659E-2,5.8191535236788803E-3,1.6514756247241677E-2,1.4663996437081469E-2,1.7627051404439775E-2,2.5912516739464431E-2,3.0015474156853777E-2,1.9012996063282234E-2,1.0391753577835199,6.6520931393233451E-2,2.6740781452239806E-2,1.1697212792131354E-2,2.3769933435890376E-2,1.1663930170019444E-2,1.0518235720463866E-2,2.3644779389293553E-2,1.2203812621886063E-2,2.2860159631419939E-2,1.034621731862204E-2,1.2593129666918553E-2,8.5993214059253767E-3,5.7873625273475397E-3,1.4400150710573423E-2,1.7238453753993803E-4,9.8125872772471441E-5,1.3814183561913792E-4,1.4511376806989617E-4,2.0008301944264334E-4,1.2845920871451473E-4,1.9461312730256522E-4,1.3723347856098181E-4,4.0637022926262076E-5,1.5739673542733984E-4,1.3983450678912537E-4,3.2855562921545352E-4,1.2759122666808334E-4,2.203876394828239E-4,1.8386269254071452E-4,1.8112327417939508E-4,1.5466648018359634E-4,1.5165566133092535E-4,1.6794203661035751E-4,1.4987328634156902E-4,2.5912599578589138E-4,1.7245455739378819E-4,1.779056509447903E-4,7.0782051687651827E-5,9.3831027440197863E-5,7.3391224250760067E-5,6.665859137893501E-5,7.0298509989453225E-5,3.6346045308079243E-5,1.1246461881630691E-4,8.8559884746543827E-5,6.2420258773950553E-5,6.1371900103321622E-5,8.8746699030217425E-5,1.0203198884195539E-4,7.7977821180075886E-5,1.472173399641135E-4,2.0528072638475238E-4,6.5489527842457862E-5,6.8565770885359417E-5,3.5501119199093202E-4,9.8950170714141194E-5]
[null,"29","不動産",7.5253788195714889E-3,5.6149629288881637E-3,4.7072269320573845E-3,1.3471634388148905E-2,5.5493252859290841E-3,7.3302257696342696E-3,7.1374639349264576E-3,5.3194753066534983E-3,2.8383645607088868E-3,5.9578479367404218E-3,7.1169162730064369E-3,4.0995280920369135E-3,3.4739240146869194E-3,7.7636079003076241E-3,6.3423786109038927E-3,6.1002979341700731E-3,4.6608452442308034E-3,4.2257987611601803E-3,5.4556569155235013E-3,5.0231028355807701E-3,3.0727833457645649E-3,8.8440126407007685E-3,9.0723012441503784E-3,8.5815720902733261E-3,6.319105874685307E-3,6.6814141995595669E-3,3.1182265641916208E-2,1.8245549037810855E-2,1.0375190130620304,2.8037914126503846E-2,2.7989250643886385E-2,5.726910664625301E-3,8.2823085131687804E-3,1.98019585847455E-2,2.1932935352020035E-2,1.3436283722172924E-2,1.6005249977887923E-2,1.5547061130029368E-2,1.1819660836019904E-2,3.0484771218442598E-2,6.6268963180484072E-3,3.8169716809785086E-2,1.8689228314553314E-4,9.4828706821113717E-5,1.426026213618488E-4,1.5953428885649097E-4,2.0943320126745406E-4,1.4086656869063477E-4,1.9466792303172374E-4,1.3548484260477204E-4,3.2693210364415259E-5,1.6749157836527898E-4,1.326415170538277E-4,2.2079626427346221E-4,1.1435950482387887E-4,1.7642695317007808E-4,1.6108517581311105E-4,1.5886258921241013E-4,1.4452293345360582E-4,1.3907695938442311E-4,1.5823085368194505E-4,1.4346305737711982E-4,2.0677044746209258E-4,1.8369599083433631E-4,1.704807571424776E-4,7.6622008802450684E-5,1.0061495851029096E-4,8.0154858157119332E-5,1.0685020391453011E-4,8.9591559937824937E-5,5.5414773873270202E-5,1.44474063789572E-4,1.4150890230627772E-4,6.6243383039400337E-5,7.9229845026425335E-5,1.2129899419487138E-4,1.357180143374804E-4,9.9208494295852976E-5,1.7524020849760588E-4,2.4260441137552568E-4,8.3708883093754297E-5,1.0961409999923505E-4,3.8389439132238305E-4,1.4926834316874777E-4]
[null,"30","運輸・郵便",6.0375213780663871E-2,6.614976571481114E-2,5.2101709171279792E-2,0.25540090860984549,3.7506721116189322E-2,3.0647008248168711E-2,4.7227125463982667E-2,3.1778777144063963E-2,4.4531932996858273E-2,2.5143881079198162E-2,6.770804388889741E-2,3.3007367534900217E-2,3.01495100568215E-2,3.8851381778420749E-2,2.7833917223704707E-2,2.5343114614076408E-2,2.9738168497641843E-2,2.4102541199694683E-2,2.5556757010723324E-2,2.3769177444900754E-2,2.4609693210666864E-2,0.11850658094409317,5.0202651920970141E-2,4.4914377904996784E-2,3.0605385891765112E-2,6.9278367948013522E-2,5.6285843224510766E-2,3.7947462938289635E-2,7.3322600441045518E-3,1.1146629122519267,3.8222167343920338E-2,4.3904438921158459E-2,3.2854599480827015E-2,2.1208591725925988E-2,4.1660260272077497E-2,2.3906143281671503E-2,0.10737632356426201,3.742828746409279E-2,4.5266444993542675E-2,4.5618459895961867E-2,6.4632407928156596E-2,0.10393654511915297,1.8266704993867371E-3,1.3954883660107591E-3,1.3453138973773995E-3,3.4410716238180675E-3,1.7053615792453015E-3,1.0146961381233804E-3,1.6540187024271624E-3,1.1457901608920658E-3,5.5896143471271598E-4,1.1144073957456704E-3,1.6175809755039918E-3,2.0822700689637577E-3,1.2468574810258145E-3,1.550485970024126E-3,1.2565068089776558E-3,1.1761579254201745E-3,1.1382568668738833E-3,1.0818933225993465E-3,1.170053342267142E-3,1.07133168093656E-3,1.6012390953800797E-3,2.1610186114179421E-3,1.5331885127842124E-3,9.9366151297414435E-4,8.2299232203113162E-4,1.2530835576035466E-3,1.0666974230949904E-3,8.4419342994781251E-4,1.6033693758885052E-4,2.1888371886398385E-3,9.0836049068732355E-4,8.1228548394174848E-4,7.2649487371769439E-4,6.9830846559558609E-4,1.0966028331564075E-3,6.4890751968562309E-4,2.2648468382653135E-3,1.5266153507581587E-3,8.7171922556302851E-4,8.7888705843841856E-4,2.7448529896392298E-3,1.8969958874544733E-3]
[null,"31","情報通信",1.02888399679208E-2,7.3898978702439232E-3,1.1764766672554878E-2,2.1035611991216042E-2,1.1066358283144234E-2,1.2697558318514249E-2,1.393525979637002E-2,1.852623144425939E-2,4.4100168450501107E-3,1.4174735545060067E-2,1.4839040099413607E-2,8.1071782390547981E-3,8.2395017965694248E-3,1.348183598809382E-2,1.4371686486627525E-2,1.6022916936636829E-2,1.5213156817451381E-2,1.5424850338904568E-2,1.9263606792090264E-2,2.9008341190172437E-2,7.657483508315157E-3,1.6039399116291379E-2,1.9431977387501846E-2,1.8116530211811289E-2,5.5250129000756265E-2,2.1212705911355413E-2,4.3136308355712756E-2,6.2619901090234367E-2,1.1110032331286841E-2,2.6058573106009411E-2,1.2110721830153763,4.2425437264297067E-2,2.9012218787227918E-2,1.9505821386614507E-2,7.2412225540520736E-2,8.0845931178538749E-2,3.2893210401074839E-2,2.5378438518052326E-2,4.4189941466434464E-2,2.519114863732759E-2,9.3648373350539698E-3,9.0418457728063395E-2,4.0080951380393491E-4,1.9970581126891042E-4,3.3105667889088479E-4,3.7037147955924223E-4,4.6435720959493802E-4,3.5577845376483257E-4,4.4934653901494665E-4,4.5600427594277002E-4,6.7486091670170448E-5,4.6283435320348818E-4,3.5425130837629746E-4,4.8504569876956709E-4,2.7537147171303826E-4,4.1623465119193981E-4,4.1875431185974335E-4,4.4711979538494709E-4,4.0663674925842932E-4,4.3394987539477705E-4,4.7682223492464756E-4,4.9935919555969322E-4,5.2284481025534184E-4,4.3090044445602918E-4,4.7050873137748073E-4,2.7366734671650984E-4,6.3634607763019154E-4,2.925423930574661E-4,4.5655418009117631E-4,6.2380820706949718E-4,1.1885150733932966E-4,3.8909294220679648E-4,1.4358283670695274E-3,4.0805137314377991E-4,3.9456060626221129E-4,3.4857335694687036E-4,7.3551823091301874E-4,7.9313958826739952E-4,5.0240601577713096E-4,5.8111806820306965E-4,4.1006179797054785E-4,3.0696574114199616E-4,7.4117740458864935E-4,7.8659279866137328E-4]
[null,"32","公務",1.27689386849988E-3,6.9564841453680049E-4,2.0788934441156163E-3,4.0144608461423524E-3,1.9865721913337299E-3,1.0096770889801668E-3,1.0060623009685563E-3,6.573257445278125E-4,3.907261606907606E-4,1.0124968017078382E-3,2.0829504523835348E-3,1.2570561651552767E-3,1.079281404263534E-3,1.3037497435582515E-3,2.2005242099537347E-3,1.8223703929872311E-3,8.3600606291027587E-4,5.0561405587447664E-4,6.3945015640789961E-4,9.1607712561012154E-4,3.8452719334808674E-4,9.2662708842008068E-4,3.5509291656945908E-3,9.9886047333473953E-4,2.6201169060955983E-3,5.4024503914523788E-3,1.8229137305010355E-3,1.3489702794638619E-3,6.5665518998176667E-4,2.427632275609179E-3,1.2821808087467403E-3,1.000691087320257,2.8216388120441611E-3,1.1890845623022566E-3,1.4131914054643171E-3,1.1848497957192151E-3,1.1348065338996909E-3,9.4494102891843322E-4,6.623283882987393E-4,2.2515866919285994E-3,6.2057649542929358E-4,0.2429627593650979,2.3827939155879117E-5,1.0945702307022836E-5,1.9931858991337695E-5,1.7182599348662527E-5,3.060995301447035E-5,1.2139143476080548E-5,1.909264625429266E-5,1.3527768721153647E-5,3.9884946236335854E-6,1.7456363359944354E-5,1.8236037487010925E-5,4.9991119663773007E-5,1.491426477439435E-5,3.0488062070033277E-5,2.8334387782109592E-5,2.7600518790426617E-5,1.7535594136171563E-5,1.5919793876026811E-5,1.9404781897915943E-5,1.5235089631247913E-5,2.6892159638381571E-5,1.7173691304687062E-5,2.4254140031870619E-5,7.5817474026375629E-6,1.2679563208149312E-5,1.3100386049763742E-5,8.0938302410093837E-6,7.1445643110466088E-6,2.137109355768031E-6,1.2893411798303851E-5,9.2956221884256823E-6,6.344030912276619E-6,9.0393123240412694E-6,9.8552056776115047E-6,1.0331072369462727E-5,8.831144183542688E-6,1.8270699793823356E-5,3.0647879494290451E-5,6.6618510904092007E-6,8.9972871446839632E-6,3.2200720331077538E-5,1.010571320329801E-5]
[null,"33","教育・研究",2.0664296805830793E-4,1.9978323759137874E-4,1.3973037083570757E-4,1.1135591432190552E-3,3.1211997422997531E-4,1.4878670236820251E-4,3.1958522665761824E-4,4.7392794741112911E-4,9.9687822031705302E-5,2.2282495752662732E-4,7.0739284130598283E-4,1.9374429890069993E-4,1.1965688419411703E-4,5.4344474202022339E-4,9.1689103878851773E-4,5.6702259452145565E-4,4.8858818676030457E-4,1.1680757285426108E-3,1.3140979626648447E-3,1.3422627942691232E-3,2.5936596529212602E-4,2.7421658234063267E-4,3.6201838053019349E-4,6.7043560856215178E-4,4.53837035052573E-4,3.7589662163688001E-4,4.6838263008781958E-4,5.4475423711347983E-4,9.0463050726421521E-5,1.2666738792018106E-3,4.9398166257946718E-3,4.3739837113401385E-4,1.0002074719309919,2.4262786670288151E-4,3.8740517599393504E-4,8.8812016898712448E-4,5.1956454136806705E-4,6.3158786578736809E-4,4.6050345730119416E-4,8.3820433997340267E-4,1.6838387462516163E-4,7.0477816195582872E-4,6.7173793648143836E-6,3.7417093355018731E-6,5.2736889828742736E-6,7.1548472045092847E-6,7.6856614146514979E-6,4.6538958852674462E-6,6.8560562920111975E-6,6.9373759388814788E-6,1.4611525413046343E-6,6.7435162225863641E-6,6.844990674596309E-6,9.575871815335492E-6,4.1065664359997455E-6,7.6167374558002567E-6,9.1101698560967891E-6,8.8058776720522816E-6,9.076203603154648E-6,1.2177545447309048E-5,1.1586497595778698E-5,1.3107412646308647E-5,1.1602306928310672E-5,6.7845286685113506E-6,7.8573042193176868E-6,3.9768219307273492E-6,5.8939038844164951E-6,3.8595150512772099E-6,4.4380100425531569E-6,5.0838609399898254E-6,1.0558617752334502E-6,6.8821235925227411E-6,1.3749708191023329E-5,3.9966006185401287E-6,3.6518900080135338E-6,4.2686035867679465E-6,5.9326153303536922E-6,6.9715685835850892E-6,7.0021887345994322E-6,8.4036025438885671E-6,4.0359536171522133E-6,4.1395693853859162E-6,1.1482545618489133E-5,7.2008007200611624E-6]
[null,"34","医療・福祉",9.3774704970675602E-4,1.0402056699300984E-4,1.0225134695440726E-4,3.9419057455773612E-4,1.1535172875608364E-4,6.6734889212105548E-5,8.8170399997472473E-5,8.1599731849746281E-5,6.7330966174715124E-5,6.9497970081553039E-5,1.2547295371726218E-4,6.8351243857736558E-5,5.9557529319019929E-5,7.873798730943347E-5,7.3236081727321554E-5,6.7019623419976778E-5,6.3203978456045771E-5,5.2216371193644821E-5,5.8077369981949964E-5,6.5631290099390957E-5,4.4595970742990795E-5,1.9504474304952768E-4,1.2289290164374807E-4,1.0409303025373273E-4,3.9506421830689999E-4,1.6982704134471858E-4,1.5340687526130118E-4,2.6573142104390499E-4,4.4253403801121139E-5,1.483284693574258E-3,9.5301730890730491E-4,1.3479778498236804E-4,1.1929306517980117E-4,1.0165336043498414,1.4127926783279697E-4,1.4704797300829717E-4,1.9254575822618604E-4,1.9488548474766627E-4,2.0819062930013817E-4,1.546483826934832E-4,1.026478882651209E-4,2.6301159354274921E-3,6.0232474072442605E-6,2.4678233502174796E-6,2.8180227453027349E-6,5.6161170784671165E-6,5.617555364285227E-6,2.1425321650142593E-6,3.131220716725158E-6,2.4329522505101608E-6,9.1130964954614061E-7,2.5328543282477574E-6,2.9440037791683804E-6,4.0632824753869456E-6,2.2811134914086802E-6,3.0255549022473908E-6,2.5937582139651682E-6,2.4835741466147065E-6,2.2850743574222552E-6,2.1898793066470257E-6,2.4166627732250436E-6,2.2385876869307952E-6,3.145553930838679E-6,3.8655814701525513E-6,3.0500398227734138E-6,1.8797969108001194E-6,2.7291943709151291E-6,2.3850245688015602E-6,2.1854745954010709E-6,2.2728952874608298E-6,4.3073433254183669E-7,5.9710850294859107E-6,3.9189416982363799E-6,1.7339632382308187E-6,1.6988631522389564E-6,3.2145685766159263E-5,2.5223799035323655E-6,1.9241146180901787E-6,4.4044528876874111E-6,4.3554576624029132E-6,2.0247295491344354E-6,1.8936661976001578E-6,5.167855618523473E-6,8.3674654364817766E-6]
[null,"35","他に分類されない会員制団体",5.3304851573278834E-4,5.838676975036003E-4,1.0514216291476766E-2,3.3552967292360832E-3,1.4648206785616974E-3,9.9478919837911982E-4,2.1996304347448961E-3,2.4408741867729981E-3,6.0335858567849617E-4,1.4711131240197511E-3,1.5068598653657889E-3,1.2235330694323381E-3,6.1655710774277824E-4,1.2520312005548124E-3,2.2558413684630138E-3,1.6921586755104011E-3,1.2358372820688807E-3,1.0031737038185069E-3,1.0294041144442514E-3,9.2117230506332448E-4,4.8417044597142734E-4,1.3831273047374938E-3,1.504763129812275E-3,1.7656991974211126E-3,9.0639009084337689E-3,2.5791979083688889E-3,9.8611518576112401E-4,3.1724189570665109E-3,7.2456939282019759E-4,1.9169843044224912E-3,2.22706558196513E-3,5.5688282061266948E-4,1.8863279421301934E-3,1.3556594625787485E-3,1.0005110847989207,2.6304739808190752E-3,2.0853287358186907E-3,2.0778064379518026E-3,1.0231989624364111E-2,2.5546034346762094E-3,4.8917096832530387E-4,5.2404237420065674E-3,2.0321701406574678E-5,9.2343940451274348E-6,3.0653315773800933E-5,1.745322083494951E-5,2.8134422431186424E-5,1.448336758635278E-5,2.3689440520225756E-5,2.4418380028236848E-5,3.7036399922194847E-6,2.5001091509286687E-5,1.671258199613337E-5,4.8219979806735089E-5,1.1632208982996012E-5,2.919268832140162E-5,2.8786479332401613E-5,2.7902745557740075E-5,2.0198210158559038E-5,1.8798845116574441E-5,2.1243712514752782E-5,1.9039446923032201E-5,2.8609725728117558E-5,2.0197758404050965E-5,2.1398327527969916E-5,9.223933080540028E-6,2.7422025097067409E-5,1.0907485553064938E-5,8.1905846256262585E-6,1.2012026779503502E-5,2.821524230323722E-6,1.279794716723186E-5,1.5111922533268095E-5,7.2230338899111497E-6,1.0334508150235614E-5,1.3287357599417026E-5,1.0668679117835223E-5,1.3319930714197549E-5,1.8484615265436836E-5,2.7147820164187782E-5,1.997629160106847E-5,1.0574996421822271E-5,3.6101714279930435E-5,1.7523245031930721E-5]
[null,"36","対事業所サービス",3.5101419300213973E-2,3.9740529050388926E-2,2.9046129335764378E-2,7.926075990641715E-2,4.6611566689428258E-2,4.5845852708953874E-2,4.3511188170361863E-2,5.2685926969478276E-2,2.1402378275238772E-2,5.0633598424509679E-2,6.7311693148016979E-2,2.5282920530210213E-2,2.634892758217806E-2,4.3982854368901224E-2,5.775593379151156E-2,4.8195969112255932E-2,4.4643833308067621E-2,5.7492135499117351E-2,5.3157306549231502E-2,4.8505561768651111E-2,3.6041724484839284E-2,6.5338306343248942E-2,0.10174024531483268,6.8534941215120174E-2,0.15485248109508454,8.1274814430716213E-2,9.1947143933109127E-2,0.11823439176219025,4.2476713166118021E-2,0.13886509772973937,0.18407022104740317,0.11028273747129845,7.5603447819662176E-2,5.788597939570022E-2,9.0182258603805632E-2,1.1440648262842577,5.4088666792713638E-2,5.3668313480889157E-2,6.8339068660554156E-2,5.727359848423668E-2,2.6307698114013962E-2,9.1526760946224278E-2,1.2539786220496652E-3,7.56287518406685E-4,9.6525323286145918E-4,1.3321640355967146E-3,1.4830366668551996E-3,1.0364036910592519E-3,1.2808673864677987E-3,1.313344110078963E-3,2.304495763595357E-4,1.4105917210694673E-3,1.2489731725182549E-3,1.484297935144887E-3,8.325381030412078E-4,1.2469806337167539E-3,1.3014043983432145E-3,1.2664734102986589E-3,1.2314996425972693E-3,1.3781653862062508E-3,1.3607055550716471E-3,1.3394870679022341E-3,1.8598452596598209E-3,1.3598812924929299E-3,1.6439366183758795E-3,9.1369058491167269E-4,1.7304030028017223E-3,9.7100084424400583E-4,1.0825867146049674E-3,1.3186263251901088E-3,3.6861707049426154E-4,1.5438605092620459E-3,1.9910258116206943E-3,1.0843279749212574E-3,9.4830537233528357E-4,9.5207553165683231E-4,1.2709286702717883E-3,1.586976565583478E-3,1.2258125665123819E-3,1.5596496244399316E-3,8.4143651361226826E-4,7.7709773225588009E-4,2.0500755003942952E-3,1.2321375691513431E-3]
[null,"37","宿泊業",0,0,0,0,0,0,0,0,0,0,0,0,0,0,0,0,0,0,0,0,0,0,0,0,0,0,0,0,0,0,0,0,0,0,0,0,1,0,0,0,0,0,0,0,0,0,0,0,0,0,0,0,0,0,0,0,0,0,0,0,0,0,0,0,0,0,0,0,0,0,0,0,0,0,0,0,0,0,0,0,0,0,0,0]
[null,"38","飲食サービス",2.3748290850333033E-6,6.0036557748705482E-7,4.8372549924268276E-7,2.9405320903540155E-6,8.3833176817494494E-7,4.2581589071509005E-7,7.9471009708516057E-7,1.0736506997313735E-6,3.3210663558397908E-7,5.7310460565096329E-7,1.6048444895200945E-6,5.1439766127263342E-7,3.5518318624459569E-7,1.1967087694214299E-6,1.8927744619583703E-6,1.2180731245482522E-6,1.0615925929601323E-6,2.3234660921182235E-6,2.6113846574037618E-6,2.6808614241250308E-6,5.9298647914640462E-7,9.3413418365260267E-7,9.472926927809291E-7,1.4887396977365137E-6,1.6949735987439702E-6,1.0711628632096196E-6,1.2111490230199567E-6,1.5929007642663068E-6,2.6510664330654336E-7,5.5285375946867162E-6,1.1353270935653818E-5,1.1135128894614706E-6,1.8902617707477055E-3,2.1465227846155953E-3,1.0335036506924908E-6,1.9925382783571008E-6,1.2685041987283199E-2,1.0066362860239135,1.3121851742791959E-6,1.9126425304551019E-6,5.4292215515636348E-7,6.8886953385827159E-6,4.7632626332215123E-8,2.0914262438718791E-8,2.3492156390802972E-8,4.6557097092087304E-8,4.1850968875886673E-8,2.0902424597261699E-8,3.191508992797031E-8,3.3296716021415976E-8,7.0363863246050167E-9,2.8783672527493473E-8,3.4860016832360061E-8,3.5403848340239809E-8,1.9425707020723843E-8,3.4850096228261339E-8,4.2051427050942994E-8,3.7131755418673658E-8,3.684405261240619E-8,5.7015258956778335E-8,5.5899818826707445E-8,6.6110144379328043E-8,4.1742531044845873E-8,3.3024814971262922E-8,3.4495870410569414E-8,2.8803476615767187E-8,3.8838748752357481E-8,2.4596614827644953E-8,2.7308153684338781E-8,3.3709644572417303E-8,6.0265677902981743E-9,8.475158977399296E-8,1.3685860979556133E-7,2.2510869614357093E-8,1.7026131406179587E-5,2.386488424272948E-5,2.9963309207059617E-8,3.9874563590805283E-8,1.636600777163754E-4,7.8729186226700603E-5,2.6298514186967353E-8,3.1770839709381006E-8,4.5716265197056801E-8,1.0904170119167398E-7]
[null,"39","娯楽サービス",8.1945133348627986E-5,6.1536046850313453E-5,9.2643097390246367E-5,1.6928216497289237E-4,9.0744586932386181E-5,1.0054649548614355E-4,1.0875941879024811E-4,1.4177163271639551E-4,3.6068509366718124E-5,1.1182576220262272E-4,1.2077847329146223E-4,6.4481132194928555E-5,6.543834564036734E-5,1.0563831657186865E-4,1.1617749354788994E-4,1.250386203837021E-4,1.1714736456927801E-4,1.2071234453148723E-4,1.4665876533540833E-4,2.134438777188657E-4,6.288165521120022E-5,1.276223932495776E-4,1.6226880389880557E-4,1.416074455073216E-4,4.1921022261900959E-4,1.727071876896992E-4,3.3278263449244063E-4,4.6037933668983716E-4,8.7147769312837539E-5,2.1380291520092646E-4,8.4076152292931663E-3,3.1813855479991324E-4,2.9783527041321258E-4,1.5668385830762394E-4,5.2429306304677624E-4,7.9394584050709546E-4,2.315290819006987E-3,3.9384416687958341E-4,1.0116319978312283,7.9630227897208722E-4,7.5277521289285695E-5,1.0348466984594407E-3,5.2662004547334202E-6,2.8009133554988452E-6,4.5803830058888877E-6,6.0314253126344725E-6,6.1809770110179329E-6,5.1972231343707618E-6,6.2167867937374898E-6,6.9860532168488503E-6,9.526405307590338E-7,6.3666153523311365E-6,5.3832304771575997E-6,5.627997775286261E-6,4.0025051632459839E-6,5.5418228061651773E-6,5.8253176581342965E-6,6.33598863593756E-6,5.7817894883082034E-6,6.2538224504009762E-6,6.9265717875841556E-6,7.67858959332304E-6,6.4381059708765424E-6,9.688142527169672E-6,7.1873351540098595E-6,4.9774150517141712E-6,1.2391723443839626E-5,5.3251951409663282E-6,9.3796171085564462E-6,1.3065165763465145E-5,2.3774847326509734E-6,6.7186029214860616E-6,1.2336846984275235E-4,8.1083205536806988E-6,8.4423535801261457E-6,5.8489309159950999E-6,1.492834470223518E-5,1.9088005442728358E-5,3.6258327138671049E-5,1.0914778074335897E-5,2.1055791525627143E-4,1.6506275243717992E-5,9.1096586168037818E-6,2.1078856379872991E-5]
[null,"40","その他の対個人サービス",3.3125223322633601E-4,1.957021082340211E-4,1.1011020368053399E-3,5.6757703373128555E-4,3.1040193525664521E-4,3.1286900832903312E-4,2.6249221800634049E-4,2.5662839700707658E-4,1.2685980166716535E-4,2.5674816507019417E-4,2.762735188637206E-4,1.8915453978167565E-4,1.9768385855437545E-4,2.561573184242019E-4,2.9472504079859754E-4,2.8587699742876806E-4,2.4651172559119757E-4,3.283452764010666E-4,2.8704293424341694E-4,2.5449983282269648E-4,2.0386308367598629E-4,3.5253605428389533E-4,4.912620355893661E-4,2.4950370188627044E-4,6.3648882944035326E-4,2.8643266997092893E-4,1.0343251206456079E-3,4.7643426357181994E-4,6.4888362308551119E-4,9.6312464743801953E-4,2.1576817006001953E-3,7.84999839078228E-4,1.1016723888701485E-3,1.0962037585960574E-2,2.602295227655775E-3,1.4890468240639314E-3,1.259089611342726E-2,3.396104010168662E-3,3.6038972291803657E-3,1.0174539570479435,2.2902996623943368E-4,1.7037469410062383E-3,9.2329536802032939E-6,4.8804402740206821E-6,1.1497391637343995E-5,8.2562165923867246E-6,1.1167592147926519E-5,7.1357937943412226E-6,8.9429246706179066E-6,7.3986401859838594E-6,1.5547121328712827E-6,8.319502480329109E-6,6.7205989844709421E-6,1.0703693931744311E-5,5.8671719405318873E-6,8.5617087785107075E-6,8.3244245721538373E-6,8.3224448006826357E-6,7.7145977534303033E-6,8.2724160759254798E-6,8.6077380748145488E-6,8.3954548175652643E-6,1.1561692967180137E-5,8.9304009623798595E-6,9.4222492765516308E-6,4.481628071799928E-6,8.4022178149940264E-6,4.8114153141031081E-6,8.3448289360994494E-6,6.3667387614104187E-6,3.6296786648588815E-6,9.8802759005672549E-6,1.6991460691497439E-5,6.5003193342328852E-6,1.0204519650216755E-5,4.8495865484168236E-5,1.7700815302519517E-5,1.1792609258365206E-5,6.5108554084386324E-5,2.5119134017897323E-5,1.8538850693148402E-5,6.790686060639093E-5,1.5909388877552558E-5,1.2677867345459876E-5]
[null,"41","事務用品",1.0895436332276228E-3,1.4034561124369464E-3,1.5932248985644044E-3,2.3074035149442101E-3,9.3118213831329714E-4,1.4083001841857412E-3,1.3614617896361553E-3,9.3871156126261771E-4,3.0117241300320243E-4,5.5091853013366349E-4,1.6430659067745794E-3,4.2942888203826148E-4,5.4568927263413415E-4,7.7512278469632793E-4,1.4274542908974421E-3,1.4057855923771691E-3,1.7321809367096958E-3,1.4862166715018514E-3,1.211410661960368E-3,1.6249721780654126E-3,4.4522286480428325E-4,1.4826023175914624E-3,1.3507931343738598E-3,4.4874770428902444E-4,1.6173709667456203E-3,3.8392173386576208E-3,2.397035270994375E-3,3.8646718863283892E-3,7.4794650113728985E-4,2.8242200549847612E-3,3.085786487589864E-3,3.4603665049526026E-3,3.6849160729318358E-3,2.7149048188101895E-3,5.2205865784980708E-3,2.117247339845316E-3,2.8523663000191908E-3,1.4494742233439714E-3,2.6867446659765144E-3,3.720467762037463E-3,1.0006436162547037,1.6708435155222072E-3,1.9354146461934504E-5,1.0952235632074516E-5,1.4762196141554223E-5,1.427752653114991E-5,2.246740245470158E-5,1.3378251618073826E-5,2.0241105256893369E-5,1.4574413659719454E-5,3.3438350874398981E-6,1.6085288996272296E-5,1.4956782805975732E-5,2.1931528453653758E-5,1.1736639765207051E-5,1.6602719485739251E-5,1.7274517664650757E-5,1.8233197521173537E-5,1.7069171309753745E-5,1.9252416883529394E-5,1.8637471780550767E-5,1.9153804849464451E-5,2.2890089765207562E-5,1.7963197628960859E-5,1.7495907404859992E-5,7.0235677820508823E-6,1.0375215413441857E-5,7.5118084700825453E-6,7.2328169336400409E-6,7.3964412856893736E-6,1.8286668684304287E-6,1.1769044303458085E-5,1.1936217176636045E-5,6.873613393384012E-6,7.0935826057752381E-6,1.0052183061178146E-5,1.1209914124326919E-5,9.7384484053493087E-6,1.6298920038388501E-5,2.3568010468806735E-5,7.6980947840094408E-6,7.6918386571543799E-6,3.8577021990319105E-5,1.1085075042978355E-5]
[null,"42","分類不明",5.2689921171219581E-3,2.8705330199360534E-3,8.5783740055469845E-3,1.6565325493863307E-2,8.1974183402793131E-3,4.1663451864837938E-3,4.1514290763762099E-3,2.7123978364523658E-3,1.6122977104209807E-3,4.1779804871937137E-3,8.5951148992971238E-3,5.1871335499198805E-3,4.4535613738217374E-3,5.3798105629393952E-3,9.0802728416291573E-3,7.5198538202762687E-3,3.4497067172194833E-3,2.0863726739000542E-3,2.6386357680328568E-3,3.7801130325624444E-3,1.5867182077946445E-3,3.8236465416918368E-3,1.4652602102697785E-2,4.1217113574901192E-3,1.0811685814087672E-2,2.2292744313313066E-2,7.522095855536831E-3,5.5664091934885512E-3,2.7096308511105329E-3,1.001741463327953E-2,5.2908082188134241E-3,2.8517120588533022E-3,1.1643248530508117E-2,4.90665460922181E-3,5.8314121158117909E-3,4.8891802111576147E-3,4.6826810192146569E-3,3.8992174332903888E-3,2.7330408133230668E-3,9.2909777573966113E-3,2.5607552382795598E-3,1.002564814061538,9.8323930184649101E-5,4.5166493938781397E-5,8.2247092335344408E-5,7.0902510187577318E-5,1.2630932383456188E-4,5.0091125709001604E-5,7.8784153554634729E-5,5.5821167688545653E-5,1.6458178122350854E-5,7.2032173703849242E-5,7.5249431559636413E-5,2.0628403184672764E-4,6.1542423742134929E-5,1.2580635139399247E-4,1.1691940070383869E-4,1.1389115377778792E-4,7.2359112649734433E-5,6.5691652617564107E-5,8.0072154293220793E-5,6.2866279767635427E-5,1.1096817099880303E-4,7.0865751914518299E-5,1.000826112397535E-4,3.1285424955042736E-5,5.2321120995573657E-5,5.4057610056936474E-5,3.3398490500470103E-5,2.9481426737056178E-5,8.8185969302196562E-6,5.3203548708305686E-5,3.8357581035375994E-5,2.6178094900583881E-5,3.7299940546766979E-5,4.066665390832791E-5,4.263027665726527E-5,3.6440952718270672E-5,7.5392462570953369E-5,1.2646582417349535E-4,2.7489552379199714E-5,3.7126527278666303E-5,1.3287348759018046E-4,4.1700351548111074E-5]
["県外","01","農業",6.6862152743719899E-2,1.3789102304572008E-2,1.8022384338648046E-2,2.6264442921857976E-4,0.10523392711666041,5.7374138059407042E-3,1.1002484469172884E-3,2.7354262611407093E-3,9.6095377690591537E-5,2.953624813012724E-2,4.3178379370155254E-4,1.4837388488122359E-4,2.6985238962184819E-4,2.1169010447105307E-4,4.0106368034999705E-4,4.6468274676249218E-4,1.0516065631657441E-3,5.55610600926718E-4,6.3728961336213666E-4,6.2350796144911393E-4,1.1107116457780095E-3,2.8055877441755658E-3,9.1605327610569192E-4,1.0035994939763626E-4,7.4955197528148263E-4,3.5472536238167075E-4,2.546369439571706E-4,1.7060586775308889E-4,5.0320393177981715E-5,2.2998970104722377E-4,2.9649099115030322E-4,2.4544291048558874E-4,2.3780375258453546E-3,3.1650194034134639E-3,1.6164327032324563E-3,3.4923733805537364E-4,1.6636386792189029E-2,5.0411105722575601E-2,2.9650583026423743E-3,3.338844004772194E-3,1.784887381776601E-3,6.4040964355402874E-4,1.1423650907841727,7.1613657564013498E-3,1.5213000400520873E-2,2.1605251080038154E-4,0.18223554217764018,9.1252399288119061E-3,1.4595982015986851E-3,3.3140244571093578E-3,2.7177004936099856E-5,1.1887179836418418E-2,5.3288330981268229E-4,1.4369411225458918E-4,2.906498704741238E-4,1.8968393961332571E-4,2.866189149001019E-4,3.7484380597987472E-4,6.3371644747992084E-4,4.4164327964079416E-4,6.370764575348945E-4,6.4366546340346954E-4,8.0275920865422725E-4,3.3194900696636529E-3,1.2829080069928919E-3,1.0485236249756616E-4,6.3056540007606595E-4,2.7824695774210411E-4,2.9576066493158001E-4,1.6399876664405493E-4,4.8110477965121087E-5,2.2418135572069051E-4,2.9575762744857179E-4,2.1641482352021389E-4,2.9736927701418583E-3,4.0308956295785374E-3,2.5289899286948993E-3,2.6532980029295389E-4,2.3882896745113506E-2,6.4165601684527923E-2,4.3526759660795855E-3,4.1021747274195743E-3,1.5484576504631272E-3,6.7022671364438697E-4]
[null,"02","林業",1.1892296486373949E-3,6.4095074277510225E-2,5.1881973993069138E-4,2.3613627816790867E-4,9.2279609376220159E-4,3.9848014758944511E-4,2.2920747192235014E-2,6.6127212895442772E-4,9.0922746816804722E-5,4.4949393778947414E-4,7.2007168400914172E-4,1.4223872658893704E-4,2.6623814809546159E-4,2.1608059831695257E-4,1.7112952643746925E-4,1.567137444675545E-4,4.2909737551570363E-4,3.1131308299754148E-4,3.6608603788771375E-4,2.6346827685122781E-4,2.1645709545924094E-4,2.9677041792769568E-3,1.3707104175496661E-3,1.7299410959620818E-4,2.6285264275448153E-4,2.3285771151235462E-4,3.1741447056231429E-4,2.6704334587078314E-4,6.3758896714320834E-5,2.3689713502372611E-4,6.3625392355586583E-4,1.8608880037860394E-4,3.4899293926831157E-4,3.7720939899784701E-4,6.9651101092877495E-4,2.6443955579044534E-4,9.3080059150829554E-4,1.6891883872927106E-3,3.6093520263297908E-4,3.2828230587767497E-4,1.1857534060239266E-2,1.9095037166520158E-4,1.2926067568431786E-3,1.1186731069492037,4.7454544652618657E-4,2.9319087426073139E-4,1.3316208453883454E-3,4.298788472816265E-4,3.6599322487436602E-2,9.3598496901829849E-4,2.6707840567996674E-5,4.9603258719593845E-4,7.7734437382198803E-4,1.4821477197165931E-4,2.7783355526464883E-4,2.3775794405525404E-4,1.8557419596878361E-4,1.7355412561216655E-4,3.425982944070286E-4,3.8390410936212739E-4,4.0842612211002997E-4,3.7635053774122526E-4,2.2632072555195447E-4,3.0798638942029222E-3,1.6073248398908678E-3,1.9155161820181432E-4,3.0401997850776715E-4,2.4857942146514926E-4,3.6706093598393538E-4,3.1877048276102014E-4,6.9418241369987777E-5,2.7631853131509067E-4,6.7524885954733027E-4,1.9108258413912173E-4,4.2358555182871432E-4,4.3711872893393325E-4,8.3339637976067422E-4,2.6871674344734568E-4,1.3938518811637852E-3,2.3609195377370311E-3,3.43020272026222E-4,3.5908739847804994E-4,1.3317378197197664E-2,2.0670995964853483E-4]
[null,"03","漁業",1.8034444379511868E-3,1.6354249883478869E-3,3.0979342703981009E-2,3.9413985495220115E-5,1.4154577373881646E-2,2.4854805228451853E-4,1.2880097981395476E-4,2.6888126285152928E-4,5.7527502248378107E-5,1.8622079147800297E-4,6.9980564025608029E-5,6.2590614736533185E-5,1.4456570737304795E-4,4.1725223092653927E-5,3.3376805547818114E-5,3.3956669224027565E-5,5.1850313956690554E-5,4.7388714406668569E-5,4.1946387460835329E-5,4.43545787790311E-5,4.5276582236318896E-5,3.2948838570730996E-4,4.16921260093054E-5,3.985849412036789E-5,3.9749970375589047E-5,3.4380803813970923E-5,3.5655285455297478E-5,6.1421051401065594E-5,8.5907818555525475E-6,3.4389868947537059E-5,1.0478946460087802E-4,5.7824460948374075E-5,2.5305665891861307E-4,6.1071200782840244E-4,1.7680828944773233E-4,5.3809523401215604E-5,3.754009302262717E-3,9.3591199965626908E-3,1.1100754522869538E-4,3.6957710868695787E-4,5.1539804152137133E-4,1.042983823483814E-4,3.5119540497035536E-3,8.0392352055774817E-4,1.0378421894859207,3.9623019472928746E-5,3.0258043258858752E-2,1.871993813104305E-4,1.7449010804639002E-4,3.1938601039393339E-4,7.9855582508362479E-6,1.1234276657489433E-4,7.6542785095053164E-5,6.9288975830876084E-5,1.6028462857027898E-4,4.6095356353299223E-5,3.4950076292247946E-5,3.8591305572086139E-5,5.6686810445137208E-5,5.2242824323494296E-5,5.0710633619037664E-5,5.8896014706949634E-5,4.2761483032590894E-5,4.6903673344061356E-3,4.9086901232425856E-5,4.5593244166198113E-5,4.5753325276415294E-5,3.6303694165587358E-5,4.3031647020764842E-5,7.6152451926052785E-5,9.6112172669080661E-6,3.7535804744419214E-5,1.167909421523155E-4,6.019558867281493E-5,2.8195794027029061E-4,7.9024966221642365E-4,2.2666851562840414E-4,5.8894027415768551E-5,5.4728781948004271E-3,1.2118350283109718E-2,1.3170714971461481E-4,4.0230784543545799E-4,5.7175116444762913E-4,1.1869624058438652E-4]
[null,"04","鉱業",8.4078171441612161E-4,8.790476871677527E-4,1.3767000933852941E-3,1.8408022742950798E-3,6.246638048286509E-4,9.525621859579165E-4,1.0138589550726885E-3,2.1861939104503322E-3,2.1758814596227992E-2,1.3333910696820309E-3,5.3114697954371867E-3,5.4311081235684225E-3,5.0928232308358095E-3,2.2801388564712005E-3,1.3324344605155991E-3,1.1556325139632953E-3,1.058346942078392E-3,1.1815182138506148E-3,1.1878168290670647E-3,6.6246309340151088E-4,1.4128328387414302E-3,1.0144390667521641E-3,1.2492186113825902E-3,1.1439989291205427E-2,1.0470373736501579E-3,1.4163017220388465E-3,4.8662711395716087E-4,2.4758545818913299E-4,1.2519588973119734E-4,2.6069925340091362E-3,3.6347750440368518E-4,6.382843676555948E-4,5.3897432098312268E-4,6.3890211829865245E-4,3.7773642022864625E-4,3.6656201590925391E-4,1.1514341220017512E-3,9.1829685312624801E-4,8.4814538021872729E-4,7.604919433033938E-4,1.0136060456881972E-3,9.8291871624753323E-4,8.2362508189265501E-4,5.8504275541882041E-4,1.427697105659913E-3,1.0016511026258175,7.9736514594890744E-4,1.0574226043601912E-3,1.6021407390734163E-3,3.0610711746506701E-3,2.2927617346980438E-2,1.3337814431144874E-3,4.1876505973551074E-3,6.0560185695922395E-3,8.1865256394525344E-3,2.3407720186360988E-3,1.5227506337514318E-3,1.2474506800189947E-3,1.0250539396173129E-3,1.2759326006592747E-3,1.251270578697521E-3,8.7313841342828128E-4,1.4440272021097539E-3,1.0013909759412965E-3,1.3877686227320302E-3,1.3752946471492897E-2,1.1830934590563737E-3,1.5054053934183517E-3,5.6704514264056414E-4,2.7370137964125387E-4,1.2059125940373815E-4,2.4377817616908284E-3,3.4996671376236708E-4,5.9535579624927918E-4,5.367594059940712E-4,6.750242314760602E-4,4.0740867470321859E-4,3.4553932067214011E-4,1.3411152672179101E-3,9.9538380765100778E-4,8.1576653221349094E-4,7.6144984603028671E-4,1.0649796233310773E-3,9.7784729774077648E-4]
[null,"05","飲食料品",6.1048376990943037E-2,5.3406954962460791E-2,9.4320079518600261E-2,3.4086049264008239E-4,0.11847659498022255,6.1295191839364103E-3,2.6176089771534072E-3,7.3422851574484124E-3,1.3346068323307871E-4,5.9688709616042149E-3,7.2117676822628437E-4,2.0081153492507812E-4,3.1177243074163554E-4,2.2561762384537356E-4,2.430616721693538E-4,2.4222878965149853E-4,4.7266942347765143E-4,3.539100941203049E-4,3.4171535070812067E-4,2.9957864133047971E-4,4.7452500051448602E-4,2.5213755411022895E-3,4.616934502050597E-4,1.1240710621945581E-4,3.4057674320416898E-4,2.952735210372584E-4,2.4573562827524852E-4,1.530855821730218E-4,3.8965872691609533E-5,2.841846044005069E-4,3.0106851966586788E-4,4.1111352665052566E-4,5.1878027617680888E-3,8.1506904574362056E-3,1.3881446596882502E-3,2.2824045207494678E-4,5.178504614994605E-2,0.18071231661215303,1.4029779760356027E-3,4.527882597857971E-3,2.0518397035809463E-3,2.4458121788345061E-3,0.13664675873621221,3.0249741342252258E-2,9.6251716277087881E-2,3.0179001884748192E-4,1.1979069224969709,4.3577645718208087E-3,3.7245357410964569E-3,9.5915624042786848E-3,4.477258309706351E-5,3.1467872162150939E-3,9.9552119197801538E-4,2.0514442414115285E-4,3.403975520444833E-4,2.2926368682110268E-4,2.2714467786789428E-4,2.3811386706448269E-4,4.1609878861572464E-4,3.8654995370968791E-4,4.0114526884481929E-4,3.8456100731934067E-4,4.175703465145025E-4,4.5976685346136043E-3,5.5621225759769951E-4,1.2422630296852677E-4,3.5821274841247989E-4,3.0194767227580973E-4,3.077125686226948E-4,1.7476444246483311E-4,4.0759844413156965E-5,3.4889764870744825E-4,3.1486824331833439E-4,4.4283120362350643E-4,6.213581979643364E-3,1.0249620917877348E-2,1.991457724281484E-3,2.163272509397962E-4,7.5283365980643863E-2,0.24259337836009165,1.8867720023462899E-3,4.8846028149158449E-3,2.1258306237065976E-3,3.2456546786964716E-3]
[null,"06","繊維製品",3.3932850251697576E-3,3.5462098943626463E-3,1.2046179257526303E-2,2.7395586160105221E-3,1.5403205665058405E-3,0.14144526194964396,5.0559987004822069E-3,1.3103520585527448E-3,4.1330641359445957E-4,7.9594098539090222E-3,1.8670070300182318E-3,7.4843788924122885E-4,9.5772680775638023E-4,1.2796816557823646E-3,1.3788607726820739E-3,1.2605874533078111E-3,1.6653180457151266E-3,3.2119455595740597E-3,2.3042679700712382E-3,2.1513227722076032E-3,2.8504075652564143E-3,2.5266831394721214E-3,2.5206993603198208E-3,4.8650987922537489E-4,1.3856476282915881E-3,1.6547806682776383E-3,2.6504396800725656E-3,1.2714425452477671E-3,2.2229193567190866E-4,1.7260263972804885E-3,1.2897297349948383E-3,2.3238809729817173E-3,6.7324820467039499E-4,2.2960279814417286E-3,1.4808476615323234E-2,1.7595310789328667E-3,6.0398663325843529E-3,1.3992217485543806E-3,4.3244976768429142E-3,4.0044621389159155E-3,1.3846409004750863E-2,1.3476459364108301E-3,2.3695562810594904E-3,1.2096271763204209E-3,8.6408270065474937E-3,2.0101288295107499E-3,1.5621646440883848E-3,1.0911800942629315,3.8719605015524409E-3,9.8624697270020324E-4,1.2219016034827743E-4,2.9962200136213106E-3,1.7947282928633275E-3,5.859847245111619E-4,8.4644237250103434E-4,9.4953137532264263E-4,9.6918131592200227E-4,1.0826714461973227E-3,1.1743292261586949E-3,2.2013335910789256E-3,1.7581663793702271E-3,1.5206697184385735E-3,1.6907954602056903E-3,2.6795200458527265E-3,1.9383831777884534E-3,3.843792524571921E-4,1.063124875077583E-3,1.1179353587310384E-3,1.9644630522120143E-3,1.0038111822013322E-3,1.6178266310576181E-4,1.1059906288963578E-3,1.0112403074525578E-3,1.6195659147497422E-3,5.7410765132132752E-4,1.5852634434699584E-3,1.0274976605688435E-2,1.2426498490015969E-3,4.5038073852293661E-3,1.1400815967768394E-3,2.7633177236255232E-3,2.4992815462257477E-3,9.873111041164841E-3,9.6659725063896729E-4]
[null,"07","パルプ・紙・木製品",3.2755956963541832E-2,2.6812694472613779E-2,1.0537484139957707E-2,6.3780820487085868E-3,2.2129129182872343E-2,1.2131556558221774E-2,0.22964849401908224,1.6992073134083782E-2,2.8354668017362152E-3,1.3193133816718557E-2,2.2739834723724449E-2,4.604064978171632E-3,8.5987907666880952E-3,6.9202910689760413E-3,5.5710059633067317E-3,5.1075004428840264E-3,1.3673062577422511E-2,1.0016997310161995E-2,1.1718403048142347E-2,8.4967593237573504E-3,7.1472927612492116E-3,9.0756886031344061E-2,4.2730630578605822E-2,5.4713896823334442E-3,8.3222906612338519E-3,7.3325888857038203E-3,1.0166544870735967E-2,8.4915997342178643E-3,2.0298074752432126E-3,7.5395282881348096E-3,2.0427360988447489E-2,5.8354869991667675E-3,9.773810447765794E-3,1.0098898401164255E-2,2.2032270690919637E-2,8.4441842934926473E-3,1.0194209679811106E-2,1.5736766033776238E-2,1.1410336499311091E-2,8.5562778136547956E-3,0.37375605604966899,6.0402957061956048E-3,3.7851403421842671E-2,1.5934935819558082E-2,1.0046510718354509E-2,7.7341565229212478E-3,3.1455138942350545E-2,1.3845658434648848E-2,1.3076343968326372,2.3775024538985268E-2,8.5558621395292556E-4,1.5829235684823247E-2,2.7192417898248462E-2,5.0080247520861683E-3,9.3857890544266423E-3,8.2312211771656471E-3,6.421328793782005E-3,5.9797066673401506E-3,1.1828621650204261E-2,1.3313326943635545E-2,1.4197144837729393E-2,1.3054595136751512E-2,7.7026861296853556E-3,9.9056856286194178E-2,5.5616380486119998E-2,6.6295739961484889E-3,1.0514998104965648E-2,8.6228434506392549E-3,1.2924145661922485E-2,1.1132714519671178E-2,2.4259078788949812E-3,9.7033184343218049E-3,2.3679244571061978E-2,6.5101171255745076E-3,1.3131488172599589E-2,1.2198486888173229E-2,2.9111788756393024E-2,9.3471172379811125E-3,1.316083890911523E-2,1.8155553113441952E-2,1.194175950490348E-2,1.0003170944749205E-2,0.47198879182446529,7.0952210522007278E-3]
[null,"08","化学製品",7.5084898994190338E-2,1.2686144482651016E-2,2.4483533849210003E-2,2.2666073937631915E-2,2.604756434582059E-2,0.11342961878035777,4.0978832366598848E-2,0.35337160074822171,7.0806227416107528E-3,0.22953391328301465,2.4527351952523205E-2,1.0732063544081046E-2,1.3561533740776104E-2,1.4497037018108328E-2,1.3180315337148241E-2,1.3387350547071625E-2,3.1040007331727723E-2,2.3793333314771549E-2,2.1642486211874496E-2,1.7269534708461657E-2,3.3502380692450137E-2,4.621989439389082E-2,1.3887581691953633E-2,3.195417984773876E-3,1.8891907159577927E-2,1.827013160867625E-2,3.4300475971535483E-3,3.3924547626457708E-3,1.0054257579437912E-3,4.781011947752308E-3,6.704432459193224E-3,4.7688482552894458E-3,7.7771839059060429E-3,0.12029279662779639,9.6100139320743055E-3,1.0229551527896273E-2,9.4663582245699089E-3,1.3107936296866287E-2,7.6604865600134117E-3,1.9762467698330059E-2,4.4650395909028813E-2,1.1034841753154039E-2,7.8434042625502604E-2,6.7216604395476413E-3,2.0296815372454358E-2,1.8139982502861401E-2,3.2329743096279291E-2,0.12210594404208235,5.3635736232289379E-2,1.342144029213463,2.6535360074722526E-3,0.23445766612022609,4.0359300528555769E-2,9.9923360907843775E-3,1.6056508432203364E-2,1.4654237823861608E-2,1.239947778897485E-2,1.3529822558089767E-2,3.2097117542339126E-2,3.0133714008767017E-2,2.9351493709802966E-2,2.7023798509321996E-2,3.2674746847290777E-2,5.2248843887724189E-2,1.5827271722150593E-2,3.2841658001110953E-3,2.1450037883169498E-2,1.8931896055328565E-2,3.7064090935545035E-3,3.7099700795358093E-3,9.9361466315488699E-4,4.5813497386631621E-3,7.0878572308998369E-3,4.4799868732184125E-3,1.1848580487895702E-2,0.13255672398480969,9.8597604830917285E-3,9.9616776685162185E-3,1.0527763800640836E-2,1.3700217983389008E-2,8.5747588361372636E-3,2.052511449801336E-2,4.6336139679298373E-2,1.1756605597278938E-2]
[null,"09","石油・石炭製品",2.2963182006803994E-2,2.2726790431178315E-2,4.731881932036977E-2,4.8351459841947025E-2,1.3515972213900426E-2,1.8609361718095917E-2,1.5429115059173368E-2,4.0900750068187421E-2,7.9326069112931497E-2,2.6720654989550986E-2,3.1371239188827893E-2,6.0477895950469124E-2,1.2009937095853233E-2,2.3031913536661997E-2,1.3586461059765123E-2,1.3099743855105339E-2,1.15975281639948E-2,1.0688769547551314E-2,1.1568998750731427E-2,7.8188349789794376E-3,1.6531534996107919E-2,2.0874303871009386E-2,1.991752318656223E-2,4.923136421527028E-2,1.8328777334171466E-2,2.212215629793822E-2,8.8607536237959115E-3,5.6738278228453658E-3,1.9288963996724432E-3,9.8133063829698844E-2,7.344165854753771E-3,1.6635603142157264E-2,8.4168613537895683E-3,1.4780666320109633E-2,9.3795381209294225E-3,7.1402203654104537E-3,1.8245402064574048E-2,1.4507089201801838E-2,1.5285950804528868E-2,1.3329860618701015E-2,1.7981755991457279E-2,3.0519274406185969E-2,2.2345345586430299E-2,1.781485995152611E-2,5.4141079855439818E-2,4.3579827027831405E-2,1.7432216528384076E-2,2.0905633538073273E-2,1.9681506938789003E-2,9.9022400713992167E-2,1.056590081999607,2.5517514288451025E-2,3.4397618070249401E-2,5.0011485545789491E-2,1.3038358388241248E-2,2.1145416049176684E-2,1.4344666185086055E-2,1.2681440126617555E-2,1.1348538438343872E-2,1.1587732083007556E-2,1.1978805654914517E-2,9.3091040460977145E-3,1.5940974189280432E-2,1.8939938446551056E-2,2.2978515606436493E-2,5.3306854093195299E-2,2.0222357611410127E-2,2.2778887767160902E-2,9.4484612033631475E-3,6.2186424453110865E-3,1.8361672358776309E-3,9.9393119128287646E-2,7.1782809159387263E-3,1.5552168180167148E-2,9.424597771836787E-3,1.5735216380331308E-2,1.0291914022521085E-2,6.8017797689441254E-3,2.0020253879317478E-2,1.5252212736611736E-2,1.4255258974467874E-2,1.3030543799250465E-2,1.8249821475303577E-2,3.2184312350839121E-2]
[null,"10","プラスチック・ゴム製品",1.4525936757777231E-2,2.8529553176308349E-2,1.9079174103670007E-2,6.9906617360593198E-3,1.8747899753572744E-2,1.4289977941875469E-2,2.2406915330332129E-2,2.0777774299512192E-2,2.1605082109707454E-3,0.11109271002475199,8.8013116887591114E-3,3.8296920370682569E-3,7.9303849242536497E-3,6.7450236181029292E-3,1.7407731588958978E-2,2.114165678702172E-2,4.6287002770672603E-2,2.2851858191476483E-2,2.749714222384754E-2,2.7303125669393656E-2,6.3343794953286181E-2,4.19423588777963E-2,1.3768265677427975E-2,2.53350258118492E-3,3.0561271611283379E-2,1.2571440251625354E-2,5.8146412448664246E-3,5.1912612391902891E-3,1.5428538350076887E-3,6.6420103799395168E-3,7.6842098510984929E-3,5.5025102278687598E-3,4.9063391346390742E-3,7.0584532425418921E-3,1.0367985213016693E-2,1.3707472055519457E-2,7.0391654799276115E-3,9.6281541741414876E-3,8.6615609318868286E-3,5.3820888332075352E-3,5.3879221254597376E-2,6.6185624774212116E-3,1.6375404556874119E-2,1.8998332371133395E-2,2.4510146876215375E-2,9.1143999194216729E-3,2.94036635582848E-2,1.7362941214998248E-2,3.3643623267391308E-2,2.8607501933760549E-2,8.8297279692562693E-4,1.2273315048699884,1.2825107907821416E-2,4.4337963213661874E-3,1.1710837405232133E-2,8.967075319772231E-3,1.9838127472945756E-2,2.8813623643966269E-2,4.9916675964680197E-2,2.9282553232017918E-2,5.043233045322764E-2,5.1592145987051356E-2,6.7532982114462278E-2,6.6746550800814847E-2,2.0168024936211559E-2,3.1258114228572514E-3,4.7960429743660063E-2,1.7520096794586694E-2,8.6837895137863094E-3,7.2953083814724252E-3,1.9395674807911783E-3,7.9356814090958978E-3,1.0864251440164131E-2,6.3195892196762473E-3,8.2464326937967056E-3,8.1474890063098042E-3,1.4402802245903155E-2,1.561594598645726E-2,9.74156963018326E-3,1.1235946217377167E-2,1.1091689178917449E-2,6.4604737213338195E-3,7.1777466580118576E-2,8.8404562032886498E-3]
[null,"11","窯業・土石製品",2.5674617089459085E-3,1.7339875550107405E-3,1.3895040775620973E-3,8.7182647575036068E-4,2.7732700257271739E-3,1.57476949788112E-3,4.655696384884671E-3,6.4648039124716606E-3,1.0153713582737997E-3,3.470510375675155E-3,3.4462969233793071E-2,6.0389520962926572E-3,8.3955014789330006E-3,4.6076222545468415E-3,7.6112024486440369E-3,4.5983193461718083E-3,1.0887325746471813E-2,2.1099146932829712E-2,8.4523465576050831E-3,6.4732269572616869E-3,1.1930644995842909E-2,2.9785106826011407E-3,2.5522862646877878E-2,7.0022657459909994E-4,3.7151054544655271E-3,8.6743935979567103E-4,5.4971563138756017E-4,4.6246529996607836E-4,3.6863571300484481E-4,8.8355211250803014E-4,8.0458016017496503E-4,9.0161647212820941E-4,1.524151090041722E-3,1.8216837141369184E-3,8.9161938053685102E-4,1.65702407637743E-3,1.6023684660735761E-3,2.1726737455579916E-3,1.2886540151080049E-3,8.8948423982016325E-4,6.1749475680600322E-3,2.8856882342024725E-3,4.1497724580456842E-3,1.3602640863579513E-3,1.3708185401443901E-3,1.4720441665847907E-3,4.4274554846913733E-3,2.0168819095153904E-3,5.0686540652879076E-3,8.8965666270935124E-3,4.210676121218961E-4,5.593639226336264E-3,1.076448938840538,9.9243621642127345E-3,1.1770256735430062E-2,6.8415480985863962E-3,9.4309488938941217E-3,7.3636704089031554E-3,2.3104991127465183E-2,3.9889573966074669E-2,1.4689926845453661E-2,1.1654916193410506E-2,1.1129691937125926E-2,6.0464341291550754E-3,5.0926069905206602E-2,1.2075585773961694E-3,7.0270458265856983E-3,1.2869309404730516E-3,8.4312992484140243E-4,6.6094544564183964E-4,6.7401560678371011E-4,1.0994039994308056E-3,1.0122457162652727E-3,1.2180758203517972E-3,2.5657268931396499E-3,2.3065058422950492E-3,1.2861922163288873E-3,1.8778304221293422E-3,2.738769712945616E-3,3.0708792430443584E-3,1.8487354399095257E-3,1.28220510290093E-3,8.8171426275141639E-3,5.1490931949440127E-3]
[null,"12","鉄鋼",3.7312991911586531E-3,3.0502073255209805E-3,1.0317147307416091E-2,9.7975772842373871E-3,6.7258666512539081E-3,3.5722182985038335E-3,2.2368985196464106E-2,7.1091792505165426E-3,1.8991078291485987E-3,8.6780962452678734E-3,1.5834557494233417E-2,0.56948815688097865,4.4275895143608716E-3,0.26676701815752846,0.14518153645527218,0.13474264392618776,4.030130630047872E-2,1.9908008991136827E-2,7.9002156620994454E-2,2.5769553456526942E-2,0.13889622606397534,9.6533513190232654E-3,5.6735282776134273E-2,2.654691475377341E-3,7.2255438742765011E-3,2.399317306990412E-3,3.0650003275375804E-3,2.3113817145992413E-3,1.2516452937546929E-3,6.8155056633767905E-3,3.9174169589055374E-3,5.6739257675979841E-3,2.2838984851501535E-3,3.0123787415315918E-3,3.5032388949356209E-3,1.2313775201442209E-2,2.8638209436563727E-3,4.3441439607439366E-3,2.5122348939016067E-3,3.4073220135284977E-3,1.5524646952347374E-2,1.00144058111266E-2,4.2979030164332372E-3,2.1570874903031208E-3,1.0509341640085152E-2,1.6763252352221369E-2,8.8279685375798316E-3,3.8417199799953513E-3,3.215021778102066E-2,7.4886848123132555E-3,9.067577924482689E-4,1.1519773328665429E-2,2.3704476623903219E-2,1.9485508564411367,6.2378818365726721E-3,0.44056746320714923,0.25951218809643517,0.21846474429941565,6.9423568867870794E-2,2.8271816943352141E-2,0.10756913457647237,3.6490069750034451E-2,0.17544244730913025,1.6151655987414762E-2,8.6694118774467338E-2,3.2413522079692185E-3,8.6260082641303314E-3,2.4972896441670181E-3,3.4790026780561665E-3,2.5087740367049486E-3,1.5080148698512865E-3,6.4178126444423694E-3,3.8615887860677777E-3,5.4555472453874047E-3,2.5873507801336456E-3,2.9805244925475778E-3,3.9759221017983256E-3,1.0559873458397527E-2,3.2801505389649186E-3,4.7229576267028162E-3,2.3581184725898585E-3,3.7704564208743728E-3,1.674315871240686E-2,1.4386205685420232E-2]
[null,"13","非鉄金属",1.2951635302415017E-3,9.7090392169243674E-4,2.655998998335718E-3,2.3261616924069323E-3,2.5959803263858714E-3,1.4897959105173329E-3,4.9514485449603301E-3,1.2697239804840332E-2,5.6136839274746446E-4,4.8318661753167834E-3,8.4071917671931992E-3,1.639277337919506E-2,0.36464778332123182,6.1934863533378223E-2,4.1055072416836903E-2,2.4747709478701536E-2,5.5522730375033809E-2,5.1667397758496388E-2,5.949991101193812E-2,2.7196145082526581E-2,3.4168616216483219E-2,8.732829738857785E-3,1.3184839261772016E-2,9.1319722791269743E-4,2.0217909916145889E-3,8.1628083536253442E-4,8.5126032524921694E-4,7.7675847193465315E-4,3.3957989320848299E-4,1.7066055315165345E-3,1.3722722270787602E-3,1.837139886098372E-3,8.4863612366464596E-4,2.6576864195322785E-3,1.3543612476122852E-3,3.6364037580102013E-3,1.3028838770407661E-3,1.5638296028425856E-3,9.4714639585849198E-4,1.3214589039908884E-3,6.1193831280062462E-3,4.2426381243261431E-3,1.3530949597459711E-3,5.8376824354118789E-4,2.5782199370150576E-3,2.7334151113336657E-3,3.2458638656331549E-3,1.3744042215985569E-3,4.9548446479716676E-3,6.8803107083700941E-3,2.0019322018729723E-4,4.7124040036282703E-3,1.0707604220714885E-2,1.4946603081994721E-2,1.3426343729314794,6.3159828762905185E-2,4.2750621700594967E-2,2.6098369460133788E-2,4.2557887913018219E-2,5.0791431477526849E-2,6.8042466105624866E-2,4.8069079170556431E-2,4.0577020739415159E-2,1.3354430715794391E-2,1.5381349344486962E-2,1.0197898407342673E-3,2.194093081369284E-3,7.6895095099493505E-4,8.6447223253217507E-4,8.0020414692912793E-4,3.3761081001889187E-4,1.4419260551819704E-3,1.3120913946495789E-3,1.5815722824056478E-3,9.5403815113735669E-4,2.5317737224129903E-3,1.4422526703297034E-3,3.111686279894573E-3,1.4577031595184589E-3,1.6116686362588281E-3,7.9270006660748149E-4,1.3222217052229123E-3,6.4038764215478472E-3,4.6009781284620278E-3]
[null,"14","金属製品",3.8835221053223675E-3,2.701520059410214E-3,4.5069564323217664E-3,9.5316026571220323E-3,9.2653522094664677E-3,4.025969824381386E-3,1.4007546039868259E-2,9.8652945920729117E-3,1.9979984799079449E-3,9.174953819906826E-3,6.9296172826957339E-3,2.5292104377103767E-3,3.2366927060734647E-3,3.6398205521551423E-2,2.0681586888401465E-2,2.4715347722713756E-2,2.1947715549532773E-2,1.5450356703768998E-2,1.9544460401182427E-2,1.7709343212908284E-2,1.5034507514928642E-2,7.9855168379674019E-3,5.000643165709686E-2,1.970340897651429E-3,3.7018671375194084E-3,1.4087562082608538E-3,2.5395142689914048E-3,1.0769480940589736E-3,8.4906884763977751E-4,2.4999162123340206E-3,2.0206832261104755E-3,4.4202996992455355E-3,1.3853138830590846E-3,2.7559702890421842E-3,2.8627217982944695E-3,3.3733936268116682E-3,2.5109750034567526E-3,5.5172805928173623E-3,1.5539291691608012E-3,3.6110057995349895E-3,1.0149760346870722E-2,5.0741005060161454E-3,5.4837483698242338E-3,2.1760575081039885E-3,4.7972110726490604E-3,2.1437091101284431E-2,1.6100934805543733E-2,5.0725171009891367E-3,1.7481025996854187E-2,1.3076728826247157E-2,1.1970428941531215E-3,1.1521970926100725E-2,1.3156371575786249E-2,3.65466349535154E-3,4.1722628267906563E-3,1.0686676044781804,4.1260991152818505E-2,3.8743049417182582E-2,4.4133433575763173E-2,2.6354968167572601E-2,3.2930657567603099E-2,3.2676182870924025E-2,1.9793560605451517E-2,1.4674820592643431E-2,9.3668339107643106E-2,3.0391834539642846E-3,5.983472706952573E-3,1.8121376386400719E-3,4.1250794465756196E-3,1.4769063819589994E-3,1.4548250786406377E-3,3.4507680623914183E-3,2.4548551219936805E-3,6.0865477423533388E-3,1.959246958723931E-3,3.118464738005226E-3,4.3009659790013864E-3,3.5872806777816884E-3,3.5953444347788569E-3,7.2228916630133729E-3,1.7887319678584089E-3,5.6365245157007499E-3,1.1120424474129581E-2,8.0935664862300683E-3]
[null,"15","はん用機械",6.4076405769986685E-4,6.5022246708361364E-4,1.0242038507741055E-3,2.7081615921808818E-3,7.3307457418618765E-4,7.1574355383061724E-4,4.6551880353929032E-3,9.4586135526516027E-4,4.0652049700938705E-4,1.1649909447181213E-3,2.4860400739052952E-3,7.1361279516019233E-4,5.566769900655625E-4,1.612788186654163E-3,0.15127025712282111,4.4127083588761294E-2,1.0884117809995934E-2,3.6572350790309146E-3,1.229608976582184E-2,4.1855122431903539E-3,9.954570117918525E-3,1.1590850887842185E-3,7.3248336794326206E-3,8.7763235356545137E-4,1.1738830478117008E-2,1.0108189986450967E-3,1.0218066710522913E-3,1.225563210005721E-3,4.8652942390403739E-4,1.8301405574571864E-3,1.9640370639520451E-3,1.7400757046066018E-3,9.4922190435744742E-4,9.2421824313015303E-4,1.0570502180620688E-3,9.6355004554527345E-3,8.3806135034100412E-4,8.8263242490774316E-4,9.2493719024923609E-4,8.2052397240428023E-4,1.8364082546028695E-3,1.1978013969906787E-3,6.2087926104981898E-4,4.7115729050960746E-4,9.6789303013283096E-4,3.077321580905055E-3,7.6035851345888081E-4,6.4278484672178847E-4,2.0007476800779503E-3,9.0295089630504919E-4,1.7737189202304747E-4,1.3151056025665435E-3,3.0214788890372871E-3,7.7113830062086619E-4,5.3727551697942979E-4,1.7208271404409922E-3,1.1462709713781261,4.2644814377722898E-2,1.5995672257518544E-2,3.695732254115066E-3,1.4489317884838419E-2,3.561907766958233E-3,1.3624121564339701E-2,1.4243705519884384E-3,7.3805505118581206E-3,8.729460052287148E-4,1.2222402657381998E-2,8.9485551855767831E-4,9.7543657090823029E-4,1.1950277839838709E-3,4.0229213041530952E-4,1.5541350688494347E-3,1.7675588194767241E-3,1.4501497772952598E-3,9.1266253929557766E-4,8.2185621155919143E-4,1.0124701725738241E-3,8.1639172906157308E-3,8.3503863574251166E-4,8.2606817241664282E-4,7.6127755246952974E-4,7.1947230171863475E-4,1.596237662594726E-3,1.0559595190458933E-3]
[null,"16","生産用機械",6.4465741339198013E-4,7.6412645253322125E-4,6.5099204726148789E-4,2.4357939893171602E-3,7.9535195162513364E-4,7.9546071499072494E-4,9.6813164648073082E-4,9.9078187463058956E-4,4.0371080587648452E-4,2.543849604719138E-3,2.5239818457414268E-3,7.1267070004924957E-4,7.3139518902762463E-4,1.1191333928933954E-3,7.3366677556368047E-3,0.11251343218001725,2.1101379898611832E-3,3.9481879361039302E-3,4.3183400136394979E-3,1.8701411587577913E-3,2.3790133841629967E-3,1.1131170617279349E-3,1.5373409238965752E-3,8.8753075901475858E-4,2.1947332197400017E-3,1.0355646798151299E-3,1.1094896632319073E-3,1.3917242628645836E-3,5.0318599436029599E-4,1.7400509640985093E-3,2.2054362249616594E-3,1.3602879445066016E-3,9.2829803803697096E-4,8.3954714200892714E-4,1.1544268189986543E-3,1.1299494240671844E-2,7.783626112386851E-4,8.7276524728945937E-4,8.9152911756871383E-4,7.7356238467609858E-4,1.088719816988742E-3,1.1688523397515654E-3,6.8284366715683925E-4,6.8407851393877648E-4,5.9054913780460171E-4,3.0113549396641867E-3,8.7939923283822028E-4,7.548335186961391E-4,9.3336413328008738E-4,1.0342289705491719E-3,1.9990623558864299E-4,3.7950122663420582E-3,2.2899723380837497E-3,8.0996038977966913E-4,7.0905451634892573E-4,1.2507913944651569E-3,6.092325285272422E-3,1.1374113242886537,3.1947680808269859E-3,4.4305262901893116E-3,3.7194878508268071E-3,2.5128109774229649E-3,2.6251881773264475E-3,1.1806799030384077E-3,1.5996333552035914E-3,9.6741937669385717E-4,2.2977709913355278E-3,9.9533280419583105E-4,1.1676541520443675E-3,1.4997084382358363E-3,4.4137423873039544E-4,1.6120032339272863E-3,2.2078310450772652E-3,1.233136295299064E-3,9.8989285203011142E-4,8.1833000929040388E-4,1.2130532009984828E-3,1.0815356388071505E-2,8.2323362697892736E-4,8.6405652916679771E-4,8.1901469256457813E-4,7.3272523626113548E-4,1.1245790183601312E-3,1.1275113143482034E-3]
[null,"17","業務用機械",9.3575771533312732E-4,3.620456996784601E-4,3.6774130040973066E-4,5.1442903373187716E-4,4.3804765108192639E-4,4.0723464972664512E-4,4.2542416245324783E-4,4.2180554750045988E-4,1.5704577190825056E-4,4.3944489540435422E-4,4.4208988389361455E-4,2.4906071457158561E-4,2.6562791073822225E-4,3.5754888686364162E-4,3.7911198790377908E-3,5.3437678872894209E-3,5.9060377496540216E-2,4.7614860553414553E-4,1.974716400575846E-3,8.147891986795869E-4,9.034304388026614E-4,6.1511135673671395E-4,7.9228337842284359E-4,3.6545293533696348E-4,9.0623256027887004E-4,5.3593690329539387E-4,1.4333421344395038E-3,6.5334170677770601E-4,2.1811494320918534E-4,8.0832110444534677E-4,1.1419646660120997E-3,4.0198867335710072E-3,4.6892956879759733E-4,1.0217741823870686E-2,6.0839923767977715E-4,4.5516314017908016E-3,4.7088290846065083E-4,5.1658486533937085E-4,4.5633584452982445E-3,6.5898301116181337E-4,2.1877576905335372E-2,1.3661433453604403E-3,6.3470906366178614E-4,2.6036076573627117E-4,2.836937163492191E-4,3.9797597297875736E-4,4.2516080905040301E-4,3.3429860041317568E-4,3.5500849480565969E-4,3.6768469188563652E-4,5.7801054210944481E-5,3.6835080252699612E-4,3.7300224722480984E-4,2.2435018645733664E-4,2.2725089386614947E-4,2.9836796614124758E-4,2.5745065346868697E-3,5.0818476831320826E-3,1.0629572483957357,4.8814005221414091E-4,1.1245837762167378E-3,1.3072591449758485E-3,8.8183807893723167E-4,5.1937550722411479E-4,6.680131375659382E-4,3.1991356298602212E-4,7.4784483988266884E-4,4.1447226635272561E-4,1.220883225887178E-3,5.6357160580696711E-4,1.5319502671583605E-4,5.8542535672561995E-4,9.3470421337442952E-4,2.782877761066809E-3,4.0735175534017812E-4,8.0932060048552433E-3,5.2548974100774829E-4,3.2703908506254388E-3,4.1807118313512973E-4,4.437848446400586E-4,2.839057004231294E-3,5.5732872668978013E-4,1.866573105248516E-2,9.9740446595044524E-4]
[null,"18","電子部品",6.3946986013250725E-4,6.2963934756892393E-4,1.3922722941369441E-3,1.0798415867874103E-3,7.2190706168489172E-4,7.5723116097293976E-4,8.3789216315421293E-4,8.5340369151436322E-4,3.4849621485149738E-4,8.161846331684226E-4,8.5109742164636874E-4,5.4074879305141866E-4,7.010244431902825E-4,1.2678634056370751E-3,9.503195455974214E-3,1.2249227684075048E-2,5.0516702392800365E-2,0.11392221746863146,5.9240154224937731E-2,0.11024724128283768,1.6133936429339482E-2,1.796505744083773E-3,2.1509276676082547E-3,7.0728273621775348E-4,1.5553223103370011E-3,8.6048111130727618E-4,1.0495981056007422E-3,1.1824114805500659E-3,4.0338878895659989E-4,1.6675552495097907E-3,2.3213674672344343E-3,2.9373447923372832E-3,1.1789474488106393E-3,1.7238679190291466E-3,1.1446551580064582E-3,7.4107252222661351E-3,7.3620912653908947E-4,8.2444542747849578E-4,1.3010594842564551E-3,7.4706656849628586E-4,1.6364709380786057E-2,1.5198760059301228E-3,7.7559449627128546E-4,6.0984260624215802E-4,1.483486066253746E-3,1.267647907597534E-3,9.7884271380301795E-4,8.7049461811744967E-4,9.4748932311673826E-4,1.0559917007362846E-3,1.6123104548170015E-4,9.7272249156429185E-4,1.0947440492091647E-3,6.4194686458047385E-4,8.6666416445733312E-4,2.9515527383573974E-3,9.6138095259744403E-3,1.1487295456849806E-2,0.10839144960067952,1.2064801249076136,0.11710305407677075,0.23476845661293377,1.9261062923461605E-2,6.6193978463421049E-3,2.6490674283676887E-3,1.0130153821802503E-3,2.1205508180502488E-3,1.1095877162841264E-3,1.4249141232439272E-3,1.763667946515385E-3,4.8185304916831522E-4,1.895660788192717E-3,3.596290224144736E-3,3.5718379815059499E-3,2.3460495261121159E-3,1.7040548947979306E-3,1.6250964198317771E-3,1.0382653175804538E-2,9.9838994655381224E-4,9.9702969984225313E-4,1.2992817928683064E-3,9.5042845521239503E-4,2.9850375798232687E-2,1.9164815882126074E-3]
[null,"19","電気機械",5.3572824560167731E-4,5.1412614618610755E-4,2.8848369373294758E-3,1.555941703384692E-3,6.1090053775907994E-4,5.7100649818952293E-4,9.2943280264100531E-4,6.7553461312209236E-4,2.9660821374417629E-4,6.8562477263392008E-4,8.1424090279335096E-4,4.4431626143470808E-4,4.5769645557695545E-4,1.1916127899446647E-3,1.6069230607793902E-2,2.2269767318725524E-2,1.2438591241125547E-2,3.065026761612798E-2,5.1879505786145523E-2,1.886549524739219E-2,4.3931816595307926E-2,1.1173095517277251E-3,6.0360275466618731E-3,6.837003816598671E-4,1.6872901878130385E-3,7.6142738425030872E-4,9.3422462311335604E-4,9.5573434157906014E-4,3.8388563233230554E-4,2.080387431422834E-3,1.6521968089276257E-3,2.659150111440578E-3,1.0709378213402652E-3,7.8039542710451107E-4,8.3033775361264809E-4,7.1810707792311331E-3,7.0284897549228651E-4,6.958211408848048E-4,1.1520435386751032E-3,6.263071776924353E-4,1.480030710793853E-3,2.0049056896543319E-3,5.4844830681619093E-4,3.7386863906011572E-4,3.0941619689447758E-3,1.1352679202932827E-3,6.75436413869717E-4,5.2022285721841895E-4,7.2512220507256692E-4,6.6605376469577827E-4,1.1811818827169927E-4,6.8506252142354698E-4,7.7719787357523036E-4,4.4619251540065535E-4,4.4983481325603665E-4,1.1801820396947649E-3,2.0147621075180765E-2,2.0083245650106728E-2,1.7179320420770468E-2,1.8098060131983146E-2,1.0860441812394801,1.7786586731554945E-2,3.8392533307613538E-2,1.758857596052798E-3,6.8383806649607625E-3,7.0897153246528971E-4,1.7023403439564908E-3,6.8585334917682281E-4,9.4371800023830348E-4,9.6882163750594238E-4,3.3624938971973933E-4,1.7060787293651674E-3,1.6120160790985473E-3,2.3847938860167605E-3,1.0276704459367598E-3,7.1186465339886343E-4,8.2750682376041447E-4,6.3550051412293845E-3,7.1106916507674507E-4,6.7122441274727808E-4,1.1359574709712537E-3,5.6535076401223244E-4,1.4824944641540219E-3,2.0039906629028556E-3]
[null,"20","情報通信機器",9.0162384852429217E-5,1.0941670525632026E-4,2.9980234128486387E-4,1.6488874146665259E-4,1.0555362958267321E-4,9.9086255158240043E-5,1.0669627749759781E-4,1.2428879964848584E-4,4.7121537981822575E-5,1.2510299354646305E-4,1.234344155066572E-4,6.9263097102390314E-5,6.8262645605639659E-5,1.2106233754412617E-4,1.2914679140920379E-3,1.9165810025216211E-4,1.1162503677204204E-4,1.4379161310063354E-4,1.2856901102566325E-4,1.6081091289609571E-2,1.0009184604567458E-2,1.4149026667039868E-4,1.0647859130559221E-3,1.1628047570707584E-4,2.3019562894214122E-4,1.3444685530830918E-4,2.8389931679901926E-4,2.2227264461437853E-4,1.0736926898751704E-4,3.4196282366902498E-4,3.5090517813379362E-4,1.3046674142485751E-3,1.5288046531731432E-4,1.0938257069116445E-4,1.7161800803396654E-4,1.1200574103204112E-3,1.1666558889427764E-4,2.1022431582040584E-4,2.9498180238857283E-4,1.0565007990156494E-4,1.274922483777487E-4,4.2292868125891857E-4,7.3631624323588948E-5,8.3941430645983895E-5,2.3018572947065241E-4,1.1003702809449498E-4,9.3588184412201207E-5,7.436226907311068E-5,8.2664400928907647E-5,9.9934170930230238E-5,1.6043419361608304E-5,8.6375673485883909E-5,9.1049668464441706E-5,5.7393174983144508E-5,5.4745598351079139E-5,8.7220408125442982E-5,3.8808156585290644E-4,1.8422407964448781E-4,8.9904040366632886E-5,1.0560797327239216E-4,1.0075669573008123E-4,1.0096854101845181,3.7155785993066934E-3,1.03468464856872E-4,7.4003717111164268E-4,9.0513668790355201E-5,1.7130247197615233E-4,9.2136037074943132E-5,2.0994856018775345E-4,1.7274871679465794E-4,6.7394326873794496E-5,2.1836158595598529E-4,2.6686847724734957E-4,7.3200811844238039E-4,1.2748091194955295E-4,8.1486752219335403E-5,1.3149248607338337E-4,7.2110907522874039E-4,9.204260069602234E-5,1.5499365330344422E-4,1.8124280255357644E-4,7.3734858641784134E-5,1.078829502812201E-4,2.5730396920449765E-4]
[null,"21","輸送機械",4.5567841147387995E-3,4.7522628323067992E-3,6.3349527610785342E-2,1.1816589779221525E-2,5.5042596687116981E-3,4.2099542564455481E-3,4.732604108190451E-3,4.9292412596162486E-3,2.7540296187912377E-3,4.5464966757383435E-3,5.8234721109037546E-3,3.3763623721754276E-3,3.3101600930771839E-3,4.1290405376278585E-3,4.6243232235892379E-3,5.0504320389144512E-3,4.0182135291717842E-3,4.3932823822423325E-3,4.232433702485436E-3,3.8465814373006653E-3,0.74048440215652978,7.5450287675120952E-3,6.982931971648584E-3,4.8706027652232059E-3,8.5173720324792195E-3,6.2001495327714913E-3,6.1525639367503672E-3,6.8192259531501005E-3,2.2764794566692862E-3,3.6750532769392566E-2,1.0150208198936297E-2,1.5479862626625426E-2,4.8519845506495773E-3,4.0486640229727968E-3,5.9405102517838771E-3,4.7681813727087581E-2,6.6168212395747751E-3,5.5009388478093058E-3,4.8923216066930932E-3,4.5882097912786305E-3,5.7517136758866039E-3,9.8506760169443947E-3,4.4747519731003146E-3,3.427874401435852E-3,7.0058915591809698E-2,8.6552413442384426E-3,6.4146601097094993E-3,3.644957117072788E-3,4.2232057076201316E-3,4.6088243591627222E-3,1.1183516085902477E-3,4.1492224556891428E-3,5.1632352350935787E-3,3.135312726885978E-3,3.0723915539260733E-3,3.6101816084147462E-3,3.8473955952362925E-3,4.3455367596928638E-3,3.7159903930427439E-3,4.103616326485069E-3,3.9603833242905862E-3,3.8340298865572053E-3,1.6350161724330319,5.9730184266388259E-3,6.4040863161707456E-3,4.6342980332911262E-3,7.8397389777455483E-3,5.2103351849950349E-3,5.6386551650835044E-3,6.5596644419858617E-3,1.8065225133078048E-3,2.9470453631600346E-2,9.083660009685279E-3,1.3074857608814484E-2,4.5223246523011492E-3,3.6148365341378795E-3,5.575259284431866E-3,4.0774045013115517E-2,6.1408134709519746E-3,5.1309649230898719E-3,3.9609650355998203E-3,3.7637005015788696E-3,5.2134314059967589E-3,8.4620808498980342E-3]
[null,"22","その他の製造工業製品",3.8622983030514586E-3,1.3011498772610068E-2,7.7366273587831493E-3,6.4373662252147313E-3,8.770650743706844E-3,1.5672140936579079E-2,1.251215140676934E-2,6.7025454819391924E-3,1.2118367189697226E-2,5.0235448282972394E-3,1.1020687826757568E-2,1.285176301532398E-2,3.075929858890232E-2,7.9454001121442731E-3,5.9492941773558244E-3,6.094671998073003E-3,8.6704998915910509E-3,8.4012176728750238E-3,7.2612085833286205E-3,8.0792124549943171E-3,7.1716626535193962E-3,3.1119954985160656E-2,6.4847987894222211E-3,8.2475483067253833E-3,6.7180344774115186E-3,5.7649416408156002E-3,6.382568010345346E-3,1.2860097351313769E-2,1.6576758269388904E-3,5.1965117849129983E-3,2.1529010133519908E-2,9.2349109085373329E-3,1.2008083542962214E-2,5.5605169852138755E-3,3.0813168478332296E-2,1.0610881168301186E-2,5.8496639221351813E-3,6.6917465997038093E-3,1.2821286779915481E-2,9.9721393043241315E-3,0.10405084702260979,6.5877664492947421E-3,4.972047524419999E-3,7.0748121924487008E-3,8.6011028597440618E-3,6.8764446344484814E-3,1.0979825149592171E-2,1.6141936684568543E-2,1.757057734305336E-2,6.9839642851396962E-3,1.5071990123985608E-3,5.4571797580226433E-3,1.1240142576932415E-2,1.4444186338212147E-2,3.4367835167833642E-2,8.9760882891695235E-3,6.4644670721126221E-3,7.2292767877648783E-3,1.0180065195930701E-2,9.3438950889129062E-3,8.9125954641622075E-3,1.089017188005267E-2,6.9871777049643124E-3,1.0430379248443957,7.7108015153144081E-3,9.5583814799811862E-3,8.0420953829122947E-3,6.2630008319783104E-3,7.8472776023781141E-3,1.620003436120513E-2,1.8976874012078459E-3,5.3676637729290272E-3,2.4370276995910115E-2,9.771649211922525E-3,1.6065128035759987E-2,6.2910730687678329E-3,3.9790274794567954E-2,1.1944054223597032E-2,6.993820798973858E-3,7.2731609730703429E-3,1.2680067115426375E-2,1.0884258996751538E-2,0.11750575352519971,7.276524295026455E-3]
[null,"23","建設",1.3049616495105834E-3,9.9681686184037552E-4,1.0588662895874969E-3,9.4679049706406578E-4,1.3174171230478807E-3,1.6039610726801003E-3,2.1719247747134366E-3,2.2959081719348671E-3,4.7514842139579591E-4,2.1807902005321583E-3,1.2765034362321223E-3,3.5539584308793607E-3,2.1784198515810973E-3,2.3177892421638066E-3,1.9620367238230656E-3,1.8485572079512626E-3,1.6887882521317479E-3,1.6993430332832881E-3,1.7695129849892449E-3,1.4153669733928352E-3,2.8263986550034234E-3,1.5474029116797859E-3,1.4704664820839948E-3,6.7221130464022269E-4,9.8191531727985048E-4,7.4853946819608238E-4,4.4460936544284081E-4,3.8407036307971378E-4,1.518769859370867E-4,6.6191427698007526E-4,7.2133011370531118E-4,4.8419401981556045E-4,4.7286454091823032E-4,9.885276988556963E-4,6.8651035249666975E-4,7.0406592516106844E-4,9.2350367354248209E-4,1.2918742053697422E-3,6.1217567940460046E-4,6.1269383616632095E-4,3.6202778400884271E-3,6.3674827438965761E-4,5.2265236750255175E-3,2.6921950344893229E-3,2.4555396108430069E-3,6.4600445435119514E-3,3.2202180030186968E-3,4.7698955025568387E-3,7.5707205797600494E-3,6.3257822988984523E-3,9.355996855361675E-4,6.4625054507882777E-3,8.4295902402875041E-3,1.020687444366067E-2,6.0622192836828556E-3,7.8019490344578115E-3,4.9330839038084261E-3,4.5992774554782893E-3,4.0373970017257817E-3,6.3461876180275507E-3,4.7926574907478144E-3,4.4380021290979926E-3,4.0208551254540034E-3,4.4696894891040392E-3,1.0035924028506751,1.70775627361507E-2,3.4701146399241156E-2,5.650065768037749E-3,4.8401654804115764E-3,4.0383728489385281E-3,9.816482823208985E-3,8.9495953973276806E-3,5.8106731566404668E-3,9.7066200102099692E-3,6.9795449086325814E-3,4.3037072663970255E-3,3.6455938629732535E-3,2.8249757955969008E-3,5.4560303304679227E-3,4.3302067728395481E-3,6.2004015439293333E-3,4.8024508614888358E-3,5.1902059596227179E-3,4.5405092706623474E-3]
[null,"24","電力・ガス・熱供給",1.2481661485497281E-2,1.1775305202659292E-2,1.0802402111414434E-2,1.5113771905497711E-2,1.2268893864663901E-2,2.0011685403917841E-2,2.4114345422567622E-2,2.7548769305644542E-2,6.3015497827640463E-3,2.5671172482550766E-2,2.7885895045812042E-2,4.592534671067118E-2,2.839739002261437E-2,2.7779836907827839E-2,1.9853142665275967E-2,1.8148004449513585E-2,1.6861827319526703E-2,2.0418801913580663E-2,1.76906001224988E-2,1.3219876878428705E-2,3.0613788616533192E-2,1.7792992069517979E-2,1.372406323966853E-2,2.2253860122946278E-2,1.6079383746097201E-2,2.1730925751933795E-2,7.4913325804600436E-3,3.8129833007138196E-3,2.0946966225014029E-3,7.9649727813178219E-3,6.6571722404405592E-3,6.7744219607318848E-3,8.9378383425942586E-3,1.0779147899357579E-2,6.3885489296702002E-3,6.8272854782681601E-3,1.8938993742198696E-2,1.8576446373562479E-2,1.2656533721806522E-2,1.1744607034603283E-2,3.320961368947143E-2,6.6899196539177974E-3,2.5067848134871121E-2,1.4487318086729459E-2,1.8137863386187683E-2,5.1144605796931482E-2,3.0227663729541242E-2,4.729968118687327E-2,7.342306888119346E-2,5.1242742436084933E-2,1.1086042125313373E-2,5.7872473017513353E-2,7.2689958951804245E-2,9.896092873041272E-2,5.9260228720469807E-2,5.6593224579424721E-2,3.8634565297110221E-2,3.2958534433137683E-2,2.9994374139850587E-2,5.0616445409995152E-2,3.191588503357471E-2,2.6098594315966533E-2,4.2775055346412474E-2,3.7137643718177633E-2,2.3172062198868089E-2,1.1003666653834503,5.978432127663301E-2,8.6791760152399589E-2,3.0060954302936836E-2,1.0796532958126352E-2,6.2305724415728228E-3,2.2372389727285232E-2,1.4777291948808694E-2,2.0171364399041481E-2,2.6879709602111109E-2,2.4379745110461405E-2,1.3431303980911019E-2,1.3115251781790493E-2,7.6672244414219035E-2,5.4951133892514478E-2,4.2476835120433702E-2,3.9349346333766459E-2,4.2307104888339213E-2,1.7587204447922288E-2]
[null,"25","水道",8.6458899814103782E-4,6.1323388597545037E-4,7.6434546008531255E-4,6.9501503501427967E-4,9.4647843022233123E-4,1.0540756743538135E-3,1.1879899711944399E-3,1.628953235999905E-3,4.3108871459811402E-4,1.2550160296329698E-3,5.9719617667288534E-4,1.1473236632583855E-3,8.2095740018933608E-4,8.1390628701751824E-4,7.7928528411717987E-4,7.3264105805596631E-4,7.8804958983070476E-4,8.2032126890952252E-4,7.7649562772667715E-4,6.8931449711763873E-4,1.2605293689597244E-3,8.925436302168533E-4,6.72543286990312E-4,3.3380310496919238E-4,5.7677294286847597E-3,9.5039144541168873E-4,3.6760904236745202E-4,3.0632437991476497E-4,1.1465093284270913E-4,6.4081680511409052E-4,6.0734779075532379E-4,5.486583775146898E-4,8.9851126978568853E-4,9.806753161614311E-4,5.4130583943636163E-4,4.2478744844905988E-4,1.3083850287686663E-3,1.6036827975106707E-3,6.9717649915894268E-4,9.8206271008527196E-4,2.0021290558839429E-3,5.436171689932849E-4,2.2418497457256025E-3,9.4548946658930472E-4,1.2799205938181168E-3,4.3562728544358931E-3,3.6003353104683508E-3,3.0302340160717448E-3,4.014876010582741E-3,4.4215312132273692E-3,8.1898072489955788E-4,2.6511618019524979E-3,2.520285624308245E-3,2.7962483515475145E-3,1.9067778048202965E-3,2.0443638583437923E-3,1.8511554919068342E-3,1.7213952064270323E-3,1.9235263417387519E-3,3.2072306107258698E-3,1.9425811494517252E-3,1.6270402969827524E-3,1.822483518473219E-3,2.3983818534465788E-3,2.0931541683251965E-3,1.6701976506882283E-3,1.0999136380035393,1.0767301733469075E-2,3.2388987783752215E-3,2.1553907600168447E-3,7.2760924254610911E-4,5.1653249808977621E-3,3.1725309887909777E-3,5.2667922295367136E-3,1.0391937667576222E-2,6.4224137602083547E-3,3.4629023518807497E-3,1.6197779585520537E-3,1.4799662003577858E-2,1.1951563067897309E-2,5.9281971552459815E-3,1.1001220404095286E-2,2.8882384786233476E-3,3.9323725051690272E-3]
[null,"26","廃棄物処理",7.1220967596520362E-4,5.0683721673216119E-4,5.9347152364213674E-4,5.8087763688059626E-4,6.7783375067597415E-4,8.2253244771693791E-4,9.1652405679311974E-4,1.4628370415904811E-3,2.8686802664795003E-4,1.1543736940983317E-3,7.068072164832178E-4,9.3670120416972753E-4,7.5576476272324125E-4,6.7534215763340167E-4,6.4074385121671879E-4,5.7304471295928729E-4,6.5032266694820169E-4,6.8480825979048575E-4,6.151992349269301E-4,5.3209887802276349E-4,1.2101510171130599E-3,7.3192736711457501E-4,5.671580116867746E-4,4.6429726650428285E-4,4.6205884948024927E-4,4.5591683920169902E-4,2.5966472143531378E-4,2.4069427264766173E-4,1.0014981519019836E-4,3.8580837517964274E-4,4.699880199835985E-4,3.7788760177583531E-4,2.9400782708304137E-4,6.2956840118498112E-4,3.5673422577468675E-4,3.5388218142349192E-4,7.7476200265477605E-4,8.6399877897181049E-4,4.1532972348693636E-4,4.1675534652041944E-4,1.5010712544041257E-3,4.584765023328237E-4,2.0085470459825466E-3,1.0491430727623335E-3,1.2382348670084179E-3,4.7341093286405282E-3,2.3687734366457727E-3,1.7293067907744367E-3,2.7970257878537656E-3,4.3038443773621505E-3,4.1321696157671067E-4,1.8941333551206097E-3,4.3698518671249484E-3,2.0491250757161913E-3,1.6471976293120914E-3,1.5314196775386289E-3,1.5770206920930638E-3,1.180929425852011E-3,1.734548796480708E-3,2.2015906196738437E-3,1.4853115912110383E-3,1.3857789660881594E-3,1.8723156327771369E-3,2.0197727350369852E-3,3.4439790643941873E-3,1.1954598124989781E-2,3.9195046238474111E-3,1.0021380578708572,2.5597567858676343E-3,4.2319305149891243E-3,5.3814692117311346E-4,6.5410932182774764E-3,5.1570533047125295E-3,2.817520901704754E-2,5.8061311539437102E-3,5.0218570737174759E-3,1.2957265562719296E-3,1.3245826683553606E-3,4.9512032569111887E-2,1.7679915075825881E-2,1.2706077062081812E-2,1.45843487887155E-2,2.2879736730226021E-3,2.2541178633950235E-2]
[null,"27","商業",4.970866036434321E-2,3.8743434662650622E-2,4.9944102776657992E-2,1.9381790274822827E-2,5.0466654119940085E-2,5.1598815696341845E-2,6.2504138018116481E-2,4.0020311698936765E-2,1.4192353006265281E-2,4.9658852627668421E-2,2.4848304222144738E-2,3.3133392956277548E-2,3.8366258553203941E-2,3.6610083922408651E-2,3.7497211182654713E-2,3.6243174269375789E-2,3.9886883461183818E-2,3.5321834712147074E-2,3.8733789023731584E-2,3.1402344327271292E-2,6.1448500488796132E-2,4.6152952852470973E-2,3.7315056077057061E-2,1.3156565333948387E-2,1.833179139520371E-2,1.3774260596655865E-2,1.0164820058956919E-2,8.339216913689022E-3,2.6673705568722155E-3,2.0644258312485647E-2,1.5391526196331825E-2,1.1613360701694981E-2,1.2829509322061793E-2,3.1686269653271704E-2,2.4911556178572138E-2,1.9411564847588464E-2,3.3643114483430332E-2,7.5617379685464378E-2,1.659830806271478E-2,2.0514260251720717E-2,0.14448501396926147,1.3524120284020259E-2,0.10163722970712732,3.7568337246934098E-2,8.212056736080646E-2,3.6370170264260045E-2,0.11278229401212009,9.3415704325649121E-2,0.11565406867229903,6.4021133559910945E-2,1.3325427291868516E-2,8.7007877624049351E-2,5.3351069091261659E-2,5.3456183050877674E-2,6.0837919216654789E-2,6.7428767376707499E-2,6.8024019731358978E-2,6.4172302373374401E-2,7.2299075629212561E-2,6.5575835801215329E-2,7.7322643549149764E-2,6.8138370081363087E-2,8.5014298319427001E-2,9.615561632998991E-2,7.7902330115387691E-2,2.7513678208598569E-2,3.6471988359446275E-2,2.6092415884401959E-2,1.020535171695655,1.6023371941803154E-2,4.6734755054086315E-3,4.0874952465091902E-2,2.7836663949883048E-2,1.9896009284916388E-2,2.9470643771948458E-2,6.4586327583073588E-2,5.3190167968447145E-2,3.1814636082217573E-2,7.4420732656182889E-2,0.155158408765386,3.0849774571226618E-2,4.0782032512950775E-2,0.28540894212007345,2.5351468642556243E-2]
[null,"28","金融・保険",5.4468358391657288E-3,5.3535634696266843E-3,6.1452402368068976E-3,8.8622628552640827E-3,5.8746810510125237E-3,9.0566862590245652E-3,8.512690767818196E-3,7.2285795592354693E-3,3.4861927728102654E-3,6.6342256158692485E-3,5.4701949058124071E-3,7.2077264546366298E-3,7.7313944707553227E-3,6.8848717736473075E-3,6.381893472153689E-3,6.2019022826977554E-3,7.1444884307801009E-3,5.5333290622609655E-3,5.7761546619982621E-3,5.5075833122532076E-3,1.0075671941140184E-2,7.1816480422204924E-3,6.2518376901045149E-3,4.703767497709184E-3,6.1240982405964088E-3,6.1939531770772889E-3,4.1258926321310974E-3,6.897089018356917E-3,9.8457041337168122E-3,6.3522975410522011E-3,4.1075928117050107E-3,5.0148877517803914E-3,3.1470019379972887E-3,4.4628256811781088E-3,6.0215273872502445E-3,4.1425890435272525E-3,6.3064670108874269E-3,6.5572694973892853E-3,3.7179415186215019E-3,3.1473292383731662E-3,1.3272295170803146E-2,4.1167695866719586E-3,1.4502634215600557E-2,1.3895458593767326E-2,1.7059469474961252E-2,5.1493625702152691E-2,1.5561111692711701E-2,2.6865969927392985E-2,2.121380596884432E-2,1.5491285438351087E-2,6.0276358981860732E-3,1.283944290314915E-2,1.9374192998875692E-2,1.4849094802178015E-2,1.6965817220034044E-2,2.0526810625799231E-2,1.5245992920842819E-2,1.5090187944580532E-2,1.9228195888218426E-2,1.4565757566272545E-2,1.4642461024555773E-2,1.4298225331874054E-2,1.4943808266414435E-2,2.476319702144731E-2,2.2042576061373501E-2,2.3584535919046006E-2,3.3636216118655658E-2,3.3688428526996078E-2,2.4495499425295133E-2,1.0526490670173632,8.0272050554479044E-2,3.2455482318193583E-2,1.4732095280303129E-2,2.6448519012767135E-2,1.2741873404424325E-2,1.5805360848916608E-2,3.3841800608679001E-2,1.4864751300857513E-2,3.1550458937808161E-2,1.679420789700178E-2,1.4929447643803165E-2,1.1243864852480554E-2,1.8526001413451582E-2,1.8106735825318496E-2]
[null,"29","不動産",3.3510384635854463E-3,2.7352402419961327E-3,3.2570729004153809E-3,2.4980814564401687E-3,3.5466915241798014E-3,3.8708295527026624E-3,4.3433774249670119E-3,3.9451673114400251E-3,1.3558463297757681E-3,4.1323940636001401E-3,2.3622378481401667E-3,3.4252884737696171E-3,3.150946358722049E-3,3.0832338489052181E-3,3.4098397250560664E-3,3.297868859028082E-3,3.203792175266148E-3,2.931600736537554E-3,3.1202227979112728E-3,2.6653522797367335E-3,5.2605847264428464E-3,3.5625543389194332E-3,3.0162355416261479E-3,1.494237536164359E-3,2.07430540706396E-3,1.572494925029491E-3,1.555405473953473E-3,1.4892951730011356E-3,8.908821609429963E-4,2.2471037786754573E-3,2.874391032198879E-3,1.4241097855220402E-3,1.2874094980600314E-3,2.4625112228200217E-3,2.3932949502599252E-3,2.1791590773587196E-3,2.6969369103148583E-3,4.4900059883387737E-3,1.6707358524883035E-3,1.8491491098256367E-3,8.5325544034405478E-3,2.2439030079783877E-3,9.5281478733243059E-3,5.1575035122701056E-3,6.8009253288957572E-3,1.7841357267450699E-2,1.0379802641868937E-2,1.0453705715465722E-2,1.0838807311676605E-2,9.0021286551079851E-3,1.9924027353373677E-3,1.0379697763444008E-2,9.7434471883295314E-3,7.4129419873304207E-3,6.4125129130954573E-3,1.0419528349184555E-2,9.0267351907814958E-3,8.6327230019062895E-3,8.0797098741221297E-3,7.5417873184760202E-3,9.1052140600044826E-3,8.6233383317241199E-3,7.5905683572549659E-3,1.1327135129602001E-2,1.239968022467158E-2,1.0712278416216563E-2,8.9695911248064975E-3,7.7971393460152033E-3,3.4068066973859834E-2,2.1931771060017917E-2,1.0330831923231818,2.7185194381927902E-2,3.3732373094193392E-2,6.32052862707763E-3,1.285062606437676E-2,2.2184205780963119E-2,2.6278706573413767E-2,1.4408517136328236E-2,1.9876851104343212E-2,1.9600591249033655E-2,1.2798864874372578E-2,3.0070115948917231E-2,1.4696425295967369E-2,4.0521408285791406E-2]
[null,"30","運輸・郵便",2.4306949948922414E-2,2.3737489394871795E-2,2.2782600388754123E-2,4.2215585518831811E-2,2.4950194653829198E-2,2.0107291713081996E-2,2.8460427524767299E-2,2.3743295870054963E-2,1.5712102021256242E-2,2.2261758664232318E-2,2.0821599891357661E-2,2.7123385759101375E-2,2.646657359109136E-2,2.1616926774696038E-2,2.0050224551537127E-2,1.8640575703638914E-2,1.9154756909509248E-2,1.736498530597463E-2,1.8134126694310672E-2,1.4883190947399661E-2,3.3310086110686421E-2,3.201683589329915E-2,2.0025397337940013E-2,1.3577920110486608E-2,1.1378092897476105E-2,1.4946346164162615E-2,1.1621464061422074E-2,9.4395810628974466E-3,2.4655971192162761E-3,2.3293098780656048E-2,1.3001766654689849E-2,1.0892662334193485E-2,9.278697287381352E-3,1.2202814547093953E-2,1.4337711091422711E-2,1.0610437318047604E-2,2.4276471458146945E-2,2.4413514779344919E-2,1.2100305474116889E-2,1.1997010400587552E-2,5.2347926496440683E-2,2.0010851281754879E-2,8.9776597646975612E-2,7.653020374518793E-2,6.4878139229597495E-2,0.22822835793742829,7.0554610245857727E-2,4.8004201580932077E-2,7.6024361462535578E-2,5.2078137782137934E-2,2.8639579873951302E-2,4.5788126573239447E-2,8.3743792708183024E-2,5.764360718948594E-2,5.9451447855202476E-2,5.6509622596209487E-2,4.64915918783445E-2,4.2521060804804688E-2,4.7564532512055765E-2,4.3092923502490124E-2,4.6066580769672884E-2,4.4133777422912426E-2,4.8531633745511893E-2,0.11886174471914712,7.0801175527209492E-2,5.6823888054214448E-2,4.2186575831279424E-2,7.8864490178812544E-2,6.6567914569321721E-2,4.9752385458842023E-2,8.9315837342829017E-3,1.1402581355007246,4.7604702966508705E-2,4.7789241727921261E-2,3.9732483400002752E-2,3.2134819586797106E-2,5.7597705832352422E-2,3.0802531218673428E-2,0.13555395531518422,6.0001046714115762E-2,5.0199648293307038E-2,5.0254223046387353E-2,0.11166222851106831,0.12071854604662209]
[null,"31","情報通信",9.7826755579962909E-3,7.4462831011898288E-3,9.7048307561892044E-3,9.6280777443621748E-3,1.0192039328765758E-2,1.1972891319345457E-2,1.2780509049617306E-2,1.6301390830328163E-2,3.6242331713985639E-3,1.4437493975311156E-2,8.6824777568596054E-3,9.4620677967993203E-3,9.323304041888256E-3,9.7148999917441251E-3,1.1582798252138964E-2,1.2031117827221339E-2,1.1492939067118541E-2,1.1404852926909154E-2,1.2183627102606122E-2,1.3339068133779755E-2,1.6397096514133146E-2,1.1457985311509069E-2,1.1179697559413658E-2,7.132485715093494E-3,1.7200618150011577E-2,8.376549052807096E-3,1.1945514049966147E-2,1.6299078583351494E-2,4.0355581626432217E-3,1.0523068187266503E-2,4.8389329731918833E-2,1.2434172358017134E-2,9.0524833138829874E-3,1.0412861369435844E-2,1.9613270462715101E-2,2.1960810770865587E-2,1.2147966675730064E-2,1.4439657776379299E-2,1.2649066711232639E-2,8.8082036185320924E-3,2.0507769680438423E-2,2.2331111965088718E-2,2.0711879144405594E-2,1.1246974966673519E-2,1.9402400303662786E-2,2.9816025965842059E-2,2.4241281280309581E-2,2.3518892023337901E-2,2.6647614206178564E-2,3.4550389723649377E-2,4.0604546015400979E-3,2.7204706271988576E-2,2.4519798145377098E-2,1.7529684084850346E-2,1.7023852305818245E-2,2.2378130680005114E-2,2.4696596452770912E-2,2.8483014875984671E-2,2.5752247398673416E-2,2.8256604558469553E-2,3.2345676716090468E-2,3.9052705529783606E-2,2.2347595962261588E-2,2.6906881209690113E-2,3.2706631786449676E-2,2.752911123795582E-2,7.5350229929650653E-2,2.8792915704158015E-2,5.8446948410680488E-2,8.5974677748021755E-2,1.4293398298737631E-2,3.4018698458991907E-2,1.2159727709193833,5.0304533972581958E-2,4.7688667722952272E-2,3.0021080370715447E-2,9.7426460095793518E-2,0.10765699744802183,4.7792361005116905E-2,3.9539871340979311E-2,5.0216440960468588E-2,3.2049944307826907E-2,2.944754837070971E-2,0.1101265030120354]
[null,"32","公務",4.1651335153620913E-4,3.6882666946421626E-4,4.9086929816749461E-4,2.4187487991685904E-4,5.4856439043650352E-4,3.8773988826036382E-4,5.293915502938536E-4,4.2817844118844004E-4,1.7201970951754236E-4,4.423219113170043E-4,3.0881311457434492E-4,7.6316646302578353E-4,7.0148298827874727E-4,5.5398582990968731E-4,6.9952970003041141E-4,6.2431220752767714E-4,4.4322531936218611E-4,3.8381941264754269E-4,4.5034153649636127E-4,3.0526975138616444E-4,8.9733664363551412E-4,3.8177022454640445E-4,4.0096459088655341E-4,1.5713081639452621E-4,2.1795316846962359E-4,1.4749884802390319E-4,1.1312977256535863E-4,1.0987785405805719E-4,4.407093998198233E-5,1.9903686755853237E-4,1.9164769397871746E-4,1.3307098464377748E-4,1.2061251022498214E-4,2.2582325256031036E-4,1.9326089306969627E-4,2.193386456260264E-4,3.0232335114078286E-4,6.1936676380527239E-4,1.4509470222549896E-4,1.4954311071855634E-4,9.3070658083670935E-4,1.7324815426515377E-4,1.7059536336771965E-3,1.3095225165601343E-3,2.7442221241770854E-3,3.8471295518479514E-3,2.5342141606176116E-3,1.240425316941376E-3,1.6643628288713777E-3,1.0057566669605504E-3,2.8171811652388432E-4,1.2337657354195384E-3,2.6513624497299798E-3,2.1585583108808537E-3,2.0875898258335824E-3,1.8878753382639403E-3,2.7774192622116341E-3,2.3346873279432704E-3,1.3324057431645404E-3,8.4790207920127465E-4,1.3565343256608351E-3,9.5145115188230987E-4,1.4327939262309011E-3,1.2994746943254057E-3,4.2635519053167764E-3,1.2492515509921649E-3,3.1102396299715327E-3,5.661928285631888E-3,2.1087768300588256E-3,1.6045522743758196E-3,6.5270040910401681E-4,2.7269876331393432E-3,1.2762082264722915E-3,1.0007719203824423,2.7735328504623321E-3,1.4524917491162137E-3,1.6610453978845225E-3,1.2231293857701611E-3,1.56076455963316E-3,1.5647018627699706E-3,7.4982080742538588E-4,2.1893226522088087E-3,1.5525646856449744E-3,0.24753957983560013]
[null,"33","教育・研究",1.5463450395995952E-4,1.2642839903174359E-4,1.5453572048619175E-4,1.5299903352336756E-4,1.6347802555235211E-4,1.6073201419905346E-4,2.0045401138010885E-4,2.6821145106573654E-4,5.9346193930602714E-5,2.2769998105350348E-4,1.3886604653245895E-4,1.6406279008240215E-4,1.2937240452086184E-4,1.5243022086320368E-4,2.6997620308344845E-4,2.4622583509030125E-4,2.348566310178811E-4,3.0430000536897753E-4,2.7892818791623044E-4,3.0416270033787197E-4,4.2311605640885281E-4,1.6866918722918878E-4,1.6678139406451354E-4,8.9573215663145929E-5,1.4820162947190178E-4,9.6858459071862379E-5,9.5364265649880488E-5,1.1093915041699432E-4,3.2060325717545493E-5,1.3352430659328271E-4,3.270173659814174E-4,1.0727423107544143E-4,7.9388385528878102E-5,1.3507034632503865E-4,1.3864383737258924E-4,1.8455616370579987E-4,1.3995669939922224E-4,2.0243298306446065E-4,1.0591029662241567E-4,9.6895419707570009E-5,3.3956162109175246E-4,1.5913066892574892E-4,3.7130510479532308E-4,3.4557441779285882E-4,2.675269962453227E-4,7.8178416342138395E-4,6.0915088926157392E-4,3.080539836781979E-4,5.3510813156433046E-4,7.126268031092686E-4,8.2036582427621701E-5,4.8788548302123431E-4,7.1712537228558603E-4,3.5904057769366816E-4,2.526571553018792E-4,6.7779145669150261E-4,9.923715943351574E-4,7.6093245352493405E-4,7.4495723769149634E-4,1.6095751914289786E-3,1.5673463698107485E-3,2.025375596803288E-3,6.4446631215276295E-4,4.4278225420024139E-4,5.5806576782833981E-4,8.3358683261118322E-4,6.4326936936328195E-4,4.7195195457004559E-4,6.0751828818804703E-4,7.1811207488546743E-4,1.1797100439850353E-4,1.5769613031442122E-3,4.9698915749265583E-3,4.8251306386649316E-4,1.0003306581997831,3.7942174461550485E-4,5.5839962622207138E-4,1.1070323908758837E-3,7.2339823127316044E-4,8.2831900996839937E-4,5.6307921104850026E-4,9.4672966773697725E-4,5.2033844809858685E-4,8.521417432645204E-4]
[null,"34","医療・福祉",8.531634618006879E-5,4.6938118962363212E-5,5.0948211736236787E-5,6.5569066494106305E-5,9.5687155085049682E-5,4.4653221247126428E-5,5.4113219523094257E-5,5.460324179963576E-5,2.4769504096029933E-5,6.2283689438840029E-5,3.8004420602703163E-5,5.1496063614661156E-5,4.8809919471249593E-5,4.2155887441309958E-5,4.2663039690585855E-5,4.024837753093298E-5,3.9357190026436287E-5,3.5873322660603782E-5,3.8037198024839902E-5,3.288537416557482E-5,6.5783222349192826E-5,5.6932314322992062E-5,3.9946189179342601E-5,2.5390552317812585E-5,3.5668558093820349E-5,2.9251527691460645E-5,2.5576924562763443E-5,2.7271670567668698E-5,8.34467307212765E-6,5.5548730899132359E-5,5.9321833111544843E-5,2.5418231686601747E-5,2.2055815214963603E-5,2.1817646485817869E-4,3.5749678732066921E-5,3.2166062094466365E-5,5.2280066627243498E-5,7.4482920771080878E-5,2.9361460191777354E-5,2.6663440011135209E-5,9.6607766431369493E-5,7.0690023650177129E-5,6.7969810262124848E-4,1.1778491492840727E-4,1.2936557823880151E-4,3.3689031034876845E-4,2.1827432817416595E-4,1.0023862046039255E-4,1.3880641917697479E-4,1.2526663697171771E-4,4.0857020944720064E-5,1.0238706822605372E-4,1.5015224735422572E-4,1.1214463564316297E-4,1.0908610918067331E-4,1.0864704472770124E-4,1.0612256544383809E-4,9.8601738920663304E-5,9.3997478620471775E-5,8.5771776749523794E-5,9.6060596194229739E-5,9.2759055926136292E-5,9.4746708059851748E-5,1.9284086165305054E-4,1.588767662766451E-4,1.3431265146095781E-4,4.699690062134128E-4,1.8124318294542483E-4,1.698843215784044E-4,3.0300177062733642E-4,4.7670142368470429E-5,1.3809636778470554E-3,7.725390379044331E-4,1.3211346050022666E-4,1.3887591489846805E-4,1.0161077801047902,1.6796241926485321E-4,1.6286059077137111E-4,2.3488344995780061E-4,2.5562546666602819E-4,2.059961542747887E-4,1.6449183167674224E-4,1.8197687923040683E-4,2.703544399118052E-3]
[null,"35","他に分類されない会員制団体",4.4292224080893984E-4,3.1539087075459839E-4,6.1486994015317838E-4,2.8735566177278321E-4,5.2146801165628746E-4,5.520821043603298E-4,6.1190760135798584E-4,9.2773242160980253E-4,1.8814566023401836E-4,7.4945008115109943E-4,3.3458316567003233E-4,6.8833666570700764E-4,4.2972612276648525E-4,4.844956289205293E-4,7.3546796892773672E-4,6.7632662864838193E-4,5.1578252461144413E-4,4.3564159200551943E-4,4.6320133872505603E-4,3.8306991555736488E-4,7.8176881691876989E-4,4.6208767352376131E-4,3.996636371189878E-4,1.9401891120917673E-4,3.3433955317138718E-4,2.1271652774016334E-4,1.5037178585115268E-4,1.627281821161198E-4,7.476408055956201E-5,2.3308126928715684E-4,2.9506080409327611E-4,1.7864257837078753E-4,1.5787188866824345E-4,4.0747990746678724E-4,2.4388825641929557E-4,2.8123098138782809E-4,3.1411471212495389E-4,5.4277507419547399E-4,1.9960075272904554E-4,1.9328997905404774E-4,1.0553788340250132E-3,2.1561048885117536E-4,9.4842367778097425E-4,5.487871757140604E-4,8.5700052185817902E-3,3.8563791099826949E-3,1.983894934230593E-3,1.4787396075224793E-3,2.0497535956873906E-3,2.9124176631587454E-3,3.5808211252592902E-4,1.631295265601731E-3,1.7670885965979811E-3,1.8633944435959228E-3,1.0254409544399232E-3,1.7200563133908235E-3,3.1944828599719992E-3,2.767203483248925E-3,2.2776139357931291E-3,1.526252077711301E-3,1.4623160618934504E-3,1.570207613227372E-3,1.1471269689749155E-3,1.7154903181100839E-3,2.0467022892164785E-3,2.1388798206543576E-3,1.0787110109245055E-2,2.7306316468026196E-3,1.2220692428378803E-3,3.6516330522871599E-3,7.324431752169932E-4,2.085344967439803E-3,2.382851674478448E-3,6.7671497981866948E-4,2.6519534830652669E-3,1.7520013123633348E-3,1.0007865763540909,2.7379926319046352E-3,2.5940901631426897E-3,2.5850050780039809E-3,8.3261510934913695E-3,2.6932899347183914E-3,1.4432281183199866E-3,5.4889415468767199E-3]
[null,"36","対事業所サービス",2.7031013885364219E-2,2.364880847639985E-2,2.5982101488896157E-2,2.7160995139933117E-2,2.9965879824557742E-2,3.3227140432217625E-2,3.3472925362583346E-2,4.335355060321551E-2,1.1287873951917082E-2,4.0611310385354746E-2,2.6141355917495376E-2,2.6825487308474432E-2,2.6160306460234914E-2,2.5927830295746176E-2,3.356096340941931E-2,3.1079241175089964E-2,3.0656680417601744E-2,3.219625780462828E-2,3.0879169783351843E-2,2.8375037337466744E-2,5.6995477140480387E-2,3.2391567555404246E-2,3.3798074759688899E-2,1.9268482166355964E-2,3.7586128683258259E-2,2.2502735013088609E-2,2.1701027446399734E-2,2.626089490524371E-2,9.8015497066463054E-3,3.3200077786150493E-2,4.4686828561468342E-2,2.5630812988890792E-2,1.9181498595304436E-2,2.5608494383323965E-2,2.7129265412382246E-2,3.606672488109397E-2,2.3926523469047126E-2,3.4376224344409026E-2,2.0271010561389691E-2,1.8304655712851774E-2,5.479365266808333E-2,2.5967118641623217E-2,6.6979543918803661E-2,5.0420284114705873E-2,4.8033746261545468E-2,0.10860024580254407,8.4225225013779714E-2,7.5651475421963016E-2,7.4605178502150482E-2,0.10104959025634878,1.4610951771313678E-2,9.1518511434170571E-2,9.7685987984514347E-2,5.3229016375577004E-2,5.1523012319317316E-2,6.8804586148314584E-2,8.1900927521413966E-2,7.5064814836746513E-2,7.7876204007582744E-2,9.2083752086106224E-2,8.5856139783324278E-2,8.3512509415887712E-2,8.61315935193986E-2,9.0842978736964064E-2,0.14174836835965285,9.9926165159464356E-2,0.20267405714701664,0.1021358659540607,0.12322995008973825,0.16084864265955609,4.7265560602870106E-2,0.16453463121533557,0.23606713965791218,0.12733329902944998,0.10369349814654034,8.3647161451140345E-2,0.12638343270114347,1.1860387579100504,8.3937373692863526E-2,8.8038559503938907E-2,8.3513829231186054E-2,7.291153256858926E-2,7.9414723254886965E-2,0.1164240222960246]
[null,"37","宿泊業",0,0,0,0,0,0,0,0,0,0,0,0,0,0,0,0,0,0,0,0,0,0,0,0,0,0,0,0,0,0,0,0,0,0,0,0,0,0,0,0,0,0,0,0,0,0,0,0,0,0,0,0,0,0,0,0,0,0,0,0,0,0,0,0,0,0,0,0,0,0,0,0,0,0,0,0,0,0,1,0,0,0,0,0]
[null,"38","飲食サービス",5.3312770644143307E-7,3.1803399257213626E-7,3.6228542801523175E-7,5.1978877514143981E-7,4.8669929142367011E-7,3.5553135087899693E-7,4.5405796468822407E-7,5.7135848919184918E-7,1.5758618927798E-7,5.0006215259743607E-7,3.7125364328781118E-7,3.7931550256362909E-7,3.1337056487488682E-7,3.7861416545414825E-7,5.9259569335250959E-7,5.1640834231333138E-7,4.8926972924411586E-7,6.5276796243105544E-7,6.3439230158533072E-7,6.6525746083422079E-7,8.0126452318135082E-7,4.1958486988844786E-7,3.8240683580142017E-7,2.6521315097040538E-7,3.8518517552958781E-7,2.620639575773779E-7,2.5963034260638117E-7,3.0661856223081605E-7,7.926386759489503E-8,6.0649117170966865E-7,1.211692635146646E-6,2.7200410654054865E-7,9.9912178209696811E-5,1.1392337941438966E-4,3.3611978141339196E-7,4.4815802284823471E-7,6.6967635400147854E-4,3.5065618932127911E-4,2.8857826376147024E-7,3.0118434965533203E-7,7.3696376067277014E-7,7.4788735108571215E-7,1.9613321794830312E-6,7.6211972834167855E-7,6.6915169803194627E-7,1.8693786359419323E-6,1.3656428713335202E-6,6.6967686734285063E-7,1.0901836271840266E-6,1.3284288518870135E-6,2.0763460217666744E-7,9.4409700940342617E-7,1.3865940374107825E-6,7.7143450625957902E-7,6.0481013117214444E-7,1.2420053957657018E-6,1.7087410054362089E-6,1.3460327150589447E-6,1.31257165113197E-6,2.5927506699060598E-6,2.550615652261586E-6,3.2309407925055063E-6,1.1637373551966978E-6,1.0633168548020498E-6,1.1661391865986482E-6,1.5281759091097306E-6,1.9358766044026314E-6,1.0826721190147759E-6,1.2625991592981668E-6,1.7033422651842699E-6,2.7550345286395468E-7,5.2173169324179456E-6,9.0509702029555094E-6,9.9703840009804036E-7,1.5007060430660814E-3,2.0980669111162181E-3,1.1851442466102818E-6,1.9975566013933229E-6,1.4432035493771964E-2,1.0069413009665256,1.2704295867898793E-6,1.7601963807705832E-6,1.1578327933737357E-6,6.8605708066795459E-6]
[null,"39","娯楽サービス",1.0669637935355929E-4,8.5229694791826062E-5,1.0882486507439977E-4,1.1874962580124894E-4,1.141790731656594E-4,1.3379667560898094E-4,1.4150522166788199E-4,1.7702092193198039E-4,4.4131026988489732E-5,1.5530808334051702E-4,1.045913355139767E-4,1.0447444143286219E-4,1.0898674436124266E-4,1.107958855117438E-4,1.3012309525587966E-4,1.3459487883018563E-4,1.2919106975782779E-4,1.2910561894338162E-4,1.3925876814787684E-4,1.5866462877836755E-4,1.7071735457961803E-4,1.3815128173102931E-4,1.3335386806323507E-4,9.1270770483937446E-5,2.2493496654420842E-4,1.0677683137570867E-4,1.6190386873765356E-4,2.2215690526815996E-4,5.130755043750178E-5,1.3435462285007937E-4,1.7218897033357012E-3,1.658614446064439E-4,1.32864983707994E-4,1.2330652754219881E-4,2.6698887364125847E-4,3.2418576804183017E-4,4.683434589121532E-4,1.9829675929208365E-4,1.8976750653382406E-3,2.0657899085894211E-4,2.4008521812017011E-4,3.6016264165543996E-4,2.0320646291750947E-4,1.1581340068068551E-4,1.9058082886421856E-4,2.9607847832564138E-4,2.4191904303969938E-4,2.3221788188430061E-4,2.6067031256927977E-4,3.3022116863736054E-4,4.0167570909720056E-5,2.6462849519465941E-4,2.4680086994172395E-4,1.7532145873880517E-4,1.7667409229882002E-4,2.1910180424720307E-4,2.4335883258992278E-4,2.7370572588709442E-4,2.5002105922410908E-4,2.741709383122814E-4,3.0887986963906521E-4,3.6600005731508639E-4,2.2227427017521191E-4,5.9670493327643789E-4,3.3133261156349753E-4,2.6971228488226233E-4,7.127489879540966E-4,2.8817703351978003E-4,5.6031251529520406E-4,7.9316245556649916E-4,1.3815332739139542E-4,3.4476614404248973E-4,1.0574408149349845E-2,4.7301054174950902E-4,5.1432388631648019E-4,2.9788181586097346E-4,8.9410467436909621E-4,1.2412969706187998E-3,3.033144454719445E-3,6.0466315031939188E-4,1.0194144714055748,1.3252433086016644E-3,3.2121971903108736E-4,1.438390612479392E-3]
[null,"40","その他の対個人サービス",1.5858440728276559E-4,1.3069036143806905E-4,2.0282202409970538E-4,1.2355855376419039E-4,1.8624021185282877E-4,1.776497598067593E-4,1.9049461986836438E-4,1.9556969095234768E-4,5.8056285943260546E-5,1.9281776335556796E-4,1.1062952083403514E-4,1.5755450305943627E-4,1.5742933813431021E-4,1.4158880464735214E-4,1.6735608186846057E-4,1.6316822069454068E-4,1.5752452427468438E-4,1.567149412101405E-4,1.580296599237127E-4,1.4429579649147094E-4,3.0235806073134451E-4,1.629722432663444E-4,1.4633474075701844E-4,7.2971797608704496E-5,1.3055394192394026E-4,8.2154172637888265E-5,9.3081040681491852E-5,9.2483346763250955E-5,4.027045737828203E-5,1.2693049271987809E-4,2.2214756250753617E-4,9.7355650509054465E-5,8.8877178527566506E-5,3.2992191530425199E-4,1.6761312508331425E-4,1.5689951693160272E-4,3.760161321061901E-4,2.7970760843563041E-4,1.5836538676645032E-4,4.2168455556827381E-4,3.551465397244235E-4,1.4290839553081678E-4,4.6780275040419328E-4,3.1484323165120205E-4,1.3078157629022517E-3,6.26956097160139E-4,5.8972139376556429E-4,4.7201236319067524E-4,4.6722702056518439E-4,4.5337130221466659E-4,8.5211936065368075E-5,4.3193117955175181E-4,3.9680729357131499E-4,3.4528058240793888E-4,3.4835498909009823E-4,3.9166959557948718E-4,4.41289915957307E-4,4.4757584880075995E-4,4.2335478838684352E-4,4.990762220699669E-4,4.7107031391346925E-4,4.7483404605519399E-4,4.7368546808341594E-4,5.0804413108178164E-4,6.7844462963300529E-4,3.5715899261670584E-4,8.3058862799968811E-4,3.684293785537164E-4,1.1995497463587286E-3,6.4441479522968608E-4,6.5708222194227849E-4,1.1442124383810269E-3,2.5289588802510656E-3,8.1078851302766647E-4,1.6885732775609853E-3,1.0667339398597424E-2,3.0801245327214243E-3,1.6954142997079146E-3,1.410074878997041E-2,3.7646289495159089E-3,3.5569747882412081E-3,1.0156698326045588,5.8020362148677508E-4,1.8648493380054819E-3]
[null,"41","事務用品",4.044357031617443E-4,4.220579567592964E-4,4.2349280676855206E-4,2.6584055572781369E-4,4.6349505026492446E-4,5.2661010558958151E-4,5.9110190942730627E-4,4.9963122666362889E-4,1.4336664239990519E-4,4.7079330441555234E-4,2.836548253402511E-4,3.5789887049482953E-4,4.2579953793637229E-4,3.2740985857704103E-4,4.6316044092826E-4,4.6388598218933803E-4,4.2913910705442645E-4,4.2439784793660415E-4,4.1419897307019984E-4,3.7731201129020074E-4,7.8713269568954944E-4,4.2850923841854851E-4,3.5721232711334036E-4,1.5145102240930107E-4,2.4113046176985544E-4,1.7041946042619261E-4,1.4830219989284046E-4,1.6871336626656525E-4,7.8381545957552395E-5,2.3024411514631384E-4,3.0156731999493017E-4,1.7318730451626449E-4,1.4736236063434853E-4,2.7650800791670875E-4,2.7212026860532623E-4,2.6449487589802674E-4,2.9398544363766813E-4,5.1890891160660346E-4,1.8440149744410015E-4,1.7539036477329923E-4,1.1179981677343076E-3,2.090735302956095E-4,1.4804976097541394E-3,2.491590715077591E-3,1.8383183006408915E-3,1.8111930242419559E-3,1.6225442147479216E-3,1.9265684453774246E-3,1.8180475342973021E-3,1.2859377523505475E-3,1.8741652913041137E-4,9.1572779761419526E-4,1.907380176419291E-3,7.8829886663266656E-4,9.9653030819512613E-4,1.0765124492346475E-3,1.5978569866728501E-3,1.7275360043891754E-3,1.5845604162763223E-3,1.6193846142737874E-3,1.6970027324828612E-3,1.6933837634828636E-3,1.2566606188644954E-3,2.0872108255488163E-3,1.7871872389728042E-3,6.1682565471893899E-4,1.9244318814526469E-3,3.8804306497258862E-3,2.6912596027874052E-3,4.449004786277474E-3,7.7893999581842997E-4,2.6964242331152287E-3,2.9340767991639476E-3,3.5330599084959714E-3,4.3425035587942654E-3,3.0017455501361997E-3,5.8979460959416637E-3,2.3186286643580166E-3,3.3449295280025154E-3,1.9428269806266438E-3,3.0563425494268357E-3,3.8600338230044525E-3,1.0017057676022405,1.8171211764904784E-3]
[null,"42","分類不明",1.6879117785585009E-3,1.4946624816204318E-3,1.9892377208408176E-3,9.8019296918888188E-4,2.2230458939682851E-3,1.571307911253667E-3,2.1453483541755305E-3,1.7351843141190559E-3,6.9710632988827486E-4,1.7925004355150314E-3,1.2514587864731592E-3,3.0927163731750531E-3,2.8427453622004214E-3,2.2450161657729655E-3,2.8348297018041201E-3,2.5300123626222242E-3,1.7961614780114669E-3,1.5554202645791356E-3,1.82499980138154E-3,1.2370993801324468E-3,3.6364382667163171E-3,1.5471159720045135E-3,1.6249007462692774E-3,6.3676939716007428E-4,8.8325072624242441E-4,5.9773604371890813E-4,4.5845607329135735E-4,4.4527774051728947E-4,1.7859657658841199E-4,8.0659280640185942E-4,7.7664833265766401E-4,5.3926742452836598E-4,4.8877971354192396E-4,9.1514407992705717E-4,7.831857887482793E-4,8.888653438833495E-4,1.2251591538223307E-3,2.5099710537939295E-3,5.8799329238685234E-4,6.0602037618519365E-4,3.7716692499342903E-3,7.0208457692682474E-4,6.9133419645206447E-3,5.3068130273304457E-3,1.1120903638011357E-2,1.5590413273078783E-2,1.0269850691027245E-2,5.0267980490068254E-3,6.7447960846525757E-3,4.0758081782136368E-3,1.141656864924394E-3,4.9998102320508468E-3,1.0744591719859673E-2,8.7475130970066772E-3,8.4599147730251498E-3,7.6505759254845837E-3,1.1255434356165481E-2,9.4612723110849301E-3,5.3995468318400533E-3,3.4361057125047671E-3,5.4973274154520909E-3,3.8557361968397578E-3,5.8063678761135088E-3,5.2660944346699509E-3,1.7277956283843415E-2,5.0625661807118319E-3,1.2604182041717808E-2,2.2944847763999687E-2,8.5457746712787313E-3,6.5024150444222446E-3,2.6450549648246919E-3,1.105106121804385E-2,5.1718075528932213E-3,3.1281914513143229E-3,1.1239684752596278E-2,5.8861928976583176E-3,6.731352263904416E-3,4.9567066441638464E-3,6.3249662322828583E-3,6.3409220721517764E-3,3.0386333787226216E-3,8.872184956613403E-3,6.2917364118309912E-3,1.0031490489389718]

{"sheet":"13部門作業","index":9,"n_rows":16,"n_cols":6,"rows_kept":16,"cut":false,"hidden":false,"merged":[]}
[null,"１３部門"]
[null,null,null,null,null,"単位：百万円"]
[null,null,null,"直接効果","第１次間接波及効果","第２次間接波及効果"]
[null,"01","農林漁業",{"$f":"SUMIF(計算過程!$AR$11:$AR$52,'13部門作業'!$B4,計算過程!$K$11:$K$52)","v":903.27812230492168},{"$f":"SUMIF(計算過程!$AR$11:$AR$52,'13部門作業'!$B4,計算過程!$Q$11:$Q$52)","v":29.000987658623721},{"$f":"SUMIF(計算過程!$AR$11:$AR$52,'13部門作業'!$B4,計算過程!$AB$11:$AB$52)","v":1.6923128414715498}]
[null,"02","鉱業",{"$f":"SUMIF(計算過程!$AR$11:$AR$52,'13部門作業'!$B5,計算過程!$K$11:$K$52)","v":0},{"$f":"SUMIF(計算過程!$AR$11:$AR$52,'13部門作業'!$B5,計算過程!$Q$11:$Q$52)","v":0.40783172262209672},{"$f":"SUMIF(計算過程!$AR$11:$AR$52,'13部門作業'!$B5,計算過程!$AB$11:$AB$52)","v":0.10207594786623997}]
[null,"03","製造業",{"$f":"SUMIF(計算過程!$AR$11:$AR$52,'13部門作業'!$B6,計算過程!$K$11:$K$52)","v":0},{"$f":"SUMIF(計算過程!$AR$11:$AR$52,'13部門作業'!$B6,計算過程!$Q$11:$Q$52)","v":75.801897947898283},{"$f":"SUMIF(計算過程!$AR$11:$AR$52,'13部門作業'!$B6,計算過程!$AB$11:$AB$52)","v":17.692196733602756}]
[null,"04","建設",{"$f":"SUMIF(計算過程!$AR$11:$AR$52,'13部門作業'!$B7,計算過程!$K$11:$K$52)","v":0},{"$f":"SUMIF(計算過程!$AR$11:$AR$52,'13部門作業'!$B7,計算過程!$Q$11:$Q$52)","v":8.4410145631748019},{"$f":"SUMIF(計算過程!$AR$11:$AR$52,'13部門作業'!$B7,計算過程!$AB$11:$AB$52)","v":1.1674083498644536}]
[null,"05","電力・ガス・水道",{"$f":"SUMIF(計算過程!$AR$11:$AR$52,'13部門作業'!$B8,計算過程!$K$11:$K$52)","v":0},{"$f":"SUMIF(計算過程!$AR$11:$AR$52,'13部門作業'!$B8,計算過程!$Q$11:$Q$52)","v":32.521867560702773},{"$f":"SUMIF(計算過程!$AR$11:$AR$52,'13部門作業'!$B8,計算過程!$AB$11:$AB$52)","v":11.150444373105767}]
[null,"06","商業",{"$f":"SUMIF(計算過程!$AR$11:$AR$52,'13部門作業'!$B9,計算過程!$K$11:$K$52)","v":795.30397058854999},{"$f":"SUMIF(計算過程!$AR$11:$AR$52,'13部門作業'!$B9,計算過程!$Q$11:$Q$52)","v":61.513981560916335},{"$f":"SUMIF(計算過程!$AR$11:$AR$52,'13部門作業'!$B9,計算過程!$AB$11:$AB$52)","v":30.24891178313786}]
[null,"07","金融・保険",{"$f":"SUMIF(計算過程!$AR$11:$AR$52,'13部門作業'!$B10,計算過程!$K$11:$K$52)","v":0},{"$f":"SUMIF(計算過程!$AR$11:$AR$52,'13部門作業'!$B10,計算過程!$Q$11:$Q$52)","v":27.739916481011953},{"$f":"SUMIF(計算過程!$AR$11:$AR$52,'13部門作業'!$B10,計算過程!$AB$11:$AB$52)","v":16.727059445311383}]
[null,"08","不動産",{"$f":"SUMIF(計算過程!$AR$11:$AR$52,'13部門作業'!$B11,計算過程!$K$11:$K$52)","v":0},{"$f":"SUMIF(計算過程!$AR$11:$AR$52,'13部門作業'!$B11,計算過程!$Q$11:$Q$52)","v":36.769027790576345},{"$f":"SUMIF(計算過程!$AR$11:$AR$52,'13部門作業'!$B11,計算過程!$AB$11:$AB$52)","v":56.608230275956267}]
[null,"09","運輸・郵便",{"$f":"SUMIF(計算過程!$AR$11:$AR$52,'13部門作業'!$B12,計算過程!$K$11:$K$52)","v":171.2279632861237},{"$f":"SUMIF(計算過程!$AR$11:$AR$52,'13部門作業'!$B12,計算過程!$Q$11:$Q$52)","v":122.58977215765805},{"$f":"SUMIF(計算過程!$AR$11:$AR$52,'13部門作業'!$B12,計算過程!$AB$11:$AB$52)","v":16.386026743954659}]
[null,"10","情報通信",{"$f":"SUMIF(計算過程!$AR$11:$AR$52,'13部門作業'!$B13,計算過程!$K$11:$K$52)","v":0},{"$f":"SUMIF(計算過程!$AR$11:$AR$52,'13部門作業'!$B13,計算過程!$Q$11:$Q$52)","v":48.975109138431606},{"$f":"SUMIF(計算過程!$AR$11:$AR$52,'13部門作業'!$B13,計算過程!$AB$11:$AB$52)","v":18.013598519256966}]
[null,"11","公務",{"$f":"SUMIF(計算過程!$AR$11:$AR$52,'13部門作業'!$B14,計算過程!$K$11:$K$52)","v":0},{"$f":"SUMIF(計算過程!$AR$11:$AR$52,'13部門作業'!$B14,計算過程!$Q$11:$Q$52)","v":3.0632588375194971},{"$f":"SUMIF(計算過程!$AR$11:$AR$52,'13部門作業'!$B14,計算過程!$AB$11:$AB$52)","v":1.123529954469257}]
[null,"12","サービス",{"$f":"SUMIF(計算過程!$AR$11:$AR$52,'13部門作業'!$B15,計算過程!$K$11:$K$52)","v":0},{"$f":"SUMIF(計算過程!$AR$11:$AR$52,'13部門作業'!$B15,計算過程!$Q$11:$Q$52)","v":140.24937162172787},{"$f":"SUMIF(計算過程!$AR$11:$AR$52,'13部門作業'!$B15,計算過程!$AB$11:$AB$52)","v":77.534509367640766}]
[null,"13","分類不明",{"$f":"SUMIF(計算過程!$AR$11:$AR$52,'13部門作業'!$B16,計算過程!$K$11:$K$52)","v":0},{"$f":"SUMIF(計算過程!$AR$11:$AR$52,'13部門作業'!$B16,計算過程!$Q$11:$Q$52)","v":12.640272669298922},{"$f":"SUMIF(計算過程!$AR$11:$AR$52,'13部門作業'!$B16,計算過程!$AB$11:$AB$52)","v":1.0638645152383666}]

{"sheet":"42部門作業","index":10,"n_rows":45,"n_cols":14,"rows_kept":45,"cut":false,"hidden":false,"merged":[]}
[null,"４２部門"]
[null,null,null,null,null,null,null,null,null,null,null,null,null,"単位：百万円，人"]
[null,null,null,"直接効果","第１次間接波及効果","順位","第２次間接波及効果","順位","総合効果","順位","粗付加価値額","順位","雇用者数","順位"]
[null,"01","農業",{"$f":"計算過程!K11","v":903.27812230492168},{"$f":"計算過程!Q11","v":28.639382250564875},{"$f":"_xlfn.RANK.EQ(E4,E$4:E$45,0)","v":8},{"$f":"計算過程!AB11","v":1.4945849723561409},{"$f":"_xlfn.RANK.EQ(G4,G$4:G$45,0)","v":17},{"$f":"計算過程!AE11","v":933.41208952784268},{"$f":"_xlfn.RANK.EQ(I4,I$4:I$45,0)","v":1},{"$f":"計算過程!AF11","v":481.57097112844218},{"$f":"_xlfn.RANK.EQ(K4,K$4:K$45,0)","v":2},{"$f":"計算過程!AQ11","v":57.004402137414857},{"$f":"_xlfn.RANK.EQ(M4,M$4:M$45,0)","v":2}]
[null,"02","林業",{"$f":"計算過程!K12","v":0},{"$f":"計算過程!Q12","v":0.17703727436826455},{"$f":"_xlfn.RANK.EQ(E5,E$4:E$45,0)","v":36},{"$f":"計算過程!AB12","v":7.3200997398357157E-2},37,{"$f":"計算過程!AE12","v":0.25023827176662172},{"$f":"_xlfn.RANK.EQ(I5,I$4:I$45,0)","v":38},{"$f":"計算過程!AF12","v":0.13796735808879404},36,{"$f":"計算過程!AQ12","v":1.3515009435717103E-2},{"$f":"_xlfn.RANK.EQ(M5,M$4:M$45,0)","v":35}]
[null,"03","漁業",{"$f":"計算過程!K13","v":0},{"$f":"計算過程!Q13","v":0.18456813369058389},35,{"$f":"計算過程!AB13","v":0.12452687171705183},34,{"$f":"計算過程!AE13","v":0.30909500540763574},{"$f":"_xlfn.RANK.EQ(I6,I$4:I$45,0)","v":36},{"$f":"計算過程!AF13","v":0.15540278030143664},34,{"$f":"計算過程!AQ13","v":1.3053441236492167E-2},{"$f":"_xlfn.RANK.EQ(M6,M$4:M$45,0)","v":36}]
[null,"04","鉱業",{"$f":"計算過程!K14","v":0},{"$f":"計算過程!Q14","v":0.40783172262209672},30,{"$f":"計算過程!AB14","v":0.10207594786623997},36,{"$f":"計算過程!AE14","v":0.50990767048833674},{"$f":"_xlfn.RANK.EQ(I7,I$4:I$45,0)","v":33},{"$f":"計算過程!AF14","v":0.24408701409581313},32,{"$f":"計算過程!AQ14","v":1.6801175024290467E-2},{"$f":"_xlfn.RANK.EQ(M7,M$4:M$45,0)","v":32}]
[null,"05","飲食料品",{"$f":"計算過程!K15","v":0},{"$f":"計算過程!Q15","v":28.797449507319335},6,{"$f":"計算過程!AB15","v":9.5025937509972902},10,{"$f":"計算過程!AE15","v":38.300043258316627},{"$f":"_xlfn.RANK.EQ(I8,I$4:I$45,0)","v":8},{"$f":"計算過程!AF15","v":17.820277019580363},8,{"$f":"計算過程!AQ15","v":1.3660353904799529},{"$f":"_xlfn.RANK.EQ(M8,M$4:M$45,0)","v":10}]
[null,"06","繊維製品",{"$f":"計算過程!K16","v":0},{"$f":"計算過程!Q16","v":0.55709257844971316},29,{"$f":"計算過程!AB16","v":0.26552605647564281},31,{"$f":"計算過程!AE16","v":0.82261863492535592},{"$f":"_xlfn.RANK.EQ(I9,I$4:I$45,0)","v":32},{"$f":"計算過程!AF16","v":0.3376261060848903},31,{"$f":"計算過程!AQ16","v":8.2042350347264467E-2},{"$f":"_xlfn.RANK.EQ(M9,M$4:M$45,0)","v":25}]
[null,"07","パルプ・紙・木製品",{"$f":"計算過程!K17","v":0},{"$f":"計算過程!Q17","v":8.7671908074205724},12,{"$f":"計算過程!AB17","v":0.45264065298578982},28,{"$f":"計算過程!AE17","v":9.2198314604063629},{"$f":"_xlfn.RANK.EQ(I10,I$4:I$45,0)","v":16},{"$f":"計算過程!AF17","v":3.7396825550215476},18,{"$f":"計算過程!AQ17","v":0.53034246667404761},{"$f":"_xlfn.RANK.EQ(M10,M$4:M$45,0)","v":15}]
[null,"08","化学製品",{"$f":"計算過程!K18","v":0},{"$f":"計算過程!Q18","v":9.8641386825742767},11,{"$f":"計算過程!AB18","v":0.77450182065870232},23,{"$f":"計算過程!AE18","v":10.638640503232979},{"$f":"_xlfn.RANK.EQ(I11,I$4:I$45,0)","v":14},{"$f":"計算過程!AF18","v":3.7425684342415462},17,{"$f":"計算過程!AQ18","v":0.17055164395562275},{"$f":"_xlfn.RANK.EQ(M11,M$4:M$45,0)","v":24}]
[null,"09","石油・石炭製品",{"$f":"計算過程!K19","v":0},{"$f":"計算過程!Q19","v":4.7576082354642013},15,{"$f":"計算過程!AB19","v":0.73412882897021325},25,{"$f":"計算過程!AE19","v":5.4917370644344148},{"$f":"_xlfn.RANK.EQ(I12,I$4:I$45,0)","v":21},{"$f":"計算過程!AF19","v":0.85501614977752394},27,{"$f":"計算過程!AQ19","v":3.1898938229480034E-2},{"$f":"_xlfn.RANK.EQ(M12,M$4:M$45,0)","v":29}]
[null,"10","プラスチック・ゴム製品",{"$f":"計算過程!K20","v":0},{"$f":"計算過程!Q20","v":6.6183908006618299},14,{"$f":"計算過程!AB20","v":0.76956459969382063},24,{"$f":"計算過程!AE20","v":7.3879554003556507},{"$f":"_xlfn.RANK.EQ(I13,I$4:I$45,0)","v":19},{"$f":"計算過程!AF20","v":2.7594705018241137},23,{"$f":"計算過程!AQ20","v":0.27994042158987825},{"$f":"_xlfn.RANK.EQ(M13,M$4:M$45,0)","v":19}]
[null,"11","窯業・土石製品",{"$f":"計算過程!K21","v":0},{"$f":"計算過程!Q21","v":1.8526674516506481},24,{"$f":"計算過程!AB21","v":0.21062516388131086},33,{"$f":"計算過程!AE21","v":2.0632926155319589},{"$f":"_xlfn.RANK.EQ(I14,I$4:I$45,0)","v":30},{"$f":"計算過程!AF21","v":0.9427534336716421},26,{"$f":"計算過程!AQ21","v":7.8084953955406683E-2},{"$f":"_xlfn.RANK.EQ(M14,M$4:M$45,0)","v":26}]
[null,"12","鉄鋼",{"$f":"計算過程!K22","v":0},{"$f":"計算過程!Q22","v":1.9463937273501311},23,{"$f":"計算過程!AB22","v":0.45857966781044984},27,{"$f":"計算過程!AE22","v":2.4049733951605807},{"$f":"_xlfn.RANK.EQ(I15,I$4:I$45,0)","v":29},{"$f":"計算過程!AF22","v":0.62764960911836698},29,{"$f":"計算過程!AQ22","v":1.6142337786367242E-2},{"$f":"_xlfn.RANK.EQ(M15,M$4:M$45,0)","v":33}]
[null,"13","非鉄金属",{"$f":"計算過程!K23","v":0},{"$f":"計算過程!Q23","v":0.12357747663989205},37,{"$f":"計算過程!AB23","v":5.363012870166773E-2},38,{"$f":"計算過程!AE23","v":0.17720760534155977},{"$f":"_xlfn.RANK.EQ(I16,I$4:I$45,0)","v":39},{"$f":"計算過程!AF23","v":4.5258104279651094E-2},39,{"$f":"計算過程!AQ23","v":3.551348819682696E-3},{"$f":"_xlfn.RANK.EQ(M16,M$4:M$45,0)","v":40}]
[null,"14","金属製品",{"$f":"計算過程!K24","v":0},{"$f":"計算過程!Q24","v":2.5522896030799123},22,{"$f":"計算過程!AB24","v":0.35772725641085051},30,{"$f":"計算過程!AE24","v":2.9100168594907627},{"$f":"_xlfn.RANK.EQ(I17,I$4:I$45,0)","v":28},{"$f":"計算過程!AF24","v":1.2787299493229478},25,{"$f":"計算過程!AQ24","v":0.18017011902267643},{"$f":"_xlfn.RANK.EQ(M17,M$4:M$45,0)","v":22}]
[null,"15","はん用機械",{"$f":"計算過程!K25","v":0},{"$f":"計算過程!Q25","v":0.11717300495043712},38,{"$f":"計算過程!AB25","v":2.3579466736532752E-2},41,{"$f":"計算過程!AE25","v":0.14075247168696986},{"$f":"_xlfn.RANK.EQ(I18,I$4:I$45,0)","v":40},{"$f":"計算過程!AF25","v":6.2183472308238674E-2},38,{"$f":"計算過程!AQ25","v":7.156938907503586E-3},{"$f":"_xlfn.RANK.EQ(M18,M$4:M$45,0)","v":38}]
[null,"16","生産用機械",{"$f":"計算過程!K26","v":0},{"$f":"計算過程!Q26","v":0.3178216383746732},32,{"$f":"計算過程!AB26","v":4.8515441879391705E-2},39,{"$f":"計算過程!AE26","v":0.36633708025406492},{"$f":"_xlfn.RANK.EQ(I19,I$4:I$45,0)","v":35},{"$f":"計算過程!AF26","v":0.16746655128326124},33,{"$f":"計算過程!AQ26","v":1.4912113665375544E-2},{"$f":"_xlfn.RANK.EQ(M19,M$4:M$45,0)","v":34}]
[null,"17","業務用機械",{"$f":"計算過程!K27","v":0},{"$f":"計算過程!Q27","v":7.8736194559400882E-2},39,{"$f":"計算過程!AB27","v":1.5576861286096085E-2},42,{"$f":"計算過程!AE27","v":9.4313055845496971E-2},{"$f":"_xlfn.RANK.EQ(I20,I$4:I$45,0)","v":41},{"$f":"計算過程!AF27","v":3.9842481709016164E-2},40,{"$f":"計算過程!AQ27","v":4.6823921029724158E-3},{"$f":"_xlfn.RANK.EQ(M20,M$4:M$45,0)","v":39}]
[null,"18","電子部品",{"$f":"計算過程!K28","v":0},{"$f":"計算過程!Q28","v":0.30166108874535802},33,{"$f":"計算過程!AB28","v":0.11173707512769408},35,{"$f":"計算過程!AE28","v":0.41339816387305212},{"$f":"_xlfn.RANK.EQ(I21,I$4:I$45,0)","v":34},{"$f":"計算過程!AF28","v":0.14052342449542088},35,{"$f":"計算過程!AQ28","v":1.2385403730118981E-2},{"$f":"_xlfn.RANK.EQ(M21,M$4:M$45,0)","v":37}]
[null,"19","電気機械",{"$f":"計算過程!K29","v":0},{"$f":"計算過程!Q29","v":0.28108678934219744},34,{"$f":"計算過程!AB29","v":0.57822203544352713},26,{"$f":"計算過程!AE29","v":0.85930882478572457},{"$f":"_xlfn.RANK.EQ(I22,I$4:I$45,0)","v":31},{"$f":"計算過程!AF29","v":0.34360726275787912},30,{"$f":"計算過程!AQ29","v":4.0815054772175889E-2},{"$f":"_xlfn.RANK.EQ(M22,M$4:M$45,0)","v":28}]
[null,"20","情報通信機器",{"$f":"計算過程!K30","v":0},{"$f":"計算過程!Q30","v":5.5838229812204179E-3},40,{"$f":"計算過程!AB30","v":3.4647467506550678E-2},40,{"$f":"計算過程!AE30","v":4.0231290487771097E-2},{"$f":"_xlfn.RANK.EQ(I23,I$4:I$45,0)","v":42},{"$f":"計算過程!AF30","v":1.6002495257693376E-2},41,{"$f":"計算過程!AQ30","v":1.7949634671755171E-3},{"$f":"_xlfn.RANK.EQ(M23,M$4:M$45,0)","v":41}]
[null,"21","輸送機械",{"$f":"計算過程!K31","v":0},{"$f":"計算過程!Q31","v":2.6585233916423125},21,{"$f":"計算過程!AB31","v":1.7146457588639221},16,{"$f":"計算過程!AE31","v":4.3731691505062349},{"$f":"_xlfn.RANK.EQ(I24,I$4:I$45,0)","v":24},{"$f":"計算過程!AF31","v":0.72763675445219711},28,{"$f":"計算過程!AQ31","v":4.1815470170336155E-2},{"$f":"_xlfn.RANK.EQ(M24,M$4:M$45,0)","v":27}]
[null,"22","その他の製造工業製品",{"$f":"計算過程!K32","v":0},{"$f":"計算過程!Q32","v":2.7939549377408133},20,{"$f":"計算過程!AB32","v":1.1910781983135625},19,{"$f":"計算過程!AE32","v":3.9850331360543758},{"$f":"_xlfn.RANK.EQ(I25,I$4:I$45,0)","v":26},{"$f":"計算過程!AF32","v":1.875362466165696},24,{"$f":"計算過程!AQ32","v":0.23877879291142456},{"$f":"_xlfn.RANK.EQ(M25,M$4:M$45,0)","v":20}]
[null,"23","建設",{"$f":"計算過程!K33","v":0},{"$f":"計算過程!Q33","v":8.4410145631748019},13,{"$f":"計算過程!AB33","v":1.1674083498644536},20,{"$f":"計算過程!AE33","v":9.6084229130392558},{"$f":"_xlfn.RANK.EQ(I26,I$4:I$45,0)","v":15},{"$f":"計算過程!AF33","v":4.8039861654265943},16,{"$f":"計算過程!AQ33","v":0.73368929448123965},{"$f":"_xlfn.RANK.EQ(M26,M$4:M$45,0)","v":12}]
[null,"24","電力・ガス・熱供給",{"$f":"計算過程!K34","v":0},{"$f":"計算過程!Q34","v":28.793285347475006},7,{"$f":"計算過程!AB34","v":8.574860561199122},11,{"$f":"計算過程!AE34","v":37.36814590867413},{"$f":"_xlfn.RANK.EQ(I27,I$4:I$45,0)","v":9},{"$f":"計算過程!AF34","v":14.567288489844564},9,{"$f":"計算過程!AQ34","v":0.51981910033981049},{"$f":"_xlfn.RANK.EQ(M27,M$4:M$45,0)","v":16}]
[null,"25","水道",{"$f":"計算過程!K35","v":0},{"$f":"計算過程!Q35","v":3.7285822132277651},16,{"$f":"計算過程!AB35","v":2.5755838119066441},15,{"$f":"計算過程!AE35","v":6.3041660251344087},{"$f":"_xlfn.RANK.EQ(I28,I$4:I$45,0)","v":20},{"$f":"計算過程!AF35","v":3.3285884893283644},19,{"$f":"計算過程!AQ35","v":0.17555602648118035},{"$f":"_xlfn.RANK.EQ(M28,M$4:M$45,0)","v":23}]
[null,"26","廃棄物処理",{"$f":"計算過程!K36","v":0},{"$f":"計算過程!Q36","v":3.5947579739278823},17,{"$f":"計算過程!AB36","v":1.3900905916721247},18,{"$f":"計算過程!AE36","v":4.9848485656000072},{"$f":"_xlfn.RANK.EQ(I29,I$4:I$45,0)","v":22},{"$f":"計算過程!AF36","v":3.2532071594697873},20,{"$f":"計算過程!AQ36","v":0.40681971361486791},{"$f":"_xlfn.RANK.EQ(M29,M$4:M$45,0)","v":18}]
[null,"27","商業",{"$f":"計算過程!K37","v":795.30397058854999},{"$f":"計算過程!Q37","v":61.513981560916335},3,{"$f":"計算過程!AB37","v":30.24891178313786},2,{"$f":"計算過程!AE37","v":887.06686393260418},{"$f":"_xlfn.RANK.EQ(I30,I$4:I$45,0)","v":2},{"$f":"計算過程!AF37","v":637.67513955919503},1,{"$f":"計算過程!AQ37","v":93.352183595094402},{"$f":"_xlfn.RANK.EQ(M30,M$4:M$45,0)","v":1}]
[null,"28","金融・保険",{"$f":"計算過程!K38","v":0},{"$f":"計算過程!Q38","v":27.739916481011953},9,{"$f":"計算過程!AB38","v":16.727059445311383},5,{"$f":"計算過程!AE38","v":44.466975926323336},{"$f":"_xlfn.RANK.EQ(I31,I$4:I$45,0)","v":7},{"$f":"計算過程!AF38","v":31.489946312383161},7,{"$f":"計算過程!AQ38","v":2.2033317999617141},{"$f":"_xlfn.RANK.EQ(M31,M$4:M$45,0)","v":5}]
[null,"29","不動産",{"$f":"計算過程!K39","v":0},{"$f":"計算過程!Q39","v":36.769027790576345},5,{"$f":"計算過程!AB39","v":56.608230275956267},1,{"$f":"計算過程!AE39","v":93.377258066532619},{"$f":"_xlfn.RANK.EQ(I32,I$4:I$45,0)","v":5},{"$f":"計算過程!AF39","v":77.76545667193335},5,{"$f":"計算過程!AQ39","v":1.2745790350929758},{"$f":"_xlfn.RANK.EQ(M32,M$4:M$45,0)","v":11}]
[null,"30","運輸・郵便",{"$f":"計算過程!K40","v":171.2279632861237},{"$f":"計算過程!Q40","v":122.58977215765805},2,{"$f":"計算過程!AB40","v":16.386026743954659},6,{"$f":"計算過程!AE40","v":310.2037621877364},{"$f":"_xlfn.RANK.EQ(I33,I$4:I$45,0)","v":3},{"$f":"計算過程!AF40","v":155.69905706594892},3,{"$f":"計算過程!AQ40","v":18.098921022710506},{"$f":"_xlfn.RANK.EQ(M33,M$4:M$45,0)","v":3}]
[null,"31","情報通信",{"$f":"計算過程!K41","v":0},{"$f":"計算過程!Q41","v":48.975109138431606},4,{"$f":"計算過程!AB41","v":18.013598519256966},3,{"$f":"計算過程!AE41","v":66.988707657688565},{"$f":"_xlfn.RANK.EQ(I34,I$4:I$45,0)","v":6},{"$f":"計算過程!AF41","v":33.720643573231769},6,{"$f":"計算過程!AQ41","v":1.6877875509993361},{"$f":"_xlfn.RANK.EQ(M34,M$4:M$45,0)","v":8}]
[null,"32","公務",{"$f":"計算過程!K42","v":0},{"$f":"計算過程!Q42","v":3.0632588375194971},19,{"$f":"計算過程!AB42","v":1.123529954469257},21,{"$f":"計算過程!AE42","v":4.1867887919887536},{"$f":"_xlfn.RANK.EQ(I35,I$4:I$45,0)","v":25},{"$f":"計算過程!AF42","v":2.8835115438692922},22,{"$f":"計算過程!AQ42","v":0.22680797237405037},{"$f":"_xlfn.RANK.EQ(M35,M$4:M$45,0)","v":21}]
[null,"33","教育・研究",{"$f":"計算過程!K43","v":0},{"$f":"計算過程!Q43","v":0.78973469810403807},28,{"$f":"計算過程!AB43","v":7.8576064122268816},12,{"$f":"計算過程!AE43","v":8.6473411103309203},{"$f":"_xlfn.RANK.EQ(I36,I$4:I$45,0)","v":17},{"$f":"計算過程!AF43","v":6.4922392836162137},12,{"$f":"計算過程!AQ43","v":0.62672065864504378},{"$f":"_xlfn.RANK.EQ(M36,M$4:M$45,0)","v":13}]
[null,"34","医療・福祉",{"$f":"計算過程!K44","v":0},{"$f":"計算過程!Q44","v":1.234387231823258},27,{"$f":"計算過程!AB44","v":15.917682873745132},7,{"$f":"計算過程!AE44","v":17.152070105568392},{"$f":"_xlfn.RANK.EQ(I37,I$4:I$45,0)","v":10},{"$f":"計算過程!AF44","v":10.709249549982147},10,{"$f":"計算過程!AQ44","v":1.8386519674751196},{"$f":"_xlfn.RANK.EQ(M37,M$4:M$45,0)","v":7}]
[null,"35","他に分類されない会員制団体",{"$f":"計算過程!K45","v":0},{"$f":"計算過程!Q45","v":1.6325666362308406},25,{"$f":"計算過程!AB45","v":3.1776031074528408},14,{"$f":"計算過程!AE45","v":4.8101697436836819},{"$f":"_xlfn.RANK.EQ(I38,I$4:I$45,0)","v":23},{"$f":"計算過程!AF45","v":3.0506201078712261},21,{"$f":"計算過程!AQ45","v":0.57226383182018525},{"$f":"_xlfn.RANK.EQ(M38,M$4:M$45,0)","v":14}]
[null,"36","対事業所サービス",{"$f":"計算過程!K46","v":0},{"$f":"計算過程!Q46","v":131.29806111877994},1,{"$f":"計算過程!AB46","v":17.789688058936832},4,{"$f":"計算過程!AE46","v":149.08774917771677},{"$f":"_xlfn.RANK.EQ(I39,I$4:I$45,0)","v":4},{"$f":"計算過程!AF46","v":91.568376949689224},4,{"$f":"計算過程!AQ46","v":14.423038590730524},{"$f":"_xlfn.RANK.EQ(M39,M$4:M$45,0)","v":4}]
[null,"37","宿泊業",{"$f":"計算過程!K47","v":0},{"$f":"計算過程!Q47","v":0},42,{"$f":"計算過程!AB47","v":0.25944972382785914},32,{"$f":"計算過程!AE47","v":0.25944972382785914},{"$f":"_xlfn.RANK.EQ(I40,I$4:I$45,0)","v":37},{"$f":"計算過程!AF47","v":0.13590426532886268},37,{"$f":"計算過程!AQ47","v":2.9111844767563955E-2},{"$f":"_xlfn.RANK.EQ(M40,M$4:M$45,0)","v":31}]
[null,"38","飲食サービス",{"$f":"計算過程!K48","v":0},{"$f":"計算過程!Q48","v":4.1506696422815093E-3},41,{"$f":"計算過程!AB48","v":13.90976927623325},8,{"$f":"計算過程!AE48","v":13.913919945875532},{"$f":"_xlfn.RANK.EQ(I41,I$4:I$45,0)","v":11},{"$f":"計算過程!AF48","v":5.6308382127525372},14,{"$f":"計算過程!AQ48","v":2.1939823324494094},{"$f":"_xlfn.RANK.EQ(M41,M$4:M$45,0)","v":6}]
[null,"39","娯楽サービス",{"$f":"計算過程!K49","v":0},{"$f":"計算過程!Q49","v":0.38903259191090128},31,{"$f":"計算過程!AB49","v":7.3785531690464108},13,{"$f":"計算過程!AE49","v":7.7675857609573118},{"$f":"_xlfn.RANK.EQ(I42,I$4:I$45,0)","v":18},{"$f":"計算過程!AF49","v":5.3248011428710313},15,{"$f":"計算過程!AQ49","v":0.51236435513275358},{"$f":"_xlfn.RANK.EQ(M42,M$4:M$45,0)","v":17}]
[null,"40","その他の対個人サービス",{"$f":"計算過程!K50","v":0},{"$f":"計算過程!Q50","v":1.3066807013087274},26,{"$f":"計算過程!AB50","v":9.8540661544994403},9,{"$f":"計算過程!AE50","v":11.160746855808167},{"$f":"_xlfn.RANK.EQ(I43,I$4:I$45,0)","v":13},{"$f":"計算過程!AF50","v":7.6604785578000083},11,{"$f":"計算過程!AQ50","v":1.4886552595615234},{"$f":"_xlfn.RANK.EQ(M43,M$4:M$45,0)","v":9}]
[null,"41","事務用品",{"$f":"計算過程!K51","v":0},{"$f":"計算過程!Q51","v":3.4105582089513722},18,{"$f":"計算過程!AB51","v":0.39467650185974057},29,{"$f":"計算過程!AE51","v":3.8052347108111126},{"$f":"_xlfn.RANK.EQ(I44,I$4:I$45,0)","v":27},{"$f":"計算過程!AF51","v":0},42,{"$f":"計算過程!AQ51","v":0},{"$f":"_xlfn.RANK.EQ(M44,M$4:M$45,0)","v":42}]
[null,"42","分類不明",{"$f":"計算過程!K52","v":0},{"$f":"計算過程!Q52","v":12.640272669298922},10,{"$f":"計算過程!AB52","v":1.0638645152383666},22,{"$f":"計算過程!AE52","v":13.704137184537288},{"$f":"_xlfn.RANK.EQ(I45,I$4:I$45,0)","v":12},{"$f":"計算過程!AF52","v":5.774595559210117},13,{"$f":"計算過程!AQ52","v":3.0908941871774669E-2},{"$f":"_xlfn.RANK.EQ(M45,M$4:M$45,0)","v":30}]

{"sheet":"フローチャート","index":11,"n_rows":63,"n_cols":39,"rows_kept":63,"cut":false,"hidden":false,"merged":[[62,33,62,37],[44,7,44,12],[44,24,44,28],[48,7,48,12],[49,7,49,12],[55,7,55,12],[56,7,56,12],[58,20,58,25],[58,32,58,37],[59,20,59,25],[59,32,59,37],[61,33,61,37],[36,21,36,25],[36,33,36,37],[37,21,37,25],[37,33,37,37],[43,7,43,12],[43,24,43,28],[30,7,30,12],[31,7,31,12],[33,20,33,25],[33,32,33,37],[34,20,34,25],[34,32,34,37],[21,7,21,12],[22,7,22,12],[22,21,22,25],[22,33,22,37],[23,21,23,25],[23,33,23,37],[20,20,20,25],[20,32,20,37],[7,7,7,12],[13,7,13,12],[14,7,14,12],[19,20,19,25],[19,32,19,37],[12,22,14,29],[12,32,14,39]]}
["フローチャート"]
[]
[]
[]
[null,null,null,null,null,null,null,null,null,null,null,null,null,null,null,null,null,null,null,null,null,null,null,null,null,null,null,null,null,null,null,null,null,null,null,null,null,null,"単位：百万円，人"]
[null,null,null,null,"需要増加額①"]
[]
[null,null,null,null,null,null,null,{"$f":"計算過程!I95","v":5000}]
[null,null,null,null,null,null,null,null,null,null,"×自給率",null,null,null,"※","県内品・県外品に"]
[null,null,null,null,null,null,null,null,null,null,"×移入率",null,null,null,null,"振り分ける"]
[]
[]
[null,null,null,null,"生産増加額②",null,null,null,null,null,null,null,null,null,null,null,null,null,null,null,null,null,"生産活動によって生み出さ\nれた価値（賃金・利益等）",null,null,null,null,null,null,null,null,null,"生産活動によって必要と\nなる就業者数"]
[null,null,null,null,"　福岡県",null,null,{"$f":"計算過程!K95","v":1869.8100561795954},null,null,null,null,null,"※","需要増加額のうち県内・"]
[null,null,null,null,"　県外",null,null,{"$f":"計算過程!K96","v":2208.0762425890762},null,null,null,null,null,null,"県外で生産する分"]
[]
[null,null,null,null,null,null,null,null,null,null,null,null,null,null,null,null,null,null,null,null,null,null,"×粗付加価値率",null,null,null,null,null,null,null,null,null,null,"×就業誘発係数"]
[null,null,null,null,null,null,null,null,null,null,null,null,null,null,null,null,null,null,null,null,null,null,"×賃金・俸給率",null,null,null,null,null,null,null,null,null,null,"×雇用誘発係数"]
[null,null,null,null,null,null,null,null,null,null,"×自給率を加味した",null,null,null,null,null,null,"粗付加価値額③",null,null,null,null,null,null,null,null,null,null,null,"就業者誘発数㉑"]
[null,null,null,null,null,null,null,null,null,null,"　投入係数",null,null,null,null,null,null,"　福岡県",null,null,{"$f":"計算過程!M95","v":1123.6783539317471},null,null,null,null,null,null,null,null,"　福岡県",null,null,{"$f":"計算過程!AI95","v":351.44492389225513}]
[null,null,null,null,"原材料⑤",null,null,null,null,null,null,null,null,null,null,null,null,"　県外",null,null,{"$f":"計算過程!M96","v":1119.4658729208743},null,null,null,null,null,null,null,null,"　県外",null,null,{"$f":"計算過程!AI96","v":620.93449752900096}]
[null,null,null,null,"　福岡県",null,null,{"$f":"計算過程!P95","v":429.34897754607363},null,null,null,null,null,null,null,null,null,null,"うち賃金・俸給額④",null,null,null,null,null,null,null,null,null,null,null,"雇用者誘発数㉑'"]
[null,null,null,null,"　県外",null,null,{"$f":"計算過程!P96","v":1180.3090645739524},null,null,null,null,null,null,null,null,null,null,"　福岡県",null,null,{"$f":"計算過程!O95","v":419.54013149216496},null,null,null,null,null,null,null,null,"　福岡県",null,null,{"$f":"計算過程!AN95","v":148.84977136915748}]
[null,null,null,null,"※","生産増加のため",null,null,null,null,null,null,null,null,null,null,null,null,"　県外",null,null,{"$f":"計算過程!O96","v":315.5952572804336},null,null,null,null,null,null,null,null,"　県外",null,null,{"$f":"計算過程!AN96","v":120.99509627118903}]
[null,null,null,null,null,"新たに調達する"]
[null,null,null,null,null,"原材料等"]
[null,null,null,null,null,null,null,null,null,null,null,null,null,null,null,null,null,null,null,null,null,null,null,null,null,"賃金・俸給額計⑨へ"]
[null,null,null,null,null,null,null,null,null,null,"×逆行列係数"]
[]
[null,null,null,null,"生産誘発額⑥"]
[null,null,null,null,"　福岡県",null,null,{"$f":"計算過程!Q95","v":599.71430971016218},null,null,null,null,null,null,null,null,null,null,null,null,null,null,"×粗付加価値率",null,null,null,null,null,null,null,null,null,null,"×就業誘発係数"]
[null,null,null,null,"　県外",null,null,{"$f":"計算過程!Q96","v":2174.3505594668713},null,null,null,null,null,null,null,null,null,null,null,null,null,null,"×賃金・俸給率",null,null,null,null,null,null,null,null,null,null,"×雇用誘発係数"]
[null,null,null,null,"※","原材料等の需要増加によって",null,null,null,null,null,null,null,null,null,null,null,"粗付加価値額⑦",null,null,null,null,null,null,null,null,null,null,null,"就業者誘発数㉒"]
[null,null,null,null,null,"誘発された生産額",null,null,null,null,null,null,null,null,null,null,null,"　福岡県",null,null,{"$f":"計算過程!R95","v":335.81178611244007},null,null,null,null,null,null,null,null,"　福岡県",null,null,{"$f":"計算過程!AJ95","v":45.325796136635702}]
[null,null,null,null,null,null,null,null,null,null,null,null,null,null,null,null,null,"　県外",null,null,{"$f":"計算過程!R96","v":1035.6291792153409},null,null,null,null,null,null,null,null,"　県外",null,null,{"$f":"計算過程!AJ96","v":205.19228378293278}]
[null,null,null,null,null,null,null,null,null,null,null,null,null,null,null,null,null,null,"うち賃金・俸給額⑧",null,null,null,null,null,null,null,null,null,null,null,"雇用者誘発数㉒'"]
[null,null,null,null,null,null,null,null,null,null,null,null,null,null,null,null,null,null,"　福岡県",null,null,{"$f":"計算過程!S95","v":126.92299648293343},null,null,null,null,null,null,null,null,"　福岡県",null,null,{"$f":"計算過程!AO95","v":35.944871960981288}]
[null,null,null,null,null,null,null,null,null,null,null,null,null,null,null,null,null,null,"　県外",null,null,{"$f":"計算過程!S96","v":366.07812896873327},null,null,null,null,null,null,null,null,"　県外",null,null,{"$f":"計算過程!AO96","v":105.7816317435384}]
[]
[]
[null,null,null,null,"※","賃金・俸給のうち消費に回る分"]
[null,null,null,null,"消費増加額⑩",null,null,null,null,null,null,null,null,null,null,null,null,null,null,null,null,"賃金・俸給額計⑨"]
[null,null,null,null,null,null,null,null,null,null,null,null,null,null,null,"×消費転換率",null,null,null,null,null,"（④＋⑧）",null,null,null,null,null,null,null,null,null,null,null,"直接効果"]
[null,null,null,null,"　福岡県",null,null,{"$f":"計算過程!V95","v":258.52967575956473},null,null,null,null,null,null,null,null,null,null,null,null,null,"　福岡県",null,null,{"$f":"計算過程!T95","v":546.46312797509813},null,null,null,null,null,null,null,null,"賃金・俸給額④"]
[null,null,null,null,"　県外",null,null,{"$f":"計算過程!V96","v":329.52295618268272},null,null,null,null,null,null,null,null,null,null,null,null,null,"　県外",null,null,{"$f":"計算過程!T96","v":681.67338624916704}]
[null,null,null,null,null,null,null,null,null,null,"×自給率",null,null,null,"※","県内品・県外品に"]
[null,null,null,null,null,null,null,null,null,null,"×移入率",null,null,null,null,"振り分ける"]
[null,null,null,null,"需要増加額⑭"]
[null,null,null,null,"　福岡県",null,null,{"$f":"計算過程!AA95","v":189.20941783470124},null,null,null,null,null,"※","消費増加額のうち県内・"]
[null,null,null,null,"　県外",null,null,{"$f":"計算過程!AA96","v":364.8089424021245},null,null,null,null,null,null,"県外で生産する分"]
[]
[]
[null,null,null,null,null,null,null,null,null,null,"×逆行列係数"]
[]
[null,null,null,null,"生産誘発額⑮"]
[null,null,null,null,"　福岡県",null,null,{"$f":"計算過程!AB95","v":249.51016885087628},null,null,null,null,null,null,null,null,null,null,null,null,null,null,"×粗付加価値率",null,null,null,null,null,null,null,null,null,null,null,"×就業誘発係数"]
[null,null,null,null,"　県外",null,null,{"$f":"計算過程!AB96","v":610.47868662396706},null,null,null,null,null,null,null,null,null,null,null,null,null,null,null,null,null,null,null,null,null,null,null,null,null,null,"×雇用誘発係数"]
[null,null,null,null,"※","雇用者所得（賃金・俸給）の増加",null,null,null,null,null,null,null,null,null,null,null,"粗付加価値額⑯",null,null,null,null,null,null,null,null,null,null,null,"就業者誘発数㉓"]
[null,null,null,null,null,"がもたらす消費需要によって誘発",null,null,null,null,null,null,null,null,null,null,null,"　福岡県",null,null,{"$f":"計算過程!AC95","v":159.67387366784521},null,null,null,null,null,null,null,null,"　福岡県",null,null,{"$f":"計算過程!AK95","v":17.961278623419048}]
[null,null,null,null,null,"された生産額",null,null,null,null,null,null,null,null,null,null,null,"　県外",null,null,{"$f":"計算過程!AC96","v":342.20441438813532},null,null,null,null,null,null,null,null,"　県外",null,null,{"$f":"計算過程!AK96","v":43.779595405937478}]
[null,null,null,null,null,null,null,null,null,null,null,null,null,null,null,null,null,null,null,null,null,null,null,null,null,null,null,null,null,null,"雇用者誘発数㉓'"]
[null,null,null,null,null,null,null,null,null,null,null,null,null,null,null,null,null,null,null,null,null,null,null,null,null,null,null,null,null,null,"　福岡県",null,null,{"$f":"計算過程!AP95","v":15.749422427164017}]
[null,null,null,null,null,null,null,null,null,null,null,null,null,null,null,null,null,null,null,null,null,null,null,null,null,null,null,null,null,null,"　県外",null,null,{"$f":"計算過程!AP96","v":34.983225034852346}]

{"sheet":"分析結果","index":12,"n_rows":115,"n_cols":10,"rows_kept":115,"cut":false,"hidden":false,"merged":[[12,6,13,6],[12,2,13,2],[10,3,10,9],[12,3,13,3],[12,4,13,4]]}
[]
[]
[]
[]
[]
[]
[]
[]
[null,"総合結果"]
[]
[null,null,"分析テーマ",{"$f":"IF(入力シートその１!B12=\"\",\"\",入力シートその１!B12)","v":"農業に50億円の需要があった場合の経済波及効果"}]
[]
[null,null,"需要増加額\n（当初）",{"$f":"計算過程!I95","v":5000},"（百万円）",null,"総合波及効果","福岡県",{"$f":"計算過程!AE95","v":2719.0345347406342},"（百万円）"]
[null,null,null,null,null,null,null,"県外",{"$f":"計算過程!AE96","v":4992.905488679914},"（百万円）"]
[]
[null,null,null,null,null,null,null,null,null,"単位：百万円"]
[null,null,null,null,"生産誘発額（生産増加額）",null,null,"うち粗付加価値額"]
[null,null,null,null,"福岡県","県外","合計","福岡県","県外","合計"]
[null,null,"直接効果　①",null,{"$f":"計算過程!K95","v":1869.8100561795954},{"$f":"計算過程!K96","v":2208.0762425890762},{"$f":"計算過程!K97","v":4077.8862987686716},{"$f":"計算過程!M95","v":1123.6783539317471},{"$f":"計算過程!M96","v":1119.4658729208743},{"$f":"計算過程!M97","v":2243.1442268526216}]
[null,null,"第１次間接波及効果　②",null,{"$f":"計算過程!Q95","v":599.71430971016218},{"$f":"計算過程!Q96","v":2174.3505594668713},{"$f":"計算過程!Q97","v":2774.0648691770334},{"$f":"計算過程!R95","v":335.81178611244007},{"$f":"計算過程!R96","v":1035.6291792153409},{"$f":"計算過程!R97","v":1371.440965327781}]
[null,null,"第２次間接波及効果　③",null,{"$f":"計算過程!AB95","v":249.51016885087628},{"$f":"計算過程!AB96","v":610.47868662396706},{"$f":"計算過程!AB97","v":859.98885547484338},{"$f":"計算過程!AC95","v":159.67387366784521},{"$f":"計算過程!AC96","v":342.20441438813532},{"$f":"計算過程!AC97","v":501.87828805598053}]
[null,null,"総合波及効果　①＋②＋③",null,{"$f":"計算過程!AE95","v":2719.0345347406342},{"$f":"計算過程!AE96","v":4992.905488679914},{"$f":"計算過程!AE97","v":7711.9400234205477},{"$f":"計算過程!AF95","v":1619.164013712033},{"$f":"計算過程!AF96","v":2497.2994665243496},{"$f":"計算過程!AF97","v":4116.4634802363826}]
[null,null,null,null,null,null,null,null,null,"（四捨五入の関係で合計が一致しない場合がある。以下の図表も同様。）"]
[null,null,"（用語の説明）"]
[null,null,"　生産誘発額　　　　　　最終需要（家計消費・設備投資等）の増加により直接・間接に誘発された生産額。"]
[null,null,"　粗付加価値額　　　　　生産活動によって新たに生み出された価値。賃金・利益等。"]
[null,null,"　直接効果　　　　　　　最初に発生した最終需要のうち、県内（県外）でまかなわれる財・サービスの額。"]
[null,null,"　第１次間接波及効果　　直接効果が発生したことにより誘発された原材料等の生産額の合計。"]
[null,null,"　第２次間接波及効果　　直接及び第１次間接波及効果に伴う雇用者所得（賃金・俸給）増加が消費につながることにより誘発された生産額の合計。"]
[null,null,"　総合波及効果　　　　　直接効果、第１次間接波及効果、第２次間接波及効果の合計。通常「経済波及効果」という場合、この額を指す。"]
[]
[]
[null,"波及効果倍率"]
[]
[]
[null,null,null,null,"波及効果倍率（総合波及効果/需要増加額（当初））"]
[]
[null,null,null,null,null,"福岡県",{"$f":"計算過程!AE95/計算過程!$I$95","v":0.54380690694812683}]
[null,null,null,null,null,"県外",{"$f":"計算過程!AE96/計算過程!$I$95","v":0.9985810977359828}]
[null,null,null,null,null,"合計",{"$f":"計算過程!AE97/計算過程!$I$95","v":1.5423880046841096}]
[]
[]
[]
[null,"部門別の分析結果（福岡県分のみ）"]
[]
[null,null,"１３部門"]
[]
[]
[]
[]
[]
[]
[]
[]
[]
[]
[]
[]
[]
[]
[]
[]
[]
[]
[]
[]
[]
[]
[]
[]
[]
[]
[null,null,"４２部門"]
[]
[]
[]
[]
[]
[]
[]
[]
[]
[]
[]
[]
[]
[]
[]
[]
[]
[]
[]
[]
[]
[]
[]
[]
[]
[]
[]
[]
[]
[]
[]
[]
[]
[]
[]
[]
[]
[]
[]
[]
[]
[null,"フローチャート"]